Workbook

Sheet Tirage Hexagramme
B1: NOM : | F1: Prénom : | M1: Date : | N1: =IF(C1="","",NOW()) | Q1: ="NOM : " &C1 -> NOM : | U1: ="Prénom : " &H1 -> Prénom : | X1: =N1 | AA1: Descriptions Hexagrammes fleurs de Bach
B3: Question : | Q3: Question : | R3: =IF(C3="","",C3) | AA3: 1er Instant Emotions
AA4: =I44 -> 10 | AB4: =VLOOKUP(AA4,HexDef!B2:F65,2,FALSE) -> LU | AC4: =VLOOKUP(AA4,HexDef!B2:F65,4,FALSE) -> La jeune fille approche le père
AA5: =VLOOKUP(AA4,HexDef!B2:F65,5,FALSE) -> Demarche : Expose comment se comporter au contact d'une force puissante et potentiellement dangereuse, symbolisée par le tigre.
H6: Hexagramme Tiré | M6: Perspective
A7: Ligne de l'hexagramme | B7: N° Tirage | C7: Pile(2)/Face(3) | F7: Total | Q7: Hexagramme Tiré | V7: Perspective
B8: 6 | C8: 3 | D8: 2 | E8: 2 | F8: =IF(SUM($C8,$D8,$E8)=0,"",SUM($C8,$D8,$E8)) -> 7 | I8: =IF(F8=6,"X",IF(F8=9,"0","")) | Q8: =VLOOKUP(VALUE(SUBSTITUTE(SUBSTITUTE(_xlfn.CONCAT(F8,F10,F12,F14,F16,F18),"6","8"),"9","7")),HexDef!A2:D65,4,FALSE) -> Créateur | R8: =VLOOKUP(VALUE(SUBSTITUTE(SUBSTITUTE(_xlfn.CONCAT(F8,F10,F12,F14,F16,F18),"6","8"),"9","7")),HexDef!A2:D65,2,FALSE) -> 1 | S8: =VLOOKUP(VALUE(SUBSTITUTE(SUBSTITUTE(_xlfn.CONCAT(F8,F10,F12,F14,F16,F18),"6","8"),"9","7")),HexDef!A2:D65,3,FALSE) -> QIAN | V8: =VLOOKUP(W8,HexDef!B2:F65,3,FALSE) -> Créateur | W8: =VLOOKUP(VALUE(SUBSTITUTE(SUBSTITUTE(_xlfn.CONCAT(F8,F10,F12,F14,F16,F18),"6","7"),"9","8")),HexDef!A2:D65,2,FALSE) -> 1 | X8: =VLOOKUP(W8,HexDef!B2:F65,2,FALSE) -> QIAN | AA8: 1er Instant Volonté
AA9: =I46 -> 45 | AB9: =VLOOKUP(AA9,HexDef!B2:F65,2,FALSE) -> CUI | AC9: =VLOOKUP(AA9,HexDef!B2:F65,4,FALSE) -> Le ministre uni avec son souverain
B10: 5 | C10: 2 | D10: 3 | E10: 2 | F10: =IF(SUM($C10,$D10,$E10)=0,"",SUM($C10,$D10,$E10)) -> 7 | I10: =IF(F10=6,"X",IF(F10=9,"0","")) | Q10: =VLOOKUP(VALUE(SUBSTITUTE(SUBSTITUTE(_xlfn.CONCAT(F8,F10,F12,F14,F16,F18),"6","8"),"9","7")),HexDef!A2:F65,5,FALSE) -> Ciel sur ciel | V10: =VLOOKUP(W8,HexDef!B2:F65,4,FALSE) -> Ciel sur ciel
AA11: =VLOOKUP(AA9,HexDef!B2:F65,5,FALSE) -> Réunion: c'est rassembler des forces éparses autour de ce qui motive leur association, idée, projet ou rituel.
B12: 4 | C12: 2 | D12: 3 | E12: 2 | F12: =IF(SUM($C12,$D12,E12)=0,"",SUM($C12,$D12,E12)) -> 7 | I12: =IF(F12=6,"X",IF(F12=9,"0","")) | Q12: =VLOOKUP(VALUE(SUBSTITUTE(SUBSTITUTE(_xlfn.CONCAT(F8,F10,F12,F14,F16,F18),"6","8"),"9","7")),HexDef!A2:F65,6,FALSE) -> Elan créatif : Activation, vigueur, dynamisme, Capacité à imaginer le nouveau | V12: =VLOOKUP(W8,HexDef!B2:F65,5,FALSE) -> Elan créatif : Activation, vigueur, dynamisme, Capacité à imaginer le nouveau
B14: 3 | C14: 2 | D14: 2 | E14: 3 | F14: =IF(SUM($C14,$D14,E14)=0,"",SUM($C14,$D14,E14)) -> 7 | I14: =IF(F14=6,"X",IF(F14=9,"0",""))
B16: 2 | C16: 3 | D16: 2 | E16: 2 | F16: =IF(SUM($C16,$D16,$E16)=0,"",SUM($C16,$D16,$E16)) -> 7 | I16: =IF(F16=6,"X",IF(F16=9,"0","")) | AA16: 2ème Intégré Pensées
AA17: =J42 -> 9 | AB17: =VLOOKUP(AA17,HexDef!B2:F65,2,FALSE) -> XIAO XU | AC17: =VLOOKUP(AA17,HexDef!B2:F65,4,FALSE) -> Le ministre contrôle toutes les lignes YANG
B18: 1 | C18: 3 | D18: 2 | E18: 2 | F18: =IF(SUM($C18,$D18,$E18)=0,"",SUM($C18,$D18,$E18)) -> 7 | I18: =IF(F18=6,"X",IF(F18=9,"0",""))
AA19: =VLOOKUP(AA17,HexDef!B2:F65,5,FALSE) -> Petit Apprivoise : c'est faire la vassalité une force. Dompter les tensions, retenir patiement les énergies pour les affiner.
A20: 9 = Yang mutant | C20: O | D20: YANG | H20: H : | I20: =IF(AND(F8="",F10="",F12="",F14="",F16="",F18=""),"",VLOOKUP(VALUE(SUBSTITUTE(SUBSTITUTE(_xlfn.CONCAT(F8,F10,F12,F14,F16,F18),"6","8"),"9","7")),HexDef!A2:B65,2,FALSE)) -> 1 | M20: H : | N20: =VLOOKUP(VALUE(SUBSTITUTE(SUBSTITUTE(_xlfn.CONCAT(F8,F10,F12,F14,F16,F18),"6","7"),"9","8")),HexDef!A2:D65,2,FALSE) -> 1
A21: 6 = Yin mutante | C21: X | D21: YING
B22: HXX | C22: Hex Tiré | F22: HXX/X | H22: Opposé | M22: Retourné | Q22: Opposé | V22: Retourné
Q23: =VLOOKUP(R23,HexDef!B2:F65,3,FALSE) -> Créateur | R23: =VLOOKUP(VALUE(SUBSTITUTE(SUBSTITUTE(_xlfn.CONCAT(F8,F10,F12,F14,F16,F18),"6","8"),"9","7")),Oppose!A2:E65,5,FALSE) -> 1 | S23: =VLOOKUP(R23,HexDef!B2:F65,2,FALSE) -> QIAN | V23: =VLOOKUP(W23,HexDef!B2:F65,3,FALSE) -> Receptif | W23: =VLOOKUP(VALUE(SUBSTITUTE(SUBSTITUTE(_xlfn.CONCAT(F8,F10,F12,F14,F16,F18),"6","8"),"9","7")),Oppose!A2:H65,6,FALSE) -> 2 | X23: =VLOOKUP(W23,HexDef!B2:F65,2,FALSE) -> KUN | AA23: 2ème Intégré Volonté
B24: {=IF(OR(F8=9,F8=6),_xlfn.XLOOKUP(VALUE(SUBSTITUTE(SUBSTITUTE(_xlfn.CONCAT(_xlfn.IFS(F8=8,7,F8=7,8,F8=9,8,F8=6,7,1,F8)*1,F10,F12,F14,F16,F18),6,8),9,7)),HexDef!A2:A65,HexDef!B2:B65,""),"")} | C24: =F18=7 -> TRUE | D24: =IF(F8=6,"X",IF(F8=9,"0","")) | E24: =F8=7 -> TRUE | F24: {=IF(OR(F8=9,F8=6),_xlfn.XLOOKUP(VALUE(SUBSTITUTE(SUBSTITUTE(_xlfn.CONCAT(_xlfn.IFS(F8=8,7,F8=7,8,F8=9,8,F8=6,7,1,F8)*1,F10,F12,F14,F16,F18),6,8),9,7)),Oppose!A2:A65,Oppose!E2:E65,"")&"/"&IF(F8=9,6,IF(F8=6,6,"")),"")} | Q24: =VLOOKUP(R23,HexDef!B2:F65,4,FALSE) -> Ciel sur ciel | V24: =VLOOKUP(W23,HexDef!B2:F65,4,FALSE) -> Terre sur Terre | AA24: =J46 -> 12 | AB24: =VLOOKUP(AA24,HexDef!B2:F65,2,FALSE) -> PI | AC24: =VLOOKUP(AA24,HexDef!B2:F65,4,FALSE) -> Le YANG monte, le YIN descend et chacun tient l'autre captif
AA25: =VLOOKUP(AA24,HexDef!B2:F65,5,FALSE) -> Blocage automnal : Ciel et terre ne communiquent pas, YIN et YANG ne se rencontrent plus et stte absence de relation se manifeste par le déclin de la nature.
B26: {=IF(OR(F10=9,F10=6),_xlfn.XLOOKUP(VALUE(SUBSTITUTE(SUBSTITUTE(_xlfn.CONCAT(F8,_xlfn.IFS(F10=8,7,F10=7,8,F10=9,8,F10=6,7,1,F10)*1,F12,F14,F16,F18),6,8),9,7)),HexDef!A2:A65,HexDef!B2:B65,""),"")} | C26: =F10=7 -> TRUE | D26: =IF(F10=6,"X",IF(F10=9,"0","")) | E26: =F10=7 -> TRUE | F26: {=IF(OR(F10=9,F10=6),_xlfn.XLOOKUP(VALUE(SUBSTITUTE(SUBSTITUTE(_xlfn.CONCAT(F8,_xlfn.IFS(F10=8,7,F10=7,8,F10=9,8,F10=6,7,1,F10)*1,F12,F14,F16,F18),6,8),9,7)),Oppose!A2:A65,Oppose!E2:E65,"")&"/"&IF(F10=9,5,IF(F10=6,5,"")),"")} | Q26: =VLOOKUP(R23,HexDef!B2:F65,5,FALSE) -> Elan créatif : Activation, vigueur, dynamisme, Capacité à imaginer le nouveau | V26: =VLOOKUP(W23,HexDef!B2:F65,5,FALSE) -> Elan receptif : Disponibilité, Souplesse, consentement, adaptabilté aux circonstances
B28: {=IF(OR(F12=9,F12=6),_xlfn.XLOOKUP(VALUE(SUBSTITUTE(SUBSTITUTE(_xlfn.CONCAT(F8,F10,_xlfn.IFS(F12=8,7,F12=7,8,F12=9,8,F12=6,7,1,F12)*1,F14,F16,F18),6,8),9,7)),HexDef!A2:A65,HexDef!B2:B65,""),"")} | C28: =F12=7 -> TRUE | D28: =IF(F12=6,"X",IF(F12=9,"0","")) | E28: =F12=7 -> TRUE | F28: {=IF(OR(F12=9,F12=6),_xlfn.XLOOKUP(VALUE(SUBSTITUTE(SUBSTITUTE(_xlfn.CONCAT(F8,F10,_xlfn.IFS(F12=8,7,F12=7,8,F12=9,8,F12=6,7,1,F12)*1,F14,F16,F18),6,8),9,7)),Oppose!A2:A65,Oppose!E2:E65,"")&"/"&IF(F12=9,4,IF(F12=6,4,"")),"")}
B30: {=IF(OR(F14=9,F14=6),_xlfn.XLOOKUP(VALUE(SUBSTITUTE(SUBSTITUTE(_xlfn.CONCAT(F8,F10,F12,_xlfn.IFS(F14=8,7,F14=7,8,F14=9,8,F14=6,7,1,F14)*1,F16,F18),6,8),9,7)),HexDef!A2:A65,HexDef!B2:B65,""),"")} | C30: =F14=7 -> TRUE | D30: =IF(F14=6,"X",IF(F14=9,"0","")) | E30: =F14=7 -> TRUE | F30: {=IF(OR(F14=9,F14=6),_xlfn.XLOOKUP(VALUE(SUBSTITUTE(SUBSTITUTE(_xlfn.CONCAT(F8,F10,F12,_xlfn.IFS(F14=8,7,F14=7,8,F14=9,8,F14=6,7,1,F14)*1,F16,F18),6,8),9,7)),Oppose!A2:A65,Oppose!E2:E65,"")&"/"&IF(F14=9,3,IF(F14=6,3,"")),"")}
B32: {=IF(OR(F16=9,F16=6),_xlfn.XLOOKUP(VALUE(SUBSTITUTE(SUBSTITUTE(_xlfn.CONCAT(F8,F10,F12,F14,_xlfn.IFS(F16=8,7,F16=7,8,F16=9,8,F16=6,7,1,F16)*1,F18),6,8),9,7)),HexDef!A2:A65,HexDef!B2:B65,""),"")} | C32: =F16=7 -> TRUE | D32: =IF(F16=6,"X",IF(F16=9,"0","")) | E32: =F16=7 -> TRUE | F32: {=IF(OR(F16=9,F16=6),_xlfn.XLOOKUP(VALUE(SUBSTITUTE(SUBSTITUTE(_xlfn.CONCAT(F8,F10,F12,F14,_xlfn.IFS(F16=8,7,F16=7,8,F16=9,8,F16=6,7,1,F16)*1,F18),6,8),9,7)),Oppose!A2:A65,Oppose!E2:E65,"")&"/"&IF(F16=9,2,IF(F16=6,2,"")),"")} | AA32: 3ème Incarné Pensées
AA33: =K42 -> 20 | AB33: =VLOOKUP(AA33,HexDef!B2:F65,2,FALSE) -> GUAN | AC33: =VLOOKUP(AA33,HexDef!B2:F65,4,FALSE) -> D'en haut
B34: {=IF(OR(F18=9,F18=6),_xlfn.XLOOKUP(VALUE(SUBSTITUTE(SUBSTITUTE(_xlfn.CONCAT(F8,F10,F12,F14,F16,_xlfn.IFS(F18=8,7,F18=7,8,F18=9,8,F18=6,7,1,F18)*1),6,8),9,7)),HexDef!A2:A65,HexDef!B2:B65,""),"")} | C34: =F18=7 -> TRUE | D34: =IF(F18=6,"X",IF(F18=9,"0","")) | E34: =F18=7 -> TRUE | F34: {=IF(OR(F18=9,F18=6),_xlfn.XLOOKUP(VALUE(SUBSTITUTE(SUBSTITUTE(_xlfn.CONCAT(F8,F10,F12,F14,F16,_xlfn.IFS(F18=8,7,F18=7,8,F18=9,8,F18=6,7,1,F18)*1),6,8),9,7)),Oppose!A2:A65,Oppose!E2:E65,"")&"/"&IF(F18=9,1,IF(F18=6,1,"")),"")} | M34: =F8=8 -> FALSE | Q34: Fleurs de BACH | V34: Nucléaire
AA35: =VLOOKUP(AA33,HexDef!B2:F65,5,FALSE) -> Regarder : C'est élever son point de vue. Se défaire d'un regard ordinaire et, en élagant ses certitudes, remettre en jeu sa manière habituelle de percevoir.
C36: H : | D36: =VLOOKUP(VALUE(SUBSTITUTE(SUBSTITUTE(_xlfn.CONCAT(F8,F10,F12,F14,F16,F18),"6","8"),"9","7")),HexDef!A2:D65,2,FALSE) -> 1 | H36: H : | I36: =VLOOKUP(VALUE(SUBSTITUTE(SUBSTITUTE(_xlfn.CONCAT(F8,F10,F12,F14,F16,F18),"6","8"),"9","7")),Oppose!A2:E65,5,FALSE) -> 1 | M36: H : | N36: =VLOOKUP(VALUE(SUBSTITUTE(SUBSTITUTE(_xlfn.CONCAT(F8,F10,F12,F14,F16,F18),"6","8"),"9","7")),Oppose!A2:H65,6,FALSE) -> 2 | Q36: Hexagramme les deux roues | V36: =VLOOKUP(W36,HexDef!B2:F65,3,FALSE) -> Receptif | W36: =VLOOKUP(VALUE(SUBSTITUTE(SUBSTITUTE(_xlfn.CONCAT(F8,F10,F12,F14,F16,F18),"6","8"),"9","7")),Oppose!A2:H65,7,FALSE) -> 2 | X36: =VLOOKUP(W36,HexDef!B2:F65,2,FALSE) -> KUN
Q37: =I42 -> 1 | R37: =VLOOKUP(Q37,FleurBach!A3:B66,2,FALSE) -> Oak | V37: =VLOOKUP(W36,HexDef!B2:F65,4,FALSE) -> Terre sur Terre
C38: Hex Nucléaire | H38: Deux Roues | Q38: =I44 -> 10 | R38: =VLOOKUP(Q38,FleurBach!A3:B66,2,FALSE) -> Mimulus | V38: =VLOOKUP(W36,HexDef!B2:F65,5,FALSE) -> Elan receptif : Disponibilité, Souplesse, consentement, adaptabilté aux circonstances
Q39: =I46 -> 45 | R39: =VLOOKUP(Q39,FleurBach!A3:B66,2,FALSE) -> Pine
H40: 3 Plans | I40: 1er Instant | J40: 2ème Intégré | K40: 3ème Incarné | Q40: =J42 -> 9 | R40: =VLOOKUP(Q40,FleurBach!A3:B66,2,FALSE) -> Mimulus | AA40: 3ème Incarné Emotions
AA41: =K44 -> 11 | AB41: =VLOOKUP(AA41,HexDef!B11:F74,2,FALSE) -> TAI | AC41: =VLOOKUP(AA41,HexDef!B11:F74,4,FALSE) -> Fluidité entre le YANG qui monte et le YIN qui descend
H42: Pensées | I42: =I20 -> 1 | J42: =VLOOKUP(J44,DeuxRoues!E4:G67,2,FALSE) -> 9 | K42: =VLOOKUP(K46,DeuxRoues!I4:K67,2,FALSE) -> 20 | Q42: =J46 -> 12 | R42: =VLOOKUP(Q42,FleurBach!A3:B66,2,FALSE) -> Clematis
AA43: =VLOOKUP(AA41,HexDef!B11:F74,5,FALSE) -> Fluidité printanière : Ciel et terre communiquent, YIN et YANG se compénètrent, favorisant le floraison de tout ce qui pousse.
H44: Emotions | I44: =VLOOKUP(I42,DeuxRoues!A4:C67,2,FALSE) -> 10 | J44: =I20 -> 1 | K44: =VLOOKUP(K46,DeuxRoues!I4:K67,3,FALSE) -> 11 | Q44: =K42 -> 20 | R44: =VLOOKUP(Q44,FleurBach!A3:B66,2,FALSE) -> Scleranthus
H46: Volonté | I46: =VLOOKUP(I42,DeuxRoues!A4:C67,3,FALSE) -> 45 | J46: =VLOOKUP(J44,DeuxRoues!E4:G67,3,FALSE) -> 12 | K46: =I20 -> 1 | Q46: =K44 -> 11 | R46: =VLOOKUP(Q46,FleurBach!A3:B66,2,FALSE) -> Clematis
Q48: NOTE : Les deux fleurs de Bach, Wild Oat et Sweet Chestnut, aussi le complexe remede d’urgence, n’ont pas des correspondences avec les hexagrammes, comme ils forment les enveloppes des differentes parties de soi.
...

Sheet HexDef
A1: HEX | B1: HEX | C1: Nom Hex | D1: Titre | E1: Image | F1: Définition
A2: 777777 | B2: 1 | C2: QIAN | D2: Créateur | E2: Ciel sur ciel | F2: Elan créatif : Activation, vigueur, dynamisme, Capacité à imaginer le nouveau
A3: 888888 | B3: 2 | C3: KUN | D3: Receptif | E3: Terre sur Terre | F3: Elan receptif : Disponibilité, Souplesse, consentement, adaptabilté aux circonstances
A4: 878887 | B4: 3 | C4: ZHUN | D4: Difficulté initiale | E4: la grande force devant la confusion | F4: Difficultes initiales : c'est la confusion des commencements
A5: 788878 | B5: 4 | C5: MENG | D5: Le jeune fou | E5: Le petit torrent court au pied de la montagne | F5: Jeune Fou : C'est à la fois l'intrépide de la jeunesse at l'apprentissage qui permet de remédier à l'inexpérience
A6: 878777 | B6: 5 | C6: XU | D6: L'attente | E6: L'eau retenue dans le ciel | F6: Attendre : Apprendre à différer
A7: 777878 | B7: 6 | C7: SONG | D7: Le conflit | E7: Ténèbres contre lumière | F7: Plaider sa cause : utiliser la parole à bon escient pour tenter de sortir d'une controverse
A8: 888878 | B8: 7 | C8: SHI | D8: l'armée | E8: Le générale contrôle ses troupes | F8: Armée : C'est l'état de guerre, la mobilisation de toutes les forces contre un péril qui menace d'envahir le territoire.
A9: 878888 | B9: 8 | C9: BI | D9: L'union | E9: Le souverain uni ses sujets | F9: Alliance : C'est l'élection d'un centre autour duquel des forces disparats viennent se constituer en un ensemble hiérarchisé.
A10: 778777 | B10: 9 | C10: XIAO XU | D10: Le petit Apprivoise | E10: Le ministre contrôle toutes les lignes YANG | F10: Petit Apprivoise : c'est faire la vassalité une force. Dompter les tensions, retenir patiement les énergies pour les affiner.
A11: 777877 | B11: 10 | C11: LU | D11: La marche | E11: La jeune fille approche le père | F11: Demarche : Expose comment se comporter au contact d'une force puissante et potentiellement dangereuse, symbolisée par le tigre.
A12: 888777 | B12: 11 | C12: TAI | D12: Prosperite | E12: Fluidité entre le YANG qui monte et le YIN qui descend | F12: Fluidité printanière : Ciel et terre communiquent, YIN et YANG se compénètrent, favorisant le floraison de tout ce qui pousse.
A13: 777888 | B13: 12 | C13: PI | D13: Adversite | E13: Le YANG monte, le YIN descend et chacun tient l'autre captif | F13: Blocage automnal : Ciel et terre ne communiquent pas, YIN et YANG ne se rencontrent plus et stte absence de relation se manifeste par le déclin de la nature.
... A65: 787878 | B65: 64 | C65: WEI JI | D65: Avant l'accomplissement | E65: Rien n'est à sa place | F65: Pas encore traversée: est un moment où tout est désordre et indétermination, une période de transition entre un temps qui s'achève et un autre en gestation

Sheet Oppose
A1: HEX | B1: Opposé | C1: Retoune | D1: Nucléaire | E1: Hex Opposé | F1: HexRetourne | G1: Hex Nucléaire
A2: 888888 | B2: {=_xlfn.LET( _xlpm.t,A2, _xlpm.l,MID(_xlpm.t,_xlfn.SEQUENCE(LEN(_xlpm.t)),1), _xlpm.u,_xlfn.UNIQUE(_xlpm.l), _xlfn.TEXTJOIN(,,_xlfn.XLOOKUP(_xlpm.l,_xlfn._xlws.SORT(_xlpm.u),_xlfn._xlws.SORT(_xlpm.u,1,-1))) )} -> 888888 | C2: 888888 | D2: 888888 | E2: 2 | F2: 1 | G2: 1
A3: 777777 | B3: {=_xlfn.LET( _xlpm.t,A3, _xlpm.l,MID(_xlpm.t,_xlfn.SEQUENCE(LEN(_xlpm.t)),1), _xlpm.u,_xlfn.UNIQUE(_xlpm.l), _xlfn.TEXTJOIN(,,_xlfn.XLOOKUP(_xlpm.l,_xlfn._xlws.SORT(_xlpm.u),_xlfn._xlws.SORT(_xlpm.u,1,-1))) )} -> 777777 | C3: 777777 | D3: 777777 | E3: 1 | F3: 2 | G3: 2
A4: 878887 | B4: {=_xlfn.LET( _xlpm.t,A4, _xlpm.l,MID(_xlpm.t,_xlfn.SEQUENCE(LEN(_xlpm.t)),1), _xlpm.u,_xlfn.UNIQUE(_xlpm.l), _xlfn.TEXTJOIN(,,_xlfn.XLOOKUP(_xlpm.l,_xlfn._xlws.SORT(_xlpm.u),_xlfn._xlws.SORT(_xlpm.u,1,-1))) )} -> 787778 | C4: 877787 | D4: 788888 | E4: 50 | F4: 4 | G4: 23
A5: 788878 | B5: {=_xlfn.LET( _xlpm.t,A5, _xlpm.l,MID(_xlpm.t,_xlfn.SEQUENCE(LEN(_xlpm.t)),1), _xlpm.u,_xlfn.UNIQUE(_xlpm.l), _xlfn.TEXTJOIN(,,_xlfn.XLOOKUP(_xlpm.l,_xlfn._xlws.SORT(_xlpm.u),_xlfn._xlws.SORT(_xlpm.u,1,-1))) )} -> 877787 | C5: 787778 | D5: 888887 | E5: 49 | F5: 3 | G5: 24
A6: 878777 | B6: {=_xlfn.LET( _xlpm.t,A6, _xlpm.l,MID(_xlpm.t,_xlfn.SEQUENCE(LEN(_xlpm.t)),1), _xlpm.u,_xlfn.UNIQUE(_xlpm.l), _xlfn.TEXTJOIN(,,_xlfn.XLOOKUP(_xlpm.l,_xlfn._xlws.SORT(_xlpm.u),_xlfn._xlws.SORT(_xlpm.u,1,-1))) )} -> 787888 | C6: {=_xlfn.LET(_xlpm.a,A6, _xlpm.n, LEN( _xlpm.a), _xlpm.s, _xlfn.SEQUENCE(_xlpm.n, , _xlpm.n, -1), _xlfn.TEXTJOIN("", , MID(_xlpm.a, _xlpm.s, 1)))} -> 777878 | D6: 787877 | E6: 35 | F6: 6 | G6: 38
A7: 777878 | B7: {=_xlfn.LET( _xlpm.t,A7, _xlpm.l,MID(_xlpm.t,_xlfn.SEQUENCE(LEN(_xlpm.t)),1), _xlpm.u,_xlfn.UNIQUE(_xlpm.l), _xlfn.TEXTJOIN(,,_xlfn.XLOOKUP(_xlpm.l,_xlfn._xlws.SORT(_xlpm.u),_xlfn._xlws.SORT(_xlpm.u,1,-1))) )} -> 888787 | C7: {=_xlfn.LET(_xlpm.a,A7, _xlpm.n, LEN( _xlpm.a), _xlpm.s, _xlfn.SEQUENCE(_xlpm.n, , _xlpm.n, -1), _xlfn.TEXTJOIN("", , MID(_xlpm.a, _xlpm.s, 1)))} -> 878777 | D7: 778787 | E7: 36 | F7: 5 | G7: 37
A8: 888878 | B8: {=_xlfn.LET( _xlpm.t,A8, _xlpm.l,MID(_xlpm.t,_xlfn.SEQUENCE(LEN(_xlpm.t)),1), _xlpm.u,_xlfn.UNIQUE(_xlpm.l), _xlfn.TEXTJOIN(,,_xlfn.XLOOKUP(_xlpm.l,_xlfn._xlws.SORT(_xlpm.u),_xlfn._xlws.SORT(_xlpm.u,1,-1))) )} -> 777787 | C8: {=_xlfn.LET(_xlpm.a,A8, _xlpm.n, LEN( _xlpm.a), _xlpm.s, _xlfn.SEQUENCE(_xlpm.n, , _xlpm.n, -1), _xlfn.TEXTJOIN("", , MID(_xlpm.a, _xlpm.s, 1)))} -> 878888 | D8: 888887 | E8: 13 | F8: 8 | G8: 24
A9: 878888 | B9: {=_xlfn.LET( _xlpm.t,A9, _xlpm.l,MID(_xlpm.t,_xlfn.SEQUENCE(LEN(_xlpm.t)),1), _xlpm.u,_xlfn.UNIQUE(_xlpm.l), _xlfn.TEXTJOIN(,,_xlfn.XLOOKUP(_xlpm.l,_xlfn._xlws.SORT(_xlpm.u),_xlfn._xlws.SORT(_xlpm.u,1,-1))) )} -> 787777 | C9: {=_xlfn.LET(_xlpm.a,A9, _xlpm.n, LEN( _xlpm.a), _xlpm.s, _xlfn.SEQUENCE(_xlpm.n, , _xlpm.n, -1), _xlfn.TEXTJOIN("", , MID(_xlpm.a, _xlpm.s, 1)))} -> 888878 | D9: 788888 | E9: 14 | F9: 7 | G9: 23
A10: 778777 | B10: {=_xlfn.LET( _xlpm.t,A10, _xlpm.l,MID(_xlpm.t,_xlfn.SEQUENCE(LEN(_xlpm.t)),1), _xlpm.u,_xlfn.UNIQUE(_xlpm.l), _xlfn.TEXTJOIN(,,_xlfn.XLOOKUP(_xlpm.l,_xlfn._xlws.SORT(_xlpm.u),_xlfn._xlws.SORT(_xlpm.u,1,-1))) )} -> 887888 | C10: {=_xlfn.LET(_xlpm.a,A10, _xlpm.n, LEN( _xlpm.a), _xlpm.s, _xlfn.SEQUENCE(_xlpm.n, , _xlpm.n, -1), _xlfn.TEXTJOIN("", , MID(_xlpm.a, _xlpm.s, 1)))} -> 777877 | D10: 787877 | E10: 16 | F10: 10 | G10: 38
A11: 777877 | B11: {=_xlfn.LET( _xlpm.t,A11, _xlpm.l,MID(_xlpm.t,_xlfn.SEQUENCE(LEN(_xlpm.t)),1), _xlpm.u,_xlfn.UNIQUE(_xlpm.l), _xlfn.TEXTJOIN(,,_xlfn.XLOOKUP(_xlpm.l,_xlfn._xlws.SORT(_xlpm.u),_xlfn._xlws.SORT(_xlpm.u,1,-1))) )} -> 888788 | C11: {=_xlfn.LET(_xlpm.a,A11, _xlpm.n, LEN( _xlpm.a), _xlpm.s, _xlfn.SEQUENCE(_xlpm.n, , _xlpm.n, -1), _xlfn.TEXTJOIN("", , MID(_xlpm.a, _xlpm.s, 1)))} -> 778777 | D11: 778787 | E11: 15 | F11: 9 | G11: 37
A12: 888777 | B12: {=_xlfn.LET( _xlpm.t,A12, _xlpm.l,MID(_xlpm.t,_xlfn.SEQUENCE(LEN(_xlpm.t)),1), _xlpm.u,_xlfn.UNIQUE(_xlpm.l), _xlfn.TEXTJOIN(,,_xlfn.XLOOKUP(_xlpm.l,_xlfn._xlws.SORT(_xlpm.u),_xlfn._xlws.SORT(_xlpm.u,1,-1))) )} -> 777888 | C12: {=_xlfn.LET(_xlpm.a,A12, _xlpm.n, LEN( _xlpm.a), _xlpm.s, _xlfn.SEQUENCE(_xlpm.n, , _xlpm.n, -1), _xlfn.TEXTJOIN("", , MID(_xlpm.a, _xlpm.s, 1)))} -> 777888 | D12: 887878 | E12: 12 | F12: 12 | G12: 40
A13: 777888 | B13: {=_xlfn.LET( _xlpm.t,A13, _xlpm.l,MID(_xlpm.t,_xlfn.SEQUENCE(LEN(_xlpm.t)),1), _xlpm.u,_xlfn.UNIQUE(_xlpm.l), _xlfn.TEXTJOIN(,,_xlfn.XLOOKUP(_xlpm.l,_xlfn._xlws.SORT(_xlpm.u),_xlfn._xlws.SORT(_xlpm.u,1,-1))) )} -> 888777 | C13: {=_xlfn.LET(_xlpm.a,A13, _xlpm.n, LEN( _xlpm.a), _xlpm.s, _xlfn.SEQUENCE(_xlpm.n, , _xlpm.n, -1), _xlfn.TEXTJOIN("", , MID(_xlpm.a, _xlpm.s, 1)))} -> 888777 | D13: 778788 | E13: 11 | F13: 11 | G13: 57
A14: 777787 | B14: {=_xlfn.LET( _xlpm.t,A14, _xlpm.l,MID(_xlpm.t,_xlfn.SEQUENCE(LEN(_xlpm.t)),1), _xlpm.u,_xlfn.UNIQUE(_xlpm.l), _xlfn.TEXTJOIN(,,_xlfn.XLOOKUP(_xlpm.l,_xlfn._xlws.SORT(_xlpm.u),_xlfn._xlws.SORT(_xlpm.u,1,-1))) )} -> 888878 | C14: {=_xlfn.LET(_xlpm.a,A14, _xlpm.n, LEN( _xlpm.a), _xlpm.s, _xlfn.SEQUENCE(_xlpm.n, , _xlpm.n, -1), _xlfn.TEXTJOIN("", , MID(_xlpm.a, _xlpm.s, 1)))} -> 787777 | D14: 777778 | E14: 7 | F14: 14 | G14: 44
A15: 787777 | B15: {=_xlfn.LET( _xlpm.t,A15, _xlpm.l,MID(_xlpm.t,_xlfn.SEQUENCE(LEN(_xlpm.t)),1), _xlpm.u,_xlfn.UNIQUE(_xlpm.l), _xlfn.TEXTJOIN(,,_xlfn.XLOOKUP(_xlpm.l,_xlfn._xlws.SORT(_xlpm.u),_xlfn._xlws.SORT(_xlpm.u,1,-1))) )} -> 878888 | C15: {=_xlfn.LET(_xlpm.a,A15, _xlpm.n, LEN( _xlpm.a), _xlpm.s, _xlfn.SEQUENCE(_xlpm.n, , _xlpm.n, -1), _xlfn.TEXTJOIN("", , MID(_xlpm.a, _xlpm.s, 1)))} -> 777787 | D15: 877777 | E15: 8 | F15: 13 | G15: 43
A16: 888788 | B16: {=_xlfn.LET( _xlpm.t,A16, _xlpm.l,MID(_xlpm.t,_xlfn.SEQUENCE(LEN(_xlpm.t)),1), _xlpm.u,_xlfn.UNIQUE(_xlpm.l), _xlfn.TEXTJOIN(,,_xlfn.XLOOKUP(_xlpm.l,_xlfn._xlws.SORT(_xlpm.u),_xlfn._xlws.SORT(_xlpm.u,1,-1))) )} -> 777877 | C16: {=_xlfn.LET(_xlpm.a,A16, _xlpm.n, LEN( _xlpm.a), _xlpm.s, _xlfn.SEQUENCE(_xlpm.n, , _xlpm.n, -1), _xlfn.TEXTJOIN("", , MID(_xlpm.a, _xlpm.s, 1)))} -> 887888 | D16: 887878 | E16: 10 | F16: 16 | G16: 40
A17: 887888 | B17: {=_xlfn.LET( _xlpm.t,A17, _xlpm.l,MID(_xlpm.t,_xlfn.SEQUENCE(LEN(_xlpm.t)),1), _xlpm.u,_xlfn.UNIQUE(_xlpm.l), _xlfn.TEXTJOIN(,,_xlfn.XLOOKUP(_xlpm.l,_xlfn._xlws.SORT(_xlpm.u),_xlfn._xlws.SORT(_xlpm.u,1,-1))) )} -> 778777 | C17: {=_xlfn.LET(_xlpm.a,A17, _xlpm.n, LEN( _xlpm.a), _xlpm.s, _xlfn.SEQUENCE(_xlpm.n, , _xlpm.n, -1), _xlfn.TEXTJOIN("", , MID(_xlpm.a, _xlpm.s, 1)))} -> 888788 | D17: 878788 | E17: 9 | F17: 15 | G17: 56
... A65: 787878 | B65: {=_xlfn.LET( _xlpm.t,A65, _xlpm.l,MID(_xlpm.t,_xlfn.SEQUENCE(LEN(_xlpm.t)),1), _xlpm.u,_xlfn.UNIQUE(_xlpm.l), _xlfn.TEXTJOIN(,,_xlfn.XLOOKUP(_xlpm.l,_xlfn._xlws.SORT(_xlpm.u),_xlfn._xlws.SORT(_xlpm.u,1,-1))) )} -> 878787 | C65: {=_xlfn.LET(_xlpm.a,A65, _xlpm.n, LEN( _xlpm.a), _xlpm.s, _xlfn.SEQUENCE(_xlpm.n, , _xlpm.n, -1), _xlfn.TEXTJOIN("", , MID(_xlpm.a, _xlpm.s, 1)))} -> 878787 | D65: 878787 | E65: 63 | F65: 63 | G65: 63

Sheet DeuxRoues
A1: 1er Plan | E1: 2eme Plan | I1: 3eme Plan
A2: CONFRONTER LA SITUATION | E2: INTEGRER LA SITUATION | I2: CONFRONTER LA SITUATION
A3: Haut | B3: Milieu | C3: Bas | E3: Milieu | F3: Haut | G3: Bas | I3: Bas | J3: Haut | K3: Milieu
A4: 1 | B4: 10 | C4: 45 | E4: 1 | F4: 9 | G4: 12 | I4: 1 | J4: 20 | K4: 11
A5: 2 | B5: 24 | C5: 34 | E5: 2 | F5: 23 | G5: 11 | I5: 2 | J5: 26 | K5: 12
A6: 3 | B6: 55 | C6: 38 | E6: 3 | F6: 7 | G6: 55 | I6: 3 | J6: 38 | K6: 47
A7: 4 | B7: 8 | C7: 36 | E7: 4 | F7: 56 | G7: 48 | I7: 4 | J7: 49 | K7: 56
A8: 5 | B8: 13 | C8: 35 | E8: 5 | F8: 59 | G8: 13 | I8: 5 | J8: 35 | K8: 7
A9: 6 | B9: 60 | C9: 49 | E9: 6 | F9: 14 | G9: 8 | I9: 6 | J9: 37 | K9: 14
A10: 7 | B10: 3 | C10: 55 | E10: 7 | F10: 35 | G10: 5 | I10: 7 | J10: 22 | K10: 35
A11: 8 | B11: 36 | C11: 14 | E11: 8 | F11: 4 | G11: 36 | I11: 8 | J11: 14 | K11: 6
A12: 9 | B12: 1 | C12: 12 | E12: 9 | F12: 57 | G12: 33 | I12: 9 | J12: 16 | K12: 46
A13: 10 | B13: 58 | C13: 17 | E13: 10 | F13: 1 | G13: 45 | I13: 10 | J13: 42 | K13: 34
A14: 11 | B14: 25 | C14: 16 | E14: 11 | F14: 20 | G14: 1 | I14: 11 | J14: 23 | K14: 2
A15: 12 | B15: 19 | C15: 43 | E15: 12 | F15: 26 | G15: 2 | I15: 12 | J15: 9 | K15: 1
... A67: 64 | B67: 29 | C67: 63 | E67: 64 | F67: 30 | G67: 29 | I67: 64 | J67: 63 | K67: 30

Sheet FleurBach
A1: YI JING – FLEURS DE BACH CORRESPONDENCE | C1: NOTE : Les deux fleurs de Bach, Wild Oat et Sweet Chestnut, aussi le complexe remede d’urgence, n’ont pas des correspondences avec les hexagrammes, comme ils forment les enveloppes des differentes parties de soi.
A2: Hexagramme (HXX) | B2: Fleurs de Bach
A3: 1 | B3: Oak
A4: 2 | B4: Rock Water
A5: 3 | B5: Cerato
A6: 4 | B6: Cerato
A7: 5 | B7: Agrimony
A8: 6 | B8: Agrimony
A9: 7 | B9: Chicory
A10: 8 | B10: Chicory
A11: 9 | B11: Mimulus
A12: 10 | B12: Mimulus
A13: 11 | B13: Clematis
A14: 12 | B14: Clematis
... A66: 64 | B66: Crab Apple

Sheet TEST
A1: 6 | B1: =_xlfn.XLOOKUP(VALUE(SUBSTITUTE(SUBSTITUTE(_xlfn.CONCAT(_xlfn.IFS(A1=8,7,A1=7,8,1,A1),A2,A3,A4,A5,A6),6,8),9,7)),HexDef!A2:A65,HexDef!B2:B65,"") -> 15 | C1: =_xlfn.CONCAT(_xlfn.IFS(A1=8,7,A1=7,8,1,A1),A2,A3,A4,A5,A6)*1 -> 688786 | D1: =VALUE(SUBSTITUTE(SUBSTITUTE(C1,6,8),9,7)) -> 888788 | E1: =VALUE(SUBSTITUTE(SUBSTITUTE(_xlfn.CONCAT(_xlfn.IFS(A1=8,7,A1=7,8,A1=9,8,A6=6,8,1,A1),A2,A3,A4,A5,A6),6,8),9,7)) -> 888788 | F1: =IF(OR(A1=9,A1=6),_xlfn.XLOOKUP(VALUE(SUBSTITUTE(SUBSTITUTE(_xlfn.CONCAT(_xlfn.IFS(A1=8,7,A1=7,8,A1=9,8,A1=6,7,1,A1),A2,A3,A4,A5,A6),6,8),9,7)),HexDef!A2:A65,HexDef!B2:B65,""),"") -> 52 | G1: {=IF(OR(A1=9,A1=6),_xlfn.XLOOKUP(VALUE(SUBSTITUTE(SUBSTITUTE(_xlfn.CONCAT(_xlfn.IFS(A1=8,7,A1=7,8,A1=9,8,A1=6,7,1,A1)*1,A2,A3,A4,A5,A6),6,8),9,7)),Oppose!A2:A65,Oppose!E2:E65,"")&"/"&IF(A1=9,6,IF(A1=6,6,"")),"")} -> 58/6
A2: 8 | B2: =_xlfn.XLOOKUP(VALUE(SUBSTITUTE(SUBSTITUTE(_xlfn.CONCAT(A1,_xlfn.IFS(A2=8,7,A2=7,8,A2=9,7,A2=6,8,1,A2),A3,A4,A5,A6),6,8),9,7)),HexDef!A2:A65,HexDef!B2:B65,"") -> 39 | C2: =_xlfn.CONCAT(A1,_xlfn.IFS(A2=8,7,A2=7,8,A2=9,7,A2=6,8,1,A2),A3,A4,A5,A6)*1 -> 678786 | D2: =VALUE(SUBSTITUTE(SUBSTITUTE(C2,6,8),9,7)) -> 878788 | E2: =VALUE(SUBSTITUTE(SUBSTITUTE(_xlfn.CONCAT(A1,_xlfn.IFS(A2=8,7,A2=7,8,A2=9,7,A2=6,8,1,A2),A3,A4,A5,A6),6,8),9,7)) -> 878788 | F2: =IF(OR(A2=9,A2=6),_xlfn.XLOOKUP(VALUE(SUBSTITUTE(SUBSTITUTE(_xlfn.CONCAT(A1,_xlfn.IFS(A2=8,7,A2=7,8,A2=9,7,A2=6,8,1,A2),A3,A4,A5,A6),6,8),9,7)),HexDef!A2:A65,HexDef!B2:B65,""),"") | G2: {=IF(OR(A2=9,A2=6),_xlfn.XLOOKUP(VALUE(SUBSTITUTE(SUBSTITUTE(_xlfn.CONCAT(A1,_xlfn.IFS(A2=8,7,A2=7,8,A2=9,8,A2=6,7,1,A2)*1,A3,A4,A5,A6),6,8),9,7)),Oppose!A2:A65,Oppose!E2:E65,"")&"/"&IF(A1=9,6,IF(A1=6,6,"")),"")}
A3: 8 | B3: =_xlfn.XLOOKUP(VALUE(SUBSTITUTE(SUBSTITUTE(_xlfn.CONCAT(A1,A2,_xlfn.IFS(A3=8,7,A3=7,8,A3=9,7,A3=6,8,1,A3),A4,A5,A6,A7),6,8),9,7)),HexDef!A2:A65,HexDef!B2:B65,"") -> 62 | C3: =_xlfn.CONCAT(A1,A2,_xlfn.IFS(A3=8,7,A3=7,8,A3=9,7,A3=6,8,1,A3),A4,A5,A6,A7)*1 -> 687786 | D3: =VALUE(SUBSTITUTE(SUBSTITUTE(C3,6,8),9,7)) -> 887788 | E3: =VALUE(SUBSTITUTE(SUBSTITUTE(_xlfn.CONCAT(A1,A2,_xlfn.IFS(A3=8,7,A3=7,8,A3=9,7,A3=6,8,1,A3),A4,A5,A6,A7),6,8),9,7)) -> 887788 | F3: =IF(OR(A3=9,A3=6),_xlfn.XLOOKUP(VALUE(SUBSTITUTE(SUBSTITUTE(_xlfn.CONCAT(A1,A2,_xlfn.IFS(A3=8,7,A3=7,8,A3=9,7,A3=6,8,1,A3),A4,A5,A6),6,8),9,7)),HexDef!A2:A65,HexDef!B2:B65,""),"") | G3: {=IF(OR(A3=9,A3=6),_xlfn.XLOOKUP(VALUE(SUBSTITUTE(SUBSTITUTE(_xlfn.CONCAT(A1,A2,_xlfn.IFS(A3=8,7,A3=7,8,A3=9,8,A3=6,7,1,A3)*1,A4,A5,A6),6,8),9,7)),Oppose!A2:A65,Oppose!E2:E65,"")&"/"&IF(A1=9,6,IF(A1=6,6,"")),"")}
A4: 7 | B4: =_xlfn.XLOOKUP(VALUE(SUBSTITUTE(SUBSTITUTE(_xlfn.CONCAT(A1,A2,A3,_xlfn.IFS(A4=8,7,A4=7,8,A4=9,7,A4=6,8,1,A4),A5,A6,),6,8),9,7)),HexDef!A2:A65,HexDef!B2:B65,"") -> 2 | C4: =_xlfn.CONCAT(A1,A2,A3,_xlfn.IFS(A4=8,7,A4=7,8,A4=9,7,A4=6,8,1,A4),A5,A6,)*1 -> 688886 | D4: =VALUE(SUBSTITUTE(SUBSTITUTE(C4,6,8),9,7)) -> 888888 | E4: =VALUE(SUBSTITUTE(SUBSTITUTE(_xlfn.CONCAT(A1,A2,A3,_xlfn.IFS(A4=8,7,A4=7,8,A4=9,7,A4=6,8,1,A4),A5,A6,),6,8),9,7)) -> 888888 | F4: =IF(OR(A4=9,A4=6),_xlfn.XLOOKUP(VALUE(SUBSTITUTE(SUBSTITUTE(_xlfn.CONCAT(A1,A2,A3,_xlfn.IFS(A4=8,7,A4=7,8,A4=9,7,A4=6,8,1,A4),A5,A6),6,8),9,7)),HexDef!A2:A65,HexDef!B2:B65,""),"") | G4: {=IF(OR(A4=9,A4=6),_xlfn.XLOOKUP(VALUE(SUBSTITUTE(SUBSTITUTE(_xlfn.CONCAT(A1,A2,A3,_xlfn.IFS(A4=8,7,A4=7,8,A4=9,8,A4=6,7,1,A4)*1,A5,A6),6,8),9,7)),Oppose!A2:A65,Oppose!E2:E65,"")&"/"&IF(A1=9,6,IF(A1=6,6,"")),"")}
A5: 8 | B5: =_xlfn.XLOOKUP(VALUE(SUBSTITUTE(SUBSTITUTE(_xlfn.CONCAT(A1,A2,A3,A4,_xlfn.IFS(A5=8,7,A5=7,8,A5=9,7,A5=6,8,1,A5),A6,),6,8),9,7)),HexDef!A2:A65,HexDef!B2:B65,"") -> 46 | C5: =_xlfn.CONCAT(A1,A2,A3,A4,_xlfn.IFS(A5=8,7,A5=7,8,A5=9,7,A5=6,8,1,A5),A6,)*1 -> 688776 | D5: =VALUE(SUBSTITUTE(SUBSTITUTE(C5,6,8),9,7)) -> 888778 | E5: =VALUE(SUBSTITUTE(SUBSTITUTE(_xlfn.CONCAT(A1,A2,A3,A4,_xlfn.IFS(A5=8,7,A5=7,8,A5=9,7,A5=6,8,1,A5),A6,),6,8),9,7)) -> 888778 | F5: =IF(OR(A5=9,A5=6),_xlfn.XLOOKUP(VALUE(SUBSTITUTE(SUBSTITUTE(_xlfn.CONCAT(A1,A2,A3,A4,_xlfn.IFS(A5=8,7,A5=7,8,A5=9,7,A5=6,8,1,A5),A6),6,8),9,7)),HexDef!A2:A65,HexDef!B2:B65,""),"") | G5: {=IF(OR(A5=9,A5=6),_xlfn.XLOOKUP(VALUE(SUBSTITUTE(SUBSTITUTE(_xlfn.CONCAT(A1,A2,A3,A4,_xlfn.IFS(A5=8,7,A5=7,8,A5=9,8,A5=6,7,1,A5)*1,A6),6,8),9,7)),Oppose!A2:A65,Oppose!E2:E65,"")&"/"&IF(A1=9,6,IF(A1=6,6,"")),"")}
A6: 6 | B6: =_xlfn.XLOOKUP(VALUE(SUBSTITUTE(SUBSTITUTE(_xlfn.CONCAT(A1,A2,A3,A4,A5,_xlfn.IFS(A6=8,7,A6=7,8,A6=9,7,A6=6,8,1,A6)),6,8),9,7)),HexDef!A2:A65,HexDef!B2:B65,"",) -> 15 | C6: =_xlfn.CONCAT(A5,A4,A3,A2,A1,_xlfn.IFS(A6=8,7,A6=7,8,A6=9,7,A6=6,8,1,A6))*1 -> 878868 | D6: =VALUE(SUBSTITUTE(SUBSTITUTE(C6,6,8),9,7)) -> 878888 | E6: =VALUE(SUBSTITUTE(SUBSTITUTE(_xlfn.CONCAT(A1,A2,A3,A4,A5,_xlfn.IFS(A6=8,7,A6=7,8,A6=9,8,A6=6,8,1,A6)),6,8),9,7)) -> 888788 | F6: {=IF(OR(A6=9,A6=6),_xlfn.XLOOKUP(VALUE(SUBSTITUTE(SUBSTITUTE(_xlfn.CONCAT(A1,A2,A3,A4,A5,_xlfn.IFS(A6=8,7,A6=7,8,A6=9,8,A6=6,7,1,A6)*1),6,8),9,7)),HexDef!A2:A65,HexDef!B2:B65,""),"")} -> 36 | G6: {=IF(OR(A1=9,A1=6),_xlfn.XLOOKUP(VALUE(SUBSTITUTE(SUBSTITUTE(_xlfn.CONCAT(A1,A2,A3,A4,A5,_xlfn.IFS(A6=8,7,A6=7,8,A6=9,8,A6=6,7,1,A6)*1),6,8),9,7)),Oppose!A2:A65,Oppose!E2:E65,"")&"/"&IF(A1=9,1,IF(A1=6,1,"")),"")} -> 6/1
A8: =VLOOKUP(VALUE(SUBSTITUTE(SUBSTITUTE(_xlfn.CONCAT(A1,A2,A3,A4,A5,A6),"6","8"),"9","7")),HexDef!A2:F65,2,FALSE) -> 15
A10: =VLOOKUP(VALUE(SUBSTITUTE(SUBSTITUTE(_xlfn.CONCAT(A1,A2,A3,A4,A5,A6),"6","7"),"9","8")),HexDef!A2:F65,2,FALSE) -> 22
E12: =IF(A10>=5,"A","B")&"/"&IF(A10<=12,"B","A") -> A/A | G12: =FIND(9,_xlfn.CONCAT(A1,A2,A3,A4,A5,A6)) -> #VALUE! | H12: =IF(OR(A6=9,A6=6),_xlfn.XLOOKUP(VALUE(SUBSTITUTE(SUBSTITUTE(_xlfn.CONCAT(A1,A2,A3,A4,A5,_xlfn.IFS(A6=8,7,A6=7,8,A6=9,7,A6=6,7,1,A6)),6,8),9,7)),HexDef!A2:A65,HexDef!B2:B65,"",)&"/"&IF(A6=9,1,IF(A6=6,1,"")),"") -> 36/1
G13: =IF(A5=9,_xlfn.XLOOKUP(VALUE(SUBSTITUTE(SUBSTITUTE(_xlfn.CONCAT(A1,A2,A3,A4,A5,_xlfn.IFS(A6=8,7,A6=7,8,A6=9,7,A6=6,8,1,A6)),6,8),9,7)),HexDef!A2:A65,HexDef!B2:B65,"",)&"/"&IF(A5=9,2,IF(A5=6,2,"")),IF(A5=6,_xlfn.XLOOKUP(VALUE(SUBSTITUTE(SUBSTITUTE(_xlfn.CONCAT(A1,A2,A3,A4,A5,_xlfn.IFS(A6=8,7,A6=7,8,A6=9,7,A6=6,8,1,A6)),6,8),9,7)),HexDef!A2:A65,HexDef!B2:B65,"",)&"/"&IF(A5=9,2,IF(A5=6,2,"")),""))
E14: =IF(A6=9,_xlfn.XLOOKUP(VALUE(SUBSTITUTE(SUBSTITUTE(_xlfn.CONCAT(A1,A2,A3,A4,A5,_xlfn.IFS(A6=8,7,A6=7,8,A6=9,7,A6=6,8,1,A6)),6,8),9,7)),HexDef!A2:A65,HexDef!B2:B65,"",)&"/"&IF(A6=9,1,IF(A6=6,1,""))) -> FALSE | G14: =IF(A6=9,_xlfn.XLOOKUP(VALUE(SUBSTITUTE(SUBSTITUTE(_xlfn.CONCAT(A1,A2,A3,A4,A5,_xlfn.IFS(A6=8,7,A6=7,8,A6=9,7,A6=6,8,1,A6)),6,8),9,7)),HexDef!A2:A65,HexDef!B2:B65,"",)&"/"&IF(A6=9,1,IF(A6=6,1,"")),IF(A6=6,_xlfn.XLOOKUP(VALUE(SUBSTITUTE(SUBSTITUTE(_xlfn.CONCAT(A1,A2,A3,A4,A5,_xlfn.IFS(A6=8,7,A6=7,8,A6=9,7,A6=6,8,1,A6)),6,8),9,7)),HexDef!A2:A65,HexDef!B2:B65,"",)&"/"&IF(A6=9,1,IF(A6=6,1,"")),"")) -> 15/1
E16: =_xlfn.XLOOKUP(VALUE(SUBSTITUTE(SUBSTITUTE(_xlfn.CONCAT(A1,A2,A3,A4,A5,_xlfn.IFS(A6=8,7,A6=7,8,A6=9,7,A6=6,8,1,A6)),6,8),9,7)),HexDef!A2:A65,HexDef!B2:B65,"") -> 15
D17: =SUBSTITUTE(A6,9,7) -> 6 | E17: =VALUE(_xlfn.CONCAT(A1:A6)) -> 688786 | F17: =VALUE(SUBSTITUTE(E17,9,7)) -> 688786 | G17: =VLOOKUP(F17,HexDef!A2:B65,2,FALSE) -> #N/A
E19: =VALUE(_xlfn.CONCAT(A1,A2,A3,A4,A5,A6)) -> 688786 | F19: =VALUE(SUBSTITUTE(E19,9,8,1)) -> 688786 | G19: =VALUE(SUBSTITUTE(F19,9,7)) -> 688786 | H19: =VLOOKUP(G19,HexDef!A2:F65,2,FALSE) -> #N/A
E20: =VALUE(_xlfn.CONCAT(A1,A2,A3,A4,A5,A6)) -> 688786 | F20: =VALUE(SUBSTITUTE(E20,9,7,1)) -> 688786 | G20: =VALUE(SUBSTITUTE(F20,9,8)) -> 688786 | H20: =VLOOKUP(G20,HexDef!A2:F65,2,FALSE) -> #N/A
E22: =VALUE(SUBSTITUTE(SUBSTITUTE(_xlfn.CONCAT(A1,A2,A3,A4,A5,A6),6,8),9,7,1)) -> 888788
