Workbook

Sheet Feuil4
A1: Titre | B1: Auteur | C1: Colonne1
A2: Cabale pyramidion | B2: Samuel Delage f 2015 C 3 votes last 93/10 | C2: =_xlfn.TEXTBEFORE(B2," ",-7) -> Samuel Delage | D2: {=IF(B2="","",INDEX(_xlfn.TEXTSPLIT(MID(Feuil4!$B2,2,99)," ",,1),1) & IFERROR(" " & INDEX(_xlfn.TEXTSPLIT(MID(Feuil4!$B2,2,99)," ",,1),2),"")& IFERROR(IF(MEDIAN(65,90,CODE(INDEX(_xlfn.TEXTSPLIT(MID(Feuil4!$B2,2,99)," ",,1),3)))=CODE(INDEX(_xlfn.TEXTSPLIT(MID(Feuil4!$B2,2,99)," ",,1),3))," " & INDEX(_xlfn.TEXTSPLIT(MID(Feuil4!$B2,2,99)," ",,1),3),""),""))} -> Samuel Delage
C3: =_xlfn.TEXTBEFORE(B3," ",-7) -> #VALUE! | D3: {=IF(B3="","",INDEX(_xlfn.TEXTSPLIT(MID(Feuil4!$B3,2,99)," ",,1),1) & IFERROR(" " & INDEX(_xlfn.TEXTSPLIT(MID(Feuil4!$B3,2,99)," ",,1),2),"")& IFERROR(IF(MEDIAN(65,90,CODE(INDEX(_xlfn.TEXTSPLIT(MID(Feuil4!$B3,2,99)," ",,1),3)))=CODE(INDEX(_xlfn.TEXTSPLIT(MID(Feuil4!$B3,2,99)," ",,1),3))," " & INDEX(_xlfn.TEXTSPLIT(MID(Feuil4!$B3,2,99)," ",,1),3),""),""))}
A4: Le Dieu fleuve | B4: Wilbur Smith 09 1993 C 1 vote lil 9/10 | C4: =_xlfn.TEXTBEFORE(B4," ",-7) -> Wilbur Smith | D4: {=IF(B4="","",INDEX(_xlfn.TEXTSPLIT(MID(Feuil4!$B4,2,99)," ",,1),1) & IFERROR(" " & INDEX(_xlfn.TEXTSPLIT(MID(Feuil4!$B4,2,99)," ",,1),2),"")& IFERROR(IF(MEDIAN(65,90,CODE(INDEX(_xlfn.TEXTSPLIT(MID(Feuil4!$B4,2,99)," ",,1),3)))=CODE(INDEX(_xlfn.TEXTSPLIT(MID(Feuil4!$B4,2,99)," ",,1),3))," " & INDEX(_xlfn.TEXTSPLIT(MID(Feuil4!$B4,2,99)," ",,1),3),""),""))} -> Wilbur Smith
C5: =_xlfn.TEXTBEFORE(B5," ",-7) -> #VALUE! | D5: {=IF(B5="","",INDEX(_xlfn.TEXTSPLIT(MID(Feuil4!$B5,2,99)," ",,1),1) & IFERROR(" " & INDEX(_xlfn.TEXTSPLIT(MID(Feuil4!$B5,2,99)," ",,1),2),"")& IFERROR(IF(MEDIAN(65,90,CODE(INDEX(_xlfn.TEXTSPLIT(MID(Feuil4!$B5,2,99)," ",,1),3)))=CODE(INDEX(_xlfn.TEXTSPLIT(MID(Feuil4!$B5,2,99)," ",,1),3))," " & INDEX(_xlfn.TEXTSPLIT(MID(Feuil4!$B5,2,99)," ",,1),3),""),""))}
A6: La Revanche de l'Ombre Jaune | B6: Henri Vernes fm 1959 0 1 vote Lal 9/10 | C6: =_xlfn.TEXTBEFORE(B6," ",-7) -> Henri Vernes | D6: {=IF(B6="","",INDEX(_xlfn.TEXTSPLIT(MID(Feuil4!$B6,2,99)," ",,1),1) & IFERROR(" " & INDEX(_xlfn.TEXTSPLIT(MID(Feuil4!$B6,2,99)," ",,1),2),"")& IFERROR(IF(MEDIAN(65,90,CODE(INDEX(_xlfn.TEXTSPLIT(MID(Feuil4!$B6,2,99)," ",,1),3)))=CODE(INDEX(_xlfn.TEXTSPLIT(MID(Feuil4!$B6,2,99)," ",,1),3))," " & INDEX(_xlfn.TEXTSPLIT(MID(Feuil4!$B6,2,99)," ",,1),3),""),""))} -> Henri Vernes
C7: =_xlfn.TEXTBEFORE(B7," ",-7) -> #VALUE! | D7: {=IF(B7="","",INDEX(_xlfn.TEXTSPLIT(MID(Feuil4!$B7,2,99)," ",,1),1) & IFERROR(" " & INDEX(_xlfn.TEXTSPLIT(MID(Feuil4!$B7,2,99)," ",,1),2),"")& IFERROR(IF(MEDIAN(65,90,CODE(INDEX(_xlfn.TEXTSPLIT(MID(Feuil4!$B7,2,99)," ",,1),3)))=CODE(INDEX(_xlfn.TEXTSPLIT(MID(Feuil4!$B7,2,99)," ",,1),3))," " & INDEX(_xlfn.TEXTSPLIT(MID(Feuil4!$B7,2,99)," ",,1),3),""),""))}
A8: Avant les années terribles | B8: Victor Del Arbol ( 2019 g 2 votes lil 9/10 | C8: =_xlfn.TEXTBEFORE(B8," ",-7) -> Victor Del Arbol | D8: {=IF(B8="","",INDEX(_xlfn.TEXTSPLIT(MID(Feuil4!$B8,2,99)," ",,1),1) & IFERROR(" " & INDEX(_xlfn.TEXTSPLIT(MID(Feuil4!$B8,2,99)," ",,1),2),"")& IFERROR(IF(MEDIAN(65,90,CODE(INDEX(_xlfn.TEXTSPLIT(MID(Feuil4!$B8,2,99)," ",,1),3)))=CODE(INDEX(_xlfn.TEXTSPLIT(MID(Feuil4!$B8,2,99)," ",,1),3))," " & INDEX(_xlfn.TEXTSPLIT(MID(Feuil4!$B8,2,99)," ",,1),3),""),""))} -> Victor Del Arbol
C9: =_xlfn.TEXTBEFORE(B9," ",-7) -> #VALUE! | D9: {=IF(B9="","",INDEX(_xlfn.TEXTSPLIT(MID(Feuil4!$B9,2,99)," ",,1),1) & IFERROR(" " & INDEX(_xlfn.TEXTSPLIT(MID(Feuil4!$B9,2,99)," ",,1),2),"")& IFERROR(IF(MEDIAN(65,90,CODE(INDEX(_xlfn.TEXTSPLIT(MID(Feuil4!$B9,2,99)," ",,1),3)))=CODE(INDEX(_xlfn.TEXTSPLIT(MID(Feuil4!$B9,2,99)," ",,1),3))," " & INDEX(_xlfn.TEXTSPLIT(MID(Feuil4!$B9,2,99)," ",,1),3),""),""))}
A10: Mort sur le Nil | B10: Agatha Christie fig 1937 0 21 votes last 86/10 | C10: =_xlfn.TEXTBEFORE(B10," ",-7) -> Agatha Christie | D10: {=IF(B10="","",INDEX(_xlfn.TEXTSPLIT(MID(Feuil4!$B10,2,99)," ",,1),1) & IFERROR(" " & INDEX(_xlfn.TEXTSPLIT(MID(Feuil4!$B10,2,99)," ",,1),2),"")& IFERROR(IF(MEDIAN(65,90,CODE(INDEX(_xlfn.TEXTSPLIT(MID(Feuil4!$B10,2,99)," ",,1),3)))=CODE(INDEX(_xlfn.TEXTSPLIT(MID(Feuil4!$B10,2,99)," ",,1),3))," " & INDEX(_xlfn.TEXTSPLIT(MID(Feuil4!$B10,2,99)," ",,1),3),""),""))} -> Agatha Christie
C11: =_xlfn.TEXTBEFORE(B11," ",-7) -> #VALUE! | D11: {=IF(B11="","",INDEX(_xlfn.TEXTSPLIT(MID(Feuil4!$B11,2,99)," ",,1),1) & IFERROR(" " & INDEX(_xlfn.TEXTSPLIT(MID(Feuil4!$B11,2,99)," ",,1),2),"")& IFERROR(IF(MEDIAN(65,90,CODE(INDEX(_xlfn.TEXTSPLIT(MID(Feuil4!$B11,2,99)," ",,1),3)))=CODE(INDEX(_xlfn.TEXTSPLIT(MID(Feuil4!$B11,2,99)," ",,1),3))," " & INDEX(_xlfn.TEXTSPLIT(MID(Feuil4!$B11,2,99)," ",,1),3),""),""))}
A12: Sphinx | B12: Robin Cook (USA) fif 1979 0 2 votes lal 85/10 | C12: =_xlfn.TEXTBEFORE(B12," ",-7) -> Robin Cook (USA) | D12: {=IF(B12="","",INDEX(_xlfn.TEXTSPLIT(MID(Feuil4!$B12,2,99)," ",,1),1) & IFERROR(" " & INDEX(_xlfn.TEXTSPLIT(MID(Feuil4!$B12,2,99)," ",,1),2),"")& IFERROR(IF(MEDIAN(65,90,CODE(INDEX(_xlfn.TEXTSPLIT(MID(Feuil4!$B12,2,99)," ",,1),3)))=CODE(INDEX(_xlfn.TEXTSPLIT(MID(Feuil4!$B12,2,99)," ",,1),3))," " & INDEX(_xlfn.TEXTSPLIT(MID(Feuil4!$B12,2,99)," ",,1),3),""),""))} -> Robin Cook
C13: =_xlfn.TEXTBEFORE(B13," ",-7) -> #VALUE! | D13: {=IF(B13="","",INDEX(_xlfn.TEXTSPLIT(MID(Feuil4!$B13,2,99)," ",,1),1) & IFERROR(" " & INDEX(_xlfn.TEXTSPLIT(MID(Feuil4!$B13,2,99)," ",,1),2),"")& IFERROR(IF(MEDIAN(65,90,CODE(INDEX(_xlfn.TEXTSPLIT(MID(Feuil4!$B13,2,99)," ",,1),3)))=CODE(INDEX(_xlfn.TEXTSPLIT(MID(Feuil4!$B13,2,99)," ",,1),3))," " & INDEX(_xlfn.TEXTSPLIT(MID(Feuil4!$B13,2,99)," ",,1),3),""),""))}
A14: Le Septième papyrus | B14: Wilbur Smith M 1995 © 2 votes lil 85/10 | C14: =_xlfn.TEXTBEFORE(B14," ",-7) -> Wilbur Smith | D14: {=IF(B14="","",INDEX(_xlfn.TEXTSPLIT(MID(Feuil4!$B14,2,99)," ",,1),1) & IFERROR(" " & INDEX(_xlfn.TEXTSPLIT(MID(Feuil4!$B14,2,99)," ",,1),2),"")& IFERROR(IF(MEDIAN(65,90,CODE(INDEX(_xlfn.TEXTSPLIT(MID(Feuil4!$B14,2,99)," ",,1),3)))=CODE(INDEX(_xlfn.TEXTSPLIT(MID(Feuil4!$B14,2,99)," ",,1),3))," " & INDEX(_xlfn.TEXTSPLIT(MID(Feuil4!$B14,2,99)," ",,1),3),""),""))} -> Wilbur Smith M
C15: =_xlfn.TEXTBEFORE(B15," ",-7) -> #VALUE! | D15: {=IF(B15="","",INDEX(_xlfn.TEXTSPLIT(MID(Feuil4!$B15,2,99)," ",,1),1) & IFERROR(" " & INDEX(_xlfn.TEXTSPLIT(MID(Feuil4!$B15,2,99)," ",,1),2),"")& IFERROR(IF(MEDIAN(65,90,CODE(INDEX(_xlfn.TEXTSPLIT(MID(Feuil4!$B15,2,99)," ",,1),3)))=CODE(INDEX(_xlfn.TEXTSPLIT(MID(Feuil4!$B15,2,99)," ",,1),3))," " & INDEX(_xlfn.TEXTSPLIT(MID(Feuil4!$B15,2,99)," ",,1),3),""),""))}
A16: Le Nom de la bête | B16: Daniel Easterman m 1992 ¿ 3 votes lil 83/10 | C16: =_xlfn.TEXTBEFORE(B16," ",-7) -> Daniel Easterman | D16: {=IF(B16="","",INDEX(_xlfn.TEXTSPLIT(MID(Feuil4!$B16,2,99)," ",,1),1) & IFERROR(" " & INDEX(_xlfn.TEXTSPLIT(MID(Feuil4!$B16,2,99)," ",,1),2),"")& IFERROR(IF(MEDIAN(65,90,CODE(INDEX(_xlfn.TEXTSPLIT(MID(Feuil4!$B16,2,99)," ",,1),3)))=CODE(INDEX(_xlfn.TEXTSPLIT(MID(Feuil4!$B16,2,99)," ",,1),3))," " & INDEX(_xlfn.TEXTSPLIT(MID(Feuil4!$B16,2,99)," ",,1),3),""),""))} -> Daniel Easterman
C17: =_xlfn.TEXTBEFORE(B17," ",-7) -> #VALUE! | D17: {=IF(B17="","",INDEX(_xlfn.TEXTSPLIT(MID(Feuil4!$B17,2,99)," ",,1),1) & IFERROR(" " & INDEX(_xlfn.TEXTSPLIT(MID(Feuil4!$B17,2,99)," ",,1),2),"")& IFERROR(IF(MEDIAN(65,90,CODE(INDEX(_xlfn.TEXTSPLIT(MID(Feuil4!$B17,2,99)," ",,1),3)))=CODE(INDEX(_xlfn.TEXTSPLIT(MID(Feuil4!$B17,2,99)," ",,1),3))," " & INDEX(_xlfn.TEXTSPLIT(MID(Feuil4!$B17,2,99)," ",,1),3),""),""))}
A18: Un Crocodile sur un banc de sable | B18: Elizabeth Peters fm 1975 0 3 votes lil 83/10 | C18: =_xlfn.TEXTBEFORE(B18," ",-7) -> Elizabeth Peters | D18: {=IF(B18="","",INDEX(_xlfn.TEXTSPLIT(MID(Feuil4!$B18,2,99)," ",,1),1) & IFERROR(" " & INDEX(_xlfn.TEXTSPLIT(MID(Feuil4!$B18,2,99)," ",,1),2),"")& IFERROR(IF(MEDIAN(65,90,CODE(INDEX(_xlfn.TEXTSPLIT(MID(Feuil4!$B18,2,99)," ",,1),3)))=CODE(INDEX(_xlfn.TEXTSPLIT(MID(Feuil4!$B18,2,99)," ",,1),3))," " & INDEX(_xlfn.TEXTSPLIT(MID(Feuil4!$B18,2,99)," ",,1),3),""),""))} -> Elizabeth Peters
C19: =_xlfn.TEXTBEFORE(B19," ",-7) -> #VALUE! | D19: {=IF(B19="","",INDEX(_xlfn.TEXTSPLIT(MID(Feuil4!$B19,2,99)," ",,1),1) & IFERROR(" " & INDEX(_xlfn.TEXTSPLIT(MID(Feuil4!$B19,2,99)," ",,1),2),"")& IFERROR(IF(MEDIAN(65,90,CODE(INDEX(_xlfn.TEXTSPLIT(MID(Feuil4!$B19,2,99)," ",,1),3)))=CODE(INDEX(_xlfn.TEXTSPLIT(MID(Feuil4!$B19,2,99)," ",,1),3))," " & INDEX(_xlfn.TEXTSPLIT(MID(Feuil4!$B19,2,99)," ",,1),3),""),""))}
A20: Utopia | B20: Ahmed Khaled Towfik im 2008 ¢ 5 votes lil 82/10 | C20: =_xlfn.TEXTBEFORE(B20," ",-7) -> Ahmed Khaled Towfik | D20: {=IF(B20="","",INDEX(_xlfn.TEXTSPLIT(MID(Feuil4!$B20,2,99)," ",,1),1) & IFERROR(" " & INDEX(_xlfn.TEXTSPLIT(MID(Feuil4!$B20,2,99)," ",,1),2),"")& IFERROR(IF(MEDIAN(65,90,CODE(INDEX(_xlfn.TEXTSPLIT(MID(Feuil4!$B20,2,99)," ",,1),3)))=CODE(INDEX(_xlfn.TEXTSPLIT(MID(Feuil4!$B20,2,99)," ",,1),3))," " & INDEX(_xlfn.TEXTSPLIT(MID(Feuil4!$B20,2,99)," ",,1),3),""),""))} -> hmed Khaled Towfik
C21: =_xlfn.TEXTBEFORE(B21," ",-7) -> #VALUE! | D21: {=IF(B21="","",INDEX(_xlfn.TEXTSPLIT(MID(Feuil4!$B21,2,99)," ",,1),1) & IFERROR(" " & INDEX(_xlfn.TEXTSPLIT(MID(Feuil4!$B21,2,99)," ",,1),2),"")& IFERROR(IF(MEDIAN(65,90,CODE(INDEX(_xlfn.TEXTSPLIT(MID(Feuil4!$B21,2,99)," ",,1),3)))=CODE(INDEX(_xlfn.TEXTSPLIT(MID(Feuil4!$B21,2,99)," ",,1),3))," " & INDEX(_xlfn.TEXTSPLIT(MID(Feuil4!$B21,2,99)," ",,1),3),""),""))}
A22: Le Secret du temple | B22: Paul Sussman @ 2005 € 1 vote lil 8/10 | C22: =_xlfn.TEXTBEFORE(B22," ",-7) -> Paul Sussman | D22: {=IF(B22="","",INDEX(_xlfn.TEXTSPLIT(MID(Feuil4!$B22,2,99)," ",,1),1) & IFERROR(" " & INDEX(_xlfn.TEXTSPLIT(MID(Feuil4!$B22,2,99)," ",,1),2),"")& IFERROR(IF(MEDIAN(65,90,CODE(INDEX(_xlfn.TEXTSPLIT(MID(Feuil4!$B22,2,99)," ",,1),3)))=CODE(INDEX(_xlfn.TEXTSPLIT(MID(Feuil4!$B22,2,99)," ",,1),3))," " & INDEX(_xlfn.TEXTSPLIT(MID(Feuil4!$B22,2,99)," ",,1),3),""),""))} -> Paul Sussman
C23: =_xlfn.TEXTBEFORE(B23," ",-7) -> #VALUE! | D23: {=IF(B23="","",INDEX(_xlfn.TEXTSPLIT(MID(Feuil4!$B23,2,99)," ",,1),1) & IFERROR(" " & INDEX(_xlfn.TEXTSPLIT(MID(Feuil4!$B23,2,99)," ",,1),2),"")& IFERROR(IF(MEDIAN(65,90,CODE(INDEX(_xlfn.TEXTSPLIT(MID(Feuil4!$B23,2,99)," ",,1),3)))=CODE(INDEX(_xlfn.TEXTSPLIT(MID(Feuil4!$B23,2,99)," ",,1),3))," " & INDEX(_xlfn.TEXTSPLIT(MID(Feuil4!$B23,2,99)," ",,1),3),""),""))}
A24: La malédiction des pharaons | B24: Elizabeth Peters i'm 1981 ¢ 1 vote lil 8/10 | C24: =_xlfn.TEXTBEFORE(B24," ",-7) -> Elizabeth Peters | D24: {=IF(B24="","",INDEX(_xlfn.TEXTSPLIT(MID(Feuil4!$B24,2,99)," ",,1),1) & IFERROR(" " & INDEX(_xlfn.TEXTSPLIT(MID(Feuil4!$B24,2,99)," ",,1),2),"")& IFERROR(IF(MEDIAN(65,90,CODE(INDEX(_xlfn.TEXTSPLIT(MID(Feuil4!$B24,2,99)," ",,1),3)))=CODE(INDEX(_xlfn.TEXTSPLIT(MID(Feuil4!$B24,2,99)," ",,1),3))," " & INDEX(_xlfn.TEXTSPLIT(MID(Feuil4!$B24,2,99)," ",,1),3),""),""))} -> Elizabeth Peters
C25: =_xlfn.TEXTBEFORE(B25," ",-7) -> #VALUE! | D25: {=IF(B25="","",INDEX(_xlfn.TEXTSPLIT(MID(Feuil4!$B25,2,99)," ",,1),1) & IFERROR(" " & INDEX(_xlfn.TEXTSPLIT(MID(Feuil4!$B25,2,99)," ",,1),2),"")& IFERROR(IF(MEDIAN(65,90,CODE(INDEX(_xlfn.TEXTSPLIT(MID(Feuil4!$B25,2,99)," ",,1),3)))=CODE(INDEX(_xlfn.TEXTSPLIT(MID(Feuil4!$B25,2,99)," ",,1),3))," " & INDEX(_xlfn.TEXTSPLIT(MID(Feuil4!$B25,2,99)," ",,1),3),""),""))}
A26: Le Mystère du Sarcophage | B26: Elizabeth Peters fm 1985 € 1 vote lil 8/10 | C26: =_xlfn.TEXTBEFORE(B26," ",-7) -> Elizabeth Peters | D26: {=IF(B26="","",INDEX(_xlfn.TEXTSPLIT(MID(Feuil4!$B26,2,99)," ",,1),1) & IFERROR(" " & INDEX(_xlfn.TEXTSPLIT(MID(Feuil4!$B26,2,99)," ",,1),2),"")& IFERROR(IF(MEDIAN(65,90,CODE(INDEX(_xlfn.TEXTSPLIT(MID(Feuil4!$B26,2,99)," ",,1),3)))=CODE(INDEX(_xlfn.TEXTSPLIT(MID(Feuil4!$B26,2,99)," ",,1),3))," " & INDEX(_xlfn.TEXTSPLIT(MID(Feuil4!$B26,2,99)," ",,1),3),""),""))} -> Elizabeth Peters
C27: =_xlfn.TEXTBEFORE(B27," ",-7) -> #VALUE! | D27: {=IF(B27="","",INDEX(_xlfn.TEXTSPLIT(MID(Feuil4!$B27,2,99)," ",,1),1) & IFERROR(" " & INDEX(_xlfn.TEXTSPLIT(MID(Feuil4!$B27,2,99)," ",,1),2),"")& IFERROR(IF(MEDIAN(65,90,CODE(INDEX(_xlfn.TEXTSPLIT(MID(Feuil4!$B27,2,99)," ",,1),3)))=CODE(INDEX(_xlfn.TEXTSPLIT(MID(Feuil4!$B27,2,99)," ",,1),3))," " & INDEX(_xlfn.TEXTSPLIT(MID(Feuil4!$B27,2,99)," ",,1),3),""),""))}
A28: L'Ombre de Sethos | B28: Elizabeth Peters f 1986 © 1 vote lil 8/10 | C28: =_xlfn.TEXTBEFORE(B28," ",-7) -> Elizabeth Peters | D28: {=IF(B28="","",INDEX(_xlfn.TEXTSPLIT(MID(Feuil4!$B28,2,99)," ",,1),1) & IFERROR(" " & INDEX(_xlfn.TEXTSPLIT(MID(Feuil4!$B28,2,99)," ",,1),2),"")& IFERROR(IF(MEDIAN(65,90,CODE(INDEX(_xlfn.TEXTSPLIT(MID(Feuil4!$B28,2,99)," ",,1),3)))=CODE(INDEX(_xlfn.TEXTSPLIT(MID(Feuil4!$B28,2,99)," ",,1),3))," " & INDEX(_xlfn.TEXTSPLIT(MID(Feuil4!$B28,2,99)," ",,1),3),""),""))} -> Elizabeth Peters
C29: =_xlfn.TEXTBEFORE(B29," ",-7) -> #VALUE! | D29: {=IF(B29="","",INDEX(_xlfn.TEXTSPLIT(MID(Feuil4!$B29,2,99)," ",,1),1) & IFERROR(" " & INDEX(_xlfn.TEXTSPLIT(MID(Feuil4!$B29,2,99)," ",,1),2),"")& IFERROR(IF(MEDIAN(65,90,CODE(INDEX(_xlfn.TEXTSPLIT(MID(Feuil4!$B29,2,99)," ",,1),3)))=CODE(INDEX(_xlfn.TEXTSPLIT(MID(Feuil4!$B29,2,99)," ",,1),3))," " & INDEX(_xlfn.TEXTSPLIT(MID(Feuil4!$B29,2,99)," ",,1),3),""),""))}
A30: La Onzième plaie d'Egypte | B30: Elizabeth Peters fm 1988 C 1 vote lil 8/10 | C30: =_xlfn.TEXTBEFORE(B30," ",-7) -> Elizabeth Peters | D30: {=IF(B30="","",INDEX(_xlfn.TEXTSPLIT(MID(Feuil4!$B30,2,99)," ",,1),1) & IFERROR(" " & INDEX(_xlfn.TEXTSPLIT(MID(Feuil4!$B30,2,99)," ",,1),2),"")& IFERROR(IF(MEDIAN(65,90,CODE(INDEX(_xlfn.TEXTSPLIT(MID(Feuil4!$B30,2,99)," ",,1),3)))=CODE(INDEX(_xlfn.TEXTSPLIT(MID(Feuil4!$B30,2,99)," ",,1),3))," " & INDEX(_xlfn.TEXTSPLIT(MID(Feuil4!$B30,2,99)," ",,1),3),""),""))} -> Elizabeth Peters
C31: =_xlfn.TEXTBEFORE(B31," ",-7) -> #VALUE! | D31: {=IF(B31="","",INDEX(_xlfn.TEXTSPLIT(MID(Feuil4!$B31,2,99)," ",,1),1) & IFERROR(" " & INDEX(_xlfn.TEXTSPLIT(MID(Feuil4!$B31,2,99)," ",,1),2),"")& IFERROR(IF(MEDIAN(65,90,CODE(INDEX(_xlfn.TEXTSPLIT(MID(Feuil4!$B31,2,99)," ",,1),3)))=CODE(INDEX(_xlfn.TEXTSPLIT(MID(Feuil4!$B31,2,99)," ",,1),3))," " & INDEX(_xlfn.TEXTSPLIT(MID(Feuil4!$B31,2,99)," ",,1),3),""),""))}
A32: Le Secret d'Amon-Râ | B32: Elizabeth Peters 09 1991 3 1 vote lil 8/10 | C32: =_xlfn.TEXTBEFORE(B32," ",-7) -> Elizabeth Peters | D32: {=IF(B32="","",INDEX(_xlfn.TEXTSPLIT(MID(Feuil4!$B32,2,99)," ",,1),1) & IFERROR(" " & INDEX(_xlfn.TEXTSPLIT(MID(Feuil4!$B32,2,99)," ",,1),2),"")& IFERROR(IF(MEDIAN(65,90,CODE(INDEX(_xlfn.TEXTSPLIT(MID(Feuil4!$B32,2,99)," ",,1),3)))=CODE(INDEX(_xlfn.TEXTSPLIT(MID(Feuil4!$B32,2,99)," ",,1),3))," " & INDEX(_xlfn.TEXTSPLIT(MID(Feuil4!$B32,2,99)," ",,1),3),""),""))} -> lizabeth Peters
C33: =_xlfn.TEXTBEFORE(B33," ",-7) -> #VALUE! | D33: {=IF(B33="","",INDEX(_xlfn.TEXTSPLIT(MID(Feuil4!$B33,2,99)," ",,1),1) & IFERROR(" " & INDEX(_xlfn.TEXTSPLIT(MID(Feuil4!$B33,2,99)," ",,1),2),"")& IFERROR(IF(MEDIAN(65,90,CODE(INDEX(_xlfn.TEXTSPLIT(MID(Feuil4!$B33,2,99)," ",,1),3)))=CODE(INDEX(_xlfn.TEXTSPLIT(MID(Feuil4!$B33,2,99)," ",,1),3))," " & INDEX(_xlfn.TEXTSPLIT(MID(Feuil4!$B33,2,99)," ",,1),3),""),""))}
A34: Le Maître d'Anubis | B34: Elizabeth Peters fm 1992 c 1 vote lil 8/10 | C34: =_xlfn.TEXTBEFORE(B34," ",-7) -> Elizabeth Peters | D34: {=IF(B34="","",INDEX(_xlfn.TEXTSPLIT(MID(Feuil4!$B34,2,99)," ",,1),1) & IFERROR(" " & INDEX(_xlfn.TEXTSPLIT(MID(Feuil4!$B34,2,99)," ",,1),2),"")& IFERROR(IF(MEDIAN(65,90,CODE(INDEX(_xlfn.TEXTSPLIT(MID(Feuil4!$B34,2,99)," ",,1),3)))=CODE(INDEX(_xlfn.TEXTSPLIT(MID(Feuil4!$B34,2,99)," ",,1),3))," " & INDEX(_xlfn.TEXTSPLIT(MID(Feuil4!$B34,2,99)," ",,1),3),""),""))} -> Elizabeth Peters
C35: =_xlfn.TEXTBEFORE(B35," ",-7) -> #VALUE! | D35: {=IF(B35="","",INDEX(_xlfn.TEXTSPLIT(MID(Feuil4!$B35,2,99)," ",,1),1) & IFERROR(" " & INDEX(_xlfn.TEXTSPLIT(MID(Feuil4!$B35,2,99)," ",,1),2),"")& IFERROR(IF(MEDIAN(65,90,CODE(INDEX(_xlfn.TEXTSPLIT(MID(Feuil4!$B35,2,99)," ",,1),3)))=CODE(INDEX(_xlfn.TEXTSPLIT(MID(Feuil4!$B35,2,99)," ",,1),3))," " & INDEX(_xlfn.TEXTSPLIT(MID(Feuil4!$B35,2,99)," ",,1),3),""),""))}
A36: La Déesse Hippopotame | B36: Elizabeth Peters ( 1996 © 1 vote lil 8/10 | C36: =_xlfn.TEXTBEFORE(B36," ",-7) -> Elizabeth Peters | D36: {=IF(B36="","",INDEX(_xlfn.TEXTSPLIT(MID(Feuil4!$B36,2,99)," ",,1),1) & IFERROR(" " & INDEX(_xlfn.TEXTSPLIT(MID(Feuil4!$B36,2,99)," ",,1),2),"")& IFERROR(IF(MEDIAN(65,90,CODE(INDEX(_xlfn.TEXTSPLIT(MID(Feuil4!$B36,2,99)," ",,1),3)))=CODE(INDEX(_xlfn.TEXTSPLIT(MID(Feuil4!$B36,2,99)," ",,1),3))," " & INDEX(_xlfn.TEXTSPLIT(MID(Feuil4!$B36,2,99)," ",,1),3),""),""))} -> Elizabeth Peters
C37: =_xlfn.TEXTBEFORE(B37," ",-7) -> #VALUE! | D37: {=IF(B37="","",INDEX(_xlfn.TEXTSPLIT(MID(Feuil4!$B37,2,99)," ",,1),1) & IFERROR(" " & INDEX(_xlfn.TEXTSPLIT(MID(Feuil4!$B37,2,99)," ",,1),2),"")& IFERROR(IF(MEDIAN(65,90,CODE(INDEX(_xlfn.TEXTSPLIT(MID(Feuil4!$B37,2,99)," ",,1),3)))=CODE(INDEX(_xlfn.TEXTSPLIT(MID(Feuil4!$B37,2,99)," ",,1),3))," " & INDEX(_xlfn.TEXTSPLIT(MID(Feuil4!$B37,2,99)," ",,1),3),""),""))}
A38: L'Enigme de la momie blonde | B38: Elizabeth Peters fm 1997 0 1 vote lil 8/10 | C38: =_xlfn.TEXTBEFORE(B38," ",-7) -> Elizabeth Peters | D38: {=IF(B38="","",INDEX(_xlfn.TEXTSPLIT(MID(Feuil4!$B38,2,99)," ",,1),1) & IFERROR(" " & INDEX(_xlfn.TEXTSPLIT(MID(Feuil4!$B38,2,99)," ",,1),2),"")& IFERROR(IF(MEDIAN(65,90,CODE(INDEX(_xlfn.TEXTSPLIT(MID(Feuil4!$B38,2,99)," ",,1),3)))=CODE(INDEX(_xlfn.TEXTSPLIT(MID(Feuil4!$B38,2,99)," ",,1),3))," " & INDEX(_xlfn.TEXTSPLIT(MID(Feuil4!$B38,2,99)," ",,1),3),""),""))} -> lizabeth Peters
C39: =_xlfn.TEXTBEFORE(B39," ",-7) -> #VALUE! | D39: {=IF(B39="","",INDEX(_xlfn.TEXTSPLIT(MID(Feuil4!$B39,2,99)," ",,1),1) & IFERROR(" " & INDEX(_xlfn.TEXTSPLIT(MID(Feuil4!$B39,2,99)," ",,1),2),"")& IFERROR(IF(MEDIAN(65,90,CODE(INDEX(_xlfn.TEXTSPLIT(MID(Feuil4!$B39,2,99)," ",,1),3)))=CODE(INDEX(_xlfn.TEXTSPLIT(MID(Feuil4!$B39,2,99)," ",,1),3))," " & INDEX(_xlfn.TEXTSPLIT(MID(Feuil4!$B39,2,99)," ",,1),3),""),""))}
A40: Le Papyrus de Thot | B40: Elizabeth Peters A 1998 3 1 vote lil | C40: =_xlfn.TEXTBEFORE(B40," ",-6) -> Elizabeth Peters | D40: {=IF(B40="","",INDEX(_xlfn.TEXTSPLIT(MID(Feuil4!$B40,2,99)," ",,1),1) & IFERROR(" " & INDEX(_xlfn.TEXTSPLIT(MID(Feuil4!$B40,2,99)," ",,1),2),"")& IFERROR(IF(MEDIAN(65,90,CODE(INDEX(_xlfn.TEXTSPLIT(MID(Feuil4!$B40,2,99)," ",,1),3)))=CODE(INDEX(_xlfn.TEXTSPLIT(MID(Feuil4!$B40,2,99)," ",,1),3))," " & INDEX(_xlfn.TEXTSPLIT(MID(Feuil4!$B40,2,99)," ",,1),3),""),""))} -> lizabeth Peters A
...
