Workbook

Sheet Feuil1
A1: Reception | B1: Ref Ext | C1: LOCALISATION | D1: Commune | E1: IDENTIFIANT RUE | F1: Codification | G1: Cpt Adresse | H1: Chantier | I1: Type Bi | J1: le premier
A2: 45056 | C2: =VLOOKUP(D2,[1]BDD!A:B,2,FALSE) -> MARLY | D2: BEUVRAGES | E2: RUE VICTOR HUGO | H2: CH-CKE-776187 | I2: Rééquilibrage | J2: =N(COUNTIFS($C$1:$C2,Feuil1!$C2,$H$1:$H2,Feuil1!$H2,$I$1:$I2,Feuil1!$I2)=1) -> 1 | L2: Unieke telling van Chantier
A3: 45056 | C3: =VLOOKUP(D3,[1]BDD!A:B,2,FALSE) -> MARLY | D3: BEUVRAGES | E3: RUE VICTOR HUGO | H3: CH-CKE-776187 | I3: Rééquilibrage | J3: =N(COUNTIFS($C$1:$C3,Feuil1!$C3,$H$1:$H3,Feuil1!$H3,$I$1:$I3,Feuil1!$I3)=1) -> 0 | L3: LOCALISATION | M3: Totaal | O3: Rééquilibrage | P3: Réglage Prise | Q3: total
A4: 45056 | C4: =VLOOKUP(D4,[1]BDD!A:B,2,FALSE) -> MARLY | D4: BEUVRAGES | E4: RUE DES NATIONS | H4: CH-CKE-777753 | I4: Réglage Prise | J4: =N(COUNTIFS($C$1:$C4,Feuil1!$C4,$H$1:$H4,Feuil1!$H4,$I$1:$I4,Feuil1!$I4)=1) -> 1 | L4: CAMBRAI | M4: 4 | O4: =IF(LEN($L4),SUMIFS(Feuil1!$J$2:$J$18,Feuil1!$C$2:$C$18,$L4,Feuil1!$I$2:$I$18,O$3),"") -> 4 | P4: =IF(LEN($L4),SUMIFS(Feuil1!$J$2:$J$18,Feuil1!$C$2:$C$18,$L4,Feuil1!$I$2:$I$18,P$3),"") -> 1 | Q4: =IF(LEN($L4),+P4+O4,"") -> 5
A5: 45056 | C5: =VLOOKUP(D5,[1]BDD!A:B,2,FALSE) -> MARLY | D5: BEUVRAGES | E5: RUE DES NATIONS | H5: CH-CKE-777753 | I5: Rééquilibrage | J5: =N(COUNTIFS($C$1:$C5,Feuil1!$C5,$H$1:$H5,Feuil1!$H5,$I$1:$I5,Feuil1!$I5)=1) -> 1 | L5: MARLY | M5: 2 | O5: =IF(LEN($L5),SUMIFS(Feuil1!$J$2:$J$18,Feuil1!$C$2:$C$18,$L5,Feuil1!$I$2:$I$18,O$3),"") -> 2 | P5: =IF(LEN($L5),SUMIFS(Feuil1!$J$2:$J$18,Feuil1!$C$2:$C$18,$L5,Feuil1!$I$2:$I$18,P$3),"") -> 1 | Q5: =IF(LEN($L5),+P5+O5,"") -> 3
A6: 45056 | C6: =VLOOKUP(D6,[1]BDD!A:B,2,FALSE) -> MARLY | D6: BEUVRAGES | E6: RUE DES NATIONS | H6: CH-CKE-777753 | I6: Rééquilibrage | J6: =N(COUNTIFS($C$1:$C6,Feuil1!$C6,$H$1:$H6,Feuil1!$H6,$I$1:$I6,Feuil1!$I6)=1) -> 0 | O6: =IF(LEN($L6),SUMIFS(Feuil1!$J$2:$J$18,Feuil1!$C$2:$C$18,$L6,Feuil1!$I$2:$I$18,O$3),"") | P6: =IF(LEN($L6),SUMIFS(Feuil1!$J$2:$J$18,Feuil1!$C$2:$C$18,$L6,Feuil1!$I$2:$I$18,P$3),"") | Q6: =IF(LEN($L6),+P6+O6,"")
A7: 45056 | C7: =VLOOKUP(D7,[1]BDD!A:B,2,FALSE) -> MARLY | D7: BEUVRAGES | E7: RUE DES NATIONS | H7: CH-CKE-777753 | I7: Rééquilibrage | J7: =N(COUNTIFS($C$1:$C7,Feuil1!$C7,$H$1:$H7,Feuil1!$H7,$I$1:$I7,Feuil1!$I7)=1) -> 0 | O7: =IF(LEN($L7),SUMIFS(Feuil1!$J$2:$J$18,Feuil1!$C$2:$C$18,$L7,Feuil1!$I$2:$I$18,O$3),"") | P7: =IF(LEN($L7),SUMIFS(Feuil1!$J$2:$J$18,Feuil1!$C$2:$C$18,$L7,Feuil1!$I$2:$I$18,P$3),"") | Q7: =IF(LEN($L7),+P7+O7,"")
A8: 45056 | C8: =VLOOKUP(D8,[1]BDD!A:B,2,FALSE) -> MARLY | D8: BEUVRAGES | E8: RUE DES NATIONS | H8: CH-CKE-777753 | I8: Rééquilibrage | J8: =N(COUNTIFS($C$1:$C8,Feuil1!$C8,$H$1:$H8,Feuil1!$H8,$I$1:$I8,Feuil1!$I8)=1) -> 0 | O8: =IF(LEN($L8),SUMIFS(Feuil1!$J$2:$J$18,Feuil1!$C$2:$C$18,$L8,Feuil1!$I$2:$I$18,O$3),"") | P8: =IF(LEN($L8),SUMIFS(Feuil1!$J$2:$J$18,Feuil1!$C$2:$C$18,$L8,Feuil1!$I$2:$I$18,P$3),"") | Q8: =IF(LEN($L8),+P8+O8,"")
A9: 45056 | C9: =VLOOKUP(D9,[1]BDD!A:B,2,FALSE) -> MARLY | D9: BEUVRAGES | E9: RUE DES NATIONS | H9: CH-CKE-777753 | I9: Rééquilibrage | J9: =N(COUNTIFS($C$1:$C9,Feuil1!$C9,$H$1:$H9,Feuil1!$H9,$I$1:$I9,Feuil1!$I9)=1) -> 0 | O9: =IF(LEN($L9),SUMIFS(Feuil1!$J$2:$J$18,Feuil1!$C$2:$C$18,$L9,Feuil1!$I$2:$I$18,O$3),"") | P9: =IF(LEN($L9),SUMIFS(Feuil1!$J$2:$J$18,Feuil1!$C$2:$C$18,$L9,Feuil1!$I$2:$I$18,P$3),"") | Q9: =IF(LEN($L9),+P9+O9,"")
A10: 45056 | C10: CAMBRAI | D10: BEUVRAGES | E10: RUE DES NATIONS | H10: CH-CKE-777753 | I10: Rééquilibrage | J10: =N(COUNTIFS($C$1:$C10,Feuil1!$C10,$H$1:$H10,Feuil1!$H10,$I$1:$I10,Feuil1!$I10)=1) -> 1 | O10: =IF(LEN($L10),SUMIFS(Feuil1!$J$2:$J$18,Feuil1!$C$2:$C$18,$L10,Feuil1!$I$2:$I$18,O$3),"") | P10: =IF(LEN($L10),SUMIFS(Feuil1!$J$2:$J$18,Feuil1!$C$2:$C$18,$L10,Feuil1!$I$2:$I$18,P$3),"") | Q10: =IF(LEN($L10),+P10+O10,"")
A11: 45056 | C11: CAMBRAI | D11: VALENCIENNES | E11: ATELIER 45KV | H11: CH-CKE-776295 | I11: Rééquilibrage | J11: =N(COUNTIFS($C$1:$C11,Feuil1!$C11,$H$1:$H11,Feuil1!$H11,$I$1:$I11,Feuil1!$I11)=1) -> 1 | Q11: =IF(LEN($L11),+P11+O11,"")
A12: 45056 | C12: CAMBRAI | D12: VALENCIENNES | E12: ATELIER 45KV | H12: CH-CKE-776295 | I12: Rééquilibrage | J12: =N(COUNTIFS($C$1:$C12,Feuil1!$C12,$H$1:$H12,Feuil1!$H12,$I$1:$I12,Feuil1!$I12)=1) -> 0
A13: 45056 | C13: CAMBRAI | D13: VALENCIENNES | E13: ATELIER 45KV | H13: CH-CKE-776295 | I13: Rééquilibrage | J13: =N(COUNTIFS($C$1:$C13,Feuil1!$C13,$H$1:$H13,Feuil1!$H13,$I$1:$I13,Feuil1!$I13)=1) -> 0
A14: 45056 | C14: CAMBRAI | D14: VALENCIENNES | E14: OP DAMPIERRE 2 | H14: CH-CKE-776334 | I14: Rééquilibrage | J14: =N(COUNTIFS($C$1:$C14,Feuil1!$C14,$H$1:$H14,Feuil1!$H14,$I$1:$I14,Feuil1!$I14)=1) -> 1
A15: 45056 | C15: CAMBRAI | D15: VALENCIENNES | E15: OP DAMPIERRE 2 | H15: CH-CKE-776334 | I15: Rééquilibrage | J15: =N(COUNTIFS($C$1:$C15,Feuil1!$C15,$H$1:$H15,Feuil1!$H15,$I$1:$I15,Feuil1!$I15)=1) -> 0
A16: 45056 | C16: CAMBRAI | D16: VALENCIENNES | E16: OP DAMPIERRE 2 | H16: CH-CKE-776334 | I16: Rééquilibrage | J16: =N(COUNTIFS($C$1:$C16,Feuil1!$C16,$H$1:$H16,Feuil1!$H16,$I$1:$I16,Feuil1!$I16)=1) -> 0
A17: 45056 | C17: CAMBRAI | D17: HERIN | E17: BLANC RIEUX | H17: CH-CKE-778115 | I17: Réglage Prise | J17: =N(COUNTIFS($C$1:$C17,Feuil1!$C17,$H$1:$H17,Feuil1!$H17,$I$1:$I17,Feuil1!$I17)=1) -> 1
A18: 45056 | C18: CAMBRAI | D18: HERIN | E18: BLANC RIEUX | H18: CH-CKE-778115 | I18: Rééquilibrage | J18: =N(COUNTIFS($C$1:$C18,Feuil1!$C18,$H$1:$H18,Feuil1!$H18,$I$1:$I18,Feuil1!$I18)=1) -> 1
