Workbook
Name lidte_reference: listederoulante!$B$2:$B$12
Name Liste: OFFSET(listederoulante!$C$2,,,COUNTIF(listederoulante!$C$2:$C$12,"<>-"),)

Sheet recherche
D2: 000315
D3: {=IF(ROW()-2<=ROWS(Liste),INDEX(Liste,ROW()-2),"")} -> 0003150 BAR | F3: je souhaite que la saisi se fasse en semi automatique en D3, des les 1ers caracteres que l'on ecrit et qu'une liste "deroulante " diminue au fur et a mesure que l'on ecrit..
D4: {=IF(ROW()-2<=ROWS(Liste),INDEX(Liste,ROW()-2),"")} -> 0003150 TAI
D5: {=IF(ROW()-2<=ROWS(Liste),INDEX(Liste,ROW()-2),"")} -> 0003152B TA
D6: {=IF(ROW()-2<=ROWS(Liste),INDEX(Liste,ROW()-2),"")} -> 0003153B TA | F6: pas tres clair mais j'espere que vous comprendrez.
D7: {=IF(ROW()-2<=ROWS(Liste),INDEX(Liste,ROW()-2),"")}
D8: {=IF(ROW()-2<=ROWS(Liste),INDEX(Liste,ROW()-2),"")}
D9: {=IF(ROW()-2<=ROWS(Liste),INDEX(Liste,ROW()-2),"")}
D10: {=IF(ROW()-2<=ROWS(Liste),INDEX(Liste,ROW()-2),"")}
D11: {=IF(ROW()-2<=ROWS(Liste),INDEX(Liste,ROW()-2),"")}
D12: {=IF(ROW()-2<=ROWS(Liste),INDEX(Liste,ROW()-2),"")}
D13: {=IF(ROW()-2<=ROWS(Liste),INDEX(Liste,ROW()-2),"")}
D14: {=IF(ROW()-2<=ROWS(Liste),INDEX(Liste,ROW()-2),"")}
D15: {=IF(ROW()-2<=ROWS(Liste),INDEX(Liste,ROW()-2),"")}
D16: {=IF(ROW()-2<=ROWS(Liste),INDEX(Liste,ROW()-2),"")}
D17: {=IF(ROW()-2<=ROWS(Liste),INDEX(Liste,ROW()-2),"")}

Sheet listederoulante
B2: 0002053 FO | C2: {=IFERROR(INDEX(B:B,_xlfn.AGGREGATE(15,6,ROW(lidte_reference)/(LEFT(lidte_reference,LEN(recherche!$D$2))=recherche!$D$2),ROW()-1)),"-")} -> 0003150 BAR
B3: vb03153B TA | C3: {=IFERROR(INDEX(B:B,_xlfn.AGGREGATE(15,6,ROW(lidte_reference)/(LEFT(lidte_reference,LEN(recherche!$D$2))=recherche!$D$2),ROW()-1)),"-")} -> 0003150 TAI
B4: 0003133B TA | C4: {=IFERROR(INDEX(B:B,_xlfn.AGGREGATE(15,6,ROW(lidte_reference)/(LEFT(lidte_reference,LEN(recherche!$D$2))=recherche!$D$2),ROW()-1)),"-")} -> 0003152B TA
B5: 0003149 TAI | C5: {=IFERROR(INDEX(B:B,_xlfn.AGGREGATE(15,6,ROW(lidte_reference)/(LEFT(lidte_reference,LEN(recherche!$D$2))=recherche!$D$2),ROW()-1)),"-")} -> 0003153B TA
B6: 0003149A BA | C6: {=IFERROR(INDEX(B:B,_xlfn.AGGREGATE(15,6,ROW(lidte_reference)/(LEFT(lidte_reference,LEN(recherche!$D$2))=recherche!$D$2),ROW()-1)),"-")} -> -
B7: 0003150 BAR | C7: {=IFERROR(INDEX(B:B,_xlfn.AGGREGATE(15,6,ROW(lidte_reference)/(LEFT(lidte_reference,LEN(recherche!$D$2))=recherche!$D$2),ROW()-1)),"-")} -> -
B8: 0003150 TAI | C8: {=IFERROR(INDEX(B:B,_xlfn.AGGREGATE(15,6,ROW(lidte_reference)/(LEFT(lidte_reference,LEN(recherche!$D$2))=recherche!$D$2),ROW()-1)),"-")} -> -
B9: 0003152B TA | C9: {=IFERROR(INDEX(B:B,_xlfn.AGGREGATE(15,6,ROW(lidte_reference)/(LEFT(lidte_reference,LEN(recherche!$D$2))=recherche!$D$2),ROW()-1)),"-")} -> -
B10: 0003153B TA | C10: {=IFERROR(INDEX(B:B,_xlfn.AGGREGATE(15,6,ROW(lidte_reference)/(LEFT(lidte_reference,LEN(recherche!$D$2))=recherche!$D$2),ROW()-1)),"-")} -> -
B11: 0tr003153B TA | C11: {=IFERROR(INDEX(B:B,_xlfn.AGGREGATE(15,6,ROW(lidte_reference)/(LEFT(lidte_reference,LEN(recherche!$D$2))=recherche!$D$2),ROW()-1)),"-")} -> -
B12: 0017001 OPE | C12: {=IFERROR(INDEX(B:B,_xlfn.AGGREGATE(15,6,ROW(lidte_reference)/(LEFT(lidte_reference,LEN(recherche!$D$2))=recherche!$D$2),ROW()-1)),"-")} -> -
