Workbook

Sheet EXTRACTION
A1: EQUIPEMENT | B1: DUREE ARRET | C1: NB INTER | D1: DEBUT REEL | E1: SEMAINE | F1: ZONE | I1: semaine | J1: zone | K1: machine | L1: Nombre | M1: Durée | N1: ouverture | O1: MTBF
A2: machine 6 | B2: 0 | C2: 1 | D2: 44937 | E2: =+WEEKNUM(D2,21) -> 2 | F2: 1 | I2: {=_xlfn.UNIQUE(INDEX(_xlfn.SORTBY(Tabel1[#All],Tabel1[[#All],[SEMAINE]],1,Tabel1[[#All],[ZONE]],1,Tabel1[[#All],[SEMAINE]],1,Tabel1[[#All],[EQUIPEMENT]],1),_xlfn.SEQUENCE(ROWS(Tabel1[]),1),TRANSPOSE({5;6;1})))} -> 1 | J2: 1 | K2: machine 1 | L2: =SUMIFS(Tabel1[NB INTER],Tabel1[EQUIPEMENT],K2,Tabel1[SEMAINE],I2,Tabel1[DUREE ARRET],"<>0") -> 1 | M2: =SUMIFS(Tabel1[DUREE ARRET],Tabel1[EQUIPEMENT],K2,Tabel1[SEMAINE],I2,Tabel1[DUREE ARRET],"<>0") -> 3 | N2: {=INDEX('TO OUVERTURE HEURE'!$A$1:$D$13,MATCH(EXTRACTION!I2,'TO OUVERTURE HEURE'!$A$1:$A$13,0),J2+1)} -> 111.66667 | O2: =+IFERROR((N2-M2)/L2,"Err") -> 108.66667
A3: machine 4 | B3: 1 | C3: 1 | D3: 44935 | E3: =+WEEKNUM(D3,21) -> 2 | F3: 1 | I3: 1 | J3: 1 | K3: machine 2 | L3: =SUMIFS(Tabel1[NB INTER],Tabel1[EQUIPEMENT],K3,Tabel1[SEMAINE],I3,Tabel1[DUREE ARRET],"<>0") -> 2 | M3: =SUMIFS(Tabel1[DUREE ARRET],Tabel1[EQUIPEMENT],K3,Tabel1[SEMAINE],I3,Tabel1[DUREE ARRET],"<>0") -> 6 | N3: {=INDEX('TO OUVERTURE HEURE'!$A$1:$D$13,MATCH(EXTRACTION!I3,'TO OUVERTURE HEURE'!$A$1:$A$13,0),J3+1)} -> 111.66667 | O3: =+IFERROR((N3-M3)/L3,"Err") -> 52.833333
A4: machine 5 | B4: 1 | C4: 1 | D4: 44936 | E4: =+WEEKNUM(D4,21) -> 2 | F4: 1 | I4: 1 | J4: 1 | K4: machine 3 | L4: =SUMIFS(Tabel1[NB INTER],Tabel1[EQUIPEMENT],K4,Tabel1[SEMAINE],I4,Tabel1[DUREE ARRET],"<>0") -> 1 | M4: =SUMIFS(Tabel1[DUREE ARRET],Tabel1[EQUIPEMENT],K4,Tabel1[SEMAINE],I4,Tabel1[DUREE ARRET],"<>0") -> 5 | N4: {=INDEX('TO OUVERTURE HEURE'!$A$1:$D$13,MATCH(EXTRACTION!I4,'TO OUVERTURE HEURE'!$A$1:$A$13,0),J4+1)} -> 111.66667 | O4: =+IFERROR((N4-M4)/L4,"Err") -> 106.66667
A5: machine 9 | B5: 1 | C5: 1 | D5: 44941 | E5: =+WEEKNUM(D5,21) -> 2 | F5: 1 | I5: 2 | J5: 1 | K5: machine 4 | L5: =SUMIFS(Tabel1[NB INTER],Tabel1[EQUIPEMENT],K5,Tabel1[SEMAINE],I5,Tabel1[DUREE ARRET],"<>0") -> 2 | M5: =SUMIFS(Tabel1[DUREE ARRET],Tabel1[EQUIPEMENT],K5,Tabel1[SEMAINE],I5,Tabel1[DUREE ARRET],"<>0") -> 4 | N5: {=INDEX('TO OUVERTURE HEURE'!$A$1:$D$13,MATCH(EXTRACTION!I5,'TO OUVERTURE HEURE'!$A$1:$A$13,0),J5+1)} -> 109.66667 | O5: =+IFERROR((N5-M5)/L5,"Err") -> 52.833333
A6: machine 10 | B6: 2 | C6: 1 | D6: 44942 | E6: =+WEEKNUM(D6,21) -> 3 | F6: 1 | I6: 2 | J6: 1 | K6: machine 5 | L6: =SUMIFS(Tabel1[NB INTER],Tabel1[EQUIPEMENT],K6,Tabel1[SEMAINE],I6,Tabel1[DUREE ARRET],"<>0") -> 1 | M6: =SUMIFS(Tabel1[DUREE ARRET],Tabel1[EQUIPEMENT],K6,Tabel1[SEMAINE],I6,Tabel1[DUREE ARRET],"<>0") -> 1 | N6: {=INDEX('TO OUVERTURE HEURE'!$A$1:$D$13,MATCH(EXTRACTION!I6,'TO OUVERTURE HEURE'!$A$1:$A$13,0),J6+1)} -> 109.66667 | O6: =+IFERROR((N6-M6)/L6,"Err") -> 108.66667
A7: machine 2 | B7: 2 | C7: 1 | D7: 44933 | E7: =+WEEKNUM(D7,21) -> 1 | F7: 1 | I7: 2 | J7: 1 | K7: machine 6 | L7: =SUMIFS(Tabel1[NB INTER],Tabel1[EQUIPEMENT],K7,Tabel1[SEMAINE],I7,Tabel1[DUREE ARRET],"<>0") -> 0 | M7: =SUMIFS(Tabel1[DUREE ARRET],Tabel1[EQUIPEMENT],K7,Tabel1[SEMAINE],I7,Tabel1[DUREE ARRET],"<>0") -> 0 | N7: {=INDEX('TO OUVERTURE HEURE'!$A$1:$D$13,MATCH(EXTRACTION!I7,'TO OUVERTURE HEURE'!$A$1:$A$13,0),J7+1)} -> 109.66667 | O7: =+IFERROR((N7-M7)/L7,"Err") -> Err
A8: machine 7 | B8: 2 | C8: 1 | D8: 44938 | E8: =+WEEKNUM(D8,21) -> 2 | F8: 1 | I8: 2 | J8: 1 | K8: machine 7 | L8: =SUMIFS(Tabel1[NB INTER],Tabel1[EQUIPEMENT],K8,Tabel1[SEMAINE],I8,Tabel1[DUREE ARRET],"<>0") -> 1 | M8: =SUMIFS(Tabel1[DUREE ARRET],Tabel1[EQUIPEMENT],K8,Tabel1[SEMAINE],I8,Tabel1[DUREE ARRET],"<>0") -> 2 | N8: {=INDEX('TO OUVERTURE HEURE'!$A$1:$D$13,MATCH(EXTRACTION!I8,'TO OUVERTURE HEURE'!$A$1:$A$13,0),J8+1)} -> 109.66667 | O8: =+IFERROR((N8-M8)/L8,"Err") -> 107.66667
A9: machine 8 | B9: 2 | C9: 1 | D9: 44945 | E9: =+WEEKNUM(D9,21) -> 3 | F9: 1 | I9: 2 | J9: 1 | K9: machine 8 | L9: =SUMIFS(Tabel1[NB INTER],Tabel1[EQUIPEMENT],K9,Tabel1[SEMAINE],I9,Tabel1[DUREE ARRET],"<>0") -> 1 | M9: =SUMIFS(Tabel1[DUREE ARRET],Tabel1[EQUIPEMENT],K9,Tabel1[SEMAINE],I9,Tabel1[DUREE ARRET],"<>0") -> 4 | N9: {=INDEX('TO OUVERTURE HEURE'!$A$1:$D$13,MATCH(EXTRACTION!I9,'TO OUVERTURE HEURE'!$A$1:$A$13,0),J9+1)} -> 109.66667 | O9: =+IFERROR((N9-M9)/L9,"Err") -> 105.66667
A10: machine 1 | B10: 3 | C10: 1 | D10: 44932 | E10: =+WEEKNUM(D10,21) -> 1 | F10: 1 | I10: 2 | J10: 1 | K10: machine 9 | L10: =SUMIFS(Tabel1[NB INTER],Tabel1[EQUIPEMENT],K10,Tabel1[SEMAINE],I10,Tabel1[DUREE ARRET],"<>0") -> 1 | M10: =SUMIFS(Tabel1[DUREE ARRET],Tabel1[EQUIPEMENT],K10,Tabel1[SEMAINE],I10,Tabel1[DUREE ARRET],"<>0") -> 1 | N10: {=INDEX('TO OUVERTURE HEURE'!$A$1:$D$13,MATCH(EXTRACTION!I10,'TO OUVERTURE HEURE'!$A$1:$A$13,0),J10+1)} -> 109.66667 | O10: =+IFERROR((N10-M10)/L10,"Err") -> 108.66667
A11: machine 4 | B11: 3 | C11: 1 | D11: 44940 | E11: =+WEEKNUM(D11,21) -> 2 | F11: 1 | I11: 3 | J11: 1 | K11: machine 10 | L11: =SUMIFS(Tabel1[NB INTER],Tabel1[EQUIPEMENT],K11,Tabel1[SEMAINE],I11,Tabel1[DUREE ARRET],"<>0") -> 1 | M11: =SUMIFS(Tabel1[DUREE ARRET],Tabel1[EQUIPEMENT],K11,Tabel1[SEMAINE],I11,Tabel1[DUREE ARRET],"<>0") -> 2 | N11: {=INDEX('TO OUVERTURE HEURE'!$A$1:$D$13,MATCH(EXTRACTION!I11,'TO OUVERTURE HEURE'!$A$1:$A$13,0),J11+1)} -> 80 | O11: =+IFERROR((N11-M11)/L11,"Err") -> 78
A12: machine 2 | B12: 4 | C12: 1 | D12: 44931.625 | E12: =+WEEKNUM(D12,21) -> 1 | F12: 1 | I12: 3 | J12: 1 | K12: machine 11 | L12: =SUMIFS(Tabel1[NB INTER],Tabel1[EQUIPEMENT],K12,Tabel1[SEMAINE],I12,Tabel1[DUREE ARRET],"<>0") -> 1 | M12: =SUMIFS(Tabel1[DUREE ARRET],Tabel1[EQUIPEMENT],K12,Tabel1[SEMAINE],I12,Tabel1[DUREE ARRET],"<>0") -> 1 | N12: {=INDEX('TO OUVERTURE HEURE'!$A$1:$D$13,MATCH(EXTRACTION!I12,'TO OUVERTURE HEURE'!$A$1:$A$13,0),J12+1)} -> 80 | O12: =+IFERROR((N12-M12)/L12,"Err") -> 79
A13: machine 7 | B13: 4 | C13: 1 | D13: 44953 | E13: =+WEEKNUM(D13,21) -> 4 | F13: 1 | I13: 3 | J13: 1 | K13: machine 12 | L13: =SUMIFS(Tabel1[NB INTER],Tabel1[EQUIPEMENT],K13,Tabel1[SEMAINE],I13,Tabel1[DUREE ARRET],"<>0") -> 1 | M13: =SUMIFS(Tabel1[DUREE ARRET],Tabel1[EQUIPEMENT],K13,Tabel1[SEMAINE],I13,Tabel1[DUREE ARRET],"<>0") -> 4 | N13: {=INDEX('TO OUVERTURE HEURE'!$A$1:$D$13,MATCH(EXTRACTION!I13,'TO OUVERTURE HEURE'!$A$1:$A$13,0),J13+1)} -> 80 | O13: =+IFERROR((N13-M13)/L13,"Err") -> 76
A14: machine 8 | B14: 4 | C14: 1 | D14: 44939 | E14: =+WEEKNUM(D14,21) -> 2 | F14: 1 | I14: 3 | J14: 1 | K14: machine 13 | L14: =SUMIFS(Tabel1[NB INTER],Tabel1[EQUIPEMENT],K14,Tabel1[SEMAINE],I14,Tabel1[DUREE ARRET],"<>0") -> 1 | M14: =SUMIFS(Tabel1[DUREE ARRET],Tabel1[EQUIPEMENT],K14,Tabel1[SEMAINE],I14,Tabel1[DUREE ARRET],"<>0") -> 1 | N14: {=INDEX('TO OUVERTURE HEURE'!$A$1:$D$13,MATCH(EXTRACTION!I14,'TO OUVERTURE HEURE'!$A$1:$A$13,0),J14+1)} -> 80 | O14: =+IFERROR((N14-M14)/L14,"Err") -> 79
... A66: machine 54 | B66: 3 | C66: 1 | D66: 44991 | E66: =+WEEKNUM(D66,21) -> 10 | F66: 3 | I66: 11 | J66: 3 | K66: machine 60 | L66: =SUMIFS(Tabel1[NB INTER],Tabel1[EQUIPEMENT],K66,Tabel1[SEMAINE],I66,Tabel1[DUREE ARRET],"<>0") -> 0 | M66: =SUMIFS(Tabel1[DUREE ARRET],Tabel1[EQUIPEMENT],K66,Tabel1[SEMAINE],I66,Tabel1[DUREE ARRET],"<>0") -> 0 | N66: {=INDEX('TO OUVERTURE HEURE'!$A$1:$D$13,MATCH(EXTRACTION!I66,'TO OUVERTURE HEURE'!$A$1:$A$13,0),J66+1)} -> 0 | O66: =+IFERROR((N66-M66)/L66,"Err") -> Err
A67: machine 56 | B67: 3 | C67: 1 | D67: 44994 | E67: =+WEEKNUM(D67,21) -> 10 | F67: 3 | L67: =SUMIFS(Tabel1[NB INTER],Tabel1[EQUIPEMENT],K67,Tabel1[SEMAINE],I67,Tabel1[DUREE ARRET],"<>0") -> 0 | M67: =SUMIFS(Tabel1[DUREE ARRET],Tabel1[EQUIPEMENT],K67,Tabel1[SEMAINE],I67,Tabel1[DUREE ARRET],"<>0") -> 0 | N67: {=INDEX('TO OUVERTURE HEURE'!$A$1:$D$13,MATCH(EXTRACTION!I67,'TO OUVERTURE HEURE'!$A$1:$A$13,0),J67+1)} -> #N/A | O67: =+IFERROR((N67-M67)/L67,"Err") -> Err
A68: machine 57 | B68: 4 | C68: 1 | D68: 44995 | E68: =+WEEKNUM(D68,21) -> 10 | F68: 3 | L68: =SUMIFS(Tabel1[NB INTER],Tabel1[EQUIPEMENT],K68,Tabel1[SEMAINE],I68,Tabel1[DUREE ARRET],"<>0") -> 0 | M68: =SUMIFS(Tabel1[DUREE ARRET],Tabel1[EQUIPEMENT],K68,Tabel1[SEMAINE],I68,Tabel1[DUREE ARRET],"<>0") -> 0 | N68: {=INDEX('TO OUVERTURE HEURE'!$A$1:$D$13,MATCH(EXTRACTION!I68,'TO OUVERTURE HEURE'!$A$1:$A$13,0),J68+1)} -> #N/A | O68: =+IFERROR((N68-M68)/L68,"Err") -> Err
A69: machine 58 | B69: 5 | C69: 1 | D69: 44996 | E69: =+WEEKNUM(D69,21) -> 10 | F69: 3 | L69: =SUMIFS(Tabel1[NB INTER],Tabel1[EQUIPEMENT],K69,Tabel1[SEMAINE],I69,Tabel1[DUREE ARRET],"<>0") -> 0 | M69: =SUMIFS(Tabel1[DUREE ARRET],Tabel1[EQUIPEMENT],K69,Tabel1[SEMAINE],I69,Tabel1[DUREE ARRET],"<>0") -> 0 | N69: {=INDEX('TO OUVERTURE HEURE'!$A$1:$D$13,MATCH(EXTRACTION!I69,'TO OUVERTURE HEURE'!$A$1:$A$13,0),J69+1)} -> #N/A | O69: =+IFERROR((N69-M69)/L69,"Err") -> Err
L70: =SUMIFS(Tabel1[NB INTER],Tabel1[EQUIPEMENT],K70,Tabel1[SEMAINE],I70,Tabel1[DUREE ARRET],"<>0") -> 0 | M70: =SUMIFS(Tabel1[DUREE ARRET],Tabel1[EQUIPEMENT],K70,Tabel1[SEMAINE],I70,Tabel1[DUREE ARRET],"<>0") -> 0 | N70: {=INDEX('TO OUVERTURE HEURE'!$A$1:$D$13,MATCH(EXTRACTION!I70,'TO OUVERTURE HEURE'!$A$1:$A$13,0),J70+1)} -> #N/A | O70: =+IFERROR((N70-M70)/L70,"Err") -> Err
L71: =SUMIFS(Tabel1[NB INTER],Tabel1[EQUIPEMENT],K71,Tabel1[SEMAINE],I71,Tabel1[DUREE ARRET],"<>0") -> 0 | M71: =SUMIFS(Tabel1[DUREE ARRET],Tabel1[EQUIPEMENT],K71,Tabel1[SEMAINE],I71,Tabel1[DUREE ARRET],"<>0") -> 0 | N71: {=INDEX('TO OUVERTURE HEURE'!$A$1:$D$13,MATCH(EXTRACTION!I71,'TO OUVERTURE HEURE'!$A$1:$A$13,0),J71+1)} -> #N/A | O71: =+IFERROR((N71-M71)/L71,"Err") -> Err
L72: =SUMIFS(Tabel1[NB INTER],Tabel1[EQUIPEMENT],K72,Tabel1[SEMAINE],I72,Tabel1[DUREE ARRET],"<>0") -> 0 | M72: =SUMIFS(Tabel1[DUREE ARRET],Tabel1[EQUIPEMENT],K72,Tabel1[SEMAINE],I72,Tabel1[DUREE ARRET],"<>0") -> 0 | N72: {=INDEX('TO OUVERTURE HEURE'!$A$1:$D$13,MATCH(EXTRACTION!I72,'TO OUVERTURE HEURE'!$A$1:$A$13,0),J72+1)} -> #N/A | O72: =+IFERROR((N72-M72)/L72,"Err") -> Err
L73: =SUMIFS(Tabel1[NB INTER],Tabel1[EQUIPEMENT],K73,Tabel1[SEMAINE],I73,Tabel1[DUREE ARRET],"<>0") -> 0 | M73: =SUMIFS(Tabel1[DUREE ARRET],Tabel1[EQUIPEMENT],K73,Tabel1[SEMAINE],I73,Tabel1[DUREE ARRET],"<>0") -> 0 | N73: {=INDEX('TO OUVERTURE HEURE'!$A$1:$D$13,MATCH(EXTRACTION!I73,'TO OUVERTURE HEURE'!$A$1:$A$13,0),J73+1)} -> #N/A | O73: =+IFERROR((N73-M73)/L73,"Err") -> Err
L74: =SUMIFS(Tabel1[NB INTER],Tabel1[EQUIPEMENT],K74,Tabel1[SEMAINE],I74,Tabel1[DUREE ARRET],"<>0") -> 0 | M74: =SUMIFS(Tabel1[DUREE ARRET],Tabel1[EQUIPEMENT],K74,Tabel1[SEMAINE],I74,Tabel1[DUREE ARRET],"<>0") -> 0 | N74: {=INDEX('TO OUVERTURE HEURE'!$A$1:$D$13,MATCH(EXTRACTION!I74,'TO OUVERTURE HEURE'!$A$1:$A$13,0),J74+1)} -> #N/A | O74: =+IFERROR((N74-M74)/L74,"Err") -> Err
L75: =SUMIFS(Tabel1[NB INTER],Tabel1[EQUIPEMENT],K75,Tabel1[SEMAINE],I75,Tabel1[DUREE ARRET],"<>0") -> 0 | M75: =SUMIFS(Tabel1[DUREE ARRET],Tabel1[EQUIPEMENT],K75,Tabel1[SEMAINE],I75,Tabel1[DUREE ARRET],"<>0") -> 0 | N75: {=INDEX('TO OUVERTURE HEURE'!$A$1:$D$13,MATCH(EXTRACTION!I75,'TO OUVERTURE HEURE'!$A$1:$A$13,0),J75+1)} -> #N/A | O75: =+IFERROR((N75-M75)/L75,"Err") -> Err
L76: =SUMIFS(Tabel1[NB INTER],Tabel1[EQUIPEMENT],K76,Tabel1[SEMAINE],I76,Tabel1[DUREE ARRET],"<>0") -> 0 | M76: =SUMIFS(Tabel1[DUREE ARRET],Tabel1[EQUIPEMENT],K76,Tabel1[SEMAINE],I76,Tabel1[DUREE ARRET],"<>0") -> 0 | N76: {=INDEX('TO OUVERTURE HEURE'!$A$1:$D$13,MATCH(EXTRACTION!I76,'TO OUVERTURE HEURE'!$A$1:$A$13,0),J76+1)} -> #N/A | O76: =+IFERROR((N76-M76)/L76,"Err") -> Err
L77: =SUMIFS(Tabel1[NB INTER],Tabel1[EQUIPEMENT],K77,Tabel1[SEMAINE],I77,Tabel1[DUREE ARRET],"<>0") -> 0 | M77: =SUMIFS(Tabel1[DUREE ARRET],Tabel1[EQUIPEMENT],K77,Tabel1[SEMAINE],I77,Tabel1[DUREE ARRET],"<>0") -> 0 | N77: {=INDEX('TO OUVERTURE HEURE'!$A$1:$D$13,MATCH(EXTRACTION!I77,'TO OUVERTURE HEURE'!$A$1:$A$13,0),J77+1)} -> #N/A | O77: =+IFERROR((N77-M77)/L77,"Err") -> Err
L78: =SUMIFS(Tabel1[NB INTER],Tabel1[EQUIPEMENT],K78,Tabel1[SEMAINE],I78,Tabel1[DUREE ARRET],"<>0") -> 0 | M78: =SUMIFS(Tabel1[DUREE ARRET],Tabel1[EQUIPEMENT],K78,Tabel1[SEMAINE],I78,Tabel1[DUREE ARRET],"<>0") -> 0 | N78: {=INDEX('TO OUVERTURE HEURE'!$A$1:$D$13,MATCH(EXTRACTION!I78,'TO OUVERTURE HEURE'!$A$1:$A$13,0),J78+1)} -> #N/A | O78: =+IFERROR((N78-M78)/L78,"Err") -> Err
L79: =SUMIFS(Tabel1[NB INTER],Tabel1[EQUIPEMENT],K79,Tabel1[SEMAINE],I79,Tabel1[DUREE ARRET],"<>0") -> 0 | M79: =SUMIFS(Tabel1[DUREE ARRET],Tabel1[EQUIPEMENT],K79,Tabel1[SEMAINE],I79,Tabel1[DUREE ARRET],"<>0") -> 0 | N79: {=INDEX('TO OUVERTURE HEURE'!$A$1:$D$13,MATCH(EXTRACTION!I79,'TO OUVERTURE HEURE'!$A$1:$A$13,0),J79+1)} -> #N/A | O79: =+IFERROR((N79-M79)/L79,"Err") -> Err
L80: =SUMIFS(Tabel1[NB INTER],Tabel1[EQUIPEMENT],K80,Tabel1[SEMAINE],I80,Tabel1[DUREE ARRET],"<>0") -> 0 | M80: =SUMIFS(Tabel1[DUREE ARRET],Tabel1[EQUIPEMENT],K80,Tabel1[SEMAINE],I80,Tabel1[DUREE ARRET],"<>0") -> 0 | N80: {=INDEX('TO OUVERTURE HEURE'!$A$1:$D$13,MATCH(EXTRACTION!I80,'TO OUVERTURE HEURE'!$A$1:$A$13,0),J80+1)} -> #N/A | O80: =+IFERROR((N80-M80)/L80,"Err") -> Err
L81: =SUMIFS(Tabel1[NB INTER],Tabel1[EQUIPEMENT],K81,Tabel1[SEMAINE],I81,Tabel1[DUREE ARRET],"<>0") -> 0 | M81: =SUMIFS(Tabel1[DUREE ARRET],Tabel1[EQUIPEMENT],K81,Tabel1[SEMAINE],I81,Tabel1[DUREE ARRET],"<>0") -> 0 | N81: {=INDEX('TO OUVERTURE HEURE'!$A$1:$D$13,MATCH(EXTRACTION!I81,'TO OUVERTURE HEURE'!$A$1:$A$13,0),J81+1)} -> #N/A | O81: =+IFERROR((N81-M81)/L81,"Err") -> Err
... L100: =SUMIFS(Tabel1[NB INTER],Tabel1[EQUIPEMENT],K100,Tabel1[SEMAINE],I100,Tabel1[DUREE ARRET],"<>0") -> 0 | M100: =SUMIFS(Tabel1[DUREE ARRET],Tabel1[EQUIPEMENT],K100,Tabel1[SEMAINE],I100,Tabel1[DUREE ARRET],"<>0") -> 0 | N100: {=INDEX('TO OUVERTURE HEURE'!$A$1:$D$13,MATCH(EXTRACTION!I100,'TO OUVERTURE HEURE'!$A$1:$A$13,0),J100+1)} -> #N/A | O100: =+IFERROR((N100-M100)/L100,"Err") -> Err

Sheet TO OUVERTURE HEURE
A1: SEM | B1: T OUVETURE 1 | C1: T OUVERTURE 2 | D1: T OUVERTURE 3
A2: 1 | B2: 111.66667 | C2: 112 | D2: 56
A3: 2 | B3: 109.66667 | C3: 96 | D3: 32
A4: 3 | B4: 80 | C4: 99 | D4: 44
A5: 4 | B5: 120 | C5: 112 | D5: 101.75
A6: 5 | B6: 119 | C6: 120 | D6: 73 | F6: EN HEURE
A7: 6 | B7: 120 | C7: 120 | D7: 80
A8: 7 | B8: 118 | C8: 118 | D8: 0
A9: 8 | B9: 0 | C9: 0 | D9: 0
A10: 9 | B10: 76 | C10: 84 | D10: 48
A11: 10 | B11: 120 | C11: 120 | D11: 80
A12: 11 | B12: 120 | C12: 120 | D12: 0
A13: 12 | B13: 0 | C13: 0 | D13: 0
