Workbook

Sheet E90_2023
A1: ARTICLE | B1: PRICE 2023
A2: 02.004.01.A | B2: 0.29
A3: 02.004.01.B | B3: 0.36
A4: 02.004.01.C | B4: 0.51
A5: 02.004.01.D | B5: 0.6
A6: 02.004.02.A | B6: 0.29
A7: 02.004.02.B | B7: 0.36
A8: 02.004.02.C | B8: 0.51
A9: 02.004.02.D | B9: 0.6
A10: 02.007.01.A | B10: 0.34
A11: 02.007.01.B | B11: 0.38
A12: 02.007.01.C | B12: 0.52
A13: 02.007.01.D | B13: 0.64
... A5573: Z44.02 | B5573: 1.08

Sheet Blad1
A1: =TRUNC((COLUMN()-1)/2) -> 0 | B1: =TRUNC((COLUMN()-1)/2) -> 0 | C1: =TRUNC((COLUMN()-1)/2) -> 1 | D1: =TRUNC((COLUMN()-1)/2) -> 1 | E1: =TRUNC((COLUMN()-1)/2) -> 2 | F1: =TRUNC((COLUMN()-1)/2) -> 2 | G1: =TRUNC((COLUMN()-1)/2) -> 3 | H1: =TRUNC((COLUMN()-1)/2) -> 3 | ... Z1: =TRUNC((COLUMN()-1)/2) -> 12
A2: {=OFFSET(E90_2023!$A$2,-2+ROW()+65*(A$1),MOD(COLUMN()-1,2),,)} -> 02.004.01.A | B2: {=OFFSET(E90_2023!$A$2,-2+ROW()+65*(B$1),MOD(COLUMN()-1,2),,)} -> 0.29 | C2: {=OFFSET(E90_2023!$A$2,-2+ROW()+65*(C$1),MOD(COLUMN()-1,2),,)} -> 04.046.01.C | D2: {=OFFSET(E90_2023!$A$2,-2+ROW()+65*(D$1),MOD(COLUMN()-1,2),,)} -> 1.28 | E2: {=OFFSET(E90_2023!$A$2,-2+ROW()+65*(E$1),MOD(COLUMN()-1,2),,)} -> A2.26 | F2: {=OFFSET(E90_2023!$A$2,-2+ROW()+65*(F$1),MOD(COLUMN()-1,2),,)} -> 0.086 | G2: {=OFFSET(E90_2023!$A$2,-2+ROW()+65*(G$1),MOD(COLUMN()-1,2),,)} -> AF127.26 | H2: {=OFFSET(E90_2023!$A$2,-2+ROW()+65*(H$1),MOD(COLUMN()-1,2),,)} -> 0.036 | ... Z2: {=OFFSET(E90_2023!$A$2,-2+ROW()+65*(Z$1),MOD(COLUMN()-1,2),,)} -> 1.23
A3: {=OFFSET(E90_2023!$A$2,-2+ROW()+65*(A$1),MOD(COLUMN()-1,2),,)} -> 02.004.01.B | B3: {=OFFSET(E90_2023!$A$2,-2+ROW()+65*(B$1),MOD(COLUMN()-1,2),,)} -> 0.36 | C3: {=OFFSET(E90_2023!$A$2,-2+ROW()+65*(C$1),MOD(COLUMN()-1,2),,)} -> 04.046.01.D | D3: {=OFFSET(E90_2023!$A$2,-2+ROW()+65*(D$1),MOD(COLUMN()-1,2),,)} -> 1.82 | E3: {=OFFSET(E90_2023!$A$2,-2+ROW()+65*(E$1),MOD(COLUMN()-1,2),,)} -> A32 | F3: {=OFFSET(E90_2023!$A$2,-2+ROW()+65*(F$1),MOD(COLUMN()-1,2),,)} -> 0.26 | G3: {=OFFSET(E90_2023!$A$2,-2+ROW()+65*(G$1),MOD(COLUMN()-1,2),,)} -> AF129.01 | H3: {=OFFSET(E90_2023!$A$2,-2+ROW()+65*(H$1),MOD(COLUMN()-1,2),,)} -> 0.036 | ... Z3: {=OFFSET(E90_2023!$A$2,-2+ROW()+65*(Z$1),MOD(COLUMN()-1,2),,)} -> 1.35
A4: {=OFFSET(E90_2023!$A$2,-2+ROW()+65*(A$1),MOD(COLUMN()-1,2),,)} -> 02.004.01.C | B4: {=OFFSET(E90_2023!$A$2,-2+ROW()+65*(B$1),MOD(COLUMN()-1,2),,)} -> 0.51 | C4: {=OFFSET(E90_2023!$A$2,-2+ROW()+65*(C$1),MOD(COLUMN()-1,2),,)} -> 04.046.01.E | D4: {=OFFSET(E90_2023!$A$2,-2+ROW()+65*(D$1),MOD(COLUMN()-1,2),,)} -> 2.48 | E4: {=OFFSET(E90_2023!$A$2,-2+ROW()+65*(E$1),MOD(COLUMN()-1,2),,)} -> A45.01 | F4: {=OFFSET(E90_2023!$A$2,-2+ROW()+65*(F$1),MOD(COLUMN()-1,2),,)} -> 0.3 | G4: {=OFFSET(E90_2023!$A$2,-2+ROW()+65*(G$1),MOD(COLUMN()-1,2),,)} -> AF129.02 | H4: {=OFFSET(E90_2023!$A$2,-2+ROW()+65*(H$1),MOD(COLUMN()-1,2),,)} -> 0.036 | ... Z4: {=OFFSET(E90_2023!$A$2,-2+ROW()+65*(Z$1),MOD(COLUMN()-1,2),,)} -> 1.35
A5: {=OFFSET(E90_2023!$A$2,-2+ROW()+65*(A$1),MOD(COLUMN()-1,2),,)} -> 02.004.01.D | B5: {=OFFSET(E90_2023!$A$2,-2+ROW()+65*(B$1),MOD(COLUMN()-1,2),,)} -> 0.6 | C5: {=OFFSET(E90_2023!$A$2,-2+ROW()+65*(C$1),MOD(COLUMN()-1,2),,)} -> 04.046.02.A | D5: {=OFFSET(E90_2023!$A$2,-2+ROW()+65*(D$1),MOD(COLUMN()-1,2),,)} -> 0.59 | E5: {=OFFSET(E90_2023!$A$2,-2+ROW()+65*(E$1),MOD(COLUMN()-1,2),,)} -> A45.02 | F5: {=OFFSET(E90_2023!$A$2,-2+ROW()+65*(F$1),MOD(COLUMN()-1,2),,)} -> 0.3 | G5: {=OFFSET(E90_2023!$A$2,-2+ROW()+65*(G$1),MOD(COLUMN()-1,2),,)} -> AF129.26 | H5: {=OFFSET(E90_2023!$A$2,-2+ROW()+65*(H$1),MOD(COLUMN()-1,2),,)} -> 0.036 | ... Z5: {=OFFSET(E90_2023!$A$2,-2+ROW()+65*(Z$1),MOD(COLUMN()-1,2),,)} -> 1.55
A6: {=OFFSET(E90_2023!$A$2,-2+ROW()+65*(A$1),MOD(COLUMN()-1,2),,)} -> 02.004.02.A | B6: {=OFFSET(E90_2023!$A$2,-2+ROW()+65*(B$1),MOD(COLUMN()-1,2),,)} -> 0.29 | C6: {=OFFSET(E90_2023!$A$2,-2+ROW()+65*(C$1),MOD(COLUMN()-1,2),,)} -> 04.046.02.B | D6: {=OFFSET(E90_2023!$A$2,-2+ROW()+65*(D$1),MOD(COLUMN()-1,2),,)} -> 0.93 | E6: {=OFFSET(E90_2023!$A$2,-2+ROW()+65*(E$1),MOD(COLUMN()-1,2),,)} -> A46.01 | F6: {=OFFSET(E90_2023!$A$2,-2+ROW()+65*(F$1),MOD(COLUMN()-1,2),,)} -> 0.48 | G6: {=OFFSET(E90_2023!$A$2,-2+ROW()+65*(G$1),MOD(COLUMN()-1,2),,)} -> AF13.01 | H6: {=OFFSET(E90_2023!$A$2,-2+ROW()+65*(H$1),MOD(COLUMN()-1,2),,)} -> 0.036 | ... Z6: {=OFFSET(E90_2023!$A$2,-2+ROW()+65*(Z$1),MOD(COLUMN()-1,2),,)} -> 1.55
A7: {=OFFSET(E90_2023!$A$2,-2+ROW()+65*(A$1),MOD(COLUMN()-1,2),,)} -> 02.004.02.B | B7: {=OFFSET(E90_2023!$A$2,-2+ROW()+65*(B$1),MOD(COLUMN()-1,2),,)} -> 0.36 | C7: {=OFFSET(E90_2023!$A$2,-2+ROW()+65*(C$1),MOD(COLUMN()-1,2),,)} -> 04.046.02.C | D7: {=OFFSET(E90_2023!$A$2,-2+ROW()+65*(D$1),MOD(COLUMN()-1,2),,)} -> 1.28 | E7: {=OFFSET(E90_2023!$A$2,-2+ROW()+65*(E$1),MOD(COLUMN()-1,2),,)} -> A46.02 | F7: {=OFFSET(E90_2023!$A$2,-2+ROW()+65*(F$1),MOD(COLUMN()-1,2),,)} -> 0.48 | G7: {=OFFSET(E90_2023!$A$2,-2+ROW()+65*(G$1),MOD(COLUMN()-1,2),,)} -> AF13.02 | H7: {=OFFSET(E90_2023!$A$2,-2+ROW()+65*(H$1),MOD(COLUMN()-1,2),,)} -> 0.036 | ... Z7: {=OFFSET(E90_2023!$A$2,-2+ROW()+65*(Z$1),MOD(COLUMN()-1,2),,)} -> 1.55
A8: {=OFFSET(E90_2023!$A$2,-2+ROW()+65*(A$1),MOD(COLUMN()-1,2),,)} -> 02.004.02.C | B8: {=OFFSET(E90_2023!$A$2,-2+ROW()+65*(B$1),MOD(COLUMN()-1,2),,)} -> 0.51 | C8: {=OFFSET(E90_2023!$A$2,-2+ROW()+65*(C$1),MOD(COLUMN()-1,2),,)} -> 04.046.02.D | D8: {=OFFSET(E90_2023!$A$2,-2+ROW()+65*(D$1),MOD(COLUMN()-1,2),,)} -> 1.82 | E8: {=OFFSET(E90_2023!$A$2,-2+ROW()+65*(E$1),MOD(COLUMN()-1,2),,)} -> A5.01 | F8: {=OFFSET(E90_2023!$A$2,-2+ROW()+65*(F$1),MOD(COLUMN()-1,2),,)} -> 0.086 | G8: {=OFFSET(E90_2023!$A$2,-2+ROW()+65*(G$1),MOD(COLUMN()-1,2),,)} -> AF13.26 | H8: {=OFFSET(E90_2023!$A$2,-2+ROW()+65*(H$1),MOD(COLUMN()-1,2),,)} -> 0.036 | ... Z8: {=OFFSET(E90_2023!$A$2,-2+ROW()+65*(Z$1),MOD(COLUMN()-1,2),,)} -> 1.57
A9: {=OFFSET(E90_2023!$A$2,-2+ROW()+65*(A$1),MOD(COLUMN()-1,2),,)} -> 02.004.02.D | B9: {=OFFSET(E90_2023!$A$2,-2+ROW()+65*(B$1),MOD(COLUMN()-1,2),,)} -> 0.6 | C9: {=OFFSET(E90_2023!$A$2,-2+ROW()+65*(C$1),MOD(COLUMN()-1,2),,)} -> 04.046.02.E | D9: {=OFFSET(E90_2023!$A$2,-2+ROW()+65*(D$1),MOD(COLUMN()-1,2),,)} -> 2.48 | E9: {=OFFSET(E90_2023!$A$2,-2+ROW()+65*(E$1),MOD(COLUMN()-1,2),,)} -> A5.02 | F9: {=OFFSET(E90_2023!$A$2,-2+ROW()+65*(F$1),MOD(COLUMN()-1,2),,)} -> 0.086 | G9: {=OFFSET(E90_2023!$A$2,-2+ROW()+65*(G$1),MOD(COLUMN()-1,2),,)} -> AF136.01 | H9: {=OFFSET(E90_2023!$A$2,-2+ROW()+65*(H$1),MOD(COLUMN()-1,2),,)} -> 0.036 | ... Z9: {=OFFSET(E90_2023!$A$2,-2+ROW()+65*(Z$1),MOD(COLUMN()-1,2),,)} -> 1.57
A10: {=OFFSET(E90_2023!$A$2,-2+ROW()+65*(A$1),MOD(COLUMN()-1,2),,)} -> 02.007.01.A | B10: {=OFFSET(E90_2023!$A$2,-2+ROW()+65*(B$1),MOD(COLUMN()-1,2),,)} -> 0.34 | C10: {=OFFSET(E90_2023!$A$2,-2+ROW()+65*(C$1),MOD(COLUMN()-1,2),,)} -> 04.046.26.A | D10: {=OFFSET(E90_2023!$A$2,-2+ROW()+65*(D$1),MOD(COLUMN()-1,2),,)} -> 0.59 | E10: {=OFFSET(E90_2023!$A$2,-2+ROW()+65*(E$1),MOD(COLUMN()-1,2),,)} -> A5.26 | F10: {=OFFSET(E90_2023!$A$2,-2+ROW()+65*(F$1),MOD(COLUMN()-1,2),,)} -> 0.086 | G10: {=OFFSET(E90_2023!$A$2,-2+ROW()+65*(G$1),MOD(COLUMN()-1,2),,)} -> AF136.02 | H10: {=OFFSET(E90_2023!$A$2,-2+ROW()+65*(H$1),MOD(COLUMN()-1,2),,)} -> 0.036 | ... Z10: {=OFFSET(E90_2023!$A$2,-2+ROW()+65*(Z$1),MOD(COLUMN()-1,2),,)} -> 1.8
A11: {=OFFSET(E90_2023!$A$2,-2+ROW()+65*(A$1),MOD(COLUMN()-1,2),,)} -> 02.007.01.B | B11: {=OFFSET(E90_2023!$A$2,-2+ROW()+65*(B$1),MOD(COLUMN()-1,2),,)} -> 0.38 | C11: {=OFFSET(E90_2023!$A$2,-2+ROW()+65*(C$1),MOD(COLUMN()-1,2),,)} -> 04.046.26.B | D11: {=OFFSET(E90_2023!$A$2,-2+ROW()+65*(D$1),MOD(COLUMN()-1,2),,)} -> 0.93 | E11: {=OFFSET(E90_2023!$A$2,-2+ROW()+65*(E$1),MOD(COLUMN()-1,2),,)} -> A50 | F11: {=OFFSET(E90_2023!$A$2,-2+ROW()+65*(F$1),MOD(COLUMN()-1,2),,)} -> 0.079 | G11: {=OFFSET(E90_2023!$A$2,-2+ROW()+65*(G$1),MOD(COLUMN()-1,2),,)} -> AF136.26 | H11: {=OFFSET(E90_2023!$A$2,-2+ROW()+65*(H$1),MOD(COLUMN()-1,2),,)} -> 0.036 | ... Z11: {=OFFSET(E90_2023!$A$2,-2+ROW()+65*(Z$1),MOD(COLUMN()-1,2),,)} -> 1.8
A12: {=OFFSET(E90_2023!$A$2,-2+ROW()+65*(A$1),MOD(COLUMN()-1,2),,)} -> 02.007.01.C | B12: {=OFFSET(E90_2023!$A$2,-2+ROW()+65*(B$1),MOD(COLUMN()-1,2),,)} -> 0.52 | C12: {=OFFSET(E90_2023!$A$2,-2+ROW()+65*(C$1),MOD(COLUMN()-1,2),,)} -> 04.046.26.C | D12: {=OFFSET(E90_2023!$A$2,-2+ROW()+65*(D$1),MOD(COLUMN()-1,2),,)} -> 1.28 | E12: {=OFFSET(E90_2023!$A$2,-2+ROW()+65*(E$1),MOD(COLUMN()-1,2),,)} -> A55 | F12: {=OFFSET(E90_2023!$A$2,-2+ROW()+65*(F$1),MOD(COLUMN()-1,2),,)} -> 0.14 | G12: {=OFFSET(E90_2023!$A$2,-2+ROW()+65*(G$1),MOD(COLUMN()-1,2),,)} -> AF137.01 | H12: {=OFFSET(E90_2023!$A$2,-2+ROW()+65*(H$1),MOD(COLUMN()-1,2),,)} -> 0.036 | ... Z12: {=OFFSET(E90_2023!$A$2,-2+ROW()+65*(Z$1),MOD(COLUMN()-1,2),,)} -> 1.8
A13: {=OFFSET(E90_2023!$A$2,-2+ROW()+65*(A$1),MOD(COLUMN()-1,2),,)} -> 02.007.01.D | B13: {=OFFSET(E90_2023!$A$2,-2+ROW()+65*(B$1),MOD(COLUMN()-1,2),,)} -> 0.64 | C13: {=OFFSET(E90_2023!$A$2,-2+ROW()+65*(C$1),MOD(COLUMN()-1,2),,)} -> 04.046.26.D | D13: {=OFFSET(E90_2023!$A$2,-2+ROW()+65*(D$1),MOD(COLUMN()-1,2),,)} -> 1.82 | E13: {=OFFSET(E90_2023!$A$2,-2+ROW()+65*(E$1),MOD(COLUMN()-1,2),,)} -> AF1.01 | F13: {=OFFSET(E90_2023!$A$2,-2+ROW()+65*(F$1),MOD(COLUMN()-1,2),,)} -> 0.036 | G13: {=OFFSET(E90_2023!$A$2,-2+ROW()+65*(G$1),MOD(COLUMN()-1,2),,)} -> AF137.02 | H13: {=OFFSET(E90_2023!$A$2,-2+ROW()+65*(H$1),MOD(COLUMN()-1,2),,)} -> 0.036 | ... Z13: {=OFFSET(E90_2023!$A$2,-2+ROW()+65*(Z$1),MOD(COLUMN()-1,2),,)} -> 1.98
... A65: {=OFFSET(E90_2023!$A$2,-2+ROW()+65*(A$1),MOD(COLUMN()-1,2),,)} -> 04.046.01.A | B65: {=OFFSET(E90_2023!$A$2,-2+ROW()+65*(B$1),MOD(COLUMN()-1,2),,)} -> 0.59 | C65: {=OFFSET(E90_2023!$A$2,-2+ROW()+65*(C$1),MOD(COLUMN()-1,2),,)} -> A2.01 | D65: {=OFFSET(E90_2023!$A$2,-2+ROW()+65*(D$1),MOD(COLUMN()-1,2),,)} -> 0.086 | E65: {=OFFSET(E90_2023!$A$2,-2+ROW()+65*(E$1),MOD(COLUMN()-1,2),,)} -> AF127.01 | F65: {=OFFSET(E90_2023!$A$2,-2+ROW()+65*(F$1),MOD(COLUMN()-1,2),,)} -> 0.036 | G65: {=OFFSET(E90_2023!$A$2,-2+ROW()+65*(G$1),MOD(COLUMN()-1,2),,)} -> AF160.26 | H65: {=OFFSET(E90_2023!$A$2,-2+ROW()+65*(H$1),MOD(COLUMN()-1,2),,)} -> 0.036 | ... Z65: {=OFFSET(E90_2023!$A$2,-2+ROW()+65*(Z$1),MOD(COLUMN()-1,2),,)} -> 0.83
