Workbook

Sheet Sheet1 (2)
A1: =AVERAGE(Table13[ID]) -> 4 | B1: =AVERAGE(Table13[Heure de début]) -> 44901.577 | C1: =AVERAGE(Table13[Heure de fin]) -> 44901.601 | D1: =AVERAGE(Table13[Adresse de messagerie]) -> #DIV/0! | E1: =AVERAGE(Table13[Nom]) -> #DIV/0! | F1: =AVERAGE(Table13[Total points]) -> #DIV/0! | G1: =AVERAGE(Table13[Quiz feedback]) -> #DIV/0! | H1: =AVERAGE(Table13[CLARTE : J''ai une vision claire de l’objectif final du programme]) -> 5 | I1: =AVERAGE(Table13[Points - CLARTE : J''ai une vision claire de l’objectif final du programme]) -> #DIV/0! | J1: =AVERAGE(Table13[Feedback - CLARTE : J''ai une vision claire de l’objectif final du programme]) -> #DIV/0! | K1: =AVERAGE(Table13[Si la réponse comporte moins de 2 étoiles OUI, merci de préciser votre réponse dans le champs ci-dessous :]) -> #DIV/0! | L1: =AVERAGE(Table13[Points - Si la réponse comporte moins de 2 étoiles OUI, merci de préciser votre réponse dans le champs ci-dessous :]) -> #DIV/0! | M1: =AVERAGE(Table13[Feedback - Si la réponse comporte moins de 2 étoiles OUI, merci de préciser votre réponse dans le champs ci-dessous :]) -> #DIV/0! | N1: =AVERAGE(Table13[ALIGNEMENT : Je suis aligné sur l’objectif final du programme]) -> 5 | O1: =AVERAGE(Table13[Points - ALIGNEMENT : Je suis aligné sur l’objectif final du programme]) -> #DIV/0! | P1: =AVERAGE(Table13[Feedback - ALIGNEMENT : Je suis aligné sur l’objectif final du programme]) -> #DIV/0! | Q1: =AVERAGE(Table13[Si la réponse comporte moins de 2 étoiles OUI, merci de préciser votre réponse dans le champs ci-dessous :2]) -> #DIV/0! | R1: =AVERAGE(Table13[Points - Si la réponse comporte moins de 2 étoiles OUI, merci de préciser votre réponse dans le champs ci-dessous :2]) -> #DIV/0! | S1: =AVERAGE(Table13[Feedback - Si la réponse comporte moins de 2 étoiles OUI, merci de préciser votre réponse dans le champs ci-dessous :2]) -> #DIV/0! | T1: =AVERAGE(Table13[ENGAGEMENT : Je supporte l’objectif du programme]) -> 5 | U1: =AVERAGE(Table13[Points - ENGAGEMENT : Je supporte l’objectif du programme]) -> #DIV/0! | V1: =AVERAGE(Table13[Feedback - ENGAGEMENT : Je supporte l’objectif du programme]) -> #DIV/0! | W1: =AVERAGE(Table13[Si la réponse comporte moins de 2 étoiles OUI, merci de préciser votre réponse dans le champs ci-dessous :3]) -> #DIV/0! | X1: =AVERAGE(Table13[Points - Si la réponse comporte moins de 2 étoiles OUI, merci de préciser votre réponse dans le champs ci-dessous :3]) -> #DIV/0! | Y1: =AVERAGE(Table13[Feedback - Si la réponse comporte moins de 2 étoiles OUI, merci de préciser votre réponse dans le champs ci-dessous :3]) -> #DIV/0! | Z1: =AVERAGE(Table13[SOLUTION : L’approche pour atteindre l’objectif du programme est solide]) -> 4.7142857 | AA1: =AVERAGE(Table13[Points - SOLUTION : L’approche pour atteindre l’objectif du programme est solide]) -> #DIV/0! | AB1: =AVERAGE(Table13[Feedback - SOLUTION : L’approche pour atteindre l’objectif du programme est solide]) -> #DIV/0! | AC1: =AVERAGE(Table13[Si la réponse comporte moins de 2 étoiles OUI, merci de préciser votre réponse dans le champs ci-dessous :4]) -> #DIV/0! | AD1: =AVERAGE(Table13[Points - Si la réponse comporte moins de 2 étoiles OUI, merci de préciser votre réponse dans le champs ci-dessous :4]) -> #DIV/0! | AE1: =AVERAGE(Table13[Feedback - Si la réponse comporte moins de 2 étoiles OUI, merci de préciser votre réponse dans le champs ci-dessous :4]) -> #DIV/0! | AF1: =AVERAGE(Table13[INTEGRITE : Les objectifs initiaux du programme restent les mêmes]) -> 5 | AG1: =AVERAGE(Table13[Points - INTEGRITE : Les objectifs initiaux du programme restent les mêmes]) -> #DIV/0! | AH1: =AVERAGE(Table13[Feedback - INTEGRITE : Les objectifs initiaux du programme restent les mêmes]) -> #DIV/0! | AI1: =AVERAGE(Table13[Si la réponse comporte moins de 2 étoiles OUI, merci de préciser votre réponse dans le champs ci-dessous :5]) -> #DIV/0! | AJ1: =AVERAGE(Table13[Points - Si la réponse comporte moins de 2 étoiles OUI, merci de préciser votre réponse dans le champs ci-dessous :5]) -> #DIV/0! | AK1: =AVERAGE(Table13[Feedback - Si la réponse comporte moins de 2 étoiles OUI, merci de préciser votre réponse dans le champs ci-dessous :5]) -> #DIV/0! | AL1: =AVERAGE(Table13[SPONSORSHIP : Les leaders fournissent le niveau de sponsorship suffisant pour supporter le programme]) -> 4.7142857 | AM1: =AVERAGE(Table13[Points - SPONSORSHIP : Les leaders fournissent le niveau de sponsorship suffisant pour supporter le programme]) -> #DIV/0! | AN1: =AVERAGE(Table13[Feedback - SPONSORSHIP : Les leaders fournissent le niveau de sponsorship suffisant pour supporter le programme]) -> #DIV/0! | AO1: =AVERAGE(Table13[Si la réponse comporte moins de 2 étoiles OUI, merci de préciser votre réponse dans le champs ci-dessous :6]) -> #DIV/0! | AP1: =AVERAGE(Table13[Points - Si la réponse comporte moins de 2 étoiles OUI, merci de préciser votre réponse dans le champs ci-dessous :6]) -> #DIV/0! | AQ1: =AVERAGE(Table13[Feedback - Si la réponse comporte moins de 2 étoiles OUI, merci de préciser votre réponse dans le champs ci-dessous :6]) -> #DIV/0! | AR1: =AVERAGE(Table13[CAPACITE : Ce changement entraine une charge de travail que nous pouvons absorber sur le site]) -> 4.4285714 | AS1: =AVERAGE(Table13[Points - CAPACITE : Ce changement entraine une charge de travail que nous pouvons absorber sur le site]) -> #DIV/0! | AT1: =AVERAGE(Table13[Feedback - CAPACITE : Ce changement entraine une charge de travail que nous pouvons absorber sur le site]) -> #DIV/0! | AU1: =AVERAGE(Table13[Si la réponse comporte moins de 2 étoiles OUI, merci de préciser votre réponse dans le champs ci-dessous :7]) -> #DIV/0! | AV1: =AVERAGE(Table13[Points - Si la réponse comporte moins de 2 étoiles OUI, merci de préciser votre réponse dans le champs ci-dessous :7]) -> #DIV/0! | AW1: =AVERAGE(Table13[Feedback - Si la réponse comporte moins de 2 étoiles OUI, merci de préciser votre réponse dans le champs ci-dessous :7]) -> #DIV/0! | AX1: =AVERAGE(Table13[CULTURE : Nous avons la culture appropriée pour absorber ce changement]) -> 3.7142857 | AY1: =AVERAGE(Table13[Points - CULTURE : Nous avons la culture appropriée pour absorber ce changement]) -> #DIV/0! | AZ1: =AVERAGE(Table13[Feedback - CULTURE : Nous avons la culture appropriée pour absorber ce changement]) -> #DIV/0! | BA1: =AVERAGE(Table13[Si la réponse comporte moins de 2 étoiles OUI, merci de préciser votre réponse dans le champs ci-dessous :8]) -> #DIV/0! | BB1: =AVERAGE(Table13[Feedback - Si la réponse comporte moins de 2 étoiles OUI, merci de préciser votre réponse dans le champs ci-dessous :8]) -> #DIV/0! | BC1: =AVERAGE(Table13[Points - Si la réponse comporte moins de 2 étoiles OUI, merci de préciser votre réponse dans le champs ci-dessous :8]) -> #DIV/0! | BD1: =AVERAGE(Table13[RESISTANCE : Les personnes impactées par ce changement démontrent l''engagement nécessaire pour réussir sa mise en place]) -> 4.8571429 | BE1: =AVERAGE(Table13[Feedback - RESISTANCE : Les personnes impactées par ce changement démontrent l''engagement nécessaire pour réussir sa mise en place]) -> #DIV/0! | BF1: =AVERAGE(Table13[Points - RESISTANCE : Les personnes impactées par ce changement démontrent l''engagement nécessaire pour réussir sa mise en place]) -> #DIV/0! | BG1: =AVERAGE(Table13[Si la réponse comporte moins de 2 étoiles OUI, merci de préciser votre réponse dans le champs ci-dessous :9]) -> #DIV/0! | BH1: =AVERAGE(Table13[Feedback - Si la réponse comporte moins de 2 étoiles OUI, merci de préciser votre réponse dans le champs ci-dessous :9]) -> #DIV/0! | BI1: =AVERAGE(Table13[Points - Si la réponse comporte moins de 2 étoiles OUI, merci de préciser votre réponse dans le champs ci-dessous :9]) -> #DIV/0! | BJ1: =AVERAGE(Table13[SYNERGIE : Nos efforts de collaboration pour ce projet nous font gagner du temps plus qu’il n’en coute]) -> 4.4285714 | BK1: =AVERAGE(Table13[Feedback - SYNERGIE : Nos efforts de collaboration pour ce projet nous font gagner du temps plus qu’il n’en coute]) -> #DIV/0! | BL1: =AVERAGE(Table13[Points - SYNERGIE : Nos efforts de collaboration pour ce projet nous font gagner du temps plus qu’il n’en coute]) -> #DIV/0! | BM1: =AVERAGE(Table13[Si la réponse comporte moins de 2 étoiles OUI, merci de préciser votre réponse dans le champs ci-dessous :10]) -> #DIV/0! | BN1: =AVERAGE(Table13[Feedback - Si la réponse comporte moins de 2 étoiles OUI, merci de préciser votre réponse dans le champs ci-dessous :10]) -> #DIV/0! | BO1: =AVERAGE(Table13[Points - Si la réponse comporte moins de 2 étoiles OUI, merci de préciser votre réponse dans le champs ci-dessous :10]) -> #DIV/0! | BP1: =AVERAGE(Table13[PARTENARIAT : Nos interactions avec des partenaires externes sont suffisantes pour supporter ce changement]) -> 4.5714286 | BQ1: =AVERAGE(Table13[Feedback - PARTENARIAT : Nos interactions avec des partenaires externes sont suffisantes pour supporter ce changement]) -> #DIV/0! | BR1: =AVERAGE(Table13[Points - PARTENARIAT : Nos interactions avec des partenaires externes sont suffisantes pour supporter ce changement]) -> #DIV/0! | BS1: =AVERAGE(Table13[Si la réponse comporte moins de 2 étoiles OUI, merci de préciser votre réponse dans le champs ci-dessous :11]) -> #DIV/0! | BT1: =AVERAGE(Table13[Feedback - Si la réponse comporte moins de 2 étoiles OUI, merci de préciser votre réponse dans le champs ci-dessous :11]) -> #DIV/0! | BU1: =AVERAGE(Table13[Points - Si la réponse comporte moins de 2 étoiles OUI, merci de préciser votre réponse dans le champs ci-dessous :11]) -> #DIV/0! | BV1: =AVERAGE(Table13[SUPERVISION : Les instances de pilotage permettent de prendre des décisions rapides et efficaces]) -> 4.8571429 | BW1: =AVERAGE(Table13[Points - SUPERVISION : Les instances de pilotage permettent de prendre des décisions rapides et efficaces]) -> #DIV/0! | BX1: =AVERAGE(Table13[Feedback - SUPERVISION : Les instances de pilotage permettent de prendre des décisions rapides et efficaces]) -> #DIV/0! | BY1: =AVERAGE(Table13[Si la réponse comporte moins de 2 étoiles OUI, merci de préciser votre réponse dans le champs ci-dessous :12]) -> #DIV/0! | BZ1: =AVERAGE(Table13[Points - Si la réponse comporte moins de 2 étoiles OUI, merci de préciser votre réponse dans le champs ci-dessous :12]) -> #DIV/0! | CA1: =AVERAGE(Table13[Feedback - Si la réponse comporte moins de 2 étoiles OUI, merci de préciser votre réponse dans le champs ci-dessous :12]) -> #DIV/0! | CB1: =AVERAGE(Table13[RESSOURCES : Les ressources sont suffisantes pour absorber ce changement]) -> 4.4285714 | CC1: =AVERAGE(Table13[Points - RESSOURCES : Les ressources sont suffisantes pour absorber ce changement]) -> #DIV/0! | CD1: =AVERAGE(Table13[Feedback - RESSOURCES : Les ressources sont suffisantes pour absorber ce changement]) -> #DIV/0! | CE1: =AVERAGE(Table13[Si la réponse comporte moins de 2 étoiles OUI, merci de préciser votre réponse dans le champs ci-dessous :13]) -> #DIV/0! | CF1: =AVERAGE(Table13[Points - Si la réponse comporte moins de 2 étoiles OUI, merci de préciser votre réponse dans le champs ci-dessous :13]) -> #DIV/0! | CG1: =AVERAGE(Table13[Feedback - Si la réponse comporte moins de 2 étoiles OUI, merci de préciser votre réponse dans le champs ci-dessous :13]) -> #DIV/0! | CH1: =AVERAGE(Table13[PORTFOLIO : Les interactions de ce projet avec les autres initiatives sont gérées correctement]) -> 4.2857143 | CI1: =AVERAGE(Table13[Points - PORTFOLIO : Les interactions de ce projet avec les autres initiatives sont gérées correctement]) -> #DIV/0! | CJ1: =AVERAGE(Table13[Feedback - PORTFOLIO : Les interactions de ce projet avec les autres initiatives sont gérées correctement]) -> #DIV/0! | CK1: =AVERAGE(Table13[Si la réponse comporte moins de 2 étoiles OUI, merci de préciser votre réponse dans le champs ci-dessous :14]) -> #DIV/0! | CL1: =AVERAGE(Table13[Points - Si la réponse comporte moins de 2 étoiles OUI, merci de préciser votre réponse dans le champs ci-dessous :14]) -> #DIV/0! | CM1: =AVERAGE(Table13[Feedback - Si la réponse comporte moins de 2 étoiles OUI, merci de préciser votre réponse dans le champs ci-dessous :14]) -> #DIV/0! | CN1: =AVERAGE(Table13[CHEMIN CRITIQUE : Les délais et ressources à travers de ce projet sont gérés efficacement]) -> 4.5714286 | CO1: =AVERAGE(Table13[Points - CHEMIN CRITIQUE : Les délais et ressources à travers de ce projet sont gérés efficacement]) -> #DIV/0! | CP1: =AVERAGE(Table13[Feedback - CHEMIN CRITIQUE : Les délais et ressources à travers de ce projet sont gérés efficacement]) -> #DIV/0! | CQ1: =AVERAGE(Table13[Si la réponse comporte moins de 2 étoiles OUI, merci de préciser votre réponse dans le champs ci-dessous :15]) -> #DIV/0! | CR1: =AVERAGE(Table13[Points - Si la réponse comporte moins de 2 étoiles OUI, merci de préciser votre réponse dans le champs ci-dessous :15]) -> #DIV/0! | CS1: =AVERAGE(Table13[Feedback - Si la réponse comporte moins de 2 étoiles OUI, merci de préciser votre réponse dans le champs ci-dessous :15]) -> #DIV/0!
A2: =MIN(Table13[ID]) -> 1 | B2: =MIN(Table13[Heure de début]) -> 44900.356 | C2: =MIN(Table13[Heure de fin]) -> 44900.358 | D2: =MIN(Table13[Adresse de messagerie]) -> 0 | E2: =MIN(Table13[Nom]) -> 0 | F2: =MIN(Table13[Total points]) -> 0 | G2: =MIN(Table13[Quiz feedback]) -> 0 | H2: =MIN(Table13[CLARTE : J''ai une vision claire de l’objectif final du programme]) -> 5 | I2: =MIN(Table13[Points - CLARTE : J''ai une vision claire de l’objectif final du programme]) -> 0 | J2: =MIN(Table13[Feedback - CLARTE : J''ai une vision claire de l’objectif final du programme]) -> 0 | K2: =MIN(Table13[Si la réponse comporte moins de 2 étoiles OUI, merci de préciser votre réponse dans le champs ci-dessous :]) -> 0 | L2: =MIN(Table13[Points - Si la réponse comporte moins de 2 étoiles OUI, merci de préciser votre réponse dans le champs ci-dessous :]) -> 0 | M2: =MIN(Table13[Feedback - Si la réponse comporte moins de 2 étoiles OUI, merci de préciser votre réponse dans le champs ci-dessous :]) -> 0 | N2: =MIN(Table13[ALIGNEMENT : Je suis aligné sur l’objectif final du programme]) -> 5 | O2: =MIN(Table13[Points - ALIGNEMENT : Je suis aligné sur l’objectif final du programme]) -> 0 | P2: =MIN(Table13[Feedback - ALIGNEMENT : Je suis aligné sur l’objectif final du programme]) -> 0 | Q2: =MIN(Table13[Si la réponse comporte moins de 2 étoiles OUI, merci de préciser votre réponse dans le champs ci-dessous :2]) -> 0 | R2: =MIN(Table13[Points - Si la réponse comporte moins de 2 étoiles OUI, merci de préciser votre réponse dans le champs ci-dessous :2]) -> 0 | S2: =MIN(Table13[Feedback - Si la réponse comporte moins de 2 étoiles OUI, merci de préciser votre réponse dans le champs ci-dessous :2]) -> 0 | T2: =MIN(Table13[ENGAGEMENT : Je supporte l’objectif du programme]) -> 5 | U2: =MIN(Table13[Points - ENGAGEMENT : Je supporte l’objectif du programme]) -> 0 | V2: =MIN(Table13[Feedback - ENGAGEMENT : Je supporte l’objectif du programme]) -> 0 | W2: =MIN(Table13[Si la réponse comporte moins de 2 étoiles OUI, merci de préciser votre réponse dans le champs ci-dessous :3]) -> 0 | X2: =MIN(Table13[Points - Si la réponse comporte moins de 2 étoiles OUI, merci de préciser votre réponse dans le champs ci-dessous :3]) -> 0 | Y2: =MIN(Table13[Feedback - Si la réponse comporte moins de 2 étoiles OUI, merci de préciser votre réponse dans le champs ci-dessous :3]) -> 0 | Z2: =MIN(Table13[SOLUTION : L’approche pour atteindre l’objectif du programme est solide]) -> 4 | AA2: =MIN(Table13[Points - SOLUTION : L’approche pour atteindre l’objectif du programme est solide]) -> 0 | AB2: =MIN(Table13[Feedback - SOLUTION : L’approche pour atteindre l’objectif du programme est solide]) -> 0 | AC2: =MIN(Table13[Si la réponse comporte moins de 2 étoiles OUI, merci de préciser votre réponse dans le champs ci-dessous :4]) -> 0 | AD2: =MIN(Table13[Points - Si la réponse comporte moins de 2 étoiles OUI, merci de préciser votre réponse dans le champs ci-dessous :4]) -> 0 | AE2: =MIN(Table13[Feedback - Si la réponse comporte moins de 2 étoiles OUI, merci de préciser votre réponse dans le champs ci-dessous :4]) -> 0 | AF2: =MIN(Table13[INTEGRITE : Les objectifs initiaux du programme restent les mêmes]) -> 5 | AG2: =MIN(Table13[Points - INTEGRITE : Les objectifs initiaux du programme restent les mêmes]) -> 0 | AH2: =MIN(Table13[Feedback - INTEGRITE : Les objectifs initiaux du programme restent les mêmes]) -> 0 | AI2: =MIN(Table13[Si la réponse comporte moins de 2 étoiles OUI, merci de préciser votre réponse dans le champs ci-dessous :5]) -> 0 | AJ2: =MIN(Table13[Points - Si la réponse comporte moins de 2 étoiles OUI, merci de préciser votre réponse dans le champs ci-dessous :5]) -> 0 | AK2: =MIN(Table13[Feedback - Si la réponse comporte moins de 2 étoiles OUI, merci de préciser votre réponse dans le champs ci-dessous :5]) -> 0 | AL2: =MIN(Table13[SPONSORSHIP : Les leaders fournissent le niveau de sponsorship suffisant pour supporter le programme]) -> 3 | AM2: =MIN(Table13[Points - SPONSORSHIP : Les leaders fournissent le niveau de sponsorship suffisant pour supporter le programme]) -> 0 | AN2: =MIN(Table13[Feedback - SPONSORSHIP : Les leaders fournissent le niveau de sponsorship suffisant pour supporter le programme]) -> 0 | AO2: =MIN(Table13[Si la réponse comporte moins de 2 étoiles OUI, merci de préciser votre réponse dans le champs ci-dessous :6]) -> 0 | AP2: =MIN(Table13[Points - Si la réponse comporte moins de 2 étoiles OUI, merci de préciser votre réponse dans le champs ci-dessous :6]) -> 0 | AQ2: =MIN(Table13[Feedback - Si la réponse comporte moins de 2 étoiles OUI, merci de préciser votre réponse dans le champs ci-dessous :6]) -> 0 | AR2: =MIN(Table13[CAPACITE : Ce changement entraine une charge de travail que nous pouvons absorber sur le site]) -> 4 | AS2: =MIN(Table13[Points - CAPACITE : Ce changement entraine une charge de travail que nous pouvons absorber sur le site]) -> 0 | AT2: =MIN(Table13[Feedback - CAPACITE : Ce changement entraine une charge de travail que nous pouvons absorber sur le site]) -> 0 | AU2: =MIN(Table13[Si la réponse comporte moins de 2 étoiles OUI, merci de préciser votre réponse dans le champs ci-dessous :7]) -> 0 | AV2: =MIN(Table13[Points - Si la réponse comporte moins de 2 étoiles OUI, merci de préciser votre réponse dans le champs ci-dessous :7]) -> 0 | AW2: =MIN(Table13[Feedback - Si la réponse comporte moins de 2 étoiles OUI, merci de préciser votre réponse dans le champs ci-dessous :7]) -> 0 | AX2: =MIN(Table13[CULTURE : Nous avons la culture appropriée pour absorber ce changement]) -> 2 | AY2: =MIN(Table13[Points - CULTURE : Nous avons la culture appropriée pour absorber ce changement]) -> 0 | AZ2: =MIN(Table13[Feedback - CULTURE : Nous avons la culture appropriée pour absorber ce changement]) -> 0 | BA2: =MIN(Table13[Si la réponse comporte moins de 2 étoiles OUI, merci de préciser votre réponse dans le champs ci-dessous :8]) -> 0 | BB2: =MIN(Table13[Feedback - Si la réponse comporte moins de 2 étoiles OUI, merci de préciser votre réponse dans le champs ci-dessous :8]) -> 0 | BC2: =MIN(Table13[Points - Si la réponse comporte moins de 2 étoiles OUI, merci de préciser votre réponse dans le champs ci-dessous :8]) -> 0 | BD2: =MIN(Table13[RESISTANCE : Les personnes impactées par ce changement démontrent l''engagement nécessaire pour réussir sa mise en place]) -> 4 | BE2: =MIN(Table13[Feedback - RESISTANCE : Les personnes impactées par ce changement démontrent l''engagement nécessaire pour réussir sa mise en place]) -> 0 | BF2: =MIN(Table13[Points - RESISTANCE : Les personnes impactées par ce changement démontrent l''engagement nécessaire pour réussir sa mise en place]) -> 0 | BG2: =MIN(Table13[Si la réponse comporte moins de 2 étoiles OUI, merci de préciser votre réponse dans le champs ci-dessous :9]) -> 0 | BH2: =MIN(Table13[Feedback - Si la réponse comporte moins de 2 étoiles OUI, merci de préciser votre réponse dans le champs ci-dessous :9]) -> 0 | BI2: =MIN(Table13[Points - Si la réponse comporte moins de 2 étoiles OUI, merci de préciser votre réponse dans le champs ci-dessous :9]) -> 0 | BJ2: =MIN(Table13[SYNERGIE : Nos efforts de collaboration pour ce projet nous font gagner du temps plus qu’il n’en coute]) -> 4 | BK2: =MIN(Table13[Feedback - SYNERGIE : Nos efforts de collaboration pour ce projet nous font gagner du temps plus qu’il n’en coute]) -> 0 | BL2: =MIN(Table13[Points - SYNERGIE : Nos efforts de collaboration pour ce projet nous font gagner du temps plus qu’il n’en coute]) -> 0 | BM2: =MIN(Table13[Si la réponse comporte moins de 2 étoiles OUI, merci de préciser votre réponse dans le champs ci-dessous :10]) -> 0 | BN2: =MIN(Table13[Feedback - Si la réponse comporte moins de 2 étoiles OUI, merci de préciser votre réponse dans le champs ci-dessous :10]) -> 0 | BO2: =MIN(Table13[Points - Si la réponse comporte moins de 2 étoiles OUI, merci de préciser votre réponse dans le champs ci-dessous :10]) -> 0 | BP2: =MIN(Table13[PARTENARIAT : Nos interactions avec des partenaires externes sont suffisantes pour supporter ce changement]) -> 4 | BQ2: =MIN(Table13[Feedback - PARTENARIAT : Nos interactions avec des partenaires externes sont suffisantes pour supporter ce changement]) -> 0 | BR2: =MIN(Table13[Points - PARTENARIAT : Nos interactions avec des partenaires externes sont suffisantes pour supporter ce changement]) -> 0 | BS2: =MIN(Table13[Si la réponse comporte moins de 2 étoiles OUI, merci de préciser votre réponse dans le champs ci-dessous :11]) -> 0 | BT2: =MIN(Table13[Feedback - Si la réponse comporte moins de 2 étoiles OUI, merci de préciser votre réponse dans le champs ci-dessous :11]) -> 0 | BU2: =MIN(Table13[Points - Si la réponse comporte moins de 2 étoiles OUI, merci de préciser votre réponse dans le champs ci-dessous :11]) -> 0 | BV2: =MIN(Table13[SUPERVISION : Les instances de pilotage permettent de prendre des décisions rapides et efficaces]) -> 4 | BW2: =MIN(Table13[Points - SUPERVISION : Les instances de pilotage permettent de prendre des décisions rapides et efficaces]) -> 0 | BX2: =MIN(Table13[Feedback - SUPERVISION : Les instances de pilotage permettent de prendre des décisions rapides et efficaces]) -> 0 | BY2: =MIN(Table13[Si la réponse comporte moins de 2 étoiles OUI, merci de préciser votre réponse dans le champs ci-dessous :12]) -> 0 | BZ2: =MIN(Table13[Points - Si la réponse comporte moins de 2 étoiles OUI, merci de préciser votre réponse dans le champs ci-dessous :12]) -> 0 | CA2: =MIN(Table13[Feedback - Si la réponse comporte moins de 2 étoiles OUI, merci de préciser votre réponse dans le champs ci-dessous :12]) -> 0 | CB2: =MIN(Table13[RESSOURCES : Les ressources sont suffisantes pour absorber ce changement]) -> 3 | CC2: =MIN(Table13[Points - RESSOURCES : Les ressources sont suffisantes pour absorber ce changement]) -> 0 | CD2: =MIN(Table13[Feedback - RESSOURCES : Les ressources sont suffisantes pour absorber ce changement]) -> 0 | CE2: =MIN(Table13[Si la réponse comporte moins de 2 étoiles OUI, merci de préciser votre réponse dans le champs ci-dessous :13]) -> 0 | CF2: =MIN(Table13[Points - Si la réponse comporte moins de 2 étoiles OUI, merci de préciser votre réponse dans le champs ci-dessous :13]) -> 0 | CG2: =MIN(Table13[Feedback - Si la réponse comporte moins de 2 étoiles OUI, merci de préciser votre réponse dans le champs ci-dessous :13]) -> 0 | CH2: =MIN(Table13[PORTFOLIO : Les interactions de ce projet avec les autres initiatives sont gérées correctement]) -> 3 | CI2: =MIN(Table13[Points - PORTFOLIO : Les interactions de ce projet avec les autres initiatives sont gérées correctement]) -> 0 | CJ2: =MIN(Table13[Feedback - PORTFOLIO : Les interactions de ce projet avec les autres initiatives sont gérées correctement]) -> 0 | CK2: =MIN(Table13[Si la réponse comporte moins de 2 étoiles OUI, merci de préciser votre réponse dans le champs ci-dessous :14]) -> 0 | CL2: =MIN(Table13[Points - Si la réponse comporte moins de 2 étoiles OUI, merci de préciser votre réponse dans le champs ci-dessous :14]) -> 0 | CM2: =MIN(Table13[Feedback - Si la réponse comporte moins de 2 étoiles OUI, merci de préciser votre réponse dans le champs ci-dessous :14]) -> 0 | CN2: =MIN(Table13[CHEMIN CRITIQUE : Les délais et ressources à travers de ce projet sont gérés efficacement]) -> 4 | CO2: =MIN(Table13[Points - CHEMIN CRITIQUE : Les délais et ressources à travers de ce projet sont gérés efficacement]) -> 0 | CP2: =MIN(Table13[Feedback - CHEMIN CRITIQUE : Les délais et ressources à travers de ce projet sont gérés efficacement]) -> 0 | CQ2: =MIN(Table13[Si la réponse comporte moins de 2 étoiles OUI, merci de préciser votre réponse dans le champs ci-dessous :15]) -> 0 | CR2: =MIN(Table13[Points - Si la réponse comporte moins de 2 étoiles OUI, merci de préciser votre réponse dans le champs ci-dessous :15]) -> 0 | CS2: =MIN(Table13[Feedback - Si la réponse comporte moins de 2 étoiles OUI, merci de préciser votre réponse dans le champs ci-dessous :15]) -> 0
A3: =MAX(Table13[ID]) -> 7 | B3: =MAX(Table13[Heure de début]) -> 44903.491 | C3: =MAX(Table13[Heure de fin]) -> 44903.492 | D3: =MAX(Table13[Adresse de messagerie]) -> 0 | E3: =MAX(Table13[Nom]) -> 0 | F3: =MAX(Table13[Total points]) -> 0 | G3: =MAX(Table13[Quiz feedback]) -> 0 | H3: =MAX(Table13[CLARTE : J''ai une vision claire de l’objectif final du programme]) -> 5 | I3: =MAX(Table13[Points - CLARTE : J''ai une vision claire de l’objectif final du programme]) -> 0 | J3: =MAX(Table13[Feedback - CLARTE : J''ai une vision claire de l’objectif final du programme]) -> 0 | K3: =MAX(Table13[Si la réponse comporte moins de 2 étoiles OUI, merci de préciser votre réponse dans le champs ci-dessous :]) -> 0 | L3: =MAX(Table13[Points - Si la réponse comporte moins de 2 étoiles OUI, merci de préciser votre réponse dans le champs ci-dessous :]) -> 0 | M3: =MAX(Table13[Feedback - Si la réponse comporte moins de 2 étoiles OUI, merci de préciser votre réponse dans le champs ci-dessous :]) -> 0 | N3: =MAX(Table13[ALIGNEMENT : Je suis aligné sur l’objectif final du programme]) -> 5 | O3: =MAX(Table13[Points - ALIGNEMENT : Je suis aligné sur l’objectif final du programme]) -> 0 | P3: =MAX(Table13[Feedback - ALIGNEMENT : Je suis aligné sur l’objectif final du programme]) -> 0 | Q3: =MAX(Table13[Si la réponse comporte moins de 2 étoiles OUI, merci de préciser votre réponse dans le champs ci-dessous :2]) -> 0 | R3: =MAX(Table13[Points - Si la réponse comporte moins de 2 étoiles OUI, merci de préciser votre réponse dans le champs ci-dessous :2]) -> 0 | S3: =MAX(Table13[Feedback - Si la réponse comporte moins de 2 étoiles OUI, merci de préciser votre réponse dans le champs ci-dessous :2]) -> 0 | T3: =MAX(Table13[ENGAGEMENT : Je supporte l’objectif du programme]) -> 5 | U3: =MAX(Table13[Points - ENGAGEMENT : Je supporte l’objectif du programme]) -> 0 | V3: =MAX(Table13[Feedback - ENGAGEMENT : Je supporte l’objectif du programme]) -> 0 | W3: =MAX(Table13[Si la réponse comporte moins de 2 étoiles OUI, merci de préciser votre réponse dans le champs ci-dessous :3]) -> 0 | X3: =MAX(Table13[Points - Si la réponse comporte moins de 2 étoiles OUI, merci de préciser votre réponse dans le champs ci-dessous :3]) -> 0 | Y3: =MAX(Table13[Feedback - Si la réponse comporte moins de 2 étoiles OUI, merci de préciser votre réponse dans le champs ci-dessous :3]) -> 0 | Z3: =MAX(Table13[SOLUTION : L’approche pour atteindre l’objectif du programme est solide]) -> 5 | AA3: =MAX(Table13[Points - SOLUTION : L’approche pour atteindre l’objectif du programme est solide]) -> 0 | AB3: =MAX(Table13[Feedback - SOLUTION : L’approche pour atteindre l’objectif du programme est solide]) -> 0 | AC3: =MAX(Table13[Si la réponse comporte moins de 2 étoiles OUI, merci de préciser votre réponse dans le champs ci-dessous :4]) -> 0 | AD3: =MAX(Table13[Points - Si la réponse comporte moins de 2 étoiles OUI, merci de préciser votre réponse dans le champs ci-dessous :4]) -> 0 | AE3: =MAX(Table13[Feedback - Si la réponse comporte moins de 2 étoiles OUI, merci de préciser votre réponse dans le champs ci-dessous :4]) -> 0 | AF3: =MAX(Table13[INTEGRITE : Les objectifs initiaux du programme restent les mêmes]) -> 5 | AG3: =MAX(Table13[Points - INTEGRITE : Les objectifs initiaux du programme restent les mêmes]) -> 0 | AH3: =MAX(Table13[Feedback - INTEGRITE : Les objectifs initiaux du programme restent les mêmes]) -> 0 | AI3: =MAX(Table13[Si la réponse comporte moins de 2 étoiles OUI, merci de préciser votre réponse dans le champs ci-dessous :5]) -> 0 | AJ3: =MAX(Table13[Points - Si la réponse comporte moins de 2 étoiles OUI, merci de préciser votre réponse dans le champs ci-dessous :5]) -> 0 | AK3: =MAX(Table13[Feedback - Si la réponse comporte moins de 2 étoiles OUI, merci de préciser votre réponse dans le champs ci-dessous :5]) -> 0 | AL3: =MAX(Table13[SPONSORSHIP : Les leaders fournissent le niveau de sponsorship suffisant pour supporter le programme]) -> 5 | AM3: =MAX(Table13[Points - SPONSORSHIP : Les leaders fournissent le niveau de sponsorship suffisant pour supporter le programme]) -> 0 | AN3: =MAX(Table13[Feedback - SPONSORSHIP : Les leaders fournissent le niveau de sponsorship suffisant pour supporter le programme]) -> 0 | AO3: =MAX(Table13[Si la réponse comporte moins de 2 étoiles OUI, merci de préciser votre réponse dans le champs ci-dessous :6]) -> 0 | AP3: =MAX(Table13[Points - Si la réponse comporte moins de 2 étoiles OUI, merci de préciser votre réponse dans le champs ci-dessous :6]) -> 0 | AQ3: =MAX(Table13[Feedback - Si la réponse comporte moins de 2 étoiles OUI, merci de préciser votre réponse dans le champs ci-dessous :6]) -> 0 | AR3: =MAX(Table13[CAPACITE : Ce changement entraine une charge de travail que nous pouvons absorber sur le site]) -> 5 | AS3: =MAX(Table13[Points - CAPACITE : Ce changement entraine une charge de travail que nous pouvons absorber sur le site]) -> 0 | AT3: =MAX(Table13[Feedback - CAPACITE : Ce changement entraine une charge de travail que nous pouvons absorber sur le site]) -> 0 | AU3: =MAX(Table13[Si la réponse comporte moins de 2 étoiles OUI, merci de préciser votre réponse dans le champs ci-dessous :7]) -> 0 | AV3: =MAX(Table13[Points - Si la réponse comporte moins de 2 étoiles OUI, merci de préciser votre réponse dans le champs ci-dessous :7]) -> 0 | AW3: =MAX(Table13[Feedback - Si la réponse comporte moins de 2 étoiles OUI, merci de préciser votre réponse dans le champs ci-dessous :7]) -> 0 | AX3: =MAX(Table13[CULTURE : Nous avons la culture appropriée pour absorber ce changement]) -> 5 | AY3: =MAX(Table13[Points - CULTURE : Nous avons la culture appropriée pour absorber ce changement]) -> 0 | AZ3: =MAX(Table13[Feedback - CULTURE : Nous avons la culture appropriée pour absorber ce changement]) -> 0 | BA3: =MAX(Table13[Si la réponse comporte moins de 2 étoiles OUI, merci de préciser votre réponse dans le champs ci-dessous :8]) -> 0 | BB3: =MAX(Table13[Feedback - Si la réponse comporte moins de 2 étoiles OUI, merci de préciser votre réponse dans le champs ci-dessous :8]) -> 0 | BC3: =MAX(Table13[Points - Si la réponse comporte moins de 2 étoiles OUI, merci de préciser votre réponse dans le champs ci-dessous :8]) -> 0 | BD3: =MAX(Table13[RESISTANCE : Les personnes impactées par ce changement démontrent l''engagement nécessaire pour réussir sa mise en place]) -> 5 | BE3: =MAX(Table13[Feedback - RESISTANCE : Les personnes impactées par ce changement démontrent l''engagement nécessaire pour réussir sa mise en place]) -> 0 | BF3: =MAX(Table13[Points - RESISTANCE : Les personnes impactées par ce changement démontrent l''engagement nécessaire pour réussir sa mise en place]) -> 0 | BG3: =MAX(Table13[Si la réponse comporte moins de 2 étoiles OUI, merci de préciser votre réponse dans le champs ci-dessous :9]) -> 0 | BH3: =MAX(Table13[Feedback - Si la réponse comporte moins de 2 étoiles OUI, merci de préciser votre réponse dans le champs ci-dessous :9]) -> 0 | BI3: =MAX(Table13[Points - Si la réponse comporte moins de 2 étoiles OUI, merci de préciser votre réponse dans le champs ci-dessous :9]) -> 0 | BJ3: =MAX(Table13[SYNERGIE : Nos efforts de collaboration pour ce projet nous font gagner du temps plus qu’il n’en coute]) -> 5 | BK3: =MAX(Table13[Feedback - SYNERGIE : Nos efforts de collaboration pour ce projet nous font gagner du temps plus qu’il n’en coute]) -> 0 | BL3: =MAX(Table13[Points - SYNERGIE : Nos efforts de collaboration pour ce projet nous font gagner du temps plus qu’il n’en coute]) -> 0 | BM3: =MAX(Table13[Si la réponse comporte moins de 2 étoiles OUI, merci de préciser votre réponse dans le champs ci-dessous :10]) -> 0 | BN3: =MAX(Table13[Feedback - Si la réponse comporte moins de 2 étoiles OUI, merci de préciser votre réponse dans le champs ci-dessous :10]) -> 0 | BO3: =MAX(Table13[Points - Si la réponse comporte moins de 2 étoiles OUI, merci de préciser votre réponse dans le champs ci-dessous :10]) -> 0 | BP3: =MAX(Table13[PARTENARIAT : Nos interactions avec des partenaires externes sont suffisantes pour supporter ce changement]) -> 5 | BQ3: =MAX(Table13[Feedback - PARTENARIAT : Nos interactions avec des partenaires externes sont suffisantes pour supporter ce changement]) -> 0 | BR3: =MAX(Table13[Points - PARTENARIAT : Nos interactions avec des partenaires externes sont suffisantes pour supporter ce changement]) -> 0 | BS3: =MAX(Table13[Si la réponse comporte moins de 2 étoiles OUI, merci de préciser votre réponse dans le champs ci-dessous :11]) -> 0 | BT3: =MAX(Table13[Feedback - Si la réponse comporte moins de 2 étoiles OUI, merci de préciser votre réponse dans le champs ci-dessous :11]) -> 0 | BU3: =MAX(Table13[Points - Si la réponse comporte moins de 2 étoiles OUI, merci de préciser votre réponse dans le champs ci-dessous :11]) -> 0 | BV3: =MAX(Table13[SUPERVISION : Les instances de pilotage permettent de prendre des décisions rapides et efficaces]) -> 5 | BW3: =MAX(Table13[Points - SUPERVISION : Les instances de pilotage permettent de prendre des décisions rapides et efficaces]) -> 0 | BX3: =MAX(Table13[Feedback - SUPERVISION : Les instances de pilotage permettent de prendre des décisions rapides et efficaces]) -> 0 | BY3: =MAX(Table13[Si la réponse comporte moins de 2 étoiles OUI, merci de préciser votre réponse dans le champs ci-dessous :12]) -> 0 | BZ3: =MAX(Table13[Points - Si la réponse comporte moins de 2 étoiles OUI, merci de préciser votre réponse dans le champs ci-dessous :12]) -> 0 | CA3: =MAX(Table13[Feedback - Si la réponse comporte moins de 2 étoiles OUI, merci de préciser votre réponse dans le champs ci-dessous :12]) -> 0 | CB3: =MAX(Table13[RESSOURCES : Les ressources sont suffisantes pour absorber ce changement]) -> 5 | CC3: =MAX(Table13[Points - RESSOURCES : Les ressources sont suffisantes pour absorber ce changement]) -> 0 | CD3: =MAX(Table13[Feedback - RESSOURCES : Les ressources sont suffisantes pour absorber ce changement]) -> 0 | CE3: =MAX(Table13[Si la réponse comporte moins de 2 étoiles OUI, merci de préciser votre réponse dans le champs ci-dessous :13]) -> 0 | CF3: =MAX(Table13[Points - Si la réponse comporte moins de 2 étoiles OUI, merci de préciser votre réponse dans le champs ci-dessous :13]) -> 0 | CG3: =MAX(Table13[Feedback - Si la réponse comporte moins de 2 étoiles OUI, merci de préciser votre réponse dans le champs ci-dessous :13]) -> 0 | CH3: =MAX(Table13[PORTFOLIO : Les interactions de ce projet avec les autres initiatives sont gérées correctement]) -> 5 | CI3: =MAX(Table13[Points - PORTFOLIO : Les interactions de ce projet avec les autres initiatives sont gérées correctement]) -> 0 | CJ3: =MAX(Table13[Feedback - PORTFOLIO : Les interactions de ce projet avec les autres initiatives sont gérées correctement]) -> 0 | CK3: =MAX(Table13[Si la réponse comporte moins de 2 étoiles OUI, merci de préciser votre réponse dans le champs ci-dessous :14]) -> 0 | CL3: =MAX(Table13[Points - Si la réponse comporte moins de 2 étoiles OUI, merci de préciser votre réponse dans le champs ci-dessous :14]) -> 0 | CM3: =MAX(Table13[Feedback - Si la réponse comporte moins de 2 étoiles OUI, merci de préciser votre réponse dans le champs ci-dessous :14]) -> 0 | CN3: =MAX(Table13[CHEMIN CRITIQUE : Les délais et ressources à travers de ce projet sont gérés efficacement]) -> 5 | CO3: =MAX(Table13[Points - CHEMIN CRITIQUE : Les délais et ressources à travers de ce projet sont gérés efficacement]) -> 0 | CP3: =MAX(Table13[Feedback - CHEMIN CRITIQUE : Les délais et ressources à travers de ce projet sont gérés efficacement]) -> 0 | CQ3: =MAX(Table13[Si la réponse comporte moins de 2 étoiles OUI, merci de préciser votre réponse dans le champs ci-dessous :15]) -> 0 | CR3: =MAX(Table13[Points - Si la réponse comporte moins de 2 étoiles OUI, merci de préciser votre réponse dans le champs ci-dessous :15]) -> 0 | CS3: =MAX(Table13[Feedback - Si la réponse comporte moins de 2 étoiles OUI, merci de préciser votre réponse dans le champs ci-dessous :15]) -> 0
A4: =COUNT(Table13[ID]) -> 7 | B4: =COUNT(Table13[Heure de début]) -> 7 | C4: =COUNT(Table13[Heure de fin]) -> 7 | D4: =COUNT(Table13[Adresse de messagerie]) -> 0 | E4: =COUNT(Table13[Nom]) -> 0 | F4: =COUNT(Table13[Total points]) -> 0 | G4: =COUNT(Table13[Quiz feedback]) -> 0 | H4: =COUNT(Table13[CLARTE : J''ai une vision claire de l’objectif final du programme]) -> 7 | I4: =COUNT(Table13[Points - CLARTE : J''ai une vision claire de l’objectif final du programme]) -> 0 | J4: =COUNT(Table13[Feedback - CLARTE : J''ai une vision claire de l’objectif final du programme]) -> 0 | K4: =COUNT(Table13[Si la réponse comporte moins de 2 étoiles OUI, merci de préciser votre réponse dans le champs ci-dessous :]) -> 0 | L4: =COUNT(Table13[Points - Si la réponse comporte moins de 2 étoiles OUI, merci de préciser votre réponse dans le champs ci-dessous :]) -> 0 | M4: =COUNT(Table13[Feedback - Si la réponse comporte moins de 2 étoiles OUI, merci de préciser votre réponse dans le champs ci-dessous :]) -> 0 | N4: =COUNT(Table13[ALIGNEMENT : Je suis aligné sur l’objectif final du programme]) -> 7 | O4: =COUNT(Table13[Points - ALIGNEMENT : Je suis aligné sur l’objectif final du programme]) -> 0 | P4: =COUNT(Table13[Feedback - ALIGNEMENT : Je suis aligné sur l’objectif final du programme]) -> 0 | Q4: =COUNT(Table13[Si la réponse comporte moins de 2 étoiles OUI, merci de préciser votre réponse dans le champs ci-dessous :2]) -> 0 | R4: =COUNT(Table13[Points - Si la réponse comporte moins de 2 étoiles OUI, merci de préciser votre réponse dans le champs ci-dessous :2]) -> 0 | S4: =COUNT(Table13[Feedback - Si la réponse comporte moins de 2 étoiles OUI, merci de préciser votre réponse dans le champs ci-dessous :2]) -> 0 | T4: =COUNT(Table13[ENGAGEMENT : Je supporte l’objectif du programme]) -> 7 | U4: =COUNT(Table13[Points - ENGAGEMENT : Je supporte l’objectif du programme]) -> 0 | V4: =COUNT(Table13[Feedback - ENGAGEMENT : Je supporte l’objectif du programme]) -> 0 | W4: =COUNT(Table13[Si la réponse comporte moins de 2 étoiles OUI, merci de préciser votre réponse dans le champs ci-dessous :3]) -> 0 | X4: =COUNT(Table13[Points - Si la réponse comporte moins de 2 étoiles OUI, merci de préciser votre réponse dans le champs ci-dessous :3]) -> 0 | Y4: =COUNT(Table13[Feedback - Si la réponse comporte moins de 2 étoiles OUI, merci de préciser votre réponse dans le champs ci-dessous :3]) -> 0 | Z4: =COUNT(Table13[SOLUTION : L’approche pour atteindre l’objectif du programme est solide]) -> 7 | AA4: =COUNT(Table13[Points - SOLUTION : L’approche pour atteindre l’objectif du programme est solide]) -> 0 | AB4: =COUNT(Table13[Feedback - SOLUTION : L’approche pour atteindre l’objectif du programme est solide]) -> 0 | AC4: =COUNT(Table13[Si la réponse comporte moins de 2 étoiles OUI, merci de préciser votre réponse dans le champs ci-dessous :4]) -> 0 | AD4: =COUNT(Table13[Points - Si la réponse comporte moins de 2 étoiles OUI, merci de préciser votre réponse dans le champs ci-dessous :4]) -> 0 | AE4: =COUNT(Table13[Feedback - Si la réponse comporte moins de 2 étoiles OUI, merci de préciser votre réponse dans le champs ci-dessous :4]) -> 0 | AF4: =COUNT(Table13[INTEGRITE : Les objectifs initiaux du programme restent les mêmes]) -> 7 | AG4: =COUNT(Table13[Points - INTEGRITE : Les objectifs initiaux du programme restent les mêmes]) -> 0 | AH4: =COUNT(Table13[Feedback - INTEGRITE : Les objectifs initiaux du programme restent les mêmes]) -> 0 | AI4: =COUNT(Table13[Si la réponse comporte moins de 2 étoiles OUI, merci de préciser votre réponse dans le champs ci-dessous :5]) -> 0 | AJ4: =COUNT(Table13[Points - Si la réponse comporte moins de 2 étoiles OUI, merci de préciser votre réponse dans le champs ci-dessous :5]) -> 0 | AK4: =COUNT(Table13[Feedback - Si la réponse comporte moins de 2 étoiles OUI, merci de préciser votre réponse dans le champs ci-dessous :5]) -> 0 | AL4: =COUNT(Table13[SPONSORSHIP : Les leaders fournissent le niveau de sponsorship suffisant pour supporter le programme]) -> 7 | AM4: =COUNT(Table13[Points - SPONSORSHIP : Les leaders fournissent le niveau de sponsorship suffisant pour supporter le programme]) -> 0 | AN4: =COUNT(Table13[Feedback - SPONSORSHIP : Les leaders fournissent le niveau de sponsorship suffisant pour supporter le programme]) -> 0 | AO4: =COUNT(Table13[Si la réponse comporte moins de 2 étoiles OUI, merci de préciser votre réponse dans le champs ci-dessous :6]) -> 0 | AP4: =COUNT(Table13[Points - Si la réponse comporte moins de 2 étoiles OUI, merci de préciser votre réponse dans le champs ci-dessous :6]) -> 0 | AQ4: =COUNT(Table13[Feedback - Si la réponse comporte moins de 2 étoiles OUI, merci de préciser votre réponse dans le champs ci-dessous :6]) -> 0 | AR4: =COUNT(Table13[CAPACITE : Ce changement entraine une charge de travail que nous pouvons absorber sur le site]) -> 7 | AS4: =COUNT(Table13[Points - CAPACITE : Ce changement entraine une charge de travail que nous pouvons absorber sur le site]) -> 0 | AT4: =COUNT(Table13[Feedback - CAPACITE : Ce changement entraine une charge de travail que nous pouvons absorber sur le site]) -> 0 | AU4: =COUNT(Table13[Si la réponse comporte moins de 2 étoiles OUI, merci de préciser votre réponse dans le champs ci-dessous :7]) -> 0 | AV4: =COUNT(Table13[Points - Si la réponse comporte moins de 2 étoiles OUI, merci de préciser votre réponse dans le champs ci-dessous :7]) -> 0 | AW4: =COUNT(Table13[Feedback - Si la réponse comporte moins de 2 étoiles OUI, merci de préciser votre réponse dans le champs ci-dessous :7]) -> 0 | AX4: =COUNT(Table13[CULTURE : Nous avons la culture appropriée pour absorber ce changement]) -> 7 | AY4: =COUNT(Table13[Points - CULTURE : Nous avons la culture appropriée pour absorber ce changement]) -> 0 | AZ4: =COUNT(Table13[Feedback - CULTURE : Nous avons la culture appropriée pour absorber ce changement]) -> 0 | BA4: =COUNT(Table13[Si la réponse comporte moins de 2 étoiles OUI, merci de préciser votre réponse dans le champs ci-dessous :8]) -> 0 | BB4: =COUNT(Table13[Feedback - Si la réponse comporte moins de 2 étoiles OUI, merci de préciser votre réponse dans le champs ci-dessous :8]) -> 0 | BC4: =COUNT(Table13[Points - Si la réponse comporte moins de 2 étoiles OUI, merci de préciser votre réponse dans le champs ci-dessous :8]) -> 0 | BD4: =COUNT(Table13[RESISTANCE : Les personnes impactées par ce changement démontrent l''engagement nécessaire pour réussir sa mise en place]) -> 7 | BE4: =COUNT(Table13[Feedback - RESISTANCE : Les personnes impactées par ce changement démontrent l''engagement nécessaire pour réussir sa mise en place]) -> 0 | BF4: =COUNT(Table13[Points - RESISTANCE : Les personnes impactées par ce changement démontrent l''engagement nécessaire pour réussir sa mise en place]) -> 0 | BG4: =COUNT(Table13[Si la réponse comporte moins de 2 étoiles OUI, merci de préciser votre réponse dans le champs ci-dessous :9]) -> 0 | BH4: =COUNT(Table13[Feedback - Si la réponse comporte moins de 2 étoiles OUI, merci de préciser votre réponse dans le champs ci-dessous :9]) -> 0 | BI4: =COUNT(Table13[Points - Si la réponse comporte moins de 2 étoiles OUI, merci de préciser votre réponse dans le champs ci-dessous :9]) -> 0 | BJ4: =COUNT(Table13[SYNERGIE : Nos efforts de collaboration pour ce projet nous font gagner du temps plus qu’il n’en coute]) -> 7 | BK4: =COUNT(Table13[Feedback - SYNERGIE : Nos efforts de collaboration pour ce projet nous font gagner du temps plus qu’il n’en coute]) -> 0 | BL4: =COUNT(Table13[Points - SYNERGIE : Nos efforts de collaboration pour ce projet nous font gagner du temps plus qu’il n’en coute]) -> 0 | BM4: =COUNT(Table13[Si la réponse comporte moins de 2 étoiles OUI, merci de préciser votre réponse dans le champs ci-dessous :10]) -> 0 | BN4: =COUNT(Table13[Feedback - Si la réponse comporte moins de 2 étoiles OUI, merci de préciser votre réponse dans le champs ci-dessous :10]) -> 0 | BO4: =COUNT(Table13[Points - Si la réponse comporte moins de 2 étoiles OUI, merci de préciser votre réponse dans le champs ci-dessous :10]) -> 0 | BP4: =COUNT(Table13[PARTENARIAT : Nos interactions avec des partenaires externes sont suffisantes pour supporter ce changement]) -> 7 | BQ4: =COUNT(Table13[Feedback - PARTENARIAT : Nos interactions avec des partenaires externes sont suffisantes pour supporter ce changement]) -> 0 | BR4: =COUNT(Table13[Points - PARTENARIAT : Nos interactions avec des partenaires externes sont suffisantes pour supporter ce changement]) -> 0 | BS4: =COUNT(Table13[Si la réponse comporte moins de 2 étoiles OUI, merci de préciser votre réponse dans le champs ci-dessous :11]) -> 0 | BT4: =COUNT(Table13[Feedback - Si la réponse comporte moins de 2 étoiles OUI, merci de préciser votre réponse dans le champs ci-dessous :11]) -> 0 | BU4: =COUNT(Table13[Points - Si la réponse comporte moins de 2 étoiles OUI, merci de préciser votre réponse dans le champs ci-dessous :11]) -> 0 | BV4: =COUNT(Table13[SUPERVISION : Les instances de pilotage permettent de prendre des décisions rapides et efficaces]) -> 7 | BW4: =COUNT(Table13[Points - SUPERVISION : Les instances de pilotage permettent de prendre des décisions rapides et efficaces]) -> 0 | BX4: =COUNT(Table13[Feedback - SUPERVISION : Les instances de pilotage permettent de prendre des décisions rapides et efficaces]) -> 0 | BY4: =COUNT(Table13[Si la réponse comporte moins de 2 étoiles OUI, merci de préciser votre réponse dans le champs ci-dessous :12]) -> 0 | BZ4: =COUNT(Table13[Points - Si la réponse comporte moins de 2 étoiles OUI, merci de préciser votre réponse dans le champs ci-dessous :12]) -> 0 | CA4: =COUNT(Table13[Feedback - Si la réponse comporte moins de 2 étoiles OUI, merci de préciser votre réponse dans le champs ci-dessous :12]) -> 0 | CB4: =COUNT(Table13[RESSOURCES : Les ressources sont suffisantes pour absorber ce changement]) -> 7 | CC4: =COUNT(Table13[Points - RESSOURCES : Les ressources sont suffisantes pour absorber ce changement]) -> 0 | CD4: =COUNT(Table13[Feedback - RESSOURCES : Les ressources sont suffisantes pour absorber ce changement]) -> 0 | CE4: =COUNT(Table13[Si la réponse comporte moins de 2 étoiles OUI, merci de préciser votre réponse dans le champs ci-dessous :13]) -> 0 | CF4: =COUNT(Table13[Points - Si la réponse comporte moins de 2 étoiles OUI, merci de préciser votre réponse dans le champs ci-dessous :13]) -> 0 | CG4: =COUNT(Table13[Feedback - Si la réponse comporte moins de 2 étoiles OUI, merci de préciser votre réponse dans le champs ci-dessous :13]) -> 0 | CH4: =COUNT(Table13[PORTFOLIO : Les interactions de ce projet avec les autres initiatives sont gérées correctement]) -> 7 | CI4: =COUNT(Table13[Points - PORTFOLIO : Les interactions de ce projet avec les autres initiatives sont gérées correctement]) -> 0 | CJ4: =COUNT(Table13[Feedback - PORTFOLIO : Les interactions de ce projet avec les autres initiatives sont gérées correctement]) -> 0 | CK4: =COUNT(Table13[Si la réponse comporte moins de 2 étoiles OUI, merci de préciser votre réponse dans le champs ci-dessous :14]) -> 0 | CL4: =COUNT(Table13[Points - Si la réponse comporte moins de 2 étoiles OUI, merci de préciser votre réponse dans le champs ci-dessous :14]) -> 0 | CM4: =COUNT(Table13[Feedback - Si la réponse comporte moins de 2 étoiles OUI, merci de préciser votre réponse dans le champs ci-dessous :14]) -> 0 | CN4: =COUNT(Table13[CHEMIN CRITIQUE : Les délais et ressources à travers de ce projet sont gérés efficacement]) -> 7 | CO4: =COUNT(Table13[Points - CHEMIN CRITIQUE : Les délais et ressources à travers de ce projet sont gérés efficacement]) -> 0 | CP4: =COUNT(Table13[Feedback - CHEMIN CRITIQUE : Les délais et ressources à travers de ce projet sont gérés efficacement]) -> 0 | CQ4: =COUNT(Table13[Si la réponse comporte moins de 2 étoiles OUI, merci de préciser votre réponse dans le champs ci-dessous :15]) -> 0 | CR4: =COUNT(Table13[Points - Si la réponse comporte moins de 2 étoiles OUI, merci de préciser votre réponse dans le champs ci-dessous :15]) -> 0 | CS4: =COUNT(Table13[Feedback - Si la réponse comporte moins de 2 étoiles OUI, merci de préciser votre réponse dans le champs ci-dessous :15]) -> 0
A5: ID | B5: Heure de début | C5: Heure de fin | D5: Adresse de messagerie | E5: Nom | F5: Total points | G5: Quiz feedback | H5: CLARTE : J'ai une vision claire de l’objectif final du programme | I5: Points - CLARTE : J'ai une vision claire de l’objectif final du programme | J5: Feedback - CLARTE : J'ai une vision claire de l’objectif final du programme | K5: Si la réponse comporte moins de 2 étoiles OUI, merci de préciser votre réponse dans le champs ci-dessous : | L5: Points - Si la réponse comporte moins de 2 étoiles OUI, merci de préciser votre réponse dans le champs ci-dessous : | M5: Feedback - Si la réponse comporte moins de 2 étoiles OUI, merci de préciser votre réponse dans le champs ci-dessous : | N5: ALIGNEMENT : Je suis aligné sur l’objectif final du programme | O5: Points - ALIGNEMENT : Je suis aligné sur l’objectif final du programme | P5: Feedback - ALIGNEMENT : Je suis aligné sur l’objectif final du programme | Q5: Si la réponse comporte moins de 2 étoiles OUI, merci de préciser votre réponse dans le champs ci-dessous :2 | R5: Points - Si la réponse comporte moins de 2 étoiles OUI, merci de préciser votre réponse dans le champs ci-dessous :2 | S5: Feedback - Si la réponse comporte moins de 2 étoiles OUI, merci de préciser votre réponse dans le champs ci-dessous :2 | T5: ENGAGEMENT : Je supporte l’objectif du programme | U5: Points - ENGAGEMENT : Je supporte l’objectif du programme | V5: Feedback - ENGAGEMENT : Je supporte l’objectif du programme | W5: Si la réponse comporte moins de 2 étoiles OUI, merci de préciser votre réponse dans le champs ci-dessous :3 | X5: Points - Si la réponse comporte moins de 2 étoiles OUI, merci de préciser votre réponse dans le champs ci-dessous :3 | Y5: Feedback - Si la réponse comporte moins de 2 étoiles OUI, merci de préciser votre réponse dans le champs ci-dessous :3 | Z5: SOLUTION : L’approche pour atteindre l’objectif du programme est solide | AA5: Points - SOLUTION : L’approche pour atteindre l’objectif du programme est solide | AB5: Feedback - SOLUTION : L’approche pour atteindre l’objectif du programme est solide | AC5: Si la réponse comporte moins de 2 étoiles OUI, merci de préciser votre réponse dans le champs ci-dessous :4 | AD5: Points - Si la réponse comporte moins de 2 étoiles OUI, merci de préciser votre réponse dans le champs ci-dessous :4 | AE5: Feedback - Si la réponse comporte moins de 2 étoiles OUI, merci de préciser votre réponse dans le champs ci-dessous :4 | AF5: INTEGRITE : Les objectifs initiaux du programme restent les mêmes | AG5: Points - INTEGRITE : Les objectifs initiaux du programme restent les mêmes | AH5: Feedback - INTEGRITE : Les objectifs initiaux du programme restent les mêmes | AI5: Si la réponse comporte moins de 2 étoiles OUI, merci de préciser votre réponse dans le champs ci-dessous :5 | AJ5: Points - Si la réponse comporte moins de 2 étoiles OUI, merci de préciser votre réponse dans le champs ci-dessous :5 | AK5: Feedback - Si la réponse comporte moins de 2 étoiles OUI, merci de préciser votre réponse dans le champs ci-dessous :5 | AL5: SPONSORSHIP : Les leaders fournissent le niveau de sponsorship suffisant pour supporter le programme | AM5: Points - SPONSORSHIP : Les leaders fournissent le niveau de sponsorship suffisant pour supporter le programme | AN5: Feedback - SPONSORSHIP : Les leaders fournissent le niveau de sponsorship suffisant pour supporter le programme | AO5: Si la réponse comporte moins de 2 étoiles OUI, merci de préciser votre réponse dans le champs ci-dessous :6 | AP5: Points - Si la réponse comporte moins de 2 étoiles OUI, merci de préciser votre réponse dans le champs ci-dessous :6 | AQ5: Feedback - Si la réponse comporte moins de 2 étoiles OUI, merci de préciser votre réponse dans le champs ci-dessous :6 | AR5: CAPACITE : Ce changement entraine une charge de travail que nous pouvons absorber sur le site | AS5: Points - CAPACITE : Ce changement entraine une charge de travail que nous pouvons absorber sur le site | AT5: Feedback - CAPACITE : Ce changement entraine une charge de travail que nous pouvons absorber sur le site | AU5: Si la réponse comporte moins de 2 étoiles OUI, merci de préciser votre réponse dans le champs ci-dessous :7 | AV5: Points - Si la réponse comporte moins de 2 étoiles OUI, merci de préciser votre réponse dans le champs ci-dessous :7 | AW5: Feedback - Si la réponse comporte moins de 2 étoiles OUI, merci de préciser votre réponse dans le champs ci-dessous :7 | AX5: CULTURE : Nous avons la culture appropriée pour absorber ce changement | AY5: Points - CULTURE : Nous avons la culture appropriée pour absorber ce changement | AZ5: Feedback - CULTURE : Nous avons la culture appropriée pour absorber ce changement | BA5: Si la réponse comporte moins de 2 étoiles OUI, merci de préciser votre réponse dans le champs ci-dessous :8 | BB5: Feedback - Si la réponse comporte moins de 2 étoiles OUI, merci de préciser votre réponse dans le champs ci-dessous :8 | BC5: Points - Si la réponse comporte moins de 2 étoiles OUI, merci de préciser votre réponse dans le champs ci-dessous :8 | BD5: RESISTANCE : Les personnes impactées par ce changement démontrent l'engagement nécessaire pour réussir sa mise en place | BE5: Feedback - RESISTANCE : Les personnes impactées par ce changement démontrent l'engagement nécessaire pour réussir sa mise en place | BF5: Points - RESISTANCE : Les personnes impactées par ce changement démontrent l'engagement nécessaire pour réussir sa mise en place | BG5: Si la réponse comporte moins de 2 étoiles OUI, merci de préciser votre réponse dans le champs ci-dessous :9 | BH5: Feedback - Si la réponse comporte moins de 2 étoiles OUI, merci de préciser votre réponse dans le champs ci-dessous :9 | BI5: Points - Si la réponse comporte moins de 2 étoiles OUI, merci de préciser votre réponse dans le champs ci-dessous :9 | BJ5: SYNERGIE : Nos efforts de collaboration pour ce projet nous font gagner du temps plus qu’il n’en coute | BK5: Feedback - SYNERGIE : Nos efforts de collaboration pour ce projet nous font gagner du temps plus qu’il n’en coute | BL5: Points - SYNERGIE : Nos efforts de collaboration pour ce projet nous font gagner du temps plus qu’il n’en coute | BM5: Si la réponse comporte moins de 2 étoiles OUI, merci de préciser votre réponse dans le champs ci-dessous :10 | BN5: Feedback - Si la réponse comporte moins de 2 étoiles OUI, merci de préciser votre réponse dans le champs ci-dessous :10 | BO5: Points - Si la réponse comporte moins de 2 étoiles OUI, merci de préciser votre réponse dans le champs ci-dessous :10 | BP5: PARTENARIAT : Nos interactions avec des partenaires externes sont suffisantes pour supporter ce changement | BQ5: Feedback - PARTENARIAT : Nos interactions avec des partenaires externes sont suffisantes pour supporter ce changement | BR5: Points - PARTENARIAT : Nos interactions avec des partenaires externes sont suffisantes pour supporter ce changement | BS5: Si la réponse comporte moins de 2 étoiles OUI, merci de préciser votre réponse dans le champs ci-dessous :11 | BT5: Feedback - Si la réponse comporte moins de 2 étoiles OUI, merci de préciser votre réponse dans le champs ci-dessous :11 | BU5: Points - Si la réponse comporte moins de 2 étoiles OUI, merci de préciser votre réponse dans le champs ci-dessous :11 | BV5: SUPERVISION : Les instances de pilotage permettent de prendre des décisions rapides et efficaces | BW5: Points - SUPERVISION : Les instances de pilotage permettent de prendre des décisions rapides et efficaces | BX5: Feedback - SUPERVISION : Les instances de pilotage permettent de prendre des décisions rapides et efficaces | BY5: Si la réponse comporte moins de 2 étoiles OUI, merci de préciser votre réponse dans le champs ci-dessous :12 | BZ5: Points - Si la réponse comporte moins de 2 étoiles OUI, merci de préciser votre réponse dans le champs ci-dessous :12 | CA5: Feedback - Si la réponse comporte moins de 2 étoiles OUI, merci de préciser votre réponse dans le champs ci-dessous :12 | CB5: RESSOURCES : Les ressources sont suffisantes pour absorber ce changement | CC5: Points - RESSOURCES : Les ressources sont suffisantes pour absorber ce changement | CD5: Feedback - RESSOURCES : Les ressources sont suffisantes pour absorber ce changement | CE5: Si la réponse comporte moins de 2 étoiles OUI, merci de préciser votre réponse dans le champs ci-dessous :13 | CF5: Points - Si la réponse comporte moins de 2 étoiles OUI, merci de préciser votre réponse dans le champs ci-dessous :13 | CG5: Feedback - Si la réponse comporte moins de 2 étoiles OUI, merci de préciser votre réponse dans le champs ci-dessous :13 | CH5: PORTFOLIO : Les interactions de ce projet avec les autres initiatives sont gérées correctement | CI5: Points - PORTFOLIO : Les interactions de ce projet avec les autres initiatives sont gérées correctement | CJ5: Feedback - PORTFOLIO : Les interactions de ce projet avec les autres initiatives sont gérées correctement | CK5: Si la réponse comporte moins de 2 étoiles OUI, merci de préciser votre réponse dans le champs ci-dessous :14 | CL5: Points - Si la réponse comporte moins de 2 étoiles OUI, merci de préciser votre réponse dans le champs ci-dessous :14 | CM5: Feedback - Si la réponse comporte moins de 2 étoiles OUI, merci de préciser votre réponse dans le champs ci-dessous :14 | CN5: CHEMIN CRITIQUE : Les délais et ressources à travers de ce projet sont gérés efficacement | CO5: Points - CHEMIN CRITIQUE : Les délais et ressources à travers de ce projet sont gérés efficacement | CP5: Feedback - CHEMIN CRITIQUE : Les délais et ressources à travers de ce projet sont gérés efficacement | CQ5: Si la réponse comporte moins de 2 étoiles OUI, merci de préciser votre réponse dans le champs ci-dessous :15 | CR5: Points - Si la réponse comporte moins de 2 étoiles OUI, merci de préciser votre réponse dans le champs ci-dessous :15 | CS5: Feedback - Si la réponse comporte moins de 2 étoiles OUI, merci de préciser votre réponse dans le champs ci-dessous :15
A6: 1 | B6: 44900.356 | C6: 44900.358 | D6: anonymous | H6: 5 | N6: 5 | T6: 5 | Z6: 4 | AC6: Organisation pour maintenir la solution SAP Architecture SAP sécurisée | AF6: 5 | AL6: 5 | AR6: 4 | AX6: 3 | BD6: 4 | BJ6: 4 | BP6: 4 | BV6: 5 | CB6: 3 | CE6: Vigilance avec les SME | CH6: 3 | CK6: Pas de plan de charge commun avec les autres projets site. | CN6: 5
A7: 2 | B7: 44900.583 | C7: 44900.71 | D7: anonymous | H7: 5 | N7: 5 | T7: 5 | Z7: 5 | AF7: 5 | AL7: 5 | AR7: 5 | AX7: 3 | BD7: 5 | BJ7: 4 | BP7: 4 | BV7: 5 | CB7: 5 | CH7: 5 | CN7: 4
A8: 3 | B8: 44900.75 | C8: 44900.762 | D8: anonymous | H8: 5 | N8: 5 | T8: 5 | Z8: 5 | AF8: 5 | AL8: 5 | AR8: 4 | AX8: 3 | BD8: 5 | BJ8: 4 | BP8: 5 | BV8: 5 | CB8: 5 | CH8: 5 | CN8: 5
A9: 4 | B9: 44900.749 | C9: 44900.762 | D9: anonymous | H9: 5 | N9: 5 | T9: 5 | Z9: 5 | AF9: 5 | AL9: 5 | AR9: 4 | AX9: 2 | BA9: Fortes exigences de la VSI pourraient entrainer des ralentissements projet. | BD9: 5 | BJ9: 5 | BP9: 5 | BV9: 5 | CB9: 3 | CH9: 3 | CN9: 4
A10: 5 | B10: 44902.385 | C10: 44902.386 | D10: anonymous | H10: 5 | N10: 5 | T10: 5 | Z10: 5 | AF10: 5 | AL10: 5 | AR10: 5 | AX10: 5 | BD10: 5 | BJ10: 5 | BP10: 5 | BV10: 5 | CB10: 5 | CH10: 5 | CN10: 5
A11: 6 | B11: 44902.725 | C11: 44902.736 | D11: anonymous | H11: 5 | N11: 5 | T11: 5 | Z11: 4 | AF11: 5 | AL11: 3 | AR11: 4 | AX11: 5 | BD11: 5 | BJ11: 4 | BP11: 4 | BV11: 4 | CB11: 5 | CH11: 4 | CN11: 4
A12: 7 | B12: 44903.491 | C12: 44903.492 | D12: anonymous | H12: 5 | N12: 5 | T12: 5 | Z12: 5 | AF12: 5 | AL12: 5 | AR12: 5 | AX12: 5 | BD12: 5 | BJ12: 5 | BP12: 5 | BV12: 5 | CB12: 5 | CH12: 5 | CN12: 5

Sheet Sheet1
A1: =AVERAGE(Table1[ID]) -> 17 | B1: =AVERAGE(Table1[Heure de début]) -> 44901.105 | C1: =AVERAGE(Table1[Heure de fin]) -> 44901.124 | D1: =AVERAGE(Table1[Adresse de messagerie]) -> #DIV/0! | E1: =AVERAGE(Table1[Nom]) -> #DIV/0! | F1: =AVERAGE(Table1[Total points]) -> #DIV/0! | G1: =AVERAGE(Table1[Quiz feedback]) -> #DIV/0! | H1: =AVERAGE(Table1[CLARTE : J''ai une vision claire de l’objectif final du programme]) -> 4.2962963 | I1: =AVERAGE(Table1[Points - CLARTE : J''ai une vision claire de l’objectif final du programme]) -> #DIV/0! | J1: =AVERAGE(Table1[Feedback - CLARTE : J''ai une vision claire de l’objectif final du programme]) -> #DIV/0! | K1: =AVERAGE(Table1[Si la réponse comporte moins de 2 étoiles OUI, merci de préciser votre réponse dans le champs ci-dessous :]) -> #DIV/0! | L1: =AVERAGE(Table1[Points - Si la réponse comporte moins de 2 étoiles OUI, merci de préciser votre réponse dans le champs ci-dessous :]) -> #DIV/0! | M1: =AVERAGE(Table1[Feedback - Si la réponse comporte moins de 2 étoiles OUI, merci de préciser votre réponse dans le champs ci-dessous :]) -> #DIV/0! | N1: =AVERAGE(Table1[ALIGNEMENT : Je suis aligné sur l’objectif final du programme]) -> 4.1111111 | O1: =AVERAGE(Table1[Points - ALIGNEMENT : Je suis aligné sur l’objectif final du programme]) -> #DIV/0! | P1: =AVERAGE(Table1[Feedback - ALIGNEMENT : Je suis aligné sur l’objectif final du programme]) -> #DIV/0! | Q1: =AVERAGE(Table1[Si la réponse comporte moins de 2 étoiles OUI, merci de préciser votre réponse dans le champs ci-dessous :2]) -> #DIV/0! | R1: =AVERAGE(Table1[Points - Si la réponse comporte moins de 2 étoiles OUI, merci de préciser votre réponse dans le champs ci-dessous :2]) -> #DIV/0! | S1: =AVERAGE(Table1[Feedback - Si la réponse comporte moins de 2 étoiles OUI, merci de préciser votre réponse dans le champs ci-dessous :2]) -> #DIV/0! | T1: =AVERAGE(Table1[ENGAGEMENT : Je supporte l’objectif du programme]) -> 4.5925926 | U1: =AVERAGE(Table1[Points - ENGAGEMENT : Je supporte l’objectif du programme]) -> #DIV/0! | V1: =AVERAGE(Table1[Feedback - ENGAGEMENT : Je supporte l’objectif du programme]) -> #DIV/0! | W1: =AVERAGE(Table1[Si la réponse comporte moins de 2 étoiles OUI, merci de préciser votre réponse dans le champs ci-dessous :3]) -> #DIV/0! | X1: =AVERAGE(Table1[Points - Si la réponse comporte moins de 2 étoiles OUI, merci de préciser votre réponse dans le champs ci-dessous :3]) -> #DIV/0! | Y1: =AVERAGE(Table1[Feedback - Si la réponse comporte moins de 2 étoiles OUI, merci de préciser votre réponse dans le champs ci-dessous :3]) -> #DIV/0! | Z1: =AVERAGE(Table1[SOLUTION : L’approche pour atteindre l’objectif du programme est solide]) -> 3.7037037 | AA1: =AVERAGE(Table1[Points - SOLUTION : L’approche pour atteindre l’objectif du programme est solide]) -> #DIV/0! | AB1: =AVERAGE(Table1[Feedback - SOLUTION : L’approche pour atteindre l’objectif du programme est solide]) -> #DIV/0! | AC1: =AVERAGE(Table1[Si la réponse comporte moins de 2 étoiles OUI, merci de préciser votre réponse dans le champs ci-dessous :4]) -> #DIV/0! | AD1: =AVERAGE(Table1[Points - Si la réponse comporte moins de 2 étoiles OUI, merci de préciser votre réponse dans le champs ci-dessous :4]) -> #DIV/0! | AE1: =AVERAGE(Table1[Feedback - Si la réponse comporte moins de 2 étoiles OUI, merci de préciser votre réponse dans le champs ci-dessous :4]) -> #DIV/0! | AF1: =AVERAGE(Table1[INTEGRITE : Les objectifs initiaux du programme restent les mêmes]) -> 3.8518519 | AG1: =AVERAGE(Table1[Points - INTEGRITE : Les objectifs initiaux du programme restent les mêmes]) -> #DIV/0! | AH1: =AVERAGE(Table1[Feedback - INTEGRITE : Les objectifs initiaux du programme restent les mêmes]) -> #DIV/0! | AI1: =AVERAGE(Table1[Si la réponse comporte moins de 2 étoiles OUI, merci de préciser votre réponse dans le champs ci-dessous :5]) -> #DIV/0! | AJ1: =AVERAGE(Table1[Points - Si la réponse comporte moins de 2 étoiles OUI, merci de préciser votre réponse dans le champs ci-dessous :5]) -> #DIV/0! | AK1: =AVERAGE(Table1[Feedback - Si la réponse comporte moins de 2 étoiles OUI, merci de préciser votre réponse dans le champs ci-dessous :5]) -> #DIV/0! | AL1: =AVERAGE(Table1[SPONSORSHIP : Les leaders fournissent le niveau de sponsorship suffisant pour supporter le programme]) -> 3.6666667 | AM1: =AVERAGE(Table1[Points - SPONSORSHIP : Les leaders fournissent le niveau de sponsorship suffisant pour supporter le programme]) -> #DIV/0! | AN1: =AVERAGE(Table1[Feedback - SPONSORSHIP : Les leaders fournissent le niveau de sponsorship suffisant pour supporter le programme]) -> #DIV/0! | AO1: =AVERAGE(Table1[Si la réponse comporte moins de 2 étoiles OUI, merci de préciser votre réponse dans le champs ci-dessous :6]) -> #DIV/0! | AP1: =AVERAGE(Table1[Points - Si la réponse comporte moins de 2 étoiles OUI, merci de préciser votre réponse dans le champs ci-dessous :6]) -> #DIV/0! | AQ1: =AVERAGE(Table1[Feedback - Si la réponse comporte moins de 2 étoiles OUI, merci de préciser votre réponse dans le champs ci-dessous :6]) -> #DIV/0! | AR1: =AVERAGE(Table1[CAPACITE : Ce changement entraine une charge de travail que nous pouvons absorber sur le site]) -> 3.037037 | AS1: =AVERAGE(Table1[Points - CAPACITE : Ce changement entraine une charge de travail que nous pouvons absorber sur le site]) -> #DIV/0! | AT1: =AVERAGE(Table1[Feedback - CAPACITE : Ce changement entraine une charge de travail que nous pouvons absorber sur le site]) -> #DIV/0! | AU1: =AVERAGE(Table1[Si la réponse comporte moins de 2 étoiles OUI, merci de préciser votre réponse dans le champs ci-dessous :7]) -> #DIV/0! | AV1: =AVERAGE(Table1[Points - Si la réponse comporte moins de 2 étoiles OUI, merci de préciser votre réponse dans le champs ci-dessous :7]) -> #DIV/0! | AW1: =AVERAGE(Table1[Feedback - Si la réponse comporte moins de 2 étoiles OUI, merci de préciser votre réponse dans le champs ci-dessous :7]) -> #DIV/0! | AX1: =AVERAGE(Table1[CULTURE : Nous avons la culture appropriée pour absorber ce changement]) -> 3.6296296 | AY1: =AVERAGE(Table1[Points - CULTURE : Nous avons la culture appropriée pour absorber ce changement]) -> #DIV/0! | AZ1: =AVERAGE(Table1[Feedback - CULTURE : Nous avons la culture appropriée pour absorber ce changement]) -> #DIV/0! | BA1: =AVERAGE(Table1[Si la réponse comporte moins de 2 étoiles OUI, merci de préciser votre réponse dans le champs ci-dessous :8]) -> #DIV/0! | BB1: =AVERAGE(Table1[Feedback - Si la réponse comporte moins de 2 étoiles OUI, merci de préciser votre réponse dans le champs ci-dessous :8]) -> #DIV/0! | BC1: =AVERAGE(Table1[Points - Si la réponse comporte moins de 2 étoiles OUI, merci de préciser votre réponse dans le champs ci-dessous :8]) -> #DIV/0! | BD1: =AVERAGE(Table1[RESISTANCE : Les personnes impactées par ce changement démontrent l''engagement nécessaire pour réussir sa mise en place]) -> 4.1111111 | BE1: =AVERAGE(Table1[Feedback - RESISTANCE : Les personnes impactées par ce changement démontrent l''engagement nécessaire pour réussir sa mise en place]) -> #DIV/0! | BF1: =AVERAGE(Table1[Points - RESISTANCE : Les personnes impactées par ce changement démontrent l''engagement nécessaire pour réussir sa mise en place]) -> #DIV/0! | BG1: =AVERAGE(Table1[Si la réponse comporte moins de 2 étoiles OUI, merci de préciser votre réponse dans le champs ci-dessous :9]) -> #DIV/0! | BH1: =AVERAGE(Table1[Feedback - Si la réponse comporte moins de 2 étoiles OUI, merci de préciser votre réponse dans le champs ci-dessous :9]) -> #DIV/0! | BI1: =AVERAGE(Table1[Points - Si la réponse comporte moins de 2 étoiles OUI, merci de préciser votre réponse dans le champs ci-dessous :9]) -> #DIV/0! | BJ1: =AVERAGE(Table1[SYNERGIE : Nos efforts de collaboration pour ce projet nous font gagner du temps plus qu’il n’en coute]) -> 3.7777778 | BK1: =AVERAGE(Table1[Feedback - SYNERGIE : Nos efforts de collaboration pour ce projet nous font gagner du temps plus qu’il n’en coute]) -> #DIV/0! | BL1: =AVERAGE(Table1[Points - SYNERGIE : Nos efforts de collaboration pour ce projet nous font gagner du temps plus qu’il n’en coute]) -> #DIV/0! | BM1: =AVERAGE(Table1[Si la réponse comporte moins de 2 étoiles OUI, merci de préciser votre réponse dans le champs ci-dessous :10]) -> #DIV/0! | BN1: =AVERAGE(Table1[Feedback - Si la réponse comporte moins de 2 étoiles OUI, merci de préciser votre réponse dans le champs ci-dessous :10]) -> #DIV/0! | BO1: =AVERAGE(Table1[Points - Si la réponse comporte moins de 2 étoiles OUI, merci de préciser votre réponse dans le champs ci-dessous :10]) -> #DIV/0! | BP1: =AVERAGE(Table1[PARTENARIAT : Nos interactions avec des partenaires externes sont suffisantes pour supporter ce changement]) -> 3.7037037 | BQ1: =AVERAGE(Table1[Feedback - PARTENARIAT : Nos interactions avec des partenaires externes sont suffisantes pour supporter ce changement]) -> #DIV/0! | BR1: =AVERAGE(Table1[Points - PARTENARIAT : Nos interactions avec des partenaires externes sont suffisantes pour supporter ce changement]) -> #DIV/0! | BS1: =AVERAGE(Table1[Si la réponse comporte moins de 2 étoiles OUI, merci de préciser votre réponse dans le champs ci-dessous :11]) -> #DIV/0! | BT1: =AVERAGE(Table1[Feedback - Si la réponse comporte moins de 2 étoiles OUI, merci de préciser votre réponse dans le champs ci-dessous :11]) -> #DIV/0! | BU1: =AVERAGE(Table1[Points - Si la réponse comporte moins de 2 étoiles OUI, merci de préciser votre réponse dans le champs ci-dessous :11]) -> #DIV/0! | BV1: =AVERAGE(Table1[SUPERVISION : Les instances de pilotage permettent de prendre des décisions rapides et efficaces]) -> 3.3703704 | BW1: =AVERAGE(Table1[Points - SUPERVISION : Les instances de pilotage permettent de prendre des décisions rapides et efficaces]) -> #DIV/0! | BX1: =AVERAGE(Table1[Feedback - SUPERVISION : Les instances de pilotage permettent de prendre des décisions rapides et efficaces]) -> #DIV/0! | BY1: =AVERAGE(Table1[Si la réponse comporte moins de 2 étoiles OUI, merci de préciser votre réponse dans le champs ci-dessous :12]) -> #DIV/0! | BZ1: =AVERAGE(Table1[Points - Si la réponse comporte moins de 2 étoiles OUI, merci de préciser votre réponse dans le champs ci-dessous :12]) -> #DIV/0! | CA1: =AVERAGE(Table1[Feedback - Si la réponse comporte moins de 2 étoiles OUI, merci de préciser votre réponse dans le champs ci-dessous :12]) -> #DIV/0! | CB1: =AVERAGE(Table1[RESSOURCES : Les ressources sont suffisantes pour absorber ce changement]) -> 2.8518519 | CC1: =AVERAGE(Table1[Points - RESSOURCES : Les ressources sont suffisantes pour absorber ce changement]) -> #DIV/0! | CD1: =AVERAGE(Table1[Feedback - RESSOURCES : Les ressources sont suffisantes pour absorber ce changement]) -> #DIV/0! | CE1: =AVERAGE(Table1[Si la réponse comporte moins de 2 étoiles OUI, merci de préciser votre réponse dans le champs ci-dessous :13]) -> #DIV/0! | CF1: =AVERAGE(Table1[Points - Si la réponse comporte moins de 2 étoiles OUI, merci de préciser votre réponse dans le champs ci-dessous :13]) -> #DIV/0! | CG1: =AVERAGE(Table1[Feedback - Si la réponse comporte moins de 2 étoiles OUI, merci de préciser votre réponse dans le champs ci-dessous :13]) -> #DIV/0! | CH1: =AVERAGE(Table1[PORTFOLIO : Les interactions de ce projet avec les autres initiatives sont gérées correctement]) -> 3.2592593 | CI1: =AVERAGE(Table1[Points - PORTFOLIO : Les interactions de ce projet avec les autres initiatives sont gérées correctement]) -> #DIV/0! | CJ1: =AVERAGE(Table1[Feedback - PORTFOLIO : Les interactions de ce projet avec les autres initiatives sont gérées correctement]) -> #DIV/0! | CK1: =AVERAGE(Table1[Si la réponse comporte moins de 2 étoiles OUI, merci de préciser votre réponse dans le champs ci-dessous :14]) -> #DIV/0! | CL1: =AVERAGE(Table1[Points - Si la réponse comporte moins de 2 étoiles OUI, merci de préciser votre réponse dans le champs ci-dessous :14]) -> #DIV/0! | CM1: =AVERAGE(Table1[Feedback - Si la réponse comporte moins de 2 étoiles OUI, merci de préciser votre réponse dans le champs ci-dessous :14]) -> #DIV/0! | CN1: =AVERAGE(Table1[CHEMIN CRITIQUE : Les délais et ressources à travers de ce projet sont gérés efficacement]) -> 3.2962963 | CO1: =AVERAGE(Table1[Points - CHEMIN CRITIQUE : Les délais et ressources à travers de ce projet sont gérés efficacement]) -> #DIV/0! | CP1: =AVERAGE(Table1[Feedback - CHEMIN CRITIQUE : Les délais et ressources à travers de ce projet sont gérés efficacement]) -> #DIV/0! | CQ1: =AVERAGE(Table1[Si la réponse comporte moins de 2 étoiles OUI, merci de préciser votre réponse dans le champs ci-dessous :15]) -> #DIV/0! | CR1: =AVERAGE(Table1[Points - Si la réponse comporte moins de 2 étoiles OUI, merci de préciser votre réponse dans le champs ci-dessous :15]) -> #DIV/0! | CS1: =AVERAGE(Table1[Feedback - Si la réponse comporte moins de 2 étoiles OUI, merci de préciser votre réponse dans le champs ci-dessous :15]) -> #DIV/0!
A2: =MIN(Table1[ID]) -> 4 | B2: =MIN(Table1[Heure de début]) -> 44896.705 | C2: =MIN(Table1[Heure de fin]) -> 44896.705 | D2: =MIN(Table1[Adresse de messagerie]) -> 0 | E2: =MIN(Table1[Nom]) -> 0 | F2: =MIN(Table1[Total points]) -> 0 | G2: =MIN(Table1[Quiz feedback]) -> 0 | H2: =MIN(Table1[CLARTE : J''ai une vision claire de l’objectif final du programme]) -> 3 | I2: =MIN(Table1[Points - CLARTE : J''ai une vision claire de l’objectif final du programme]) -> 0 | J2: =MIN(Table1[Feedback - CLARTE : J''ai une vision claire de l’objectif final du programme]) -> 0 | K2: =MIN(Table1[Si la réponse comporte moins de 2 étoiles OUI, merci de préciser votre réponse dans le champs ci-dessous :]) -> 0 | L2: =MIN(Table1[Points - Si la réponse comporte moins de 2 étoiles OUI, merci de préciser votre réponse dans le champs ci-dessous :]) -> 0 | M2: =MIN(Table1[Feedback - Si la réponse comporte moins de 2 étoiles OUI, merci de préciser votre réponse dans le champs ci-dessous :]) -> 0 | N2: =MIN(Table1[ALIGNEMENT : Je suis aligné sur l’objectif final du programme]) -> 2 | O2: =MIN(Table1[Points - ALIGNEMENT : Je suis aligné sur l’objectif final du programme]) -> 0 | P2: =MIN(Table1[Feedback - ALIGNEMENT : Je suis aligné sur l’objectif final du programme]) -> 0 | Q2: =MIN(Table1[Si la réponse comporte moins de 2 étoiles OUI, merci de préciser votre réponse dans le champs ci-dessous :2]) -> 0 | R2: =MIN(Table1[Points - Si la réponse comporte moins de 2 étoiles OUI, merci de préciser votre réponse dans le champs ci-dessous :2]) -> 0 | S2: =MIN(Table1[Feedback - Si la réponse comporte moins de 2 étoiles OUI, merci de préciser votre réponse dans le champs ci-dessous :2]) -> 0 | T2: =MIN(Table1[ENGAGEMENT : Je supporte l’objectif du programme]) -> 2 | U2: =MIN(Table1[Points - ENGAGEMENT : Je supporte l’objectif du programme]) -> 0 | V2: =MIN(Table1[Feedback - ENGAGEMENT : Je supporte l’objectif du programme]) -> 0 | W2: =MIN(Table1[Si la réponse comporte moins de 2 étoiles OUI, merci de préciser votre réponse dans le champs ci-dessous :3]) -> 0 | X2: =MIN(Table1[Points - Si la réponse comporte moins de 2 étoiles OUI, merci de préciser votre réponse dans le champs ci-dessous :3]) -> 0 | Y2: =MIN(Table1[Feedback - Si la réponse comporte moins de 2 étoiles OUI, merci de préciser votre réponse dans le champs ci-dessous :3]) -> 0 | Z2: =MIN(Table1[SOLUTION : L’approche pour atteindre l’objectif du programme est solide]) -> 2 | AA2: =MIN(Table1[Points - SOLUTION : L’approche pour atteindre l’objectif du programme est solide]) -> 0 | AB2: =MIN(Table1[Feedback - SOLUTION : L’approche pour atteindre l’objectif du programme est solide]) -> 0 | AC2: =MIN(Table1[Si la réponse comporte moins de 2 étoiles OUI, merci de préciser votre réponse dans le champs ci-dessous :4]) -> 0 | AD2: =MIN(Table1[Points - Si la réponse comporte moins de 2 étoiles OUI, merci de préciser votre réponse dans le champs ci-dessous :4]) -> 0 | AE2: =MIN(Table1[Feedback - Si la réponse comporte moins de 2 étoiles OUI, merci de préciser votre réponse dans le champs ci-dessous :4]) -> 0 | AF2: =MIN(Table1[INTEGRITE : Les objectifs initiaux du programme restent les mêmes]) -> 1 | AG2: =MIN(Table1[Points - INTEGRITE : Les objectifs initiaux du programme restent les mêmes]) -> 0 | AH2: =MIN(Table1[Feedback - INTEGRITE : Les objectifs initiaux du programme restent les mêmes]) -> 0 | AI2: =MIN(Table1[Si la réponse comporte moins de 2 étoiles OUI, merci de préciser votre réponse dans le champs ci-dessous :5]) -> 0 | AJ2: =MIN(Table1[Points - Si la réponse comporte moins de 2 étoiles OUI, merci de préciser votre réponse dans le champs ci-dessous :5]) -> 0 | AK2: =MIN(Table1[Feedback - Si la réponse comporte moins de 2 étoiles OUI, merci de préciser votre réponse dans le champs ci-dessous :5]) -> 0 | AL2: =MIN(Table1[SPONSORSHIP : Les leaders fournissent le niveau de sponsorship suffisant pour supporter le programme]) -> 1 | AM2: =MIN(Table1[Points - SPONSORSHIP : Les leaders fournissent le niveau de sponsorship suffisant pour supporter le programme]) -> 0 | AN2: =MIN(Table1[Feedback - SPONSORSHIP : Les leaders fournissent le niveau de sponsorship suffisant pour supporter le programme]) -> 0 | AO2: =MIN(Table1[Si la réponse comporte moins de 2 étoiles OUI, merci de préciser votre réponse dans le champs ci-dessous :6]) -> 0 | AP2: =MIN(Table1[Points - Si la réponse comporte moins de 2 étoiles OUI, merci de préciser votre réponse dans le champs ci-dessous :6]) -> 0 | AQ2: =MIN(Table1[Feedback - Si la réponse comporte moins de 2 étoiles OUI, merci de préciser votre réponse dans le champs ci-dessous :6]) -> 0 | AR2: =MIN(Table1[CAPACITE : Ce changement entraine une charge de travail que nous pouvons absorber sur le site]) -> 1 | AS2: =MIN(Table1[Points - CAPACITE : Ce changement entraine une charge de travail que nous pouvons absorber sur le site]) -> 0 | AT2: =MIN(Table1[Feedback - CAPACITE : Ce changement entraine une charge de travail que nous pouvons absorber sur le site]) -> 0 | AU2: =MIN(Table1[Si la réponse comporte moins de 2 étoiles OUI, merci de préciser votre réponse dans le champs ci-dessous :7]) -> 0 | AV2: =MIN(Table1[Points - Si la réponse comporte moins de 2 étoiles OUI, merci de préciser votre réponse dans le champs ci-dessous :7]) -> 0 | AW2: =MIN(Table1[Feedback - Si la réponse comporte moins de 2 étoiles OUI, merci de préciser votre réponse dans le champs ci-dessous :7]) -> 0 | AX2: =MIN(Table1[CULTURE : Nous avons la culture appropriée pour absorber ce changement]) -> 1 | AY2: =MIN(Table1[Points - CULTURE : Nous avons la culture appropriée pour absorber ce changement]) -> 0 | AZ2: =MIN(Table1[Feedback - CULTURE : Nous avons la culture appropriée pour absorber ce changement]) -> 0 | BA2: =MIN(Table1[Si la réponse comporte moins de 2 étoiles OUI, merci de préciser votre réponse dans le champs ci-dessous :8]) -> 0 | BB2: =MIN(Table1[Feedback - Si la réponse comporte moins de 2 étoiles OUI, merci de préciser votre réponse dans le champs ci-dessous :8]) -> 0 | BC2: =MIN(Table1[Points - Si la réponse comporte moins de 2 étoiles OUI, merci de préciser votre réponse dans le champs ci-dessous :8]) -> 0 | BD2: =MIN(Table1[RESISTANCE : Les personnes impactées par ce changement démontrent l''engagement nécessaire pour réussir sa mise en place]) -> 1 | BE2: =MIN(Table1[Feedback - RESISTANCE : Les personnes impactées par ce changement démontrent l''engagement nécessaire pour réussir sa mise en place]) -> 0 | BF2: =MIN(Table1[Points - RESISTANCE : Les personnes impactées par ce changement démontrent l''engagement nécessaire pour réussir sa mise en place]) -> 0 | BG2: =MIN(Table1[Si la réponse comporte moins de 2 étoiles OUI, merci de préciser votre réponse dans le champs ci-dessous :9]) -> 0 | BH2: =MIN(Table1[Feedback - Si la réponse comporte moins de 2 étoiles OUI, merci de préciser votre réponse dans le champs ci-dessous :9]) -> 0 | BI2: =MIN(Table1[Points - Si la réponse comporte moins de 2 étoiles OUI, merci de préciser votre réponse dans le champs ci-dessous :9]) -> 0 | BJ2: =MIN(Table1[SYNERGIE : Nos efforts de collaboration pour ce projet nous font gagner du temps plus qu’il n’en coute]) -> 1 | BK2: =MIN(Table1[Feedback - SYNERGIE : Nos efforts de collaboration pour ce projet nous font gagner du temps plus qu’il n’en coute]) -> 0 | BL2: =MIN(Table1[Points - SYNERGIE : Nos efforts de collaboration pour ce projet nous font gagner du temps plus qu’il n’en coute]) -> 0 | BM2: =MIN(Table1[Si la réponse comporte moins de 2 étoiles OUI, merci de préciser votre réponse dans le champs ci-dessous :10]) -> 0 | BN2: =MIN(Table1[Feedback - Si la réponse comporte moins de 2 étoiles OUI, merci de préciser votre réponse dans le champs ci-dessous :10]) -> 0 | BO2: =MIN(Table1[Points - Si la réponse comporte moins de 2 étoiles OUI, merci de préciser votre réponse dans le champs ci-dessous :10]) -> 0 | BP2: =MIN(Table1[PARTENARIAT : Nos interactions avec des partenaires externes sont suffisantes pour supporter ce changement]) -> 3 | BQ2: =MIN(Table1[Feedback - PARTENARIAT : Nos interactions avec des partenaires externes sont suffisantes pour supporter ce changement]) -> 0 | BR2: =MIN(Table1[Points - PARTENARIAT : Nos interactions avec des partenaires externes sont suffisantes pour supporter ce changement]) -> 0 | BS2: =MIN(Table1[Si la réponse comporte moins de 2 étoiles OUI, merci de préciser votre réponse dans le champs ci-dessous :11]) -> 0 | BT2: =MIN(Table1[Feedback - Si la réponse comporte moins de 2 étoiles OUI, merci de préciser votre réponse dans le champs ci-dessous :11]) -> 0 | BU2: =MIN(Table1[Points - Si la réponse comporte moins de 2 étoiles OUI, merci de préciser votre réponse dans le champs ci-dessous :11]) -> 0 | BV2: =MIN(Table1[SUPERVISION : Les instances de pilotage permettent de prendre des décisions rapides et efficaces]) -> 1 | BW2: =MIN(Table1[Points - SUPERVISION : Les instances de pilotage permettent de prendre des décisions rapides et efficaces]) -> 0 | BX2: =MIN(Table1[Feedback - SUPERVISION : Les instances de pilotage permettent de prendre des décisions rapides et efficaces]) -> 0 | BY2: =MIN(Table1[Si la réponse comporte moins de 2 étoiles OUI, merci de préciser votre réponse dans le champs ci-dessous :12]) -> 0 | BZ2: =MIN(Table1[Points - Si la réponse comporte moins de 2 étoiles OUI, merci de préciser votre réponse dans le champs ci-dessous :12]) -> 0 | CA2: =MIN(Table1[Feedback - Si la réponse comporte moins de 2 étoiles OUI, merci de préciser votre réponse dans le champs ci-dessous :12]) -> 0 | CB2: =MIN(Table1[RESSOURCES : Les ressources sont suffisantes pour absorber ce changement]) -> 1 | CC2: =MIN(Table1[Points - RESSOURCES : Les ressources sont suffisantes pour absorber ce changement]) -> 0 | CD2: =MIN(Table1[Feedback - RESSOURCES : Les ressources sont suffisantes pour absorber ce changement]) -> 0 | CE2: =MIN(Table1[Si la réponse comporte moins de 2 étoiles OUI, merci de préciser votre réponse dans le champs ci-dessous :13]) -> 0 | CF2: =MIN(Table1[Points - Si la réponse comporte moins de 2 étoiles OUI, merci de préciser votre réponse dans le champs ci-dessous :13]) -> 0 | CG2: =MIN(Table1[Feedback - Si la réponse comporte moins de 2 étoiles OUI, merci de préciser votre réponse dans le champs ci-dessous :13]) -> 0 | CH2: =MIN(Table1[PORTFOLIO : Les interactions de ce projet avec les autres initiatives sont gérées correctement]) -> 1 | CI2: =MIN(Table1[Points - PORTFOLIO : Les interactions de ce projet avec les autres initiatives sont gérées correctement]) -> 0 | CJ2: =MIN(Table1[Feedback - PORTFOLIO : Les interactions de ce projet avec les autres initiatives sont gérées correctement]) -> 0 | CK2: =MIN(Table1[Si la réponse comporte moins de 2 étoiles OUI, merci de préciser votre réponse dans le champs ci-dessous :14]) -> 0 | CL2: =MIN(Table1[Points - Si la réponse comporte moins de 2 étoiles OUI, merci de préciser votre réponse dans le champs ci-dessous :14]) -> 0 | CM2: =MIN(Table1[Feedback - Si la réponse comporte moins de 2 étoiles OUI, merci de préciser votre réponse dans le champs ci-dessous :14]) -> 0 | CN2: =MIN(Table1[CHEMIN CRITIQUE : Les délais et ressources à travers de ce projet sont gérés efficacement]) -> 2 | CO2: =MIN(Table1[Points - CHEMIN CRITIQUE : Les délais et ressources à travers de ce projet sont gérés efficacement]) -> 0 | CP2: =MIN(Table1[Feedback - CHEMIN CRITIQUE : Les délais et ressources à travers de ce projet sont gérés efficacement]) -> 0 | CQ2: =MIN(Table1[Si la réponse comporte moins de 2 étoiles OUI, merci de préciser votre réponse dans le champs ci-dessous :15]) -> 0 | CR2: =MIN(Table1[Points - Si la réponse comporte moins de 2 étoiles OUI, merci de préciser votre réponse dans le champs ci-dessous :15]) -> 0 | CS2: =MIN(Table1[Feedback - Si la réponse comporte moins de 2 étoiles OUI, merci de préciser votre réponse dans le champs ci-dessous :15]) -> 0
A3: =MAX(Table1[ID]) -> 30 | B3: =MAX(Table1[Heure de début]) -> 44904.683 | C3: =MAX(Table1[Heure de fin]) -> 44904.694 | D3: =MAX(Table1[Adresse de messagerie]) -> 0 | E3: =MAX(Table1[Nom]) -> 0 | F3: =MAX(Table1[Total points]) -> 0 | G3: =MAX(Table1[Quiz feedback]) -> 0 | H3: =MAX(Table1[CLARTE : J''ai une vision claire de l’objectif final du programme]) -> 5 | I3: =MAX(Table1[Points - CLARTE : J''ai une vision claire de l’objectif final du programme]) -> 0 | J3: =MAX(Table1[Feedback - CLARTE : J''ai une vision claire de l’objectif final du programme]) -> 0 | K3: =MAX(Table1[Si la réponse comporte moins de 2 étoiles OUI, merci de préciser votre réponse dans le champs ci-dessous :]) -> 0 | L3: =MAX(Table1[Points - Si la réponse comporte moins de 2 étoiles OUI, merci de préciser votre réponse dans le champs ci-dessous :]) -> 0 | M3: =MAX(Table1[Feedback - Si la réponse comporte moins de 2 étoiles OUI, merci de préciser votre réponse dans le champs ci-dessous :]) -> 0 | N3: =MAX(Table1[ALIGNEMENT : Je suis aligné sur l’objectif final du programme]) -> 5 | O3: =MAX(Table1[Points - ALIGNEMENT : Je suis aligné sur l’objectif final du programme]) -> 0 | P3: =MAX(Table1[Feedback - ALIGNEMENT : Je suis aligné sur l’objectif final du programme]) -> 0 | Q3: =MAX(Table1[Si la réponse comporte moins de 2 étoiles OUI, merci de préciser votre réponse dans le champs ci-dessous :2]) -> 0 | R3: =MAX(Table1[Points - Si la réponse comporte moins de 2 étoiles OUI, merci de préciser votre réponse dans le champs ci-dessous :2]) -> 0 | S3: =MAX(Table1[Feedback - Si la réponse comporte moins de 2 étoiles OUI, merci de préciser votre réponse dans le champs ci-dessous :2]) -> 0 | T3: =MAX(Table1[ENGAGEMENT : Je supporte l’objectif du programme]) -> 5 | U3: =MAX(Table1[Points - ENGAGEMENT : Je supporte l’objectif du programme]) -> 0 | V3: =MAX(Table1[Feedback - ENGAGEMENT : Je supporte l’objectif du programme]) -> 0 | W3: =MAX(Table1[Si la réponse comporte moins de 2 étoiles OUI, merci de préciser votre réponse dans le champs ci-dessous :3]) -> 0 | X3: =MAX(Table1[Points - Si la réponse comporte moins de 2 étoiles OUI, merci de préciser votre réponse dans le champs ci-dessous :3]) -> 0 | Y3: =MAX(Table1[Feedback - Si la réponse comporte moins de 2 étoiles OUI, merci de préciser votre réponse dans le champs ci-dessous :3]) -> 0 | Z3: =MAX(Table1[SOLUTION : L’approche pour atteindre l’objectif du programme est solide]) -> 5 | AA3: =MAX(Table1[Points - SOLUTION : L’approche pour atteindre l’objectif du programme est solide]) -> 0 | AB3: =MAX(Table1[Feedback - SOLUTION : L’approche pour atteindre l’objectif du programme est solide]) -> 0 | AC3: =MAX(Table1[Si la réponse comporte moins de 2 étoiles OUI, merci de préciser votre réponse dans le champs ci-dessous :4]) -> 0 | AD3: =MAX(Table1[Points - Si la réponse comporte moins de 2 étoiles OUI, merci de préciser votre réponse dans le champs ci-dessous :4]) -> 0 | AE3: =MAX(Table1[Feedback - Si la réponse comporte moins de 2 étoiles OUI, merci de préciser votre réponse dans le champs ci-dessous :4]) -> 0 | AF3: =MAX(Table1[INTEGRITE : Les objectifs initiaux du programme restent les mêmes]) -> 5 | AG3: =MAX(Table1[Points - INTEGRITE : Les objectifs initiaux du programme restent les mêmes]) -> 0 | AH3: =MAX(Table1[Feedback - INTEGRITE : Les objectifs initiaux du programme restent les mêmes]) -> 0 | AI3: =MAX(Table1[Si la réponse comporte moins de 2 étoiles OUI, merci de préciser votre réponse dans le champs ci-dessous :5]) -> 0 | AJ3: =MAX(Table1[Points - Si la réponse comporte moins de 2 étoiles OUI, merci de préciser votre réponse dans le champs ci-dessous :5]) -> 0 | AK3: =MAX(Table1[Feedback - Si la réponse comporte moins de 2 étoiles OUI, merci de préciser votre réponse dans le champs ci-dessous :5]) -> 0 | AL3: =MAX(Table1[SPONSORSHIP : Les leaders fournissent le niveau de sponsorship suffisant pour supporter le programme]) -> 5 | AM3: =MAX(Table1[Points - SPONSORSHIP : Les leaders fournissent le niveau de sponsorship suffisant pour supporter le programme]) -> 0 | AN3: =MAX(Table1[Feedback - SPONSORSHIP : Les leaders fournissent le niveau de sponsorship suffisant pour supporter le programme]) -> 0 | AO3: =MAX(Table1[Si la réponse comporte moins de 2 étoiles OUI, merci de préciser votre réponse dans le champs ci-dessous :6]) -> 0 | AP3: =MAX(Table1[Points - Si la réponse comporte moins de 2 étoiles OUI, merci de préciser votre réponse dans le champs ci-dessous :6]) -> 0 | AQ3: =MAX(Table1[Feedback - Si la réponse comporte moins de 2 étoiles OUI, merci de préciser votre réponse dans le champs ci-dessous :6]) -> 0 | AR3: =MAX(Table1[CAPACITE : Ce changement entraine une charge de travail que nous pouvons absorber sur le site]) -> 5 | AS3: =MAX(Table1[Points - CAPACITE : Ce changement entraine une charge de travail que nous pouvons absorber sur le site]) -> 0 | AT3: =MAX(Table1[Feedback - CAPACITE : Ce changement entraine une charge de travail que nous pouvons absorber sur le site]) -> 0 | AU3: =MAX(Table1[Si la réponse comporte moins de 2 étoiles OUI, merci de préciser votre réponse dans le champs ci-dessous :7]) -> 0 | AV3: =MAX(Table1[Points - Si la réponse comporte moins de 2 étoiles OUI, merci de préciser votre réponse dans le champs ci-dessous :7]) -> 0 | AW3: =MAX(Table1[Feedback - Si la réponse comporte moins de 2 étoiles OUI, merci de préciser votre réponse dans le champs ci-dessous :7]) -> 0 | AX3: =MAX(Table1[CULTURE : Nous avons la culture appropriée pour absorber ce changement]) -> 5 | AY3: =MAX(Table1[Points - CULTURE : Nous avons la culture appropriée pour absorber ce changement]) -> 0 | AZ3: =MAX(Table1[Feedback - CULTURE : Nous avons la culture appropriée pour absorber ce changement]) -> 0 | BA3: =MAX(Table1[Si la réponse comporte moins de 2 étoiles OUI, merci de préciser votre réponse dans le champs ci-dessous :8]) -> 0 | BB3: =MAX(Table1[Feedback - Si la réponse comporte moins de 2 étoiles OUI, merci de préciser votre réponse dans le champs ci-dessous :8]) -> 0 | BC3: =MAX(Table1[Points - Si la réponse comporte moins de 2 étoiles OUI, merci de préciser votre réponse dans le champs ci-dessous :8]) -> 0 | BD3: =MAX(Table1[RESISTANCE : Les personnes impactées par ce changement démontrent l''engagement nécessaire pour réussir sa mise en place]) -> 5 | BE3: =MAX(Table1[Feedback - RESISTANCE : Les personnes impactées par ce changement démontrent l''engagement nécessaire pour réussir sa mise en place]) -> 0 | BF3: =MAX(Table1[Points - RESISTANCE : Les personnes impactées par ce changement démontrent l''engagement nécessaire pour réussir sa mise en place]) -> 0 | BG3: =MAX(Table1[Si la réponse comporte moins de 2 étoiles OUI, merci de préciser votre réponse dans le champs ci-dessous :9]) -> 0 | BH3: =MAX(Table1[Feedback - Si la réponse comporte moins de 2 étoiles OUI, merci de préciser votre réponse dans le champs ci-dessous :9]) -> 0 | BI3: =MAX(Table1[Points - Si la réponse comporte moins de 2 étoiles OUI, merci de préciser votre réponse dans le champs ci-dessous :9]) -> 0 | BJ3: =MAX(Table1[SYNERGIE : Nos efforts de collaboration pour ce projet nous font gagner du temps plus qu’il n’en coute]) -> 5 | BK3: =MAX(Table1[Feedback - SYNERGIE : Nos efforts de collaboration pour ce projet nous font gagner du temps plus qu’il n’en coute]) -> 0 | BL3: =MAX(Table1[Points - SYNERGIE : Nos efforts de collaboration pour ce projet nous font gagner du temps plus qu’il n’en coute]) -> 0 | BM3: =MAX(Table1[Si la réponse comporte moins de 2 étoiles OUI, merci de préciser votre réponse dans le champs ci-dessous :10]) -> 0 | BN3: =MAX(Table1[Feedback - Si la réponse comporte moins de 2 étoiles OUI, merci de préciser votre réponse dans le champs ci-dessous :10]) -> 0 | BO3: =MAX(Table1[Points - Si la réponse comporte moins de 2 étoiles OUI, merci de préciser votre réponse dans le champs ci-dessous :10]) -> 0 | BP3: =MAX(Table1[PARTENARIAT : Nos interactions avec des partenaires externes sont suffisantes pour supporter ce changement]) -> 5 | BQ3: =MAX(Table1[Feedback - PARTENARIAT : Nos interactions avec des partenaires externes sont suffisantes pour supporter ce changement]) -> 0 | BR3: =MAX(Table1[Points - PARTENARIAT : Nos interactions avec des partenaires externes sont suffisantes pour supporter ce changement]) -> 0 | BS3: =MAX(Table1[Si la réponse comporte moins de 2 étoiles OUI, merci de préciser votre réponse dans le champs ci-dessous :11]) -> 0 | BT3: =MAX(Table1[Feedback - Si la réponse comporte moins de 2 étoiles OUI, merci de préciser votre réponse dans le champs ci-dessous :11]) -> 0 | BU3: =MAX(Table1[Points - Si la réponse comporte moins de 2 étoiles OUI, merci de préciser votre réponse dans le champs ci-dessous :11]) -> 0 | BV3: =MAX(Table1[SUPERVISION : Les instances de pilotage permettent de prendre des décisions rapides et efficaces]) -> 5 | BW3: =MAX(Table1[Points - SUPERVISION : Les instances de pilotage permettent de prendre des décisions rapides et efficaces]) -> 0 | BX3: =MAX(Table1[Feedback - SUPERVISION : Les instances de pilotage permettent de prendre des décisions rapides et efficaces]) -> 0 | BY3: =MAX(Table1[Si la réponse comporte moins de 2 étoiles OUI, merci de préciser votre réponse dans le champs ci-dessous :12]) -> 0 | BZ3: =MAX(Table1[Points - Si la réponse comporte moins de 2 étoiles OUI, merci de préciser votre réponse dans le champs ci-dessous :12]) -> 0 | CA3: =MAX(Table1[Feedback - Si la réponse comporte moins de 2 étoiles OUI, merci de préciser votre réponse dans le champs ci-dessous :12]) -> 0 | CB3: =MAX(Table1[RESSOURCES : Les ressources sont suffisantes pour absorber ce changement]) -> 5 | CC3: =MAX(Table1[Points - RESSOURCES : Les ressources sont suffisantes pour absorber ce changement]) -> 0 | CD3: =MAX(Table1[Feedback - RESSOURCES : Les ressources sont suffisantes pour absorber ce changement]) -> 0 | CE3: =MAX(Table1[Si la réponse comporte moins de 2 étoiles OUI, merci de préciser votre réponse dans le champs ci-dessous :13]) -> 0 | CF3: =MAX(Table1[Points - Si la réponse comporte moins de 2 étoiles OUI, merci de préciser votre réponse dans le champs ci-dessous :13]) -> 0 | CG3: =MAX(Table1[Feedback - Si la réponse comporte moins de 2 étoiles OUI, merci de préciser votre réponse dans le champs ci-dessous :13]) -> 0 | CH3: =MAX(Table1[PORTFOLIO : Les interactions de ce projet avec les autres initiatives sont gérées correctement]) -> 5 | CI3: =MAX(Table1[Points - PORTFOLIO : Les interactions de ce projet avec les autres initiatives sont gérées correctement]) -> 0 | CJ3: =MAX(Table1[Feedback - PORTFOLIO : Les interactions de ce projet avec les autres initiatives sont gérées correctement]) -> 0 | CK3: =MAX(Table1[Si la réponse comporte moins de 2 étoiles OUI, merci de préciser votre réponse dans le champs ci-dessous :14]) -> 0 | CL3: =MAX(Table1[Points - Si la réponse comporte moins de 2 étoiles OUI, merci de préciser votre réponse dans le champs ci-dessous :14]) -> 0 | CM3: =MAX(Table1[Feedback - Si la réponse comporte moins de 2 étoiles OUI, merci de préciser votre réponse dans le champs ci-dessous :14]) -> 0 | CN3: =MAX(Table1[CHEMIN CRITIQUE : Les délais et ressources à travers de ce projet sont gérés efficacement]) -> 5 | CO3: =MAX(Table1[Points - CHEMIN CRITIQUE : Les délais et ressources à travers de ce projet sont gérés efficacement]) -> 0 | CP3: =MAX(Table1[Feedback - CHEMIN CRITIQUE : Les délais et ressources à travers de ce projet sont gérés efficacement]) -> 0 | CQ3: =MAX(Table1[Si la réponse comporte moins de 2 étoiles OUI, merci de préciser votre réponse dans le champs ci-dessous :15]) -> 0 | CR3: =MAX(Table1[Points - Si la réponse comporte moins de 2 étoiles OUI, merci de préciser votre réponse dans le champs ci-dessous :15]) -> 0 | CS3: =MAX(Table1[Feedback - Si la réponse comporte moins de 2 étoiles OUI, merci de préciser votre réponse dans le champs ci-dessous :15]) -> 0
A4: =COUNT(Table1[ID]) -> 27 | B4: =COUNT(Table1[Heure de début]) -> 27 | C4: =COUNT(Table1[Heure de fin]) -> 27 | D4: =COUNT(Table1[Adresse de messagerie]) -> 0 | E4: =COUNT(Table1[Nom]) -> 0 | F4: =COUNT(Table1[Total points]) -> 0 | G4: =COUNT(Table1[Quiz feedback]) -> 0 | H4: =COUNT(Table1[CLARTE : J''ai une vision claire de l’objectif final du programme]) -> 27 | I4: =COUNT(Table1[Points - CLARTE : J''ai une vision claire de l’objectif final du programme]) -> 0 | J4: =COUNT(Table1[Feedback - CLARTE : J''ai une vision claire de l’objectif final du programme]) -> 0 | K4: =COUNT(Table1[Si la réponse comporte moins de 2 étoiles OUI, merci de préciser votre réponse dans le champs ci-dessous :]) -> 0 | L4: =COUNT(Table1[Points - Si la réponse comporte moins de 2 étoiles OUI, merci de préciser votre réponse dans le champs ci-dessous :]) -> 0 | M4: =COUNT(Table1[Feedback - Si la réponse comporte moins de 2 étoiles OUI, merci de préciser votre réponse dans le champs ci-dessous :]) -> 0 | N4: =COUNT(Table1[ALIGNEMENT : Je suis aligné sur l’objectif final du programme]) -> 27 | O4: =COUNT(Table1[Points - ALIGNEMENT : Je suis aligné sur l’objectif final du programme]) -> 0 | P4: =COUNT(Table1[Feedback - ALIGNEMENT : Je suis aligné sur l’objectif final du programme]) -> 0 | Q4: =COUNT(Table1[Si la réponse comporte moins de 2 étoiles OUI, merci de préciser votre réponse dans le champs ci-dessous :2]) -> 0 | R4: =COUNT(Table1[Points - Si la réponse comporte moins de 2 étoiles OUI, merci de préciser votre réponse dans le champs ci-dessous :2]) -> 0 | S4: =COUNT(Table1[Feedback - Si la réponse comporte moins de 2 étoiles OUI, merci de préciser votre réponse dans le champs ci-dessous :2]) -> 0 | T4: =COUNT(Table1[ENGAGEMENT : Je supporte l’objectif du programme]) -> 27 | U4: =COUNT(Table1[Points - ENGAGEMENT : Je supporte l’objectif du programme]) -> 0 | V4: =COUNT(Table1[Feedback - ENGAGEMENT : Je supporte l’objectif du programme]) -> 0 | W4: =COUNT(Table1[Si la réponse comporte moins de 2 étoiles OUI, merci de préciser votre réponse dans le champs ci-dessous :3]) -> 0 | X4: =COUNT(Table1[Points - Si la réponse comporte moins de 2 étoiles OUI, merci de préciser votre réponse dans le champs ci-dessous :3]) -> 0 | Y4: =COUNT(Table1[Feedback - Si la réponse comporte moins de 2 étoiles OUI, merci de préciser votre réponse dans le champs ci-dessous :3]) -> 0 | Z4: =COUNT(Table1[SOLUTION : L’approche pour atteindre l’objectif du programme est solide]) -> 27 | AA4: =COUNT(Table1[Points - SOLUTION : L’approche pour atteindre l’objectif du programme est solide]) -> 0 | AB4: =COUNT(Table1[Feedback - SOLUTION : L’approche pour atteindre l’objectif du programme est solide]) -> 0 | AC4: =COUNT(Table1[Si la réponse comporte moins de 2 étoiles OUI, merci de préciser votre réponse dans le champs ci-dessous :4]) -> 0 | AD4: =COUNT(Table1[Points - Si la réponse comporte moins de 2 étoiles OUI, merci de préciser votre réponse dans le champs ci-dessous :4]) -> 0 | AE4: =COUNT(Table1[Feedback - Si la réponse comporte moins de 2 étoiles OUI, merci de préciser votre réponse dans le champs ci-dessous :4]) -> 0 | AF4: =COUNT(Table1[INTEGRITE : Les objectifs initiaux du programme restent les mêmes]) -> 27 | AG4: =COUNT(Table1[Points - INTEGRITE : Les objectifs initiaux du programme restent les mêmes]) -> 0 | AH4: =COUNT(Table1[Feedback - INTEGRITE : Les objectifs initiaux du programme restent les mêmes]) -> 0 | AI4: =COUNT(Table1[Si la réponse comporte moins de 2 étoiles OUI, merci de préciser votre réponse dans le champs ci-dessous :5]) -> 0 | AJ4: =COUNT(Table1[Points - Si la réponse comporte moins de 2 étoiles OUI, merci de préciser votre réponse dans le champs ci-dessous :5]) -> 0 | AK4: =COUNT(Table1[Feedback - Si la réponse comporte moins de 2 étoiles OUI, merci de préciser votre réponse dans le champs ci-dessous :5]) -> 0 | AL4: =COUNT(Table1[SPONSORSHIP : Les leaders fournissent le niveau de sponsorship suffisant pour supporter le programme]) -> 27 | AM4: =COUNT(Table1[Points - SPONSORSHIP : Les leaders fournissent le niveau de sponsorship suffisant pour supporter le programme]) -> 0 | AN4: =COUNT(Table1[Feedback - SPONSORSHIP : Les leaders fournissent le niveau de sponsorship suffisant pour supporter le programme]) -> 0 | AO4: =COUNT(Table1[Si la réponse comporte moins de 2 étoiles OUI, merci de préciser votre réponse dans le champs ci-dessous :6]) -> 0 | AP4: =COUNT(Table1[Points - Si la réponse comporte moins de 2 étoiles OUI, merci de préciser votre réponse dans le champs ci-dessous :6]) -> 0 | AQ4: =COUNT(Table1[Feedback - Si la réponse comporte moins de 2 étoiles OUI, merci de préciser votre réponse dans le champs ci-dessous :6]) -> 0 | AR4: =COUNT(Table1[CAPACITE : Ce changement entraine une charge de travail que nous pouvons absorber sur le site]) -> 27 | AS4: =COUNT(Table1[Points - CAPACITE : Ce changement entraine une charge de travail que nous pouvons absorber sur le site]) -> 0 | AT4: =COUNT(Table1[Feedback - CAPACITE : Ce changement entraine une charge de travail que nous pouvons absorber sur le site]) -> 0 | AU4: =COUNT(Table1[Si la réponse comporte moins de 2 étoiles OUI, merci de préciser votre réponse dans le champs ci-dessous :7]) -> 0 | AV4: =COUNT(Table1[Points - Si la réponse comporte moins de 2 étoiles OUI, merci de préciser votre réponse dans le champs ci-dessous :7]) -> 0 | AW4: =COUNT(Table1[Feedback - Si la réponse comporte moins de 2 étoiles OUI, merci de préciser votre réponse dans le champs ci-dessous :7]) -> 0 | AX4: =COUNT(Table1[CULTURE : Nous avons la culture appropriée pour absorber ce changement]) -> 27 | AY4: =COUNT(Table1[Points - CULTURE : Nous avons la culture appropriée pour absorber ce changement]) -> 0 | AZ4: =COUNT(Table1[Feedback - CULTURE : Nous avons la culture appropriée pour absorber ce changement]) -> 0 | BA4: =COUNT(Table1[Si la réponse comporte moins de 2 étoiles OUI, merci de préciser votre réponse dans le champs ci-dessous :8]) -> 0 | BB4: =COUNT(Table1[Feedback - Si la réponse comporte moins de 2 étoiles OUI, merci de préciser votre réponse dans le champs ci-dessous :8]) -> 0 | BC4: =COUNT(Table1[Points - Si la réponse comporte moins de 2 étoiles OUI, merci de préciser votre réponse dans le champs ci-dessous :8]) -> 0 | BD4: =COUNT(Table1[RESISTANCE : Les personnes impactées par ce changement démontrent l''engagement nécessaire pour réussir sa mise en place]) -> 27 | BE4: =COUNT(Table1[Feedback - RESISTANCE : Les personnes impactées par ce changement démontrent l''engagement nécessaire pour réussir sa mise en place]) -> 0 | BF4: =COUNT(Table1[Points - RESISTANCE : Les personnes impactées par ce changement démontrent l''engagement nécessaire pour réussir sa mise en place]) -> 0 | BG4: =COUNT(Table1[Si la réponse comporte moins de 2 étoiles OUI, merci de préciser votre réponse dans le champs ci-dessous :9]) -> 0 | BH4: =COUNT(Table1[Feedback - Si la réponse comporte moins de 2 étoiles OUI, merci de préciser votre réponse dans le champs ci-dessous :9]) -> 0 | BI4: =COUNT(Table1[Points - Si la réponse comporte moins de 2 étoiles OUI, merci de préciser votre réponse dans le champs ci-dessous :9]) -> 0 | BJ4: =COUNT(Table1[SYNERGIE : Nos efforts de collaboration pour ce projet nous font gagner du temps plus qu’il n’en coute]) -> 27 | BK4: =COUNT(Table1[Feedback - SYNERGIE : Nos efforts de collaboration pour ce projet nous font gagner du temps plus qu’il n’en coute]) -> 0 | BL4: =COUNT(Table1[Points - SYNERGIE : Nos efforts de collaboration pour ce projet nous font gagner du temps plus qu’il n’en coute]) -> 0 | BM4: =COUNT(Table1[Si la réponse comporte moins de 2 étoiles OUI, merci de préciser votre réponse dans le champs ci-dessous :10]) -> 0 | BN4: =COUNT(Table1[Feedback - Si la réponse comporte moins de 2 étoiles OUI, merci de préciser votre réponse dans le champs ci-dessous :10]) -> 0 | BO4: =COUNT(Table1[Points - Si la réponse comporte moins de 2 étoiles OUI, merci de préciser votre réponse dans le champs ci-dessous :10]) -> 0 | BP4: =COUNT(Table1[PARTENARIAT : Nos interactions avec des partenaires externes sont suffisantes pour supporter ce changement]) -> 27 | BQ4: =COUNT(Table1[Feedback - PARTENARIAT : Nos interactions avec des partenaires externes sont suffisantes pour supporter ce changement]) -> 0 | BR4: =COUNT(Table1[Points - PARTENARIAT : Nos interactions avec des partenaires externes sont suffisantes pour supporter ce changement]) -> 0 | BS4: =COUNT(Table1[Si la réponse comporte moins de 2 étoiles OUI, merci de préciser votre réponse dans le champs ci-dessous :11]) -> 0 | BT4: =COUNT(Table1[Feedback - Si la réponse comporte moins de 2 étoiles OUI, merci de préciser votre réponse dans le champs ci-dessous :11]) -> 0 | BU4: =COUNT(Table1[Points - Si la réponse comporte moins de 2 étoiles OUI, merci de préciser votre réponse dans le champs ci-dessous :11]) -> 0 | BV4: =COUNT(Table1[SUPERVISION : Les instances de pilotage permettent de prendre des décisions rapides et efficaces]) -> 27 | BW4: =COUNT(Table1[Points - SUPERVISION : Les instances de pilotage permettent de prendre des décisions rapides et efficaces]) -> 0 | BX4: =COUNT(Table1[Feedback - SUPERVISION : Les instances de pilotage permettent de prendre des décisions rapides et efficaces]) -> 0 | BY4: =COUNT(Table1[Si la réponse comporte moins de 2 étoiles OUI, merci de préciser votre réponse dans le champs ci-dessous :12]) -> 0 | BZ4: =COUNT(Table1[Points - Si la réponse comporte moins de 2 étoiles OUI, merci de préciser votre réponse dans le champs ci-dessous :12]) -> 0 | CA4: =COUNT(Table1[Feedback - Si la réponse comporte moins de 2 étoiles OUI, merci de préciser votre réponse dans le champs ci-dessous :12]) -> 0 | CB4: =COUNT(Table1[RESSOURCES : Les ressources sont suffisantes pour absorber ce changement]) -> 27 | CC4: =COUNT(Table1[Points - RESSOURCES : Les ressources sont suffisantes pour absorber ce changement]) -> 0 | CD4: =COUNT(Table1[Feedback - RESSOURCES : Les ressources sont suffisantes pour absorber ce changement]) -> 0 | CE4: =COUNT(Table1[Si la réponse comporte moins de 2 étoiles OUI, merci de préciser votre réponse dans le champs ci-dessous :13]) -> 0 | CF4: =COUNT(Table1[Points - Si la réponse comporte moins de 2 étoiles OUI, merci de préciser votre réponse dans le champs ci-dessous :13]) -> 0 | CG4: =COUNT(Table1[Feedback - Si la réponse comporte moins de 2 étoiles OUI, merci de préciser votre réponse dans le champs ci-dessous :13]) -> 0 | CH4: =COUNT(Table1[PORTFOLIO : Les interactions de ce projet avec les autres initiatives sont gérées correctement]) -> 27 | CI4: =COUNT(Table1[Points - PORTFOLIO : Les interactions de ce projet avec les autres initiatives sont gérées correctement]) -> 0 | CJ4: =COUNT(Table1[Feedback - PORTFOLIO : Les interactions de ce projet avec les autres initiatives sont gérées correctement]) -> 0 | CK4: =COUNT(Table1[Si la réponse comporte moins de 2 étoiles OUI, merci de préciser votre réponse dans le champs ci-dessous :14]) -> 0 | CL4: =COUNT(Table1[Points - Si la réponse comporte moins de 2 étoiles OUI, merci de préciser votre réponse dans le champs ci-dessous :14]) -> 0 | CM4: =COUNT(Table1[Feedback - Si la réponse comporte moins de 2 étoiles OUI, merci de préciser votre réponse dans le champs ci-dessous :14]) -> 0 | CN4: =COUNT(Table1[CHEMIN CRITIQUE : Les délais et ressources à travers de ce projet sont gérés efficacement]) -> 27 | CO4: =COUNT(Table1[Points - CHEMIN CRITIQUE : Les délais et ressources à travers de ce projet sont gérés efficacement]) -> 0 | CP4: =COUNT(Table1[Feedback - CHEMIN CRITIQUE : Les délais et ressources à travers de ce projet sont gérés efficacement]) -> 0 | CQ4: =COUNT(Table1[Si la réponse comporte moins de 2 étoiles OUI, merci de préciser votre réponse dans le champs ci-dessous :15]) -> 0 | CR4: =COUNT(Table1[Points - Si la réponse comporte moins de 2 étoiles OUI, merci de préciser votre réponse dans le champs ci-dessous :15]) -> 0 | CS4: =COUNT(Table1[Feedback - Si la réponse comporte moins de 2 étoiles OUI, merci de préciser votre réponse dans le champs ci-dessous :15]) -> 0
A5: ID | B5: Heure de début | C5: Heure de fin | D5: Adresse de messagerie | E5: Nom | F5: Total points | G5: Quiz feedback | H5: CLARTE : J'ai une vision claire de l’objectif final du programme | I5: Points - CLARTE : J'ai une vision claire de l’objectif final du programme | J5: Feedback - CLARTE : J'ai une vision claire de l’objectif final du programme | K5: Si la réponse comporte moins de 2 étoiles OUI, merci de préciser votre réponse dans le champs ci-dessous : | L5: Points - Si la réponse comporte moins de 2 étoiles OUI, merci de préciser votre réponse dans le champs ci-dessous : | M5: Feedback - Si la réponse comporte moins de 2 étoiles OUI, merci de préciser votre réponse dans le champs ci-dessous : | N5: ALIGNEMENT : Je suis aligné sur l’objectif final du programme | O5: Points - ALIGNEMENT : Je suis aligné sur l’objectif final du programme | P5: Feedback - ALIGNEMENT : Je suis aligné sur l’objectif final du programme | Q5: Si la réponse comporte moins de 2 étoiles OUI, merci de préciser votre réponse dans le champs ci-dessous :2 | R5: Points - Si la réponse comporte moins de 2 étoiles OUI, merci de préciser votre réponse dans le champs ci-dessous :2 | S5: Feedback - Si la réponse comporte moins de 2 étoiles OUI, merci de préciser votre réponse dans le champs ci-dessous :2 | T5: ENGAGEMENT : Je supporte l’objectif du programme | U5: Points - ENGAGEMENT : Je supporte l’objectif du programme | V5: Feedback - ENGAGEMENT : Je supporte l’objectif du programme | W5: Si la réponse comporte moins de 2 étoiles OUI, merci de préciser votre réponse dans le champs ci-dessous :3 | X5: Points - Si la réponse comporte moins de 2 étoiles OUI, merci de préciser votre réponse dans le champs ci-dessous :3 | Y5: Feedback - Si la réponse comporte moins de 2 étoiles OUI, merci de préciser votre réponse dans le champs ci-dessous :3 | Z5: SOLUTION : L’approche pour atteindre l’objectif du programme est solide | AA5: Points - SOLUTION : L’approche pour atteindre l’objectif du programme est solide | AB5: Feedback - SOLUTION : L’approche pour atteindre l’objectif du programme est solide | AC5: Si la réponse comporte moins de 2 étoiles OUI, merci de préciser votre réponse dans le champs ci-dessous :4 | AD5: Points - Si la réponse comporte moins de 2 étoiles OUI, merci de préciser votre réponse dans le champs ci-dessous :4 | AE5: Feedback - Si la réponse comporte moins de 2 étoiles OUI, merci de préciser votre réponse dans le champs ci-dessous :4 | AF5: INTEGRITE : Les objectifs initiaux du programme restent les mêmes | AG5: Points - INTEGRITE : Les objectifs initiaux du programme restent les mêmes | AH5: Feedback - INTEGRITE : Les objectifs initiaux du programme restent les mêmes | AI5: Si la réponse comporte moins de 2 étoiles OUI, merci de préciser votre réponse dans le champs ci-dessous :5 | AJ5: Points - Si la réponse comporte moins de 2 étoiles OUI, merci de préciser votre réponse dans le champs ci-dessous :5 | AK5: Feedback - Si la réponse comporte moins de 2 étoiles OUI, merci de préciser votre réponse dans le champs ci-dessous :5 | AL5: SPONSORSHIP : Les leaders fournissent le niveau de sponsorship suffisant pour supporter le programme | AM5: Points - SPONSORSHIP : Les leaders fournissent le niveau de sponsorship suffisant pour supporter le programme | AN5: Feedback - SPONSORSHIP : Les leaders fournissent le niveau de sponsorship suffisant pour supporter le programme | AO5: Si la réponse comporte moins de 2 étoiles OUI, merci de préciser votre réponse dans le champs ci-dessous :6 | AP5: Points - Si la réponse comporte moins de 2 étoiles OUI, merci de préciser votre réponse dans le champs ci-dessous :6 | AQ5: Feedback - Si la réponse comporte moins de 2 étoiles OUI, merci de préciser votre réponse dans le champs ci-dessous :6 | AR5: CAPACITE : Ce changement entraine une charge de travail que nous pouvons absorber sur le site | AS5: Points - CAPACITE : Ce changement entraine une charge de travail que nous pouvons absorber sur le site | AT5: Feedback - CAPACITE : Ce changement entraine une charge de travail que nous pouvons absorber sur le site | AU5: Si la réponse comporte moins de 2 étoiles OUI, merci de préciser votre réponse dans le champs ci-dessous :7 | AV5: Points - Si la réponse comporte moins de 2 étoiles OUI, merci de préciser votre réponse dans le champs ci-dessous :7 | AW5: Feedback - Si la réponse comporte moins de 2 étoiles OUI, merci de préciser votre réponse dans le champs ci-dessous :7 | AX5: CULTURE : Nous avons la culture appropriée pour absorber ce changement | AY5: Points - CULTURE : Nous avons la culture appropriée pour absorber ce changement | AZ5: Feedback - CULTURE : Nous avons la culture appropriée pour absorber ce changement | BA5: Si la réponse comporte moins de 2 étoiles OUI, merci de préciser votre réponse dans le champs ci-dessous :8 | BB5: Feedback - Si la réponse comporte moins de 2 étoiles OUI, merci de préciser votre réponse dans le champs ci-dessous :8 | BC5: Points - Si la réponse comporte moins de 2 étoiles OUI, merci de préciser votre réponse dans le champs ci-dessous :8 | BD5: RESISTANCE : Les personnes impactées par ce changement démontrent l'engagement nécessaire pour réussir sa mise en place | BE5: Feedback - RESISTANCE : Les personnes impactées par ce changement démontrent l'engagement nécessaire pour réussir sa mise en place | BF5: Points - RESISTANCE : Les personnes impactées par ce changement démontrent l'engagement nécessaire pour réussir sa mise en place | BG5: Si la réponse comporte moins de 2 étoiles OUI, merci de préciser votre réponse dans le champs ci-dessous :9 | BH5: Feedback - Si la réponse comporte moins de 2 étoiles OUI, merci de préciser votre réponse dans le champs ci-dessous :9 | BI5: Points - Si la réponse comporte moins de 2 étoiles OUI, merci de préciser votre réponse dans le champs ci-dessous :9 | BJ5: SYNERGIE : Nos efforts de collaboration pour ce projet nous font gagner du temps plus qu’il n’en coute | BK5: Feedback - SYNERGIE : Nos efforts de collaboration pour ce projet nous font gagner du temps plus qu’il n’en coute | BL5: Points - SYNERGIE : Nos efforts de collaboration pour ce projet nous font gagner du temps plus qu’il n’en coute | BM5: Si la réponse comporte moins de 2 étoiles OUI, merci de préciser votre réponse dans le champs ci-dessous :10 | BN5: Feedback - Si la réponse comporte moins de 2 étoiles OUI, merci de préciser votre réponse dans le champs ci-dessous :10 | BO5: Points - Si la réponse comporte moins de 2 étoiles OUI, merci de préciser votre réponse dans le champs ci-dessous :10 | BP5: PARTENARIAT : Nos interactions avec des partenaires externes sont suffisantes pour supporter ce changement | BQ5: Feedback - PARTENARIAT : Nos interactions avec des partenaires externes sont suffisantes pour supporter ce changement | BR5: Points - PARTENARIAT : Nos interactions avec des partenaires externes sont suffisantes pour supporter ce changement | BS5: Si la réponse comporte moins de 2 étoiles OUI, merci de préciser votre réponse dans le champs ci-dessous :11 | BT5: Feedback - Si la réponse comporte moins de 2 étoiles OUI, merci de préciser votre réponse dans le champs ci-dessous :11 | BU5: Points - Si la réponse comporte moins de 2 étoiles OUI, merci de préciser votre réponse dans le champs ci-dessous :11 | BV5: SUPERVISION : Les instances de pilotage permettent de prendre des décisions rapides et efficaces | BW5: Points - SUPERVISION : Les instances de pilotage permettent de prendre des décisions rapides et efficaces | BX5: Feedback - SUPERVISION : Les instances de pilotage permettent de prendre des décisions rapides et efficaces | BY5: Si la réponse comporte moins de 2 étoiles OUI, merci de préciser votre réponse dans le champs ci-dessous :12 | BZ5: Points - Si la réponse comporte moins de 2 étoiles OUI, merci de préciser votre réponse dans le champs ci-dessous :12 | CA5: Feedback - Si la réponse comporte moins de 2 étoiles OUI, merci de préciser votre réponse dans le champs ci-dessous :12 | CB5: RESSOURCES : Les ressources sont suffisantes pour absorber ce changement | CC5: Points - RESSOURCES : Les ressources sont suffisantes pour absorber ce changement | CD5: Feedback - RESSOURCES : Les ressources sont suffisantes pour absorber ce changement | CE5: Si la réponse comporte moins de 2 étoiles OUI, merci de préciser votre réponse dans le champs ci-dessous :13 | CF5: Points - Si la réponse comporte moins de 2 étoiles OUI, merci de préciser votre réponse dans le champs ci-dessous :13 | CG5: Feedback - Si la réponse comporte moins de 2 étoiles OUI, merci de préciser votre réponse dans le champs ci-dessous :13 | CH5: PORTFOLIO : Les interactions de ce projet avec les autres initiatives sont gérées correctement | CI5: Points - PORTFOLIO : Les interactions de ce projet avec les autres initiatives sont gérées correctement | CJ5: Feedback - PORTFOLIO : Les interactions de ce projet avec les autres initiatives sont gérées correctement | CK5: Si la réponse comporte moins de 2 étoiles OUI, merci de préciser votre réponse dans le champs ci-dessous :14 | CL5: Points - Si la réponse comporte moins de 2 étoiles OUI, merci de préciser votre réponse dans le champs ci-dessous :14 | CM5: Feedback - Si la réponse comporte moins de 2 étoiles OUI, merci de préciser votre réponse dans le champs ci-dessous :14 | CN5: CHEMIN CRITIQUE : Les délais et ressources à travers de ce projet sont gérés efficacement | CO5: Points - CHEMIN CRITIQUE : Les délais et ressources à travers de ce projet sont gérés efficacement | CP5: Feedback - CHEMIN CRITIQUE : Les délais et ressources à travers de ce projet sont gérés efficacement | CQ5: Si la réponse comporte moins de 2 étoiles OUI, merci de préciser votre réponse dans le champs ci-dessous :15 | CR5: Points - Si la réponse comporte moins de 2 étoiles OUI, merci de préciser votre réponse dans le champs ci-dessous :15 | CS5: Feedback - Si la réponse comporte moins de 2 étoiles OUI, merci de préciser votre réponse dans le champs ci-dessous :15
A6: 4 | B6: 44896.705 | C6: 44896.705 | D6: anonymous | H6: 4 | N6: 2 | T6: 5 | Z6: 3 | AF6: 5 | AL6: 3 | AR6: 5 | AX6: 4 | BD6: 5 | BJ6: 5 | BP6: 3 | BV6: 2 | CB6: 2 | CH6: 4 | CN6: 2
A7: 5 | B7: 44900.486 | C7: 44900.487 | D7: anonymous | H7: 4 | N7: 5 | T7: 5 | Z7: 4 | AF7: 4 | AL7: 4 | AR7: 4 | AX7: 4 | BD7: 4 | BJ7: 4 | BP7: 4 | BV7: 4 | CB7: 4 | CH7: 4 | CN7: 4
A8: 6 | B8: 44900.487 | C8: 44900.489 | D8: anonymous | H8: 5 | N8: 5 | T8: 5 | Z8: 3 | AF8: 5 | AL8: 4 | AR8: 2 | AX8: 3 | BD8: 4 | BJ8: 3 | BP8: 3 | BV8: 4 | CB8: 2 | CH8: 4 | CN8: 3
A9: 7 | B9: 44900.487 | C9: 44900.49 | D9: anonymous | H9: 5 | N9: 4 | T9: 5 | Z9: 5 | AF9: 4 | AL9: 5 | AR9: 4 | AX9: 5 | BD9: 5 | BJ9: 4 | BP9: 4 | BV9: 5 | CB9: 4 | CH9: 5 | CN9: 4
A10: 8 | B10: 44900.489 | C10: 44900.494 | D10: anonymous | H10: 3 | N10: 3 | T10: 3 | Z10: 2 | AF10: 1 | AI10: beaucoup de modifications de périmètre, des activités s'ajoutent qui n'étaient pas prévues au départ et augmentent la charge de travail | AL10: 4 | AR10: 1 | AU10: la charge de travail liée à l'apprentissage des nouveaux outils a été sous-évaluée | AX10: 2 | BD10: 2 | BJ10: 4 | BP10: 3 | BV10: 3 | CB10: 2 | CH10: 1 | CK10: manque de visibilité sur les activités hors programme et d'évaluation des interactions entre le programme et ces activités, notamment en ce qui concerne le partage des ressources | CN10: 2
A11: 9 | B11: 44900.509 | C11: 44900.515 | D11: anonymous | H11: 5 | N11: 5 | T11: 5 | Z11: 5 | AF11: 5 | AL11: 5 | AR11: 5 | AX11: 5 | BD11: 5 | BJ11: 5 | BP11: 5 | BV11: 4 | BY11: Je ne suis pas inquiète sur la rapidité des prises de décision mais sur le temps nécessaires à regrouper les informations pour que Fareva puisse décider. SOA doit fournir plus de visibilité quand on capacité de l'outil SAP. | CB11: 5 | CH11: 5 | CN11: 4 | CQ11: Attention aux périodes de formations et aux périodes de congés. Les congés n'ont pas été pris en compte dans le planning et les formations seront à faire à des périodes adéquates, c'est-à-dire juste avant la mise en production.
A12: 10 | B12: 44900.544 | C12: 44900.55 | D12: anonymous | H12: 5 | N12: 5 | T12: 5 | Z12: 4 | AC12: Quelques réticences par rapport à l'avancement de SOA | AF12: 4 | AI12: Réalisation en 2 phases (été 2022 + été 2023) au lieu d'une seule (été 2022) | AL12: 5 | AR12: 4 | AX12: 5 | BD12: 4 | BJ12: 4 | BP12: 5 | BV12: 5 | CB12: 4 | CH12: 4 | CK12: Manque de visibilité des projets hors PASSADOR | CN12: 5
A13: 11 | B13: 44900.552 | C13: 44900.555 | D13: anonymous | H13: 5 | N13: 5 | T13: 5 | Z13: 5 | AF13: 5 | AL13: 5 | AR13: 5 | AX13: 4 | BD13: 5 | BJ13: 3 | BP13: 5 | BV13: 4 | CB13: 4 | CH13: 5 | CN13: 5
A14: 12 | B14: 44900.562 | C14: 44900.564 | D14: anonymous | H14: 4 | N14: 4 | T14: 5 | Z14: 5 | AF14: 5 | AL14: 5 | AR14: 5 | AX14: 5 | BD14: 5 | BJ14: 5 | BP14: 4 | BV14: 5 | CB14: 4 | CH14: 4 | CN14: 5
A15: 13 | B15: 44900.562 | C15: 44900.565 | D15: anonymous | H15: 5 | N15: 4 | T15: 5 | Z15: 3 | AF15: 4 | AL15: 5 | AR15: 4 | AX15: 4 | BD15: 5 | BJ15: 5 | BP15: 5 | BV15: 2 | BY15: Certains projets sont pilotés avec le Corporate et cela peut entrainer des retards sur des projets du au temps de réponse de ces derniers. | CB15: 4 | CH15: 4 | CN15: 3
A16: 14 | B16: 44900.571 | C16: 44900.573 | D16: anonymous | H16: 3 | N16: 3 | T16: 3 | Z16: 3 | AF16: 3 | AL16: 3 | AR16: 2 | AX16: 4 | BD16: 3 | BJ16: 2 | BP16: 3 | BV16: 2 | CB16: 3 | CH16: 3 | CN16: 3
A17: 15 | B17: 44900.582 | C17: 44900.583 | D17: anonymous | H17: 3 | N17: 3 | T17: 5 | Z17: 3 | AF17: 3 | AL17: 3 | AR17: 5 | AX17: 3 | BD17: 5 | BJ17: 5 | BP17: 3 | BV17: 3 | CB17: 3 | CH17: 3 | CN17: 3
A18: 16 | B18: 44900.596 | C18: 44900.598 | D18: anonymous | H18: 5 | N18: 5 | T18: 5 | Z18: 4 | AF18: 4 | AL18: 3 | AR18: 2 | AX18: 4 | BD18: 4 | BJ18: 3 | BP18: 3 | BV18: 3 | CB18: 2 | CH18: 4 | CN18: 2
A19: 17 | B19: 44900.613 | C19: 44900.614 | D19: anonymous | H19: 4 | N19: 3 | T19: 4 | Z19: 4 | AF19: 4 | AL19: 3 | AR19: 2 | AX19: 4 | BD19: 4 | BJ19: 4 | BP19: 3 | BV19: 3 | CB19: 2 | CH19: 2 | CN19: 3
A20: 18 | B20: 44900.624 | C20: 44900.625 | D20: anonymous | H20: 4 | N20: 4 | T20: 4 | Z20: 3 | AF20: 3 | AL20: 3 | AR20: 3 | AX20: 4 | BD20: 4 | BJ20: 3 | BP20: 3 | BV20: 2 | CB20: 3 | CH20: 3 | CN20: 3
A21: 19 | B21: 44900.618 | C21: 44900.643 | D21: anonymous | H21: 3 | K21: Certains processus tel que les stabilités restent à définir en tant que pilotage par différents systèmes (SAP/LIMS) | N21: 3 | T21: 4 | Z21: 3 | AF21: 3 | AL21: 1 | AO21: Peu d'échange avec l'équipe de direction et les managers des secteurs sur le projet Passador | AR21: 1 | AU21: La charge d'activité du projet Passador n'est pas corrélée/analysée avec celle existante sur les autres projets du site (ex : OFM, changes clients) | AX21: 1 | BA21: L'absence de la mise en place d'une phase d'engagement des collaborateurs du site est un risque majeur pour le projet | BD21: 1 | BG21: A ce stade, pas d'échange avec les personnes impactées par ce changement (processus toujours en cours de définition) | BJ21: 3 | BP21: 3 | BV21: 2 | CB21: 1 | CE21: Manque de visibilité sur la stratégie de test, les formations à réaliser et la liste des documents BPF à réviser afin d'avoir une vision claire de l'adéquation des ressources aux besoins. Beaucoup de chevauchement d'activités sur début 2023. | CH21: 1 | CK21: Manque d'une visibilité claire sur ces interactions et absence d'un planning global site | CN21: 2
A22: 20 | B22: 44900.688 | C22: 44900.69 | D22: anonymous | H22: 5 | N22: 5 | T22: 5 | Z22: 5 | AF22: 5 | AL22: 5 | AR22: 4 | AX22: 3 | BD22: 5 | BJ22: 3 | BP22: 4 | BV22: 4 | CB22: 3 | CH22: 3 | CN22: 4
A23: 21 | B23: 44900.493 | C23: 44900.715 | D23: anonymous | H23: 4 | N23: 4 | T23: 5 | Z23: 4 | AF23: 1 | AI23: Nouvelle stratégie concernant la gestion des données dynamiques. | AL23: 3 | AR23: 1 | AU23: La mise en place du système LIMS implique une prise en charge totale à Mirabel sans support MSD ainsi qu'une réorganisation des activités des SME. Cette charge de travail et cette réorganisation sont en grande partie connues mais à ce jour la mise à disposition des ressources n'a pas été clairement validée par le management. | AX23: 1 | BA23: Voir commentaire ci-dessus | BD23: 5 | BJ23: 4 | BP23: 4 | BV23: 4 | CB23: 1 | CE23: Manque de temps aux experts pour participer pleinement aux étapes du projet. Les SME ne peuvent pas s'imprégner des sujets à traiter et donc n'ont pas la possibilité d'évaluer et d'approfondir leur approche. | CH23: 3 | CN23: 4
A24: 22 | B24: 44901.378 | C24: 44901.384 | D24: anonymous | H24: 3 | N24: 5 | T24: 5 | Z24: 3 | AF24: 3 | AL24: 3 | AR24: 1 | AU24: Le détachement des experts métiers nécessite des remplacements qui doivent se faire avec des moyens (recrutement) et de la formation au poste parfois même impossible à mettre en œuvre. Cette formation nécessite de prendre des recrues de manière anticipée et les besoins du projet ne sont pas toujours suffisamment anticipés. | AX24: 4 | BD24: 4 | BJ24: 1 | BM24: Pour l'instant il est impossible de mesurer un gain de temps | BP24: 3 | BS24: Pas d'avis car pas en prise avec des partenaires externes ! | BV24: 3 | BY24: Pas d'avis sur le sujet car pas impliqué au sein du projet | CB24: 3 | CH24: 3 | CN24: 3
A25: 23 | B25: 44901.396 | C25: 44901.398 | D25: anonymous | H25: 4 | N25: 3 | T25: 4 | Z25: 3 | AF25: 3 | AL25: 2 | AR25: 4 | AX25: 3 | BD25: 4 | BJ25: 3 | BP25: 4 | BV25: 4 | CB25: 3 | CH25: 4 | CN25: 3
A26: 24 | B26: 44901.436 | C26: 44901.445 | D26: anonymous | H26: 5 | N26: 5 | T26: 5 | Z26: 4 | AF26: 4 | AL26: 4 | AR26: 4 | AX26: 4 | BD26: 4 | BJ26: 4 | BP26: 4 | BV26: 4 | CB26: 4 | CH26: 4 | CN26: 4
A27: 25 | B27: 44901.569 | C27: 44901.571 | D27: anonymous | H27: 5 | N27: 5 | T27: 5 | Z27: 4 | AF27: 5 | AL27: 4 | AR27: 2 | AX27: 3 | BD27: 5 | BJ27: 5 | BP27: 4 | BV27: 3 | CB27: 3 | CH27: 3 | CN27: 3
A28: 26 | B28: 44902.368 | C28: 44902.376 | D28: anonymous | H28: 5 | N28: 5 | T28: 5 | Z28: 5 | AF28: 5 | AL28: 5 | AR28: 2 | AU28: Sollicitation très importante des Process Stewards et SME qui doivent absorber la charge de routine ainsi que la charge liée à l'introduction des nouveaux produits => risque pour le projet Passador mais aussi pour les autres produits du site | AX28: 4 | BD28: 5 | BJ28: 5 | BP28: 3 | BS28: Pas d'avis sur cette question | BV28: 5 | CB28: 2 | CE28: Voir point 13 par rapport aux ressources Process Stewards et SME | CH28: 2 | CK28: Voir point 13 par rapport aux ressources Process Stewards et SME: mode dégradé mis en place pour les nouveaux produits du fait du manque de ressources SAP / LIMS | CN28: 4
A29: 27 | B29: 44902.75 | C29: 44902.753 | D29: anonymous | H29: 5 | N29: 4 | T29: 5 | Z29: 4 | AF29: 5 | AL29: 5 | AR29: 4 | AX29: 5 | BD29: 4 | BJ29: 4 | BP29: 5 | BV29: 5 | CB29: 3 | CE29: Parfois à défaut d'une charge de travail conséquente à cause d'un planning serré et d'un manque de ressource pour répartir la charge | CH29: 3 | CN29: 3
A30: 28 | B30: 44903.564 | C30: 44903.745 | D30: anonymous | H30: 5 | N30: 5 | T30: 5 | Z30: 3 | AF30: 3 | AI30: Oui sauf travail sur nouveaux produits pas possible à enclencher avec les consultants car planning trop serré. | AL30: 1 | AO30: Aucune coordination entre les projets sites, , peu ou pas d'info des "sponsors" hors chef de projet, pas de recherche d'info de leur part. | AR30: 1 | AU30: Aucune coordination entre les projets sites, aucune prise en compte de la charge de travail des membres travaillant sur le projet, rechallenge permanent pour ajouter des activités au fur et à mesure que d'autres projets avancent. Les objectifs du CODIR semblent minimiser que sans SAP il ne se passera rien. | AX30: 2 | BA30: L'engagement de tout le site doit être travaillé pour que SAP ne soit pas l'outil de quelques experts, mais l'outil de gestion au quotidien de presque tous (objectif : chaque personne doit être autonome au minimum pour la consultation des informations et génération des rapports dont elle peut avoir besoin) | BD30: 3 | BG30: Les membres impliqués dans le projet : oui Pour les autres je ne sais pas dire, mais en tant que membre du projet on entend souvent dire "Alors, ça avance VOTRE SAP?" | BJ30: 4 | BP30: 4 | BS30: Pour l'instant oui, à voir comment les interactions se passeront quand nous aurons besoin d'aide, de clarification , ou qu'on nous réexplique au moment de l'écriture des SOP et formations. A voir aussi au moment des UAT. | BV30: 1 | BY30: Aucune idée | CB30: 1 | CE30: Le planning n'est pas réaliste pour des personnes non-dédiées au projet PASSADOR. | CH30: 1 | CK30: Chaque chef de projet site nouveau produit prend ses décisions de planning individuellement, il n'y a aucune revue au niveau CODIR des impacts sur les autres projets et sur les charges d'activités des membres du projet Passador. Mauvaise évaluation par le CODIR et donc mauvaise communication aux chefs de projets nouveaux produits des impacts autours du cutover (freeze, remédiation manuelle, démarrage, hypercare). Ma perception est que pour le CODIR c'est 6 semaines d'arrêt et avant/après tout se passe normalement. | CN30: 2 | CQ30: Dans le planning purement S4, de nombreuses activités doivent être gérées en parallèles par les mêmes personnes (non-dédiées), je pense que l'on est vraiment à risque. Ecrire les SOP et formations en même temps que l'on fait les UAT... Pas de prise en compte des congés dans le planning.
A31: 29 | B31: 44904.512 | C31: 44904.522 | D31: anonymous | H31: 3 | N31: 2 | Q31: pas tout à fait aligné | T31: 2 | W31: souvent oui souvent non. On a pas toujours une visibilité globale de l'objectif. | Z31: 3 | AF31: 4 | AL31: 2 | AO31: Pas toujours. | AR31: 2 | AU31: Mitiger | AX31: 3 | BD31: 3 | BJ31: 3 | BP31: 3 | BV31: 2 | BY31: Pas toujour | CB31: 2 | CE31: Non | CH31: 3 | CN31: 3
A32: 30 | B32: 44904.683 | C32: 44904.694 | D32: anonymous | H32: 5 | N32: 5 | T32: 5 | Z32: 3 | AF32: 4 | AL32: 4 | AR32: 3 | AU32: Attention à la charge pour les phases de test _ Prévoir des testeurs qui pourront ensuite devenir des supers utilisateurs pour augmenter le nombre de formateur. | AX32: 5 | BD32: 4 | BG32: Equipes pilotages doivent gagner en proactivité | BJ32: 4 | BP32: 3 | BV32: 3 | CB32: 3 | CH32: 3 | CN32: 3

Sheet 3-evol
A1: =AVERAGE(Table14[ID]) -> 10 | B1: =AVERAGE(Table14[Heure de début]) -> 44918.39 | C1: =AVERAGE(Table14[Heure de fin]) -> 44918.395 | D1: =AVERAGE(Table14[Adresse de messagerie]) -> #DIV/0! | E1: =AVERAGE(Table14[Nom]) -> #DIV/0! | F1: =AVERAGE(Table14[Total points]) -> #DIV/0! | G1: =AVERAGE(Table14[Quiz feedback]) -> #DIV/0! | H1: =AVERAGE(Table14[CLARTE : J''ai une vision claire de l’objectif final du programme]) -> 4.1578947 | I1: =AVERAGE(Table14[Points - CLARTE : J''ai une vision claire de l’objectif final du programme]) -> #DIV/0! | J1: =AVERAGE(Table14[Feedback - CLARTE : J''ai une vision claire de l’objectif final du programme]) -> #DIV/0! | K1: =AVERAGE(Table14[Si la réponse comporte moins de 2 étoiles OUI, merci de préciser votre réponse dans le champs ci-dessous :]) -> #DIV/0! | L1: =AVERAGE(Table14[Points - Si la réponse comporte moins de 2 étoiles OUI, merci de préciser votre réponse dans le champs ci-dessous :]) -> #DIV/0! | M1: =AVERAGE(Table14[Feedback - Si la réponse comporte moins de 2 étoiles OUI, merci de préciser votre réponse dans le champs ci-dessous :]) -> #DIV/0! | N1: =AVERAGE(Table14[ALIGNEMENT : Je suis aligné sur l’objectif final du programme]) -> 4.2631579 | O1: =AVERAGE(Table14[Points - ALIGNEMENT : Je suis aligné sur l’objectif final du programme]) -> #DIV/0! | P1: =AVERAGE(Table14[Feedback - ALIGNEMENT : Je suis aligné sur l’objectif final du programme]) -> #DIV/0! | Q1: =AVERAGE(Table14[Si la réponse comporte moins de 2 étoiles OUI, merci de préciser votre réponse dans le champs ci-dessous :2]) -> #DIV/0! | R1: =AVERAGE(Table14[Points - Si la réponse comporte moins de 2 étoiles OUI, merci de préciser votre réponse dans le champs ci-dessous :2]) -> #DIV/0! | S1: =AVERAGE(Table14[Feedback - Si la réponse comporte moins de 2 étoiles OUI, merci de préciser votre réponse dans le champs ci-dessous :2]) -> #DIV/0! | T1: =AVERAGE(Table14[ENGAGEMENT : Je supporte l’objectif du programme]) -> 4.3684211 | U1: =AVERAGE(Table14[Points - ENGAGEMENT : Je supporte l’objectif du programme]) -> #DIV/0! | V1: =AVERAGE(Table14[Feedback - ENGAGEMENT : Je supporte l’objectif du programme]) -> #DIV/0! | W1: =AVERAGE(Table14[Si la réponse comporte moins de 2 étoiles OUI, merci de préciser votre réponse dans le champs ci-dessous :3]) -> #DIV/0! | X1: =AVERAGE(Table14[Points - Si la réponse comporte moins de 2 étoiles OUI, merci de préciser votre réponse dans le champs ci-dessous :3]) -> #DIV/0! | Y1: =AVERAGE(Table14[Feedback - Si la réponse comporte moins de 2 étoiles OUI, merci de préciser votre réponse dans le champs ci-dessous :3]) -> #DIV/0! | Z1: =AVERAGE(Table14[SOLUTION : L’approche pour atteindre l’objectif du programme est solide]) -> 3.3684211 | AA1: =AVERAGE(Table14[Points - SOLUTION : L’approche pour atteindre l’objectif du programme est solide]) -> #DIV/0! | AB1: =AVERAGE(Table14[Feedback - SOLUTION : L’approche pour atteindre l’objectif du programme est solide]) -> #DIV/0! | AC1: =AVERAGE(Table14[Si la réponse comporte moins de 2 étoiles OUI, merci de préciser votre réponse dans le champs ci-dessous :4]) -> #DIV/0! | AD1: =AVERAGE(Table14[Points - Si la réponse comporte moins de 2 étoiles OUI, merci de préciser votre réponse dans le champs ci-dessous :4]) -> #DIV/0! | AE1: =AVERAGE(Table14[Feedback - Si la réponse comporte moins de 2 étoiles OUI, merci de préciser votre réponse dans le champs ci-dessous :4]) -> #DIV/0! | AF1: =AVERAGE(Table14[INTEGRITE : Les objectifs initiaux du programme restent les mêmes]) -> 3.7368421 | AG1: =AVERAGE(Table14[Points - INTEGRITE : Les objectifs initiaux du programme restent les mêmes]) -> #DIV/0! | AH1: =AVERAGE(Table14[Feedback - INTEGRITE : Les objectifs initiaux du programme restent les mêmes]) -> #DIV/0! | AI1: =AVERAGE(Table14[Si la réponse comporte moins de 2 étoiles OUI, merci de préciser votre réponse dans le champs ci-dessous :5]) -> #DIV/0! | AJ1: =AVERAGE(Table14[Points - Si la réponse comporte moins de 2 étoiles OUI, merci de préciser votre réponse dans le champs ci-dessous :5]) -> #DIV/0! | AK1: =AVERAGE(Table14[Feedback - Si la réponse comporte moins de 2 étoiles OUI, merci de préciser votre réponse dans le champs ci-dessous :5]) -> #DIV/0! | AL1: =AVERAGE(Table14[SPONSORSHIP : Les leaders fournissent le niveau de sponsorship suffisant pour supporter le programme]) -> 3.5263158 | AM1: =AVERAGE(Table14[Points - SPONSORSHIP : Les leaders fournissent le niveau de sponsorship suffisant pour supporter le programme]) -> #DIV/0! | AN1: =AVERAGE(Table14[Feedback - SPONSORSHIP : Les leaders fournissent le niveau de sponsorship suffisant pour supporter le programme]) -> #DIV/0! | AO1: =AVERAGE(Table14[Si la réponse comporte moins de 2 étoiles OUI, merci de préciser votre réponse dans le champs ci-dessous :6]) -> #DIV/0! | AP1: =AVERAGE(Table14[Points - Si la réponse comporte moins de 2 étoiles OUI, merci de préciser votre réponse dans le champs ci-dessous :6]) -> #DIV/0! | AQ1: =AVERAGE(Table14[Feedback - Si la réponse comporte moins de 2 étoiles OUI, merci de préciser votre réponse dans le champs ci-dessous :6]) -> #DIV/0! | AR1: =AVERAGE(Table14[CAPACITE : Ce changement entraine une charge de travail que nous pouvons absorber sur le site]) -> 2.7368421 | AS1: =AVERAGE(Table14[Points - CAPACITE : Ce changement entraine une charge de travail que nous pouvons absorber sur le site]) -> #DIV/0! | AT1: =AVERAGE(Table14[Feedback - CAPACITE : Ce changement entraine une charge de travail que nous pouvons absorber sur le site]) -> #DIV/0! | AU1: =AVERAGE(Table14[Si la réponse comporte moins de 2 étoiles OUI, merci de préciser votre réponse dans le champs ci-dessous :7]) -> #DIV/0! | AV1: =AVERAGE(Table14[Points - Si la réponse comporte moins de 2 étoiles OUI, merci de préciser votre réponse dans le champs ci-dessous :7]) -> #DIV/0! | AW1: =AVERAGE(Table14[Feedback - Si la réponse comporte moins de 2 étoiles OUI, merci de préciser votre réponse dans le champs ci-dessous :7]) -> #DIV/0! | AX1: =AVERAGE(Table14[CULTURE : Nous avons la culture appropriée pour absorber ce changement]) -> 3.6315789 | AY1: =AVERAGE(Table14[Points - CULTURE : Nous avons la culture appropriée pour absorber ce changement]) -> #DIV/0! | AZ1: =AVERAGE(Table14[Feedback - CULTURE : Nous avons la culture appropriée pour absorber ce changement]) -> #DIV/0! | BA1: =AVERAGE(Table14[Si la réponse comporte moins de 2 étoiles OUI, merci de préciser votre réponse dans le champs ci-dessous :8]) -> #DIV/0! | BB1: =AVERAGE(Table14[Feedback - Si la réponse comporte moins de 2 étoiles OUI, merci de préciser votre réponse dans le champs ci-dessous :8]) -> #DIV/0! | BC1: =AVERAGE(Table14[Points - Si la réponse comporte moins de 2 étoiles OUI, merci de préciser votre réponse dans le champs ci-dessous :8]) -> #DIV/0! | BD1: =AVERAGE(Table14[RESISTANCE : Les personnes impactées par ce changement démontrent l''engagement nécessaire pour réussir sa mise en place]) -> 3.6842105 | BE1: =AVERAGE(Table14[Feedback - RESISTANCE : Les personnes impactées par ce changement démontrent l''engagement nécessaire pour réussir sa mise en place]) -> #DIV/0! | BF1: =AVERAGE(Table14[Points - RESISTANCE : Les personnes impactées par ce changement démontrent l''engagement nécessaire pour réussir sa mise en place]) -> #DIV/0! | BG1: =AVERAGE(Table14[Si la réponse comporte moins de 2 étoiles OUI, merci de préciser votre réponse dans le champs ci-dessous :9]) -> #DIV/0! | BH1: =AVERAGE(Table14[Feedback - Si la réponse comporte moins de 2 étoiles OUI, merci de préciser votre réponse dans le champs ci-dessous :9]) -> #DIV/0! | BI1: =AVERAGE(Table14[Points - Si la réponse comporte moins de 2 étoiles OUI, merci de préciser votre réponse dans le champs ci-dessous :9]) -> #DIV/0! | BJ1: =AVERAGE(Table14[SYNERGIE : Nos efforts de collaboration pour ce projet nous font gagner du temps plus qu’il n’en coute]) -> 3 | BK1: =AVERAGE(Table14[Feedback - SYNERGIE : Nos efforts de collaboration pour ce projet nous font gagner du temps plus qu’il n’en coute]) -> #DIV/0! | BL1: =AVERAGE(Table14[Points - SYNERGIE : Nos efforts de collaboration pour ce projet nous font gagner du temps plus qu’il n’en coute]) -> #DIV/0! | BM1: =AVERAGE(Table14[Si la réponse comporte moins de 2 étoiles OUI, merci de préciser votre réponse dans le champs ci-dessous :10]) -> #DIV/0! | BN1: =AVERAGE(Table14[Feedback - Si la réponse comporte moins de 2 étoiles OUI, merci de préciser votre réponse dans le champs ci-dessous :10]) -> #DIV/0! | BO1: =AVERAGE(Table14[Points - Si la réponse comporte moins de 2 étoiles OUI, merci de préciser votre réponse dans le champs ci-dessous :10]) -> #DIV/0! | BP1: =AVERAGE(Table14[PARTENARIAT : Nos interactions avec des partenaires externes sont suffisantes pour supporter ce changement]) -> 3 | BQ1: =AVERAGE(Table14[Feedback - PARTENARIAT : Nos interactions avec des partenaires externes sont suffisantes pour supporter ce changement]) -> #DIV/0! | BR1: =AVERAGE(Table14[Points - PARTENARIAT : Nos interactions avec des partenaires externes sont suffisantes pour supporter ce changement]) -> #DIV/0! | BS1: =AVERAGE(Table14[Si la réponse comporte moins de 2 étoiles OUI, merci de préciser votre réponse dans le champs ci-dessous :11]) -> #DIV/0! | BT1: =AVERAGE(Table14[Feedback - Si la réponse comporte moins de 2 étoiles OUI, merci de préciser votre réponse dans le champs ci-dessous :11]) -> #DIV/0! | BU1: =AVERAGE(Table14[Points - Si la réponse comporte moins de 2 étoiles OUI, merci de préciser votre réponse dans le champs ci-dessous :11]) -> #DIV/0! | BV1: =AVERAGE(Table14[SUPERVISION : Les instances de pilotage permettent de prendre des décisions rapides et efficaces]) -> 3.1578947 | BW1: =AVERAGE(Table14[Points - SUPERVISION : Les instances de pilotage permettent de prendre des décisions rapides et efficaces]) -> #DIV/0! | BX1: =AVERAGE(Table14[Feedback - SUPERVISION : Les instances de pilotage permettent de prendre des décisions rapides et efficaces]) -> #DIV/0! | BY1: =AVERAGE(Table14[Si la réponse comporte moins de 2 étoiles OUI, merci de préciser votre réponse dans le champs ci-dessous :12]) -> #DIV/0! | BZ1: =AVERAGE(Table14[Points - Si la réponse comporte moins de 2 étoiles OUI, merci de préciser votre réponse dans le champs ci-dessous :12]) -> #DIV/0! | CA1: =AVERAGE(Table14[Feedback - Si la réponse comporte moins de 2 étoiles OUI, merci de préciser votre réponse dans le champs ci-dessous :12]) -> #DIV/0! | CB1: =AVERAGE(Table14[RESSOURCES : Les ressources sont suffisantes pour absorber ce changement]) -> 2.8421053 | CC1: =AVERAGE(Table14[Points - RESSOURCES : Les ressources sont suffisantes pour absorber ce changement]) -> #DIV/0! | CD1: =AVERAGE(Table14[Feedback - RESSOURCES : Les ressources sont suffisantes pour absorber ce changement]) -> #DIV/0! | CE1: =AVERAGE(Table14[Si la réponse comporte moins de 2 étoiles OUI, merci de préciser votre réponse dans le champs ci-dessous :13]) -> #DIV/0! | CF1: =AVERAGE(Table14[Points - Si la réponse comporte moins de 2 étoiles OUI, merci de préciser votre réponse dans le champs ci-dessous :13]) -> #DIV/0! | CG1: =AVERAGE(Table14[Feedback - Si la réponse comporte moins de 2 étoiles OUI, merci de préciser votre réponse dans le champs ci-dessous :13]) -> #DIV/0! | CH1: =AVERAGE(Table14[PORTFOLIO : Les interactions de ce projet avec les autres initiatives sont gérées correctement]) -> 3.2105263 | CI1: =AVERAGE(Table14[Points - PORTFOLIO : Les interactions de ce projet avec les autres initiatives sont gérées correctement]) -> #DIV/0! | CJ1: =AVERAGE(Table14[Feedback - PORTFOLIO : Les interactions de ce projet avec les autres initiatives sont gérées correctement]) -> #DIV/0! | CK1: =AVERAGE(Table14[Si la réponse comporte moins de 2 étoiles OUI, merci de préciser votre réponse dans le champs ci-dessous :14]) -> #DIV/0! | CL1: =AVERAGE(Table14[Points - Si la réponse comporte moins de 2 étoiles OUI, merci de préciser votre réponse dans le champs ci-dessous :14]) -> #DIV/0! | CM1: =AVERAGE(Table14[Feedback - Si la réponse comporte moins de 2 étoiles OUI, merci de préciser votre réponse dans le champs ci-dessous :14]) -> #DIV/0! | CN1: =AVERAGE(Table14[CHEMIN CRITIQUE : Les délais et ressources à travers de ce projet sont gérés efficacement]) -> 3 | CO1: =AVERAGE(Table14[Points - CHEMIN CRITIQUE : Les délais et ressources à travers de ce projet sont gérés efficacement]) -> #DIV/0! | CP1: =AVERAGE(Table14[Feedback - CHEMIN CRITIQUE : Les délais et ressources à travers de ce projet sont gérés efficacement]) -> #DIV/0! | CQ1: =AVERAGE(Table14[Si la réponse comporte moins de 2 étoiles OUI, merci de préciser votre réponse dans le champs ci-dessous :15]) -> #DIV/0! | CR1: =AVERAGE(Table14[Points - Si la réponse comporte moins de 2 étoiles OUI, merci de préciser votre réponse dans le champs ci-dessous :15]) -> #DIV/0! | CS1: =AVERAGE(Table14[Feedback - Si la réponse comporte moins de 2 étoiles OUI, merci de préciser votre réponse dans le champs ci-dessous :15]) -> #DIV/0!
A2: =MIN(Table14[ID]) -> 1 | B2: =MIN(Table14[Heure de début]) -> 44903.663 | C2: =MIN(Table14[Heure de fin]) -> 44903.664 | D2: =MIN(Table14[Adresse de messagerie]) -> 0 | E2: =MIN(Table14[Nom]) -> 0 | F2: =MIN(Table14[Total points]) -> 0 | G2: =MIN(Table14[Quiz feedback]) -> 0 | H2: =MIN(Table14[CLARTE : J''ai une vision claire de l’objectif final du programme]) -> 2 | I2: =MIN(Table14[Points - CLARTE : J''ai une vision claire de l’objectif final du programme]) -> 0 | J2: =MIN(Table14[Feedback - CLARTE : J''ai une vision claire de l’objectif final du programme]) -> 0 | K2: =MIN(Table14[Si la réponse comporte moins de 2 étoiles OUI, merci de préciser votre réponse dans le champs ci-dessous :]) -> 0 | L2: =MIN(Table14[Points - Si la réponse comporte moins de 2 étoiles OUI, merci de préciser votre réponse dans le champs ci-dessous :]) -> 0 | M2: =MIN(Table14[Feedback - Si la réponse comporte moins de 2 étoiles OUI, merci de préciser votre réponse dans le champs ci-dessous :]) -> 0 | N2: =MIN(Table14[ALIGNEMENT : Je suis aligné sur l’objectif final du programme]) -> 3 | O2: =MIN(Table14[Points - ALIGNEMENT : Je suis aligné sur l’objectif final du programme]) -> 0 | P2: =MIN(Table14[Feedback - ALIGNEMENT : Je suis aligné sur l’objectif final du programme]) -> 0 | Q2: =MIN(Table14[Si la réponse comporte moins de 2 étoiles OUI, merci de préciser votre réponse dans le champs ci-dessous :2]) -> 0 | R2: =MIN(Table14[Points - Si la réponse comporte moins de 2 étoiles OUI, merci de préciser votre réponse dans le champs ci-dessous :2]) -> 0 | S2: =MIN(Table14[Feedback - Si la réponse comporte moins de 2 étoiles OUI, merci de préciser votre réponse dans le champs ci-dessous :2]) -> 0 | T2: =MIN(Table14[ENGAGEMENT : Je supporte l’objectif du programme]) -> 3 | U2: =MIN(Table14[Points - ENGAGEMENT : Je supporte l’objectif du programme]) -> 0 | V2: =MIN(Table14[Feedback - ENGAGEMENT : Je supporte l’objectif du programme]) -> 0 | W2: =MIN(Table14[Si la réponse comporte moins de 2 étoiles OUI, merci de préciser votre réponse dans le champs ci-dessous :3]) -> 0 | X2: =MIN(Table14[Points - Si la réponse comporte moins de 2 étoiles OUI, merci de préciser votre réponse dans le champs ci-dessous :3]) -> 0 | Y2: =MIN(Table14[Feedback - Si la réponse comporte moins de 2 étoiles OUI, merci de préciser votre réponse dans le champs ci-dessous :3]) -> 0 | Z2: =MIN(Table14[SOLUTION : L’approche pour atteindre l’objectif du programme est solide]) -> 1 | AA2: =MIN(Table14[Points - SOLUTION : L’approche pour atteindre l’objectif du programme est solide]) -> 0 | AB2: =MIN(Table14[Feedback - SOLUTION : L’approche pour atteindre l’objectif du programme est solide]) -> 0 | AC2: =MIN(Table14[Si la réponse comporte moins de 2 étoiles OUI, merci de préciser votre réponse dans le champs ci-dessous :4]) -> 0 | AD2: =MIN(Table14[Points - Si la réponse comporte moins de 2 étoiles OUI, merci de préciser votre réponse dans le champs ci-dessous :4]) -> 0 | AE2: =MIN(Table14[Feedback - Si la réponse comporte moins de 2 étoiles OUI, merci de préciser votre réponse dans le champs ci-dessous :4]) -> 0 | AF2: =MIN(Table14[INTEGRITE : Les objectifs initiaux du programme restent les mêmes]) -> 1 | AG2: =MIN(Table14[Points - INTEGRITE : Les objectifs initiaux du programme restent les mêmes]) -> 0 | AH2: =MIN(Table14[Feedback - INTEGRITE : Les objectifs initiaux du programme restent les mêmes]) -> 0 | AI2: =MIN(Table14[Si la réponse comporte moins de 2 étoiles OUI, merci de préciser votre réponse dans le champs ci-dessous :5]) -> 0 | AJ2: =MIN(Table14[Points - Si la réponse comporte moins de 2 étoiles OUI, merci de préciser votre réponse dans le champs ci-dessous :5]) -> 0 | AK2: =MIN(Table14[Feedback - Si la réponse comporte moins de 2 étoiles OUI, merci de préciser votre réponse dans le champs ci-dessous :5]) -> 0 | AL2: =MIN(Table14[SPONSORSHIP : Les leaders fournissent le niveau de sponsorship suffisant pour supporter le programme]) -> 1 | AM2: =MIN(Table14[Points - SPONSORSHIP : Les leaders fournissent le niveau de sponsorship suffisant pour supporter le programme]) -> 0 | AN2: =MIN(Table14[Feedback - SPONSORSHIP : Les leaders fournissent le niveau de sponsorship suffisant pour supporter le programme]) -> 0 | AO2: =MIN(Table14[Si la réponse comporte moins de 2 étoiles OUI, merci de préciser votre réponse dans le champs ci-dessous :6]) -> 0 | AP2: =MIN(Table14[Points - Si la réponse comporte moins de 2 étoiles OUI, merci de préciser votre réponse dans le champs ci-dessous :6]) -> 0 | AQ2: =MIN(Table14[Feedback - Si la réponse comporte moins de 2 étoiles OUI, merci de préciser votre réponse dans le champs ci-dessous :6]) -> 0 | AR2: =MIN(Table14[CAPACITE : Ce changement entraine une charge de travail que nous pouvons absorber sur le site]) -> 1 | AS2: =MIN(Table14[Points - CAPACITE : Ce changement entraine une charge de travail que nous pouvons absorber sur le site]) -> 0 | AT2: =MIN(Table14[Feedback - CAPACITE : Ce changement entraine une charge de travail que nous pouvons absorber sur le site]) -> 0 | AU2: =MIN(Table14[Si la réponse comporte moins de 2 étoiles OUI, merci de préciser votre réponse dans le champs ci-dessous :7]) -> 0 | AV2: =MIN(Table14[Points - Si la réponse comporte moins de 2 étoiles OUI, merci de préciser votre réponse dans le champs ci-dessous :7]) -> 0 | AW2: =MIN(Table14[Feedback - Si la réponse comporte moins de 2 étoiles OUI, merci de préciser votre réponse dans le champs ci-dessous :7]) -> 0 | AX2: =MIN(Table14[CULTURE : Nous avons la culture appropriée pour absorber ce changement]) -> 1 | AY2: =MIN(Table14[Points - CULTURE : Nous avons la culture appropriée pour absorber ce changement]) -> 0 | AZ2: =MIN(Table14[Feedback - CULTURE : Nous avons la culture appropriée pour absorber ce changement]) -> 0 | BA2: =MIN(Table14[Si la réponse comporte moins de 2 étoiles OUI, merci de préciser votre réponse dans le champs ci-dessous :8]) -> 0 | BB2: =MIN(Table14[Feedback - Si la réponse comporte moins de 2 étoiles OUI, merci de préciser votre réponse dans le champs ci-dessous :8]) -> 0 | BC2: =MIN(Table14[Points - Si la réponse comporte moins de 2 étoiles OUI, merci de préciser votre réponse dans le champs ci-dessous :8]) -> 0 | BD2: =MIN(Table14[RESISTANCE : Les personnes impactées par ce changement démontrent l''engagement nécessaire pour réussir sa mise en place]) -> 1 | BE2: =MIN(Table14[Feedback - RESISTANCE : Les personnes impactées par ce changement démontrent l''engagement nécessaire pour réussir sa mise en place]) -> 0 | BF2: =MIN(Table14[Points - RESISTANCE : Les personnes impactées par ce changement démontrent l''engagement nécessaire pour réussir sa mise en place]) -> 0 | BG2: =MIN(Table14[Si la réponse comporte moins de 2 étoiles OUI, merci de préciser votre réponse dans le champs ci-dessous :9]) -> 0 | BH2: =MIN(Table14[Feedback - Si la réponse comporte moins de 2 étoiles OUI, merci de préciser votre réponse dans le champs ci-dessous :9]) -> 0 | BI2: =MIN(Table14[Points - Si la réponse comporte moins de 2 étoiles OUI, merci de préciser votre réponse dans le champs ci-dessous :9]) -> 0 | BJ2: =MIN(Table14[SYNERGIE : Nos efforts de collaboration pour ce projet nous font gagner du temps plus qu’il n’en coute]) -> 1 | BK2: =MIN(Table14[Feedback - SYNERGIE : Nos efforts de collaboration pour ce projet nous font gagner du temps plus qu’il n’en coute]) -> 0 | BL2: =MIN(Table14[Points - SYNERGIE : Nos efforts de collaboration pour ce projet nous font gagner du temps plus qu’il n’en coute]) -> 0 | BM2: =MIN(Table14[Si la réponse comporte moins de 2 étoiles OUI, merci de préciser votre réponse dans le champs ci-dessous :10]) -> 0 | BN2: =MIN(Table14[Feedback - Si la réponse comporte moins de 2 étoiles OUI, merci de préciser votre réponse dans le champs ci-dessous :10]) -> 0 | BO2: =MIN(Table14[Points - Si la réponse comporte moins de 2 étoiles OUI, merci de préciser votre réponse dans le champs ci-dessous :10]) -> 0 | BP2: =MIN(Table14[PARTENARIAT : Nos interactions avec des partenaires externes sont suffisantes pour supporter ce changement]) -> 1 | BQ2: =MIN(Table14[Feedback - PARTENARIAT : Nos interactions avec des partenaires externes sont suffisantes pour supporter ce changement]) -> 0 | BR2: =MIN(Table14[Points - PARTENARIAT : Nos interactions avec des partenaires externes sont suffisantes pour supporter ce changement]) -> 0 | BS2: =MIN(Table14[Si la réponse comporte moins de 2 étoiles OUI, merci de préciser votre réponse dans le champs ci-dessous :11]) -> 0 | BT2: =MIN(Table14[Feedback - Si la réponse comporte moins de 2 étoiles OUI, merci de préciser votre réponse dans le champs ci-dessous :11]) -> 0 | BU2: =MIN(Table14[Points - Si la réponse comporte moins de 2 étoiles OUI, merci de préciser votre réponse dans le champs ci-dessous :11]) -> 0 | BV2: =MIN(Table14[SUPERVISION : Les instances de pilotage permettent de prendre des décisions rapides et efficaces]) -> 1 | BW2: =MIN(Table14[Points - SUPERVISION : Les instances de pilotage permettent de prendre des décisions rapides et efficaces]) -> 0 | BX2: =MIN(Table14[Feedback - SUPERVISION : Les instances de pilotage permettent de prendre des décisions rapides et efficaces]) -> 0 | BY2: =MIN(Table14[Si la réponse comporte moins de 2 étoiles OUI, merci de préciser votre réponse dans le champs ci-dessous :12]) -> 0 | BZ2: =MIN(Table14[Points - Si la réponse comporte moins de 2 étoiles OUI, merci de préciser votre réponse dans le champs ci-dessous :12]) -> 0 | CA2: =MIN(Table14[Feedback - Si la réponse comporte moins de 2 étoiles OUI, merci de préciser votre réponse dans le champs ci-dessous :12]) -> 0 | CB2: =MIN(Table14[RESSOURCES : Les ressources sont suffisantes pour absorber ce changement]) -> 1 | CC2: =MIN(Table14[Points - RESSOURCES : Les ressources sont suffisantes pour absorber ce changement]) -> 0 | CD2: =MIN(Table14[Feedback - RESSOURCES : Les ressources sont suffisantes pour absorber ce changement]) -> 0 | CE2: =MIN(Table14[Si la réponse comporte moins de 2 étoiles OUI, merci de préciser votre réponse dans le champs ci-dessous :13]) -> 0 | CF2: =MIN(Table14[Points - Si la réponse comporte moins de 2 étoiles OUI, merci de préciser votre réponse dans le champs ci-dessous :13]) -> 0 | CG2: =MIN(Table14[Feedback - Si la réponse comporte moins de 2 étoiles OUI, merci de préciser votre réponse dans le champs ci-dessous :13]) -> 0 | CH2: =MIN(Table14[PORTFOLIO : Les interactions de ce projet avec les autres initiatives sont gérées correctement]) -> 1 | CI2: =MIN(Table14[Points - PORTFOLIO : Les interactions de ce projet avec les autres initiatives sont gérées correctement]) -> 0 | CJ2: =MIN(Table14[Feedback - PORTFOLIO : Les interactions de ce projet avec les autres initiatives sont gérées correctement]) -> 0 | CK2: =MIN(Table14[Si la réponse comporte moins de 2 étoiles OUI, merci de préciser votre réponse dans le champs ci-dessous :14]) -> 0 | CL2: =MIN(Table14[Points - Si la réponse comporte moins de 2 étoiles OUI, merci de préciser votre réponse dans le champs ci-dessous :14]) -> 0 | CM2: =MIN(Table14[Feedback - Si la réponse comporte moins de 2 étoiles OUI, merci de préciser votre réponse dans le champs ci-dessous :14]) -> 0 | CN2: =MIN(Table14[CHEMIN CRITIQUE : Les délais et ressources à travers de ce projet sont gérés efficacement]) -> 1 | CO2: =MIN(Table14[Points - CHEMIN CRITIQUE : Les délais et ressources à travers de ce projet sont gérés efficacement]) -> 0 | CP2: =MIN(Table14[Feedback - CHEMIN CRITIQUE : Les délais et ressources à travers de ce projet sont gérés efficacement]) -> 0 | CQ2: =MIN(Table14[Si la réponse comporte moins de 2 étoiles OUI, merci de préciser votre réponse dans le champs ci-dessous :15]) -> 0 | CR2: =MIN(Table14[Points - Si la réponse comporte moins de 2 étoiles OUI, merci de préciser votre réponse dans le champs ci-dessous :15]) -> 0 | CS2: =MIN(Table14[Feedback - Si la réponse comporte moins de 2 étoiles OUI, merci de préciser votre réponse dans le champs ci-dessous :15]) -> 0
A3: =MAX(Table14[ID]) -> 19 | B3: =MAX(Table14[Heure de début]) -> 44935.449 | C3: =MAX(Table14[Heure de fin]) -> 44935.462 | D3: =MAX(Table14[Adresse de messagerie]) -> 0 | E3: =MAX(Table14[Nom]) -> 0 | F3: =MAX(Table14[Total points]) -> 0 | G3: =MAX(Table14[Quiz feedback]) -> 0 | H3: =MAX(Table14[CLARTE : J''ai une vision claire de l’objectif final du programme]) -> 5 | I3: =MAX(Table14[Points - CLARTE : J''ai une vision claire de l’objectif final du programme]) -> 0 | J3: =MAX(Table14[Feedback - CLARTE : J''ai une vision claire de l’objectif final du programme]) -> 0 | K3: =MAX(Table14[Si la réponse comporte moins de 2 étoiles OUI, merci de préciser votre réponse dans le champs ci-dessous :]) -> 0 | L3: =MAX(Table14[Points - Si la réponse comporte moins de 2 étoiles OUI, merci de préciser votre réponse dans le champs ci-dessous :]) -> 0 | M3: =MAX(Table14[Feedback - Si la réponse comporte moins de 2 étoiles OUI, merci de préciser votre réponse dans le champs ci-dessous :]) -> 0 | N3: =MAX(Table14[ALIGNEMENT : Je suis aligné sur l’objectif final du programme]) -> 5 | O3: =MAX(Table14[Points - ALIGNEMENT : Je suis aligné sur l’objectif final du programme]) -> 0 | P3: =MAX(Table14[Feedback - ALIGNEMENT : Je suis aligné sur l’objectif final du programme]) -> 0 | Q3: =MAX(Table14[Si la réponse comporte moins de 2 étoiles OUI, merci de préciser votre réponse dans le champs ci-dessous :2]) -> 0 | R3: =MAX(Table14[Points - Si la réponse comporte moins de 2 étoiles OUI, merci de préciser votre réponse dans le champs ci-dessous :2]) -> 0 | S3: =MAX(Table14[Feedback - Si la réponse comporte moins de 2 étoiles OUI, merci de préciser votre réponse dans le champs ci-dessous :2]) -> 0 | T3: =MAX(Table14[ENGAGEMENT : Je supporte l’objectif du programme]) -> 5 | U3: =MAX(Table14[Points - ENGAGEMENT : Je supporte l’objectif du programme]) -> 0 | V3: =MAX(Table14[Feedback - ENGAGEMENT : Je supporte l’objectif du programme]) -> 0 | W3: =MAX(Table14[Si la réponse comporte moins de 2 étoiles OUI, merci de préciser votre réponse dans le champs ci-dessous :3]) -> 0 | X3: =MAX(Table14[Points - Si la réponse comporte moins de 2 étoiles OUI, merci de préciser votre réponse dans le champs ci-dessous :3]) -> 0 | Y3: =MAX(Table14[Feedback - Si la réponse comporte moins de 2 étoiles OUI, merci de préciser votre réponse dans le champs ci-dessous :3]) -> 0 | Z3: =MAX(Table14[SOLUTION : L’approche pour atteindre l’objectif du programme est solide]) -> 5 | AA3: =MAX(Table14[Points - SOLUTION : L’approche pour atteindre l’objectif du programme est solide]) -> 0 | AB3: =MAX(Table14[Feedback - SOLUTION : L’approche pour atteindre l’objectif du programme est solide]) -> 0 | AC3: =MAX(Table14[Si la réponse comporte moins de 2 étoiles OUI, merci de préciser votre réponse dans le champs ci-dessous :4]) -> 0 | AD3: =MAX(Table14[Points - Si la réponse comporte moins de 2 étoiles OUI, merci de préciser votre réponse dans le champs ci-dessous :4]) -> 0 | AE3: =MAX(Table14[Feedback - Si la réponse comporte moins de 2 étoiles OUI, merci de préciser votre réponse dans le champs ci-dessous :4]) -> 0 | AF3: =MAX(Table14[INTEGRITE : Les objectifs initiaux du programme restent les mêmes]) -> 5 | AG3: =MAX(Table14[Points - INTEGRITE : Les objectifs initiaux du programme restent les mêmes]) -> 0 | AH3: =MAX(Table14[Feedback - INTEGRITE : Les objectifs initiaux du programme restent les mêmes]) -> 0 | AI3: =MAX(Table14[Si la réponse comporte moins de 2 étoiles OUI, merci de préciser votre réponse dans le champs ci-dessous :5]) -> 0 | AJ3: =MAX(Table14[Points - Si la réponse comporte moins de 2 étoiles OUI, merci de préciser votre réponse dans le champs ci-dessous :5]) -> 0 | AK3: =MAX(Table14[Feedback - Si la réponse comporte moins de 2 étoiles OUI, merci de préciser votre réponse dans le champs ci-dessous :5]) -> 0 | AL3: =MAX(Table14[SPONSORSHIP : Les leaders fournissent le niveau de sponsorship suffisant pour supporter le programme]) -> 5 | AM3: =MAX(Table14[Points - SPONSORSHIP : Les leaders fournissent le niveau de sponsorship suffisant pour supporter le programme]) -> 0 | AN3: =MAX(Table14[Feedback - SPONSORSHIP : Les leaders fournissent le niveau de sponsorship suffisant pour supporter le programme]) -> 0 | AO3: =MAX(Table14[Si la réponse comporte moins de 2 étoiles OUI, merci de préciser votre réponse dans le champs ci-dessous :6]) -> 0 | AP3: =MAX(Table14[Points - Si la réponse comporte moins de 2 étoiles OUI, merci de préciser votre réponse dans le champs ci-dessous :6]) -> 0 | AQ3: =MAX(Table14[Feedback - Si la réponse comporte moins de 2 étoiles OUI, merci de préciser votre réponse dans le champs ci-dessous :6]) -> 0 | AR3: =MAX(Table14[CAPACITE : Ce changement entraine une charge de travail que nous pouvons absorber sur le site]) -> 5 | AS3: =MAX(Table14[Points - CAPACITE : Ce changement entraine une charge de travail que nous pouvons absorber sur le site]) -> 0 | AT3: =MAX(Table14[Feedback - CAPACITE : Ce changement entraine une charge de travail que nous pouvons absorber sur le site]) -> 0 | AU3: =MAX(Table14[Si la réponse comporte moins de 2 étoiles OUI, merci de préciser votre réponse dans le champs ci-dessous :7]) -> 0 | AV3: =MAX(Table14[Points - Si la réponse comporte moins de 2 étoiles OUI, merci de préciser votre réponse dans le champs ci-dessous :7]) -> 0 | AW3: =MAX(Table14[Feedback - Si la réponse comporte moins de 2 étoiles OUI, merci de préciser votre réponse dans le champs ci-dessous :7]) -> 0 | AX3: =MAX(Table14[CULTURE : Nous avons la culture appropriée pour absorber ce changement]) -> 5 | AY3: =MAX(Table14[Points - CULTURE : Nous avons la culture appropriée pour absorber ce changement]) -> 0 | AZ3: =MAX(Table14[Feedback - CULTURE : Nous avons la culture appropriée pour absorber ce changement]) -> 0 | BA3: =MAX(Table14[Si la réponse comporte moins de 2 étoiles OUI, merci de préciser votre réponse dans le champs ci-dessous :8]) -> 0 | BB3: =MAX(Table14[Feedback - Si la réponse comporte moins de 2 étoiles OUI, merci de préciser votre réponse dans le champs ci-dessous :8]) -> 0 | BC3: =MAX(Table14[Points - Si la réponse comporte moins de 2 étoiles OUI, merci de préciser votre réponse dans le champs ci-dessous :8]) -> 0 | BD3: =MAX(Table14[RESISTANCE : Les personnes impactées par ce changement démontrent l''engagement nécessaire pour réussir sa mise en place]) -> 5 | BE3: =MAX(Table14[Feedback - RESISTANCE : Les personnes impactées par ce changement démontrent l''engagement nécessaire pour réussir sa mise en place]) -> 0 | BF3: =MAX(Table14[Points - RESISTANCE : Les personnes impactées par ce changement démontrent l''engagement nécessaire pour réussir sa mise en place]) -> 0 | BG3: =MAX(Table14[Si la réponse comporte moins de 2 étoiles OUI, merci de préciser votre réponse dans le champs ci-dessous :9]) -> 0 | BH3: =MAX(Table14[Feedback - Si la réponse comporte moins de 2 étoiles OUI, merci de préciser votre réponse dans le champs ci-dessous :9]) -> 0 | BI3: =MAX(Table14[Points - Si la réponse comporte moins de 2 étoiles OUI, merci de préciser votre réponse dans le champs ci-dessous :9]) -> 0 | BJ3: =MAX(Table14[SYNERGIE : Nos efforts de collaboration pour ce projet nous font gagner du temps plus qu’il n’en coute]) -> 5 | BK3: =MAX(Table14[Feedback - SYNERGIE : Nos efforts de collaboration pour ce projet nous font gagner du temps plus qu’il n’en coute]) -> 0 | BL3: =MAX(Table14[Points - SYNERGIE : Nos efforts de collaboration pour ce projet nous font gagner du temps plus qu’il n’en coute]) -> 0 | BM3: =MAX(Table14[Si la réponse comporte moins de 2 étoiles OUI, merci de préciser votre réponse dans le champs ci-dessous :10]) -> 0 | BN3: =MAX(Table14[Feedback - Si la réponse comporte moins de 2 étoiles OUI, merci de préciser votre réponse dans le champs ci-dessous :10]) -> 0 | BO3: =MAX(Table14[Points - Si la réponse comporte moins de 2 étoiles OUI, merci de préciser votre réponse dans le champs ci-dessous :10]) -> 0 | BP3: =MAX(Table14[PARTENARIAT : Nos interactions avec des partenaires externes sont suffisantes pour supporter ce changement]) -> 5 | BQ3: =MAX(Table14[Feedback - PARTENARIAT : Nos interactions avec des partenaires externes sont suffisantes pour supporter ce changement]) -> 0 | BR3: =MAX(Table14[Points - PARTENARIAT : Nos interactions avec des partenaires externes sont suffisantes pour supporter ce changement]) -> 0 | BS3: =MAX(Table14[Si la réponse comporte moins de 2 étoiles OUI, merci de préciser votre réponse dans le champs ci-dessous :11]) -> 0 | BT3: =MAX(Table14[Feedback - Si la réponse comporte moins de 2 étoiles OUI, merci de préciser votre réponse dans le champs ci-dessous :11]) -> 0 | BU3: =MAX(Table14[Points - Si la réponse comporte moins de 2 étoiles OUI, merci de préciser votre réponse dans le champs ci-dessous :11]) -> 0 | BV3: =MAX(Table14[SUPERVISION : Les instances de pilotage permettent de prendre des décisions rapides et efficaces]) -> 5 | BW3: =MAX(Table14[Points - SUPERVISION : Les instances de pilotage permettent de prendre des décisions rapides et efficaces]) -> 0 | BX3: =MAX(Table14[Feedback - SUPERVISION : Les instances de pilotage permettent de prendre des décisions rapides et efficaces]) -> 0 | BY3: =MAX(Table14[Si la réponse comporte moins de 2 étoiles OUI, merci de préciser votre réponse dans le champs ci-dessous :12]) -> 0 | BZ3: =MAX(Table14[Points - Si la réponse comporte moins de 2 étoiles OUI, merci de préciser votre réponse dans le champs ci-dessous :12]) -> 0 | CA3: =MAX(Table14[Feedback - Si la réponse comporte moins de 2 étoiles OUI, merci de préciser votre réponse dans le champs ci-dessous :12]) -> 0 | CB3: =MAX(Table14[RESSOURCES : Les ressources sont suffisantes pour absorber ce changement]) -> 5 | CC3: =MAX(Table14[Points - RESSOURCES : Les ressources sont suffisantes pour absorber ce changement]) -> 0 | CD3: =MAX(Table14[Feedback - RESSOURCES : Les ressources sont suffisantes pour absorber ce changement]) -> 0 | CE3: =MAX(Table14[Si la réponse comporte moins de 2 étoiles OUI, merci de préciser votre réponse dans le champs ci-dessous :13]) -> 0 | CF3: =MAX(Table14[Points - Si la réponse comporte moins de 2 étoiles OUI, merci de préciser votre réponse dans le champs ci-dessous :13]) -> 0 | CG3: =MAX(Table14[Feedback - Si la réponse comporte moins de 2 étoiles OUI, merci de préciser votre réponse dans le champs ci-dessous :13]) -> 0 | CH3: =MAX(Table14[PORTFOLIO : Les interactions de ce projet avec les autres initiatives sont gérées correctement]) -> 5 | CI3: =MAX(Table14[Points - PORTFOLIO : Les interactions de ce projet avec les autres initiatives sont gérées correctement]) -> 0 | CJ3: =MAX(Table14[Feedback - PORTFOLIO : Les interactions de ce projet avec les autres initiatives sont gérées correctement]) -> 0 | CK3: =MAX(Table14[Si la réponse comporte moins de 2 étoiles OUI, merci de préciser votre réponse dans le champs ci-dessous :14]) -> 0 | CL3: =MAX(Table14[Points - Si la réponse comporte moins de 2 étoiles OUI, merci de préciser votre réponse dans le champs ci-dessous :14]) -> 0 | CM3: =MAX(Table14[Feedback - Si la réponse comporte moins de 2 étoiles OUI, merci de préciser votre réponse dans le champs ci-dessous :14]) -> 0 | CN3: =MAX(Table14[CHEMIN CRITIQUE : Les délais et ressources à travers de ce projet sont gérés efficacement]) -> 5 | CO3: =MAX(Table14[Points - CHEMIN CRITIQUE : Les délais et ressources à travers de ce projet sont gérés efficacement]) -> 0 | CP3: =MAX(Table14[Feedback - CHEMIN CRITIQUE : Les délais et ressources à travers de ce projet sont gérés efficacement]) -> 0 | CQ3: =MAX(Table14[Si la réponse comporte moins de 2 étoiles OUI, merci de préciser votre réponse dans le champs ci-dessous :15]) -> 0 | CR3: =MAX(Table14[Points - Si la réponse comporte moins de 2 étoiles OUI, merci de préciser votre réponse dans le champs ci-dessous :15]) -> 0 | CS3: =MAX(Table14[Feedback - Si la réponse comporte moins de 2 étoiles OUI, merci de préciser votre réponse dans le champs ci-dessous :15]) -> 0
A4: =COUNT(Table14[ID]) -> 19 | B4: =COUNT(Table14[Heure de début]) -> 19 | C4: =COUNT(Table14[Heure de fin]) -> 19 | D4: =COUNT(Table14[Adresse de messagerie]) -> 0 | E4: =COUNT(Table14[Nom]) -> 0 | F4: =COUNT(Table14[Total points]) -> 0 | G4: =COUNT(Table14[Quiz feedback]) -> 0 | H4: =COUNT(Table14[CLARTE : J''ai une vision claire de l’objectif final du programme]) -> 19 | I4: =COUNT(Table14[Points - CLARTE : J''ai une vision claire de l’objectif final du programme]) -> 0 | J4: =COUNT(Table14[Feedback - CLARTE : J''ai une vision claire de l’objectif final du programme]) -> 0 | K4: =COUNT(Table14[Si la réponse comporte moins de 2 étoiles OUI, merci de préciser votre réponse dans le champs ci-dessous :]) -> 0 | L4: =COUNT(Table14[Points - Si la réponse comporte moins de 2 étoiles OUI, merci de préciser votre réponse dans le champs ci-dessous :]) -> 0 | M4: =COUNT(Table14[Feedback - Si la réponse comporte moins de 2 étoiles OUI, merci de préciser votre réponse dans le champs ci-dessous :]) -> 0 | N4: =COUNT(Table14[ALIGNEMENT : Je suis aligné sur l’objectif final du programme]) -> 19 | O4: =COUNT(Table14[Points - ALIGNEMENT : Je suis aligné sur l’objectif final du programme]) -> 0 | P4: =COUNT(Table14[Feedback - ALIGNEMENT : Je suis aligné sur l’objectif final du programme]) -> 0 | Q4: =COUNT(Table14[Si la réponse comporte moins de 2 étoiles OUI, merci de préciser votre réponse dans le champs ci-dessous :2]) -> 0 | R4: =COUNT(Table14[Points - Si la réponse comporte moins de 2 étoiles OUI, merci de préciser votre réponse dans le champs ci-dessous :2]) -> 0 | S4: =COUNT(Table14[Feedback - Si la réponse comporte moins de 2 étoiles OUI, merci de préciser votre réponse dans le champs ci-dessous :2]) -> 0 | T4: =COUNT(Table14[ENGAGEMENT : Je supporte l’objectif du programme]) -> 19 | U4: =COUNT(Table14[Points - ENGAGEMENT : Je supporte l’objectif du programme]) -> 0 | V4: =COUNT(Table14[Feedback - ENGAGEMENT : Je supporte l’objectif du programme]) -> 0 | W4: =COUNT(Table14[Si la réponse comporte moins de 2 étoiles OUI, merci de préciser votre réponse dans le champs ci-dessous :3]) -> 0 | X4: =COUNT(Table14[Points - Si la réponse comporte moins de 2 étoiles OUI, merci de préciser votre réponse dans le champs ci-dessous :3]) -> 0 | Y4: =COUNT(Table14[Feedback - Si la réponse comporte moins de 2 étoiles OUI, merci de préciser votre réponse dans le champs ci-dessous :3]) -> 0 | Z4: =COUNT(Table14[SOLUTION : L’approche pour atteindre l’objectif du programme est solide]) -> 19 | AA4: =COUNT(Table14[Points - SOLUTION : L’approche pour atteindre l’objectif du programme est solide]) -> 0 | AB4: =COUNT(Table14[Feedback - SOLUTION : L’approche pour atteindre l’objectif du programme est solide]) -> 0 | AC4: =COUNT(Table14[Si la réponse comporte moins de 2 étoiles OUI, merci de préciser votre réponse dans le champs ci-dessous :4]) -> 0 | AD4: =COUNT(Table14[Points - Si la réponse comporte moins de 2 étoiles OUI, merci de préciser votre réponse dans le champs ci-dessous :4]) -> 0 | AE4: =COUNT(Table14[Feedback - Si la réponse comporte moins de 2 étoiles OUI, merci de préciser votre réponse dans le champs ci-dessous :4]) -> 0 | AF4: =COUNT(Table14[INTEGRITE : Les objectifs initiaux du programme restent les mêmes]) -> 19 | AG4: =COUNT(Table14[Points - INTEGRITE : Les objectifs initiaux du programme restent les mêmes]) -> 0 | AH4: =COUNT(Table14[Feedback - INTEGRITE : Les objectifs initiaux du programme restent les mêmes]) -> 0 | AI4: =COUNT(Table14[Si la réponse comporte moins de 2 étoiles OUI, merci de préciser votre réponse dans le champs ci-dessous :5]) -> 0 | AJ4: =COUNT(Table14[Points - Si la réponse comporte moins de 2 étoiles OUI, merci de préciser votre réponse dans le champs ci-dessous :5]) -> 0 | AK4: =COUNT(Table14[Feedback - Si la réponse comporte moins de 2 étoiles OUI, merci de préciser votre réponse dans le champs ci-dessous :5]) -> 0 | AL4: =COUNT(Table14[SPONSORSHIP : Les leaders fournissent le niveau de sponsorship suffisant pour supporter le programme]) -> 19 | AM4: =COUNT(Table14[Points - SPONSORSHIP : Les leaders fournissent le niveau de sponsorship suffisant pour supporter le programme]) -> 0 | AN4: =COUNT(Table14[Feedback - SPONSORSHIP : Les leaders fournissent le niveau de sponsorship suffisant pour supporter le programme]) -> 0 | AO4: =COUNT(Table14[Si la réponse comporte moins de 2 étoiles OUI, merci de préciser votre réponse dans le champs ci-dessous :6]) -> 0 | AP4: =COUNT(Table14[Points - Si la réponse comporte moins de 2 étoiles OUI, merci de préciser votre réponse dans le champs ci-dessous :6]) -> 0 | AQ4: =COUNT(Table14[Feedback - Si la réponse comporte moins de 2 étoiles OUI, merci de préciser votre réponse dans le champs ci-dessous :6]) -> 0 | AR4: =COUNT(Table14[CAPACITE : Ce changement entraine une charge de travail que nous pouvons absorber sur le site]) -> 19 | AS4: =COUNT(Table14[Points - CAPACITE : Ce changement entraine une charge de travail que nous pouvons absorber sur le site]) -> 0 | AT4: =COUNT(Table14[Feedback - CAPACITE : Ce changement entraine une charge de travail que nous pouvons absorber sur le site]) -> 0 | AU4: =COUNT(Table14[Si la réponse comporte moins de 2 étoiles OUI, merci de préciser votre réponse dans le champs ci-dessous :7]) -> 0 | AV4: =COUNT(Table14[Points - Si la réponse comporte moins de 2 étoiles OUI, merci de préciser votre réponse dans le champs ci-dessous :7]) -> 0 | AW4: =COUNT(Table14[Feedback - Si la réponse comporte moins de 2 étoiles OUI, merci de préciser votre réponse dans le champs ci-dessous :7]) -> 0 | AX4: =COUNT(Table14[CULTURE : Nous avons la culture appropriée pour absorber ce changement]) -> 19 | AY4: =COUNT(Table14[Points - CULTURE : Nous avons la culture appropriée pour absorber ce changement]) -> 0 | AZ4: =COUNT(Table14[Feedback - CULTURE : Nous avons la culture appropriée pour absorber ce changement]) -> 0 | BA4: =COUNT(Table14[Si la réponse comporte moins de 2 étoiles OUI, merci de préciser votre réponse dans le champs ci-dessous :8]) -> 0 | BB4: =COUNT(Table14[Feedback - Si la réponse comporte moins de 2 étoiles OUI, merci de préciser votre réponse dans le champs ci-dessous :8]) -> 0 | BC4: =COUNT(Table14[Points - Si la réponse comporte moins de 2 étoiles OUI, merci de préciser votre réponse dans le champs ci-dessous :8]) -> 0 | BD4: =COUNT(Table14[RESISTANCE : Les personnes impactées par ce changement démontrent l''engagement nécessaire pour réussir sa mise en place]) -> 19 | BE4: =COUNT(Table14[Feedback - RESISTANCE : Les personnes impactées par ce changement démontrent l''engagement nécessaire pour réussir sa mise en place]) -> 0 | BF4: =COUNT(Table14[Points - RESISTANCE : Les personnes impactées par ce changement démontrent l''engagement nécessaire pour réussir sa mise en place]) -> 0 | BG4: =COUNT(Table14[Si la réponse comporte moins de 2 étoiles OUI, merci de préciser votre réponse dans le champs ci-dessous :9]) -> 0 | BH4: =COUNT(Table14[Feedback - Si la réponse comporte moins de 2 étoiles OUI, merci de préciser votre réponse dans le champs ci-dessous :9]) -> 0 | BI4: =COUNT(Table14[Points - Si la réponse comporte moins de 2 étoiles OUI, merci de préciser votre réponse dans le champs ci-dessous :9]) -> 0 | BJ4: =COUNT(Table14[SYNERGIE : Nos efforts de collaboration pour ce projet nous font gagner du temps plus qu’il n’en coute]) -> 19 | BK4: =COUNT(Table14[Feedback - SYNERGIE : Nos efforts de collaboration pour ce projet nous font gagner du temps plus qu’il n’en coute]) -> 0 | BL4: =COUNT(Table14[Points - SYNERGIE : Nos efforts de collaboration pour ce projet nous font gagner du temps plus qu’il n’en coute]) -> 0 | BM4: =COUNT(Table14[Si la réponse comporte moins de 2 étoiles OUI, merci de préciser votre réponse dans le champs ci-dessous :10]) -> 0 | BN4: =COUNT(Table14[Feedback - Si la réponse comporte moins de 2 étoiles OUI, merci de préciser votre réponse dans le champs ci-dessous :10]) -> 0 | BO4: =COUNT(Table14[Points - Si la réponse comporte moins de 2 étoiles OUI, merci de préciser votre réponse dans le champs ci-dessous :10]) -> 0 | BP4: =COUNT(Table14[PARTENARIAT : Nos interactions avec des partenaires externes sont suffisantes pour supporter ce changement]) -> 19 | BQ4: =COUNT(Table14[Feedback - PARTENARIAT : Nos interactions avec des partenaires externes sont suffisantes pour supporter ce changement]) -> 0 | BR4: =COUNT(Table14[Points - PARTENARIAT : Nos interactions avec des partenaires externes sont suffisantes pour supporter ce changement]) -> 0 | BS4: =COUNT(Table14[Si la réponse comporte moins de 2 étoiles OUI, merci de préciser votre réponse dans le champs ci-dessous :11]) -> 0 | BT4: =COUNT(Table14[Feedback - Si la réponse comporte moins de 2 étoiles OUI, merci de préciser votre réponse dans le champs ci-dessous :11]) -> 0 | BU4: =COUNT(Table14[Points - Si la réponse comporte moins de 2 étoiles OUI, merci de préciser votre réponse dans le champs ci-dessous :11]) -> 0 | BV4: =COUNT(Table14[SUPERVISION : Les instances de pilotage permettent de prendre des décisions rapides et efficaces]) -> 19 | BW4: =COUNT(Table14[Points - SUPERVISION : Les instances de pilotage permettent de prendre des décisions rapides et efficaces]) -> 0 | BX4: =COUNT(Table14[Feedback - SUPERVISION : Les instances de pilotage permettent de prendre des décisions rapides et efficaces]) -> 0 | BY4: =COUNT(Table14[Si la réponse comporte moins de 2 étoiles OUI, merci de préciser votre réponse dans le champs ci-dessous :12]) -> 0 | BZ4: =COUNT(Table14[Points - Si la réponse comporte moins de 2 étoiles OUI, merci de préciser votre réponse dans le champs ci-dessous :12]) -> 0 | CA4: =COUNT(Table14[Feedback - Si la réponse comporte moins de 2 étoiles OUI, merci de préciser votre réponse dans le champs ci-dessous :12]) -> 0 | CB4: =COUNT(Table14[RESSOURCES : Les ressources sont suffisantes pour absorber ce changement]) -> 19 | CC4: =COUNT(Table14[Points - RESSOURCES : Les ressources sont suffisantes pour absorber ce changement]) -> 0 | CD4: =COUNT(Table14[Feedback - RESSOURCES : Les ressources sont suffisantes pour absorber ce changement]) -> 0 | CE4: =COUNT(Table14[Si la réponse comporte moins de 2 étoiles OUI, merci de préciser votre réponse dans le champs ci-dessous :13]) -> 0 | CF4: =COUNT(Table14[Points - Si la réponse comporte moins de 2 étoiles OUI, merci de préciser votre réponse dans le champs ci-dessous :13]) -> 0 | CG4: =COUNT(Table14[Feedback - Si la réponse comporte moins de 2 étoiles OUI, merci de préciser votre réponse dans le champs ci-dessous :13]) -> 0 | CH4: =COUNT(Table14[PORTFOLIO : Les interactions de ce projet avec les autres initiatives sont gérées correctement]) -> 19 | CI4: =COUNT(Table14[Points - PORTFOLIO : Les interactions de ce projet avec les autres initiatives sont gérées correctement]) -> 0 | CJ4: =COUNT(Table14[Feedback - PORTFOLIO : Les interactions de ce projet avec les autres initiatives sont gérées correctement]) -> 0 | CK4: =COUNT(Table14[Si la réponse comporte moins de 2 étoiles OUI, merci de préciser votre réponse dans le champs ci-dessous :14]) -> 0 | CL4: =COUNT(Table14[Points - Si la réponse comporte moins de 2 étoiles OUI, merci de préciser votre réponse dans le champs ci-dessous :14]) -> 0 | CM4: =COUNT(Table14[Feedback - Si la réponse comporte moins de 2 étoiles OUI, merci de préciser votre réponse dans le champs ci-dessous :14]) -> 0 | CN4: =COUNT(Table14[CHEMIN CRITIQUE : Les délais et ressources à travers de ce projet sont gérés efficacement]) -> 19 | CO4: =COUNT(Table14[Points - CHEMIN CRITIQUE : Les délais et ressources à travers de ce projet sont gérés efficacement]) -> 0 | CP4: =COUNT(Table14[Feedback - CHEMIN CRITIQUE : Les délais et ressources à travers de ce projet sont gérés efficacement]) -> 0 | CQ4: =COUNT(Table14[Si la réponse comporte moins de 2 étoiles OUI, merci de préciser votre réponse dans le champs ci-dessous :15]) -> 0 | CR4: =COUNT(Table14[Points - Si la réponse comporte moins de 2 étoiles OUI, merci de préciser votre réponse dans le champs ci-dessous :15]) -> 0 | CS4: =COUNT(Table14[Feedback - Si la réponse comporte moins de 2 étoiles OUI, merci de préciser votre réponse dans le champs ci-dessous :15]) -> 0
A5: ID | B5: Heure de début | C5: Heure de fin | D5: Adresse de messagerie | E5: Nom | F5: Total points | G5: Quiz feedback | H5: CLARTE : J'ai une vision claire de l’objectif final du programme | I5: Points - CLARTE : J'ai une vision claire de l’objectif final du programme | J5: Feedback - CLARTE : J'ai une vision claire de l’objectif final du programme | K5: Si la réponse comporte moins de 2 étoiles OUI, merci de préciser votre réponse dans le champs ci-dessous : | L5: Points - Si la réponse comporte moins de 2 étoiles OUI, merci de préciser votre réponse dans le champs ci-dessous : | M5: Feedback - Si la réponse comporte moins de 2 étoiles OUI, merci de préciser votre réponse dans le champs ci-dessous : | N5: ALIGNEMENT : Je suis aligné sur l’objectif final du programme | O5: Points - ALIGNEMENT : Je suis aligné sur l’objectif final du programme | P5: Feedback - ALIGNEMENT : Je suis aligné sur l’objectif final du programme | Q5: Si la réponse comporte moins de 2 étoiles OUI, merci de préciser votre réponse dans le champs ci-dessous :2 | R5: Points - Si la réponse comporte moins de 2 étoiles OUI, merci de préciser votre réponse dans le champs ci-dessous :2 | S5: Feedback - Si la réponse comporte moins de 2 étoiles OUI, merci de préciser votre réponse dans le champs ci-dessous :2 | T5: ENGAGEMENT : Je supporte l’objectif du programme | U5: Points - ENGAGEMENT : Je supporte l’objectif du programme | V5: Feedback - ENGAGEMENT : Je supporte l’objectif du programme | W5: Si la réponse comporte moins de 2 étoiles OUI, merci de préciser votre réponse dans le champs ci-dessous :3 | X5: Points - Si la réponse comporte moins de 2 étoiles OUI, merci de préciser votre réponse dans le champs ci-dessous :3 | Y5: Feedback - Si la réponse comporte moins de 2 étoiles OUI, merci de préciser votre réponse dans le champs ci-dessous :3 | Z5: SOLUTION : L’approche pour atteindre l’objectif du programme est solide | AA5: Points - SOLUTION : L’approche pour atteindre l’objectif du programme est solide | AB5: Feedback - SOLUTION : L’approche pour atteindre l’objectif du programme est solide | AC5: Si la réponse comporte moins de 2 étoiles OUI, merci de préciser votre réponse dans le champs ci-dessous :4 | AD5: Points - Si la réponse comporte moins de 2 étoiles OUI, merci de préciser votre réponse dans le champs ci-dessous :4 | AE5: Feedback - Si la réponse comporte moins de 2 étoiles OUI, merci de préciser votre réponse dans le champs ci-dessous :4 | AF5: INTEGRITE : Les objectifs initiaux du programme restent les mêmes | AG5: Points - INTEGRITE : Les objectifs initiaux du programme restent les mêmes | AH5: Feedback - INTEGRITE : Les objectifs initiaux du programme restent les mêmes | AI5: Si la réponse comporte moins de 2 étoiles OUI, merci de préciser votre réponse dans le champs ci-dessous :5 | AJ5: Points - Si la réponse comporte moins de 2 étoiles OUI, merci de préciser votre réponse dans le champs ci-dessous :5 | AK5: Feedback - Si la réponse comporte moins de 2 étoiles OUI, merci de préciser votre réponse dans le champs ci-dessous :5 | AL5: SPONSORSHIP : Les leaders fournissent le niveau de sponsorship suffisant pour supporter le programme | AM5: Points - SPONSORSHIP : Les leaders fournissent le niveau de sponsorship suffisant pour supporter le programme | AN5: Feedback - SPONSORSHIP : Les leaders fournissent le niveau de sponsorship suffisant pour supporter le programme | AO5: Si la réponse comporte moins de 2 étoiles OUI, merci de préciser votre réponse dans le champs ci-dessous :6 | AP5: Points - Si la réponse comporte moins de 2 étoiles OUI, merci de préciser votre réponse dans le champs ci-dessous :6 | AQ5: Feedback - Si la réponse comporte moins de 2 étoiles OUI, merci de préciser votre réponse dans le champs ci-dessous :6 | AR5: CAPACITE : Ce changement entraine une charge de travail que nous pouvons absorber sur le site | AS5: Points - CAPACITE : Ce changement entraine une charge de travail que nous pouvons absorber sur le site | AT5: Feedback - CAPACITE : Ce changement entraine une charge de travail que nous pouvons absorber sur le site | AU5: Si la réponse comporte moins de 2 étoiles OUI, merci de préciser votre réponse dans le champs ci-dessous :7 | AV5: Points - Si la réponse comporte moins de 2 étoiles OUI, merci de préciser votre réponse dans le champs ci-dessous :7 | AW5: Feedback - Si la réponse comporte moins de 2 étoiles OUI, merci de préciser votre réponse dans le champs ci-dessous :7 | AX5: CULTURE : Nous avons la culture appropriée pour absorber ce changement | AY5: Points - CULTURE : Nous avons la culture appropriée pour absorber ce changement | AZ5: Feedback - CULTURE : Nous avons la culture appropriée pour absorber ce changement | BA5: Si la réponse comporte moins de 2 étoiles OUI, merci de préciser votre réponse dans le champs ci-dessous :8 | BB5: Feedback - Si la réponse comporte moins de 2 étoiles OUI, merci de préciser votre réponse dans le champs ci-dessous :8 | BC5: Points - Si la réponse comporte moins de 2 étoiles OUI, merci de préciser votre réponse dans le champs ci-dessous :8 | BD5: RESISTANCE : Les personnes impactées par ce changement démontrent l'engagement nécessaire pour réussir sa mise en place | BE5: Feedback - RESISTANCE : Les personnes impactées par ce changement démontrent l'engagement nécessaire pour réussir sa mise en place | BF5: Points - RESISTANCE : Les personnes impactées par ce changement démontrent l'engagement nécessaire pour réussir sa mise en place | BG5: Si la réponse comporte moins de 2 étoiles OUI, merci de préciser votre réponse dans le champs ci-dessous :9 | BH5: Feedback - Si la réponse comporte moins de 2 étoiles OUI, merci de préciser votre réponse dans le champs ci-dessous :9 | BI5: Points - Si la réponse comporte moins de 2 étoiles OUI, merci de préciser votre réponse dans le champs ci-dessous :9 | BJ5: SYNERGIE : Nos efforts de collaboration pour ce projet nous font gagner du temps plus qu’il n’en coute | BK5: Feedback - SYNERGIE : Nos efforts de collaboration pour ce projet nous font gagner du temps plus qu’il n’en coute | BL5: Points - SYNERGIE : Nos efforts de collaboration pour ce projet nous font gagner du temps plus qu’il n’en coute | BM5: Si la réponse comporte moins de 2 étoiles OUI, merci de préciser votre réponse dans le champs ci-dessous :10 | BN5: Feedback - Si la réponse comporte moins de 2 étoiles OUI, merci de préciser votre réponse dans le champs ci-dessous :10 | BO5: Points - Si la réponse comporte moins de 2 étoiles OUI, merci de préciser votre réponse dans le champs ci-dessous :10 | BP5: PARTENARIAT : Nos interactions avec des partenaires externes sont suffisantes pour supporter ce changement | BQ5: Feedback - PARTENARIAT : Nos interactions avec des partenaires externes sont suffisantes pour supporter ce changement | BR5: Points - PARTENARIAT : Nos interactions avec des partenaires externes sont suffisantes pour supporter ce changement | BS5: Si la réponse comporte moins de 2 étoiles OUI, merci de préciser votre réponse dans le champs ci-dessous :11 | BT5: Feedback - Si la réponse comporte moins de 2 étoiles OUI, merci de préciser votre réponse dans le champs ci-dessous :11 | BU5: Points - Si la réponse comporte moins de 2 étoiles OUI, merci de préciser votre réponse dans le champs ci-dessous :11 | BV5: SUPERVISION : Les instances de pilotage permettent de prendre des décisions rapides et efficaces | BW5: Points - SUPERVISION : Les instances de pilotage permettent de prendre des décisions rapides et efficaces | BX5: Feedback - SUPERVISION : Les instances de pilotage permettent de prendre des décisions rapides et efficaces | BY5: Si la réponse comporte moins de 2 étoiles OUI, merci de préciser votre réponse dans le champs ci-dessous :12 | BZ5: Points - Si la réponse comporte moins de 2 étoiles OUI, merci de préciser votre réponse dans le champs ci-dessous :12 | CA5: Feedback - Si la réponse comporte moins de 2 étoiles OUI, merci de préciser votre réponse dans le champs ci-dessous :12 | CB5: RESSOURCES : Les ressources sont suffisantes pour absorber ce changement | CC5: Points - RESSOURCES : Les ressources sont suffisantes pour absorber ce changement | CD5: Feedback - RESSOURCES : Les ressources sont suffisantes pour absorber ce changement | CE5: Si la réponse comporte moins de 2 étoiles OUI, merci de préciser votre réponse dans le champs ci-dessous :13 | CF5: Points - Si la réponse comporte moins de 2 étoiles OUI, merci de préciser votre réponse dans le champs ci-dessous :13 | CG5: Feedback - Si la réponse comporte moins de 2 étoiles OUI, merci de préciser votre réponse dans le champs ci-dessous :13 | CH5: PORTFOLIO : Les interactions de ce projet avec les autres initiatives sont gérées correctement | CI5: Points - PORTFOLIO : Les interactions de ce projet avec les autres initiatives sont gérées correctement | CJ5: Feedback - PORTFOLIO : Les interactions de ce projet avec les autres initiatives sont gérées correctement | CK5: Si la réponse comporte moins de 2 étoiles OUI, merci de préciser votre réponse dans le champs ci-dessous :14 | CL5: Points - Si la réponse comporte moins de 2 étoiles OUI, merci de préciser votre réponse dans le champs ci-dessous :14 | CM5: Feedback - Si la réponse comporte moins de 2 étoiles OUI, merci de préciser votre réponse dans le champs ci-dessous :14 | CN5: CHEMIN CRITIQUE : Les délais et ressources à travers de ce projet sont gérés efficacement | CO5: Points - CHEMIN CRITIQUE : Les délais et ressources à travers de ce projet sont gérés efficacement | CP5: Feedback - CHEMIN CRITIQUE : Les délais et ressources à travers de ce projet sont gérés efficacement | CQ5: Si la réponse comporte moins de 2 étoiles OUI, merci de préciser votre réponse dans le champs ci-dessous :15 | CR5: Points - Si la réponse comporte moins de 2 étoiles OUI, merci de préciser votre réponse dans le champs ci-dessous :15 | CS5: Feedback - Si la réponse comporte moins de 2 étoiles OUI, merci de préciser votre réponse dans le champs ci-dessous :15
A6: 1 | B6: 44903.663 | C6: 44903.664 | D6: anonymous | H6: 5 | N6: 5 | T6: 5 | Z6: 5 | AF6: 5 | AL6: 5 | AR6: 5 | AX6: 5 | BD6: 5 | BJ6: 5 | BP6: 5 | BV6: 5 | CB6: 5 | CH6: 5 | CN6: 5
A7: 2 | B7: 44903.667 | C7: 44903.668 | D7: anonymous | H7: 4 | N7: 4 | T7: 5 | Z7: 5 | AF7: 5 | AL7: 5 | AR7: 3 | AX7: 4 | BD7: 5 | BJ7: 4 | BP7: 3 | BV7: 5 | CB7: 3 | CH7: 4 | CN7: 4
A8: 3 | B8: 44903.694 | C8: 44903.696 | D8: anonymous | H8: 3 | N8: 3 | T8: 4 | Z8: 4 | AF8: 3 | AL8: 4 | AR8: 2 | AX8: 3 | BD8: 4 | BJ8: 4 | BP8: 3 | BV8: 4 | CB8: 3 | CH8: 3 | CN8: 3
A9: 4 | B9: 44904.366 | C9: 44904.367 | D9: anonymous | H9: 5 | N9: 5 | T9: 5 | Z9: 5 | AF9: 5 | AL9: 5 | AR9: 4 | AX9: 4 | BD9: 5 | BJ9: 5 | BP9: 5 | BV9: 5 | CB9: 5 | CH9: 5 | CN9: 5
A10: 5 | B10: 44904.477 | C10: 44904.483 | D10: anonymous | H10: 4 | N10: 4 | T10: 4 | Z10: 1 | AC10: Je n'ai pas de visibilité sur la solution , je ne peux donc pas répondre à cette question, pour passer à la question suivante j'ai tout de même dû mettre une étoile | AF10: 4 | AL10: 3 | AR10: 1 | AU10: Un renfort de certaines équipes devra certainement être envisagé | AX10: 4 | BD10: 4 | BJ10: 1 | BM10: là encore je n'ai pas suffisamment de visibilité sur le projet dans son intégralité pour etre en mesure de répondre | BP10: 1 | BS10: je ne sais pas - pas de visibilité directe sur ce point | BV10: 1 | BY10: même chose - pas de visibilité directe sur cette question | CB10: 1 | CE10: cF réponse précédente sur le besoin de renfort à certains moments du projet. | CH10: 3 | CN10: 1 | CQ10: pas suffisamment de visibilité pour répondre
A11: 6 | B11: 44907.562 | C11: 44907.566 | D11: anonymous | H11: 4 | N11: 4 | T11: 5 | Z11: 3 | AF11: 5 | AL11: 5 | AR11: 3 | AX11: 3 | BD11: 5 | BJ11: 3 | BP11: 5 | BV11: 4 | CB11: 4 | CH11: 4 | CN11: 3
A12: 7 | B12: 44907.639 | C12: 44907.641 | D12: anonymous | H12: 2 | N12: 3 | T12: 5 | Z12: 3 | AF12: 3 | AL12: 2 | AR12: 3 | AX12: 4 | BD12: 3 | BJ12: 2 | BP12: 3 | BV12: 3 | CB12: 3 | CH12: 3 | CN12: 3
A13: 8 | B13: 44907.685 | C13: 44907.686 | D13: anonymous | H13: 5 | N13: 4 | T13: 5 | Z13: 4 | AF13: 4 | AL13: 5 | AR13: 3 | AX13: 5 | BD13: 5 | BJ13: 4 | BP13: 4 | BV13: 4 | CB13: 4 | CH13: 5 | CN13: 4
A14: 9 | B14: 44907.85 | C14: 44907.862 | D14: anonymous | H14: 3 | N14: 5 | T14: 3 | Z14: 3 | AF14: 4 | AL14: 3 | AR14: 1 | AU14: Remplacer les personnes détachées sur le programme par des effectifs temporaires, ne les remplacent que numériquement... il faut former ces personnes tout en sachant qu'on ne capitalise pas pour le futur et qu'on les remerciera au bout du compte. Quand à nous autres, avons-nous vraiment le choix ? Donc OUI nous pouvons absorber cette charge au détriment de la qualité de notre travail quotidien et en sacrifiant certaines de nos caches de notre routine, mais tout cela n'avait pas été évalué suffisamment tôt, et toute façon vous auriez géré de la même façon, donc peu importe nos avis, maintenant il faut avancer ! | AX14: 1 | BA14: Absolument pas convaincu... ne sommes-nous pas un centre de production de produits pharmaceutiques stériles ? Nous n'avions pas pensé faire partie d'une startup informatique... notre mission n'est-elle pas de livrer nos patients afin de les soigner ? Je n'avais pas décelé nos grandes qualités d'informaticiens en devenir pour réaliser un tel projet.... | BD14: 2 | BJ14: 2 | BP14: 1 | BS14: Le choix des partenaires n'apparaît pas terrible, quand on se souvient avoir été lâché au bout de quelques mois par celui de la première heure... | BV14: 2 | CB14: 1 | CE14: Pour que le projet avance les ressources sont suffisantes, pendant que les autres triment par ces détachements de ressources... chacun ses priorités | CH14: 2 | CN14: 2
A15: 10 | B15: 44909.431 | C15: 44909.436 | D15: anonymous | H15: 4 | N15: 4 | T15: 3 | W15: Je ne suis pas directement impliquée à ce stade dans le projet et avec un niveau d'infos qui fait que je ne les recascade pas régulièrement | Z15: 3 | AC15: L'approche n'est pas partagée. Par exemple, tout ce qui est tests et formation est pour moi très flou à ce stade | AF15: 4 | AL15: 4 | AR15: 3 | AU15: Peu d'effectifs complémentaires pour participer au projet et un ressenti qu'il va en manquer dans les phases de test et de formation | AX15: 4 | BA15: Il va falloir accompagner les personnes dans les changements. Pas de vision sur ce qui est prévu à ce jour Prévoir des comms pour "préparer" les personnes avant les formations? | BD15: 3 | BG15: Aujourd'hui, je ne sais pas personnellement à quel niveau je serai impactée et je ne le sais pas non plus pour mes équipes. Il est donc difficile de répondre | BJ15: 3 | BM15: je ne sais pas répondre | BP15: 3 | BS15: aucune idée | BV15: 3 | BY15: aucune idée | CB15: 3 | CE15: voir réponse sur capacité | CH15: 4 | CN15: 3 | CQ15: je ne sais pas
A16: 11 | B16: 44930.606 | C16: 44930.608 | D16: anonymous | H16: 4 | N16: 4 | T16: 4 | Z16: 3 | AF16: 3 | AL16: 3 | AR16: 3 | AX16: 2 | BD16: 3 | BJ16: 3 | BP16: 3 | BV16: 3 | CB16: 2 | CH16: 3 | CN16: 3
A17: 12 | B17: 44930.625 | C17: 44930.629 | D17: anonymous | H17: 5 | N17: 5 | T17: 5 | Z17: 3 | AC17: Je ne connais pas les modalités concernant l'approche. | AF17: 3 | AL17: 3 | AO17: Je suppose, je ne suis pas impliqué dans le programme. | AR17: 3 | AU17: Je ne suis pas impliqué dans le programme. A voir quand nous ferons la transition et que nous serons formés. | AX17: 5 | BD17: 5 | BJ17: 3 | BM17: Pas impliqué dans le programme. | BP17: 3 | BS17: Aucune idée. | BV17: 3 | BY17: aucune idée. | CB17: 3 | CE17: Aucune idée | CH17: 3 | CK17: Pas d'interaction. | CN17: 3 | CQ17: Pas impliqué dans le programme donc pas de vue sur les délais et les ressources.
A18: 13 | B18: 44930.993 | C18: 44931 | D18: anonymous | H18: 5 | N18: 5 | T18: 5 | Z18: 1 | AC18: je ne sais pas, je ne fais pas parti du projet | AF18: 1 | AI18: je ne fais pas parti du projet | AL18: 1 | AO18: je ne sais pas | AR18: 1 | AU18: je ne connait pas la charge de travail | AX18: 5 | BD18: 1 | BG18: Pas d'information pour le moment sur quels seront les changements de pratique | BJ18: 1 | BM18: je ne participe pas à ce projet | BP18: 1 | BS18: je ne sais pas | BV18: 1 | BY18: je ne sais pas | CB18: 1 | CE18: je ne sais pas | CH18: 1 | CK18: je ne sais pas | CN18: 1 | CQ18: je ne sais pas
A19: 14 | B19: 44931.323 | C19: 44931.326 | D19: anonymous | H19: 5 | N19: 5 | T19: 5 | Z19: 5 | AF19: 5 | AL19: 5 | AR19: 5 | AX19: 5 | BD19: 5 | BJ19: 5 | BP19: 5 | BV19: 5 | CB19: 5 | CH19: 5 | CN19: 5
A20: 15 | B20: 44931.416 | C20: 44931.42 | D20: anonymous | H20: 4 | N20: 4 | T20: 4 | Z20: 4 | AF20: 3 | AL20: 3 | AR20: 2 | AX20: 2 | BD20: 4 | BJ20: 2 | BP20: 2 | BV20: 2 | CB20: 2 | CH20: 2 | CN20: 3
A21: 16 | B21: 44931.734 | C21: 44931.737 | D21: anonymous | H21: 5 | N21: 5 | T21: 4 | Z21: 3 | AC21: Je n'ai pas les éléments pour répondre | AF21: 4 | AL21: 4 | AR21: 3 | AU21: Cela me semble difficile avec le peu de vision que j'ai | AX21: 4 | BD21: 2 | BG21: A ce stade, l'équipe projet est très impliqué mais les personnes impliquées de mon service pas du tout. Donc on ne peut pas vraiment dire qu'il y a de la résistance mais si l'implication est trop tardive et le changement trop important (je ne sais pas évaluer le niveau de changement), les résistances risquent d'apparaitre | BJ21: 3 | BP21: 3 | BS21: Aucune idée | BV21: 3 | BY21: Aucune idée | CB21: 3 | CE21: Les ressources impliquées sont peu nombreuses et la charge me semble importante | CH21: 4 | CN21: 3 | CQ21: Pas di vision de cet aspect
A22: 17 | B22: 44932.862 | C22: 44932.863 | D22: anonymous | H22: 5 | N22: 5 | T22: 5 | Z22: 3 | AF22: 3 | AL22: 3 | AR22: 3 | AX22: 3 | BD22: 3 | BJ22: 3 | BP22: 3 | BV22: 3 | CB22: 3 | CH22: 3 | CN22: 3
A23: 18 | B23: 44934.378 | C23: 44934.384 | D23: anonymous | H23: 3 | N23: 3 | T23: 3 | Z23: 3 | AF23: 3 | AL23: 2 | AO23: peu de communication auprès des managers détachant des personnes sur le sujet peu ou pas de communication sur les plannings à venir ( arret/ formation / planning de redemarrage ) | AR23: 2 | AU23: pas sans ressources supplémentaires | AX23: 3 | BD23: 3 | BJ23: 2 | BM23: peu de communication pour favoriser la collaboration | BP23: 1 | BS23: aucune idée , je ne sais pas quelles sont les interactions avec les partenaires externes | BV23: 1 | BY23: aucune idée , je n'ai pas connaissances des instances de pilotage ( qui/quoi / quand / ou ? ) -- donc je ne sais pas si les instances permettent de prendre les décisions rapides et efficaces | CB23: 1 | CE23: aucune idée : peu de communication de la part du projet sur la situation du projet ( avance /retard ? aucune idée ) | CH23: 1 | CK23: aucune idée : pas de communication et de ce fait je n'ai pas la visibilité si cela interfère ou s'inscrit par rapport aux autres initiatives | CN23: 1 | CQ23: aucune idée ( voir toutes les réponses au dessus)
A24: 19 | B24: 44935.449 | C24: 44935.462 | D24: anonymous | H24: 4 | N24: 4 | T24: 4 | Z24: 3 | AC24: L'approche semble solide. Mais à confirmer pendant les tests. | AF24: 4 | AL24: 2 | AR24: 2 | AX24: 3 | BD24: 3 | BJ24: 2 | BP24: 3 | BS24: Ok pour les interactions avec SOA. | BV24: 3 | CB24: 2 | CH24: 1 | CK24: Malheureusement l'ensemble des projets sites et leurs interactions ne semblent pas du tout gérés et pilotés en CODIR. C'est donc difficile ensuite au niveau du terrain... | CN24: 2

Sheet compaire
