Workbook

Sheet Stat
A1: Num | B1: Compétences | C1: Nombre | D1: axe
A2: 1 | B2: A1 | C2: =COUNTIF(Tableau!$B$2:$B$48,B2) -> 5 | D2: 0
A3: 2 | B3: A2 | C3: =COUNTIF(Tableau!$B$2:$B$48,B3) -> 6 | D3: 0
A4: 3 | B4: A3 | C4: =COUNTIF(Tableau!$B$2:$B$48,B4) -> 3 | D4: 0
A5: 4 | B5: B1 | C5: =COUNTIF(Tableau!$B$2:$B$48,B5) -> 5 | D5: 0
A6: 5 | B6: B2 | C6: =COUNTIF(Tableau!$B$2:$B$48,B6) -> 11 | D6: 0
A7: 6 | B7: B3 | C7: =COUNTIF(Tableau!$B$2:$B$48,B7) -> 5 | D7: 0
A8: 7 | B8: C1 | C8: =COUNTIF(Tableau!$B$2:$B$48,B8) -> 7 | D8: 0
A9: 8 | B9: C2 | C9: =COUNTIF(Tableau!$B$2:$B$48,B9) -> 5 | D9: 0
A10: 9 | B10: C3 | C10: 0.05 | D10: 0

Sheet Tableau
A1: Noms | B1: Compétence | C1: Alea
A2: Nom1 | B2: C2 | C2: =VLOOKUP(RANDBETWEEN(Stat!A$2,Stat!A$10),Stat!$A$2:$B$10,2,FALSE) -> B3
A3: Nom2 | B3: A1 | C3: =VLOOKUP(RANDBETWEEN(Stat!A$2,Stat!A$10),Stat!$A$2:$B$10,2,FALSE) -> C2
A4: Nom3 | B4: B2 | C4: =VLOOKUP(RANDBETWEEN(Stat!A$2,Stat!A$10),Stat!$A$2:$B$10,2,FALSE) -> C2
A5: Nom4 | B5: A2 | C5: =VLOOKUP(RANDBETWEEN(Stat!A$2,Stat!A$10),Stat!$A$2:$B$10,2,FALSE) -> B1
A6: Nom5 | B6: B2 | C6: =VLOOKUP(RANDBETWEEN(Stat!A$2,Stat!A$10),Stat!$A$2:$B$10,2,FALSE) -> A2
A7: Nom6 | B7: A3 | C7: =VLOOKUP(RANDBETWEEN(Stat!A$2,Stat!A$10),Stat!$A$2:$B$10,2,FALSE) -> A3
A8: Nom7 | B8: B2 | C8: =VLOOKUP(RANDBETWEEN(Stat!A$2,Stat!A$10),Stat!$A$2:$B$10,2,FALSE) -> B2
A9: Nom8 | B9: A2 | C9: =VLOOKUP(RANDBETWEEN(Stat!A$2,Stat!A$10),Stat!$A$2:$B$10,2,FALSE) -> B2
A10: Nom9 | B10: A2 | C10: =VLOOKUP(RANDBETWEEN(Stat!A$2,Stat!A$10),Stat!$A$2:$B$10,2,FALSE) -> C2
A11: Nom10 | B11: C1 | C11: =VLOOKUP(RANDBETWEEN(Stat!A$2,Stat!A$10),Stat!$A$2:$B$10,2,FALSE) -> A3
A12: Nom11 | B12: B2 | C12: =VLOOKUP(RANDBETWEEN(Stat!A$2,Stat!A$10),Stat!$A$2:$B$10,2,FALSE) -> A3
A13: Nom12 | B13: C1 | C13: =VLOOKUP(RANDBETWEEN(Stat!A$2,Stat!A$10),Stat!$A$2:$B$10,2,FALSE) -> A3
... A49: Nom48 | B49: B2 | C49: =VLOOKUP(RANDBETWEEN(Stat!A$2,Stat!A$10),Stat!$A$2:$B$10,2,FALSE) -> C3
