Workbook

Sheet Sheet1 (2)
A1: =AVERAGE(Table13[ID]) -> 4 | B1: =AVERAGE(Table13[Heure de début]) -> 44901.577 | C1: =AVERAGE(Table13[Heure de fin]) -> 44901.601 | D1: =AVERAGE(Table13[Adresse de messagerie]) -> #DIV/0! | E1: =AVERAGE(Table13[Nom]) -> #DIV/0! | F1: =AVERAGE(Table13[Total points]) -> #DIV/0! | G1: =AVERAGE(Table13[Quiz feedback]) -> #DIV/0! | H1: =AVERAGE(Table13[CLARTE : J''ai une vision claire de l’objectif final du programme]) -> 5 | I1: =AVERAGE(Table13[Points - CLARTE : J''ai une vision claire de l’objectif final du programme]) -> #DIV/0! | J1: =AVERAGE(Table13[Feedback - CLARTE : J''ai une vision claire de l’objectif final du programme]) -> #DIV/0! | K1: =AVERAGE(Table13[Si la réponse comporte moins de 2 étoiles OUI, merci de préciser votre réponse dans le champs ci-dessous :]) -> #DIV/0! | L1: =AVERAGE(Table13[Points - Si la réponse comporte moins de 2 étoiles OUI, merci de préciser votre réponse dans le champs ci-dessous :]) -> #DIV/0! | M1: =AVERAGE(Table13[Feedback - Si la réponse comporte moins de 2 étoiles OUI, merci de préciser votre réponse dans le champs ci-dessous :]) -> #DIV/0! | N1: =AVERAGE(Table13[ALIGNEMENT : Je suis aligné sur l’objectif final du programme]) -> 5 | O1: =AVERAGE(Table13[Points - ALIGNEMENT : Je suis aligné sur l’objectif final du programme]) -> #DIV/0! | P1: =AVERAGE(Table13[Feedback - ALIGNEMENT : Je suis aligné sur l’objectif final du programme]) -> #DIV/0! | Q1: =AVERAGE(Table13[Si la réponse comporte moins de 2 étoiles OUI, merci de préciser votre réponse dans le champs ci-dessous :2]) -> #DIV/0! | R1: =AVERAGE(Table13[Points - Si la réponse comporte moins de 2 étoiles OUI, merci de préciser votre réponse dans le champs ci-dessous :2]) -> #DIV/0! | S1: =AVERAGE(Table13[Feedback - Si la réponse comporte moins de 2 étoiles OUI, merci de préciser votre réponse dans le champs ci-dessous :2]) -> #DIV/0! | T1: =AVERAGE(Table13[ENGAGEMENT : Je supporte l’objectif du programme]) -> 5 | U1: =AVERAGE(Table13[Points - ENGAGEMENT : Je supporte l’objectif du programme]) -> #DIV/0! | V1: =AVERAGE(Table13[Feedback - ENGAGEMENT : Je supporte l’objectif du programme]) -> #DIV/0! | W1: =AVERAGE(Table13[Si la réponse comporte moins de 2 étoiles OUI, merci de préciser votre réponse dans le champs ci-dessous :3]) -> #DIV/0! | X1: =AVERAGE(Table13[Points - Si la réponse comporte moins de 2 étoiles OUI, merci de préciser votre réponse dans le champs ci-dessous :3]) -> #DIV/0! | Y1: =AVERAGE(Table13[Feedback - Si la réponse comporte moins de 2 étoiles OUI, merci de préciser votre réponse dans le champs ci-dessous :3]) -> #DIV/0! | Z1: =AVERAGE(Table13[SOLUTION : L’approche pour atteindre l’objectif du programme est solide]) -> 4.7142857 | AA1: =AVERAGE(Table13[Points - SOLUTION : L’approche pour atteindre l’objectif du programme est solide]) -> #DIV/0! | AB1: =AVERAGE(Table13[Feedback - SOLUTION : L’approche pour atteindre l’objectif du programme est solide]) -> #DIV/0! | AC1: =AVERAGE(Table13[Si la réponse comporte moins de 2 étoiles OUI, merci de préciser votre réponse dans le champs ci-dessous :4]) -> #DIV/0! | AD1: =AVERAGE(Table13[Points - Si la réponse comporte moins de 2 étoiles OUI, merci de préciser votre réponse dans le champs ci-dessous :4]) -> #DIV/0! | AE1: =AVERAGE(Table13[Feedback - Si la réponse comporte moins de 2 étoiles OUI, merci de préciser votre réponse dans le champs ci-dessous :4]) -> #DIV/0! | AF1: =AVERAGE(Table13[INTEGRITE : Les objectifs initiaux du programme restent les mêmes]) -> 5 | AG1: =AVERAGE(Table13[Points - INTEGRITE : Les objectifs initiaux du programme restent les mêmes]) -> #DIV/0! | AH1: =AVERAGE(Table13[Feedback - INTEGRITE : Les objectifs initiaux du programme restent les mêmes]) -> #DIV/0! | AI1: =AVERAGE(Table13[Si la réponse comporte moins de 2 étoiles OUI, merci de préciser votre réponse dans le champs ci-dessous :5]) -> #DIV/0! | AJ1: =AVERAGE(Table13[Points - Si la réponse comporte moins de 2 étoiles OUI, merci de préciser votre réponse dans le champs ci-dessous :5]) -> #DIV/0! | AK1: =AVERAGE(Table13[Feedback - Si la réponse comporte moins de 2 étoiles OUI, merci de préciser votre réponse dans le champs ci-dessous :5]) -> #DIV/0! | AL1: =AVERAGE(Table13[SPONSORSHIP : Les leaders fournissent le niveau de sponsorship suffisant pour supporter le programme]) -> 4.7142857 | AM1: =AVERAGE(Table13[Points - SPONSORSHIP : Les leaders fournissent le niveau de sponsorship suffisant pour supporter le programme]) -> #DIV/0! | AN1: =AVERAGE(Table13[Feedback - SPONSORSHIP : Les leaders fournissent le niveau de sponsorship suffisant pour supporter le programme]) -> #DIV/0! | AO1: =AVERAGE(Table13[Si la réponse comporte moins de 2 étoiles OUI, merci de préciser votre réponse dans le champs ci-dessous :6]) -> #DIV/0! | AP1: =AVERAGE(Table13[Points - Si la réponse comporte moins de 2 étoiles OUI, merci de préciser votre réponse dans le champs ci-dessous :6]) -> #DIV/0! | AQ1: =AVERAGE(Table13[Feedback - Si la réponse comporte moins de 2 étoiles OUI, merci de préciser votre réponse dans le champs ci-dessous :6]) -> #DIV/0! | AR1: =AVERAGE(Table13[CAPACITE : Ce changement entraine une charge de travail que nous pouvons absorber sur le site]) -> 4.4285714 | AS1: =AVERAGE(Table13[Points - CAPACITE : Ce changement entraine une charge de travail que nous pouvons absorber sur le site]) -> #DIV/0! | AT1: =AVERAGE(Table13[Feedback - CAPACITE : Ce changement entraine une charge de travail que nous pouvons absorber sur le site]) -> #DIV/0! | AU1: =AVERAGE(Table13[Si la réponse comporte moins de 2 étoiles OUI, merci de préciser votre réponse dans le champs ci-dessous :7]) -> #DIV/0! | AV1: =AVERAGE(Table13[Points - Si la réponse comporte moins de 2 étoiles OUI, merci de préciser votre réponse dans le champs ci-dessous :7]) -> #DIV/0! | AW1: =AVERAGE(Table13[Feedback - Si la réponse comporte moins de 2 étoiles OUI, merci de préciser votre réponse dans le champs ci-dessous :7]) -> #DIV/0! | AX1: =AVERAGE(Table13[CULTURE : Nous avons la culture appropriée pour absorber ce changement]) -> 3.7142857 | AY1: =AVERAGE(Table13[Points - CULTURE : Nous avons la culture appropriée pour absorber ce changement]) -> #DIV/0! | AZ1: =AVERAGE(Table13[Feedback - CULTURE : Nous avons la culture appropriée pour absorber ce changement]) -> #DIV/0! | BA1: =AVERAGE(Table13[Si la réponse comporte moins de 2 étoiles OUI, merci de préciser votre réponse dans le champs ci-dessous :8]) -> #DIV/0! | BB1: =AVERAGE(Table13[Feedback - Si la réponse comporte moins de 2 étoiles OUI, merci de préciser votre réponse dans le champs ci-dessous :8]) -> #DIV/0! | BC1: =AVERAGE(Table13[Points - Si la réponse comporte moins de 2 étoiles OUI, merci de préciser votre réponse dans le champs ci-dessous :8]) -> #DIV/0! | BD1: =AVERAGE(Table13[RESISTANCE : Les personnes impactées par ce changement démontrent l''engagement nécessaire pour réussir sa mise en place]) -> 4.8571429 | BE1: =AVERAGE(Table13[Feedback - RESISTANCE : Les personnes impactées par ce changement démontrent l''engagement nécessaire pour réussir sa mise en place]) -> #DIV/0! | BF1: =AVERAGE(Table13[Points - RESISTANCE : Les personnes impactées par ce changement démontrent l''engagement nécessaire pour réussir sa mise en place]) -> #DIV/0! | BG1: =AVERAGE(Table13[Si la réponse comporte moins de 2 étoiles OUI, merci de préciser votre réponse dans le champs ci-dessous :9]) -> #DIV/0! | BH1: =AVERAGE(Table13[Feedback - Si la réponse comporte moins de 2 étoiles OUI, merci de préciser votre réponse dans le champs ci-dessous :9]) -> #DIV/0! | BI1: =AVERAGE(Table13[Points - Si la réponse comporte moins de 2 étoiles OUI, merci de préciser votre réponse dans le champs ci-dessous :9]) -> #DIV/0! | BJ1: =AVERAGE(Table13[SYNERGIE : Nos efforts de collaboration pour ce projet nous font gagner du temps plus qu’il n’en coute]) -> 4.4285714 | BK1: =AVERAGE(Table13[Feedback - SYNERGIE : Nos efforts de collaboration pour ce projet nous font gagner du temps plus qu’il n’en coute]) -> #DIV/0! | BL1: =AVERAGE(Table13[Points - SYNERGIE : Nos efforts de collaboration pour ce projet nous font gagner du temps plus qu’il n’en coute]) -> #DIV/0! | BM1: =AVERAGE(Table13[Si la réponse comporte moins de 2 étoiles OUI, merci de préciser votre réponse dans le champs ci-dessous :10]) -> #DIV/0! | BN1: =AVERAGE(Table13[Feedback - Si la réponse comporte moins de 2 étoiles OUI, merci de préciser votre réponse dans le champs ci-dessous :10]) -> #DIV/0! | BO1: =AVERAGE(Table13[Points - Si la réponse comporte moins de 2 étoiles OUI, merci de préciser votre réponse dans le champs ci-dessous :10]) -> #DIV/0! | BP1: =AVERAGE(Table13[PARTENARIAT : Nos interactions avec des partenaires externes sont suffisantes pour supporter ce changement]) -> 4.5714286 | BQ1: =AVERAGE(Table13[Feedback - PARTENARIAT : Nos interactions avec des partenaires externes sont suffisantes pour supporter ce changement]) -> #DIV/0! | BR1: =AVERAGE(Table13[Points - PARTENARIAT : Nos interactions avec des partenaires externes sont suffisantes pour supporter ce changement]) -> #DIV/0! | BS1: =AVERAGE(Table13[Si la réponse comporte moins de 2 étoiles OUI, merci de préciser votre réponse dans le champs ci-dessous :11]) -> #DIV/0! | BT1: =AVERAGE(Table13[Feedback - Si la réponse comporte moins de 2 étoiles OUI, merci de préciser votre réponse dans le champs ci-dessous :11]) -> #DIV/0! | BU1: =AVERAGE(Table13[Points - Si la réponse comporte moins de 2 étoiles OUI, merci de préciser votre réponse dans le champs ci-dessous :11]) -> #DIV/0! | BV1: =AVERAGE(Table13[SUPERVISION : Les instances de pilotage permettent de prendre des décisions rapides et efficaces]) -> 4.8571429 | BW1: =AVERAGE(Table13[Points - SUPERVISION : Les instances de pilotage permettent de prendre des décisions rapides et efficaces]) -> #DIV/0! | BX1: =AVERAGE(Table13[Feedback - SUPERVISION : Les instances de pilotage permettent de prendre des décisions rapides et efficaces]) -> #DIV/0! | BY1: =AVERAGE(Table13[Si la réponse comporte moins de 2 étoiles OUI, merci de préciser votre réponse dans le champs ci-dessous :12]) -> #DIV/0! | BZ1: =AVERAGE(Table13[Points - Si la réponse comporte moins de 2 étoiles OUI, merci de préciser votre réponse dans le champs ci-dessous :12]) -> #DIV/0! | CA1: =AVERAGE(Table13[Feedback - Si la réponse comporte moins de 2 étoiles OUI, merci de préciser votre réponse dans le champs ci-dessous :12]) -> #DIV/0! | CB1: =AVERAGE(Table13[RESSOURCES : Les ressources sont suffisantes pour absorber ce changement]) -> 4.4285714 | CC1: =AVERAGE(Table13[Points - RESSOURCES : Les ressources sont suffisantes pour absorber ce changement]) -> #DIV/0! | CD1: =AVERAGE(Table13[Feedback - RESSOURCES : Les ressources sont suffisantes pour absorber ce changement]) -> #DIV/0! | CE1: =AVERAGE(Table13[Si la réponse comporte moins de 2 étoiles OUI, merci de préciser votre réponse dans le champs ci-dessous :13]) -> #DIV/0! | CF1: =AVERAGE(Table13[Points - Si la réponse comporte moins de 2 étoiles OUI, merci de préciser votre réponse dans le champs ci-dessous :13]) -> #DIV/0! | CG1: =AVERAGE(Table13[Feedback - Si la réponse comporte moins de 2 étoiles OUI, merci de préciser votre réponse dans le champs ci-dessous :13]) -> #DIV/0! | CH1: =AVERAGE(Table13[PORTFOLIO : Les interactions de ce projet avec les autres initiatives sont gérées correctement]) -> 4.2857143 | CI1: =AVERAGE(Table13[Points - PORTFOLIO : Les interactions de ce projet avec les autres initiatives sont gérées correctement]) -> #DIV/0! | CJ1: =AVERAGE(Table13[Feedback - PORTFOLIO : Les interactions de ce projet avec les autres initiatives sont gérées correctement]) -> #DIV/0! | CK1: =AVERAGE(Table13[Si la réponse comporte moins de 2 étoiles OUI, merci de préciser votre réponse dans le champs ci-dessous :14]) -> #DIV/0! | CL1: =AVERAGE(Table13[Points - Si la réponse comporte moins de 2 étoiles OUI, merci de préciser votre réponse dans le champs ci-dessous :14]) -> #DIV/0! | CM1: =AVERAGE(Table13[Feedback - Si la réponse comporte moins de 2 étoiles OUI, merci de préciser votre réponse dans le champs ci-dessous :14]) -> #DIV/0! | CN1: =AVERAGE(Table13[CHEMIN CRITIQUE : Les délais et ressources à travers de ce projet sont gérés efficacement]) -> 4.5714286 | CO1: =AVERAGE(Table13[Points - CHEMIN CRITIQUE : Les délais et ressources à travers de ce projet sont gérés efficacement]) -> #DIV/0! | CP1: =AVERAGE(Table13[Feedback - CHEMIN CRITIQUE : Les délais et ressources à travers de ce projet sont gérés efficacement]) -> #DIV/0! | CQ1: =AVERAGE(Table13[Si la réponse comporte moins de 2 étoiles OUI, merci de préciser votre réponse dans le champs ci-dessous :15]) -> #DIV/0! | CR1: =AVERAGE(Table13[Points - Si la réponse comporte moins de 2 étoiles OUI, merci de préciser votre réponse dans le champs ci-dessous :15]) -> #DIV/0! | CS1: =AVERAGE(Table13[Feedback - Si la réponse comporte moins de 2 étoiles OUI, merci de préciser votre réponse dans le champs ci-dessous :15]) -> #DIV/0!
A2: =MIN(Table13[ID]) -> 1 | B2: =MIN(Table13[Heure de début]) -> 44900.356 | C2: =MIN(Table13[Heure de fin]) -> 44900.358 | D2: =MIN(Table13[Adresse de messagerie]) -> 0 | E2: =MIN(Table13[Nom]) -> 0 | F2: =MIN(Table13[Total points]) -> 0 | G2: =MIN(Table13[Quiz feedback]) -> 0 | H2: =MIN(Table13[CLARTE : J''ai une vision claire de l’objectif final du programme]) -> 5 | I2: =MIN(Table13[Points - CLARTE : J''ai une vision claire de l’objectif final du programme]) -> 0 | J2: =MIN(Table13[Feedback - CLARTE : J''ai une vision claire de l’objectif final du programme]) -> 0 | K2: =MIN(Table13[Si la réponse comporte moins de 2 étoiles OUI, merci de préciser votre réponse dans le champs ci-dessous :]) -> 0 | L2: =MIN(Table13[Points - Si la réponse comporte moins de 2 étoiles OUI, merci de préciser votre réponse dans le champs ci-dessous :]) -> 0 | M2: =MIN(Table13[Feedback - Si la réponse comporte moins de 2 étoiles OUI, merci de préciser votre réponse dans le champs ci-dessous :]) -> 0 | N2: =MIN(Table13[ALIGNEMENT : Je suis aligné sur l’objectif final du programme]) -> 5 | O2: =MIN(Table13[Points - ALIGNEMENT : Je suis aligné sur l’objectif final du programme]) -> 0 | P2: =MIN(Table13[Feedback - ALIGNEMENT : Je suis aligné sur l’objectif final du programme]) -> 0 | Q2: =MIN(Table13[Si la réponse comporte moins de 2 étoiles OUI, merci de préciser votre réponse dans le champs ci-dessous :2]) -> 0 | R2: =MIN(Table13[Points - Si la réponse comporte moins de 2 étoiles OUI, merci de préciser votre réponse dans le champs ci-dessous :2]) -> 0 | S2: =MIN(Table13[Feedback - Si la réponse comporte moins de 2 étoiles OUI, merci de préciser votre réponse dans le champs ci-dessous :2]) -> 0 | T2: =MIN(Table13[ENGAGEMENT : Je supporte l’objectif du programme]) -> 5 | U2: =MIN(Table13[Points - ENGAGEMENT : Je supporte l’objectif du programme]) -> 0 | V2: =MIN(Table13[Feedback - ENGAGEMENT : Je supporte l’objectif du programme]) -> 0 | W2: =MIN(Table13[Si la réponse comporte moins de 2 étoiles OUI, merci de préciser votre réponse dans le champs ci-dessous :3]) -> 0 | X2: =MIN(Table13[Points - Si la réponse comporte moins de 2 étoiles OUI, merci de préciser votre réponse dans le champs ci-dessous :3]) -> 0 | Y2: =MIN(Table13[Feedback - Si la réponse comporte moins de 2 étoiles OUI, merci de préciser votre réponse dans le champs ci-dessous :3]) -> 0 | Z2: =MIN(Table13[SOLUTION : L’approche pour atteindre l’objectif du programme est solide]) -> 4 | AA2: =MIN(Table13[Points - SOLUTION : L’approche pour atteindre l’objectif du programme est solide]) -> 0 | AB2: =MIN(Table13[Feedback - SOLUTION : L’approche pour atteindre l’objectif du programme est solide]) -> 0 | AC2: =MIN(Table13[Si la réponse comporte moins de 2 étoiles OUI, merci de préciser votre réponse dans le champs ci-dessous :4]) -> 0 | AD2: =MIN(Table13[Points - Si la réponse comporte moins de 2 étoiles OUI, merci de préciser votre réponse dans le champs ci-dessous :4]) -> 0 | AE2: =MIN(Table13[Feedback - Si la réponse comporte moins de 2 étoiles OUI, merci de préciser votre réponse dans le champs ci-dessous :4]) -> 0 | AF2: =MIN(Table13[INTEGRITE : Les objectifs initiaux du programme restent les mêmes]) -> 5 | AG2: =MIN(Table13[Points - INTEGRITE : Les objectifs initiaux du programme restent les mêmes]) -> 0 | AH2: =MIN(Table13[Feedback - INTEGRITE : Les objectifs initiaux du programme restent les mêmes]) -> 0 | AI2: =MIN(Table13[Si la réponse comporte moins de 2 étoiles OUI, merci de préciser votre réponse dans le champs ci-dessous :5]) -> 0 | AJ2: =MIN(Table13[Points - Si la réponse comporte moins de 2 étoiles OUI, merci de préciser votre réponse dans le champs ci-dessous :5]) -> 0 | AK2: =MIN(Table13[Feedback - Si la réponse comporte moins de 2 étoiles OUI, merci de préciser votre réponse dans le champs ci-dessous :5]) -> 0 | AL2: =MIN(Table13[SPONSORSHIP : Les leaders fournissent le niveau de sponsorship suffisant pour supporter le programme]) -> 3 | AM2: =MIN(Table13[Points - SPONSORSHIP : Les leaders fournissent le niveau de sponsorship suffisant pour supporter le programme]) -> 0 | AN2: =MIN(Table13[Feedback - SPONSORSHIP : Les leaders fournissent le niveau de sponsorship suffisant pour supporter le programme]) -> 0 | AO2: =MIN(Table13[Si la réponse comporte moins de 2 étoiles OUI, merci de préciser votre réponse dans le champs ci-dessous :6]) -> 0 | AP2: =MIN(Table13[Points - Si la réponse comporte moins de 2 étoiles OUI, merci de préciser votre réponse dans le champs ci-dessous :6]) -> 0 | AQ2: =MIN(Table13[Feedback - Si la réponse comporte moins de 2 étoiles OUI, merci de préciser votre réponse dans le champs ci-dessous :6]) -> 0 | AR2: =MIN(Table13[CAPACITE : Ce changement entraine une charge de travail que nous pouvons absorber sur le site]) -> 4 | AS2: =MIN(Table13[Points - CAPACITE : Ce changement entraine une charge de travail que nous pouvons absorber sur le site]) -> 0 | AT2: =MIN(Table13[Feedback - CAPACITE : Ce changement entraine une charge de travail que nous pouvons absorber sur le site]) -> 0 | AU2: =MIN(Table13[Si la réponse comporte moins de 2 étoiles OUI, merci de préciser votre réponse dans le champs ci-dessous :7]) -> 0 | AV2: =MIN(Table13[Points - Si la réponse comporte moins de 2 étoiles OUI, merci de préciser votre réponse dans le champs ci-dessous :7]) -> 0 | AW2: =MIN(Table13[Feedback - Si la réponse comporte moins de 2 étoiles OUI, merci de préciser votre réponse dans le champs ci-dessous :7]) -> 0 | AX2: =MIN(Table13[CULTURE : Nous avons la culture appropriée pour absorber ce changement]) -> 2 | AY2: =MIN(Table13[Points - CULTURE : Nous avons la culture appropriée pour absorber ce changement]) -> 0 | AZ2: =MIN(Table13[Feedback - CULTURE : Nous avons la culture appropriée pour absorber ce changement]) -> 0 | BA2: =MIN(Table13[Si la réponse comporte moins de 2 étoiles OUI, merci de préciser votre réponse dans le champs ci-dessous :8]) -> 0 | BB2: =MIN(Table13[Feedback - Si la réponse comporte moins de 2 étoiles OUI, merci de préciser votre réponse dans le champs ci-dessous :8]) -> 0 | BC2: =MIN(Table13[Points - Si la réponse comporte moins de 2 étoiles OUI, merci de préciser votre réponse dans le champs ci-dessous :8]) -> 0 | BD2: =MIN(Table13[RESISTANCE : Les personnes impactées par ce changement démontrent l''engagement nécessaire pour réussir sa mise en place]) -> 4 | BE2: =MIN(Table13[Feedback - RESISTANCE : Les personnes impactées par ce changement démontrent l''engagement nécessaire pour réussir sa mise en place]) -> 0 | BF2: =MIN(Table13[Points - RESISTANCE : Les personnes impactées par ce changement démontrent l''engagement nécessaire pour réussir sa mise en place]) -> 0 | BG2: =MIN(Table13[Si la réponse comporte moins de 2 étoiles OUI, merci de préciser votre réponse dans le champs ci-dessous :9]) -> 0 | BH2: =MIN(Table13[Feedback - Si la réponse comporte moins de 2 étoiles OUI, merci de préciser votre réponse dans le champs ci-dessous :9]) -> 0 | BI2: =MIN(Table13[Points - Si la réponse comporte moins de 2 étoiles OUI, merci de préciser votre réponse dans le champs ci-dessous :9]) -> 0 | BJ2: =MIN(Table13[SYNERGIE : Nos efforts de collaboration pour ce projet nous font gagner du temps plus qu’il n’en coute]) -> 4 | BK2: =MIN(Table13[Feedback - SYNERGIE : Nos efforts de collaboration pour ce projet nous font gagner du temps plus qu’il n’en coute]) -> 0 | BL2: =MIN(Table13[Points - SYNERGIE : Nos efforts de collaboration pour ce projet nous font gagner du temps plus qu’il n’en coute]) -> 0 | BM2: =MIN(Table13[Si la réponse comporte moins de 2 étoiles OUI, merci de préciser votre réponse dans le champs ci-dessous :10]) -> 0 | BN2: =MIN(Table13[Feedback - Si la réponse comporte moins de 2 étoiles OUI, merci de préciser votre réponse dans le champs ci-dessous :10]) -> 0 | BO2: =MIN(Table13[Points - Si la réponse comporte moins de 2 étoiles OUI, merci de préciser votre réponse dans le champs ci-dessous :10]) -> 0 | BP2: =MIN(Table13[PARTENARIAT : Nos interactions avec des partenaires externes sont suffisantes pour supporter ce changement]) -> 4 | BQ2: =MIN(Table13[Feedback - PARTENARIAT : Nos interactions avec des partenaires externes sont suffisantes pour supporter ce changement]) -> 0 | BR2: =MIN(Table13[Points - PARTENARIAT : Nos interactions avec des partenaires externes sont suffisantes pour supporter ce changement]) -> 0 | BS2: =MIN(Table13[Si la réponse comporte moins de 2 étoiles OUI, merci de préciser votre réponse dans le champs ci-dessous :11]) -> 0 | BT2: =MIN(Table13[Feedback - Si la réponse comporte moins de 2 étoiles OUI, merci de préciser votre réponse dans le champs ci-dessous :11]) -> 0 | BU2: =MIN(Table13[Points - Si la réponse comporte moins de 2 étoiles OUI, merci de préciser votre réponse dans le champs ci-dessous :11]) -> 0 | BV2: =MIN(Table13[SUPERVISION : Les instances de pilotage permettent de prendre des décisions rapides et efficaces]) -> 4 | BW2: =MIN(Table13[Points - SUPERVISION : Les instances de pilotage permettent de prendre des décisions rapides et efficaces]) -> 0 | BX2: =MIN(Table13[Feedback - SUPERVISION : Les instances de pilotage permettent de prendre des décisions rapides et efficaces]) -> 0 | BY2: =MIN(Table13[Si la réponse comporte moins de 2 étoiles OUI, merci de préciser votre réponse dans le champs ci-dessous :12]) -> 0 | BZ2: =MIN(Table13[Points - Si la réponse comporte moins de 2 étoiles OUI, merci de préciser votre réponse dans le champs ci-dessous :12]) -> 0 | CA2: =MIN(Table13[Feedback - Si la réponse comporte moins de 2 étoiles OUI, merci de préciser votre réponse dans le champs ci-dessous :12]) -> 0 | CB2: =MIN(Table13[RESSOURCES : Les ressources sont suffisantes pour absorber ce changement]) -> 3 | CC2: =MIN(Table13[Points - RESSOURCES : Les ressources sont suffisantes pour absorber ce changement]) -> 0 | CD2: =MIN(Table13[Feedback - RESSOURCES : Les ressources sont suffisantes pour absorber ce changement]) -> 0 | CE2: =MIN(Table13[Si la réponse comporte moins de 2 étoiles OUI, merci de préciser votre réponse dans le champs ci-dessous :13]) -> 0 | CF2: =MIN(Table13[Points - Si la réponse comporte moins de 2 étoiles OUI, merci de préciser votre réponse dans le champs ci-dessous :13]) -> 0 | CG2: =MIN(Table13[Feedback - Si la réponse comporte moins de 2 étoiles OUI, merci de préciser votre réponse dans le champs ci-dessous :13]) -> 0 | CH2: =MIN(Table13[PORTFOLIO : Les interactions de ce projet avec les autres initiatives sont gérées correctement]) -> 3 | CI2: =MIN(Table13[Points - PORTFOLIO : Les interactions de ce projet avec les autres initiatives sont gérées correctement]) -> 0 | CJ2: =MIN(Table13[Feedback - PORTFOLIO : Les interactions de ce projet avec les autres initiatives sont gérées correctement]) -> 0 | CK2: =MIN(Table13[Si la réponse comporte moins de 2 étoiles OUI, merci de préciser votre réponse dans le champs ci-dessous :14]) -> 0 | CL2: =MIN(Table13[Points - Si la réponse comporte moins de 2 étoiles OUI, merci de préciser votre réponse dans le champs ci-dessous :14]) -> 0 | CM2: =MIN(Table13[Feedback - Si la réponse comporte moins de 2 étoiles OUI, merci de préciser votre réponse dans le champs ci-dessous :14]) -> 0 | CN2: =MIN(Table13[CHEMIN CRITIQUE : Les délais et ressources à travers de ce projet sont gérés efficacement]) -> 4 | CO2: =MIN(Table13[Points - CHEMIN CRITIQUE : Les délais et ressources à travers de ce projet sont gérés efficacement]) -> 0 | CP2: =MIN(Table13[Feedback - CHEMIN CRITIQUE : Les délais et ressources à travers de ce projet sont gérés efficacement]) -> 0 | CQ2: =MIN(Table13[Si la réponse comporte moins de 2 étoiles OUI, merci de préciser votre réponse dans le champs ci-dessous :15]) -> 0 | CR2: =MIN(Table13[Points - Si la réponse comporte moins de 2 étoiles OUI, merci de préciser votre réponse dans le champs ci-dessous :15]) -> 0 | CS2: =MIN(Table13[Feedback - Si la réponse comporte moins de 2 étoiles OUI, merci de préciser votre réponse dans le champs ci-dessous :15]) -> 0
A3: =MAX(Table13[ID]) -> 7 | B3: =MAX(Table13[Heure de début]) -> 44903.491 | C3: =MAX(Table13[Heure de fin]) -> 44903.492 | D3: =MAX(Table13[Adresse de messagerie]) -> 0 | E3: =MAX(Table13[Nom]) -> 0 | F3: =MAX(Table13[Total points]) -> 0 | G3: =MAX(Table13[Quiz feedback]) -> 0 | H3: =MAX(Table13[CLARTE : J''ai une vision claire de l’objectif final du programme]) -> 5 | I3: =MAX(Table13[Points - CLARTE : J''ai une vision claire de l’objectif final du programme]) -> 0 | J3: =MAX(Table13[Feedback - CLARTE : J''ai une vision claire de l’objectif final du programme]) -> 0 | K3: =MAX(Table13[Si la réponse comporte moins de 2 étoiles OUI, merci de préciser votre réponse dans le champs ci-dessous :]) -> 0 | L3: =MAX(Table13[Points - Si la réponse comporte moins de 2 étoiles OUI, merci de préciser votre réponse dans le champs ci-dessous :]) -> 0 | M3: =MAX(Table13[Feedback - Si la réponse comporte moins de 2 étoiles OUI, merci de préciser votre réponse dans le champs ci-dessous :]) -> 0 | N3: =MAX(Table13[ALIGNEMENT : Je suis aligné sur l’objectif final du programme]) -> 5 | O3: =MAX(Table13[Points - ALIGNEMENT : Je suis aligné sur l’objectif final du programme]) -> 0 | P3: =MAX(Table13[Feedback - ALIGNEMENT : Je suis aligné sur l’objectif final du programme]) -> 0 | Q3: =MAX(Table13[Si la réponse comporte moins de 2 étoiles OUI, merci de préciser votre réponse dans le champs ci-dessous :2]) -> 0 | R3: =MAX(Table13[Points - Si la réponse comporte moins de 2 étoiles OUI, merci de préciser votre réponse dans le champs ci-dessous :2]) -> 0 | S3: =MAX(Table13[Feedback - Si la réponse comporte moins de 2 étoiles OUI, merci de préciser votre réponse dans le champs ci-dessous :2]) -> 0 | T3: =MAX(Table13[ENGAGEMENT : Je supporte l’objectif du programme]) -> 5 | U3: =MAX(Table13[Points - ENGAGEMENT : Je supporte l’objectif du programme]) -> 0 | V3: =MAX(Table13[Feedback - ENGAGEMENT : Je supporte l’objectif du programme]) -> 0 | W3: =MAX(Table13[Si la réponse comporte moins de 2 étoiles OUI, merci de préciser votre réponse dans le champs ci-dessous :3]) -> 0 | X3: =MAX(Table13[Points - Si la réponse comporte moins de 2 étoiles OUI, merci de préciser votre réponse dans le champs ci-dessous :3]) -> 0 | Y3: =MAX(Table13[Feedback - Si la réponse comporte moins de 2 étoiles OUI, merci de préciser votre réponse dans le champs ci-dessous :3]) -> 0 | Z3: =MAX(Table13[SOLUTION : L’approche pour atteindre l’objectif du programme est solide]) -> 5 | AA3: =MAX(Table13[Points - SOLUTION : L’approche pour atteindre l’objectif du programme est solide]) -> 0 | AB3: =MAX(Table13[Feedback - SOLUTION : L’approche pour atteindre l’objectif du programme est solide]) -> 0 | AC3: =MAX(Table13[Si la réponse comporte moins de 2 étoiles OUI, merci de préciser votre réponse dans le champs ci-dessous :4]) -> 0 | AD3: =MAX(Table13[Points - Si la réponse comporte moins de 2 étoiles OUI, merci de préciser votre réponse dans le champs ci-dessous :4]) -> 0 | AE3: =MAX(Table13[Feedback - Si la réponse comporte moins de 2 étoiles OUI, merci de préciser votre réponse dans le champs ci-dessous :4]) -> 0 | AF3: =MAX(Table13[INTEGRITE : Les objectifs initiaux du programme restent les mêmes]) -> 5 | AG3: =MAX(Table13[Points - INTEGRITE : Les objectifs initiaux du programme restent les mêmes]) -> 0 | AH3: =MAX(Table13[Feedback - INTEGRITE : Les objectifs initiaux du programme restent les mêmes]) -> 0 | AI3: =MAX(Table13[Si la réponse comporte moins de 2 étoiles OUI, merci de préciser votre réponse dans le champs ci-dessous :5]) -> 0 | AJ3: =MAX(Table13[Points - Si la réponse comporte moins de 2 étoiles OUI, merci de préciser votre réponse dans le champs ci-dessous :5]) -> 0 | AK3: =MAX(Table13[Feedback - Si la réponse comporte moins de 2 étoiles OUI, merci de préciser votre réponse dans le champs ci-dessous :5]) -> 0 | AL3: =MAX(Table13[SPONSORSHIP : Les leaders fournissent le niveau de sponsorship suffisant pour supporter le programme]) -> 5 | AM3: =MAX(Table13[Points - SPONSORSHIP : Les leaders fournissent le niveau de sponsorship suffisant pour supporter le programme]) -> 0 | AN3: =MAX(Table13[Feedback - SPONSORSHIP : Les leaders fournissent le niveau de sponsorship suffisant pour supporter le programme]) -> 0 | AO3: =MAX(Table13[Si la réponse comporte moins de 2 étoiles OUI, merci de préciser votre réponse dans le champs ci-dessous :6]) -> 0 | AP3: =MAX(Table13[Points - Si la réponse comporte moins de 2 étoiles OUI, merci de préciser votre réponse dans le champs ci-dessous :6]) -> 0 | AQ3: =MAX(Table13[Feedback - Si la réponse comporte moins de 2 étoiles OUI, merci de préciser votre réponse dans le champs ci-dessous :6]) -> 0 | AR3: =MAX(Table13[CAPACITE : Ce changement entraine une charge de travail que nous pouvons absorber sur le site]) -> 5 | AS3: =MAX(Table13[Points - CAPACITE : Ce changement entraine une charge de travail que nous pouvons absorber sur le site]) -> 0 | AT3: =MAX(Table13[Feedback - CAPACITE : Ce changement entraine une charge de travail que nous pouvons absorber sur le site]) -> 0 | AU3: =MAX(Table13[Si la réponse comporte moins de 2 étoiles OUI, merci de préciser votre réponse dans le champs ci-dessous :7]) -> 0 | AV3: =MAX(Table13[Points - Si la réponse comporte moins de 2 étoiles OUI, merci de préciser votre réponse dans le champs ci-dessous :7]) -> 0 | AW3: =MAX(Table13[Feedback - Si la réponse comporte moins de 2 étoiles OUI, merci de préciser votre réponse dans le champs ci-dessous :7]) -> 0 | AX3: =MAX(Table13[CULTURE : Nous avons la culture appropriée pour absorber ce changement]) -> 5 | AY3: =MAX(Table13[Points - CULTURE : Nous avons la culture appropriée pour absorber ce changement]) -> 0 | AZ3: =MAX(Table13[Feedback - CULTURE : Nous avons la culture appropriée pour absorber ce changement]) -> 0 | BA3: =MAX(Table13[Si la réponse comporte moins de 2 étoiles OUI, merci de préciser votre réponse dans le champs ci-dessous :8]) -> 0 | BB3: =MAX(Table13[Feedback - Si la réponse comporte moins de 2 étoiles OUI, merci de préciser votre réponse dans le champs ci-dessous :8]) -> 0 | BC3: =MAX(Table13[Points - Si la réponse comporte moins de 2 étoiles OUI, merci de préciser votre réponse dans le champs ci-dessous :8]) -> 0 | BD3: =MAX(Table13[RESISTANCE : Les personnes impactées par ce changement démontrent l''engagement nécessaire pour réussir sa mise en place]) -> 5 | BE3: =MAX(Table13[Feedback - RESISTANCE : Les personnes impactées par ce changement démontrent l''engagement nécessaire pour réussir sa mise en place]) -> 0 | BF3: =MAX(Table13[Points - RESISTANCE : Les personnes impactées par ce changement démontrent l''engagement nécessaire pour réussir sa mise en place]) -> 0 | BG3: =MAX(Table13[Si la réponse comporte moins de 2 étoiles OUI, merci de préciser votre réponse dans le champs ci-dessous :9]) -> 0 | BH3: =MAX(Table13[Feedback - Si la réponse comporte moins de 2 étoiles OUI, merci de préciser votre réponse dans le champs ci-dessous :9]) -> 0 | BI3: =MAX(Table13[Points - Si la réponse comporte moins de 2 étoiles OUI, merci de préciser votre réponse dans le champs ci-dessous :9]) -> 0 | BJ3: =MAX(Table13[SYNERGIE : Nos efforts de collaboration pour ce projet nous font gagner du temps plus qu’il n’en coute]) -> 5 | BK3: =MAX(Table13[Feedback - SYNERGIE : Nos efforts de collaboration pour ce projet nous font gagner du temps plus qu’il n’en coute]) -> 0 | BL3: =MAX(Table13[Points - SYNERGIE : Nos efforts de collaboration pour ce projet nous font gagner du temps plus qu’il n’en coute]) -> 0 | BM3: =MAX(Table13[Si la réponse comporte moins de 2 étoiles OUI, merci de préciser votre réponse dans le champs ci-dessous :10]) -> 0 | BN3: =MAX(Table13[Feedback - Si la réponse comporte moins de 2 étoiles OUI, merci de préciser votre réponse dans le champs ci-dessous :10]) -> 0 | BO3: =MAX(Table13[Points - Si la réponse comporte moins de 2 étoiles OUI, merci de préciser votre réponse dans le champs ci-dessous :10]) -> 0 | BP3: =MAX(Table13[PARTENARIAT : Nos interactions avec des partenaires externes sont suffisantes pour supporter ce changement]) -> 5 | BQ3: =MAX(Table13[Feedback - PARTENARIAT : Nos interactions avec des partenaires externes sont suffisantes pour supporter ce changement]) -> 0 | BR3: =MAX(Table13[Points - PARTENARIAT : Nos interactions avec des partenaires externes sont suffisantes pour supporter ce changement]) -> 0 | BS3: =MAX(Table13[Si la réponse comporte moins de 2 étoiles OUI, merci de préciser votre réponse dans le champs ci-dessous :11]) -> 0 | BT3: =MAX(Table13[Feedback - Si la réponse comporte moins de 2 étoiles OUI, merci de préciser votre réponse dans le champs ci-dessous :11]) -> 0 | BU3: =MAX(Table13[Points - Si la réponse comporte moins de 2 étoiles OUI, merci de préciser votre réponse dans le champs ci-dessous :11]) -> 0 | BV3: =MAX(Table13[SUPERVISION : Les instances de pilotage permettent de prendre des décisions rapides et efficaces]) -> 5 | BW3: =MAX(Table13[Points - SUPERVISION : Les instances de pilotage permettent de prendre des décisions rapides et efficaces]) -> 0 | BX3: =MAX(Table13[Feedback - SUPERVISION : Les instances de pilotage permettent de prendre des décisions rapides et efficaces]) -> 0 | BY3: =MAX(Table13[Si la réponse comporte moins de 2 étoiles OUI, merci de préciser votre réponse dans le champs ci-dessous :12]) -> 0 | BZ3: =MAX(Table13[Points - Si la réponse comporte moins de 2 étoiles OUI, merci de préciser votre réponse dans le champs ci-dessous :12]) -> 0 | CA3: =MAX(Table13[Feedback - Si la réponse comporte moins de 2 étoiles OUI, merci de préciser votre réponse dans le champs ci-dessous :12]) -> 0 | CB3: =MAX(Table13[RESSOURCES : Les ressources sont suffisantes pour absorber ce changement]) -> 5 | CC3: =MAX(Table13[Points - RESSOURCES : Les ressources sont suffisantes pour absorber ce changement]) -> 0 | CD3: =MAX(Table13[Feedback - RESSOURCES : Les ressources sont suffisantes pour absorber ce changement]) -> 0 | CE3: =MAX(Table13[Si la réponse comporte moins de 2 étoiles OUI, merci de préciser votre réponse dans le champs ci-dessous :13]) -> 0 | CF3: =MAX(Table13[Points - Si la réponse comporte moins de 2 étoiles OUI, merci de préciser votre réponse dans le champs ci-dessous :13]) -> 0 | CG3: =MAX(Table13[Feedback - Si la réponse comporte moins de 2 étoiles OUI, merci de préciser votre réponse dans le champs ci-dessous :13]) -> 0 | CH3: =MAX(Table13[PORTFOLIO : Les interactions de ce projet avec les autres initiatives sont gérées correctement]) -> 5 | CI3: =MAX(Table13[Points - PORTFOLIO : Les interactions de ce projet avec les autres initiatives sont gérées correctement]) -> 0 | CJ3: =MAX(Table13[Feedback - PORTFOLIO : Les interactions de ce projet avec les autres initiatives sont gérées correctement]) -> 0 | CK3: =MAX(Table13[Si la réponse comporte moins de 2 étoiles OUI, merci de préciser votre réponse dans le champs ci-dessous :14]) -> 0 | CL3: =MAX(Table13[Points - Si la réponse comporte moins de 2 étoiles OUI, merci de préciser votre réponse dans le champs ci-dessous :14]) -> 0 | CM3: =MAX(Table13[Feedback - Si la réponse comporte moins de 2 étoiles OUI, merci de préciser votre réponse dans le champs ci-dessous :14]) -> 0 | CN3: =MAX(Table13[CHEMIN CRITIQUE : Les délais et ressources à travers de ce projet sont gérés efficacement]) -> 5 | CO3: =MAX(Table13[Points - CHEMIN CRITIQUE : Les délais et ressources à travers de ce projet sont gérés efficacement]) -> 0 | CP3: =MAX(Table13[Feedback - CHEMIN CRITIQUE : Les délais et ressources à travers de ce projet sont gérés efficacement]) -> 0 | CQ3: =MAX(Table13[Si la réponse comporte moins de 2 étoiles OUI, merci de préciser votre réponse dans le champs ci-dessous :15]) -> 0 | CR3: =MAX(Table13[Points - Si la réponse comporte moins de 2 étoiles OUI, merci de préciser votre réponse dans le champs ci-dessous :15]) -> 0 | CS3: =MAX(Table13[Feedback - Si la réponse comporte moins de 2 étoiles OUI, merci de préciser votre réponse dans le champs ci-dessous :15]) -> 0
A4: =COUNT(Table13[ID]) -> 7 | B4: =COUNT(Table13[Heure de début]) -> 7 | C4: =COUNT(Table13[Heure de fin]) -> 7 | D4: =COUNT(Table13[Adresse de messagerie]) -> 0 | E4: =COUNT(Table13[Nom]) -> 0 | F4: =COUNT(Table13[Total points]) -> 0 | G4: =COUNT(Table13[Quiz feedback]) -> 0 | H4: =COUNT(Table13[CLARTE : J''ai une vision claire de l’objectif final du programme]) -> 7 | I4: =COUNT(Table13[Points - CLARTE : J''ai une vision claire de l’objectif final du programme]) -> 0 | J4: =COUNT(Table13[Feedback - CLARTE : J''ai une vision claire de l’objectif final du programme]) -> 0 | K4: =COUNT(Table13[Si la réponse comporte moins de 2 étoiles OUI, merci de préciser votre réponse dans le champs ci-dessous :]) -> 0 | L4: =COUNT(Table13[Points - Si la réponse comporte moins de 2 étoiles OUI, merci de préciser votre réponse dans le champs ci-dessous :]) -> 0 | M4: =COUNT(Table13[Feedback - Si la réponse comporte moins de 2 étoiles OUI, merci de préciser votre réponse dans le champs ci-dessous :]) -> 0 | N4: =COUNT(Table13[ALIGNEMENT : Je suis aligné sur l’objectif final du programme]) -> 7 | O4: =COUNT(Table13[Points - ALIGNEMENT : Je suis aligné sur l’objectif final du programme]) -> 0 | P4: =COUNT(Table13[Feedback - ALIGNEMENT : Je suis aligné sur l’objectif final du programme]) -> 0 | Q4: =COUNT(Table13[Si la réponse comporte moins de 2 étoiles OUI, merci de préciser votre réponse dans le champs ci-dessous :2]) -> 0 | R4: =COUNT(Table13[Points - Si la réponse comporte moins de 2 étoiles OUI, merci de préciser votre réponse dans le champs ci-dessous :2]) -> 0 | S4: =COUNT(Table13[Feedback - Si la réponse comporte moins de 2 étoiles OUI, merci de préciser votre réponse dans le champs ci-dessous :2]) -> 0 | T4: =COUNT(Table13[ENGAGEMENT : Je supporte l’objectif du programme]) -> 7 | U4: =COUNT(Table13[Points - ENGAGEMENT : Je supporte l’objectif du programme]) -> 0 | V4: =COUNT(Table13[Feedback - ENGAGEMENT : Je supporte l’objectif du programme]) -> 0 | W4: =COUNT(Table13[Si la réponse comporte moins de 2 étoiles OUI, merci de préciser votre réponse dans le champs ci-dessous :3]) -> 0 | X4: =COUNT(Table13[Points - Si la réponse comporte moins de 2 étoiles OUI, merci de préciser votre réponse dans le champs ci-dessous :3]) -> 0 | Y4: =COUNT(Table13[Feedback - Si la réponse comporte moins de 2 étoiles OUI, merci de préciser votre réponse dans le champs ci-dessous :3]) -> 0 | Z4: =COUNT(Table13[SOLUTION : L’approche pour atteindre l’objectif du programme est solide]) -> 7 | AA4: =COUNT(Table13[Points - SOLUTION : L’approche pour atteindre l’objectif du programme est solide]) -> 0 | AB4: =COUNT(Table13[Feedback - SOLUTION : L’approche pour atteindre l’objectif du programme est solide]) -> 0 | AC4: =COUNT(Table13[Si la réponse comporte moins de 2 étoiles OUI, merci de préciser votre réponse dans le champs ci-dessous :4]) -> 0 | AD4: =COUNT(Table13[Points - Si la réponse comporte moins de 2 étoiles OUI, merci de préciser votre réponse dans le champs ci-dessous :4]) -> 0 | AE4: =COUNT(Table13[Feedback - Si la réponse comporte moins de 2 étoiles OUI, merci de préciser votre réponse dans le champs ci-dessous :4]) -> 0 | AF4: =COUNT(Table13[INTEGRITE : Les objectifs initiaux du programme restent les mêmes]) -> 7 | AG4: =COUNT(Table13[Points - INTEGRITE : Les objectifs initiaux du programme restent les mêmes]) -> 0 | AH4: =COUNT(Table13[Feedback - INTEGRITE : Les objectifs initiaux du programme restent les mêmes]) -> 0 | AI4: =COUNT(Table13[Si la réponse comporte moins de 2 étoiles OUI, merci de préciser votre réponse dans le champs ci-dessous :5]) -> 0 | AJ4: =COUNT(Table13[Points - Si la réponse comporte moins de 2 étoiles OUI, merci de préciser votre réponse dans le champs ci-dessous :5]) -> 0 | AK4: =COUNT(Table13[Feedback - Si la réponse comporte moins de 2 étoiles OUI, merci de préciser votre réponse dans le champs ci-dessous :5]) -> 0 | AL4: =COUNT(Table13[SPONSORSHIP : Les leaders fournissent le niveau de sponsorship suffisant pour supporter le programme]) -> 7 | AM4: =COUNT(Table13[Points - SPONSORSHIP : Les leaders fournissent le niveau de sponsorship suffisant pour supporter le programme]) -> 0 | AN4: =COUNT(Table13[Feedback - SPONSORSHIP : Les leaders fournissent le niveau de sponsorship suffisant pour supporter le programme]) -> 0 | AO4: =COUNT(Table13[Si la réponse comporte moins de 2 étoiles OUI, merci de préciser votre réponse dans le champs ci-dessous :6]) -> 0 | AP4: =COUNT(Table13[Points - Si la réponse comporte moins de 2 étoiles OUI, merci de préciser votre réponse dans le champs ci-dessous :6]) -> 0 | AQ4: =COUNT(Table13[Feedback - Si la réponse comporte moins de 2 étoiles OUI, merci de préciser votre réponse dans le champs ci-dessous :6]) -> 0 | AR4: =COUNT(Table13[CAPACITE : Ce changement entraine une charge de travail que nous pouvons absorber sur le site]) -> 7 | AS4: =COUNT(Table13[Points - CAPACITE : Ce changement entraine une charge de travail que nous pouvons absorber sur le site]) -> 0 | AT4: =COUNT(Table13[Feedback - CAPACITE : Ce changement entraine une charge de travail que nous pouvons absorber sur le site]) -> 0 | AU4: =COUNT(Table13[Si la réponse comporte moins de 2 étoiles OUI, merci de préciser votre réponse dans le champs ci-dessous :7]) -> 0 | AV4: =COUNT(Table13[Points - Si la réponse comporte moins de 2 étoiles OUI, merci de préciser votre réponse dans le champs ci-dessous :7]) -> 0 | AW4: =COUNT(Table13[Feedback - Si la réponse comporte moins de 2 étoiles OUI, merci de préciser votre réponse dans le champs ci-dessous :7]) -> 0 | AX4: =COUNT(Table13[CULTURE : Nous avons la culture appropriée pour absorber ce changement]) -> 7 | AY4: =COUNT(Table13[Points - CULTURE : Nous avons la culture appropriée pour absorber ce changement]) -> 0 | AZ4: =COUNT(Table13[Feedback - CULTURE : Nous avons la culture appropriée pour absorber ce changement]) -> 0 | BA4: =COUNT(Table13[Si la réponse comporte moins de 2 étoiles OUI, merci de préciser votre réponse dans le champs ci-dessous :8]) -> 0 | BB4: =COUNT(Table13[Feedback - Si la réponse comporte moins de 2 étoiles OUI, merci de préciser votre réponse dans le champs ci-dessous :8]) -> 0 | BC4: =COUNT(Table13[Points - Si la réponse comporte moins de 2 étoiles OUI, merci de préciser votre réponse dans le champs ci-dessous :8]) -> 0 | BD4: =COUNT(Table13[RESISTANCE : Les personnes impactées par ce changement démontrent l''engagement nécessaire pour réussir sa mise en place]) -> 7 | BE4: =COUNT(Table13[Feedback - RESISTANCE : Les personnes impactées par ce changement démontrent l''engagement nécessaire pour réussir sa mise en place]) -> 0 | BF4: =COUNT(Table13[Points - RESISTANCE : Les personnes impactées par ce changement démontrent l''engagement nécessaire pour réussir sa mise en place]) -> 0 | BG4: =COUNT(Table13[Si la réponse comporte moins de 2 étoiles OUI, merci de préciser votre réponse dans le champs ci-dessous :9]) -> 0 | BH4: =COUNT(Table13[Feedback - Si la réponse comporte moins de 2 étoiles OUI, merci de préciser votre réponse dans le champs ci-dessous :9]) -> 0 | BI4: =COUNT(Table13[Points - Si la réponse comporte moins de 2 étoiles OUI, merci de préciser votre réponse dans le champs ci-dessous :9]) -> 0 | BJ4: =COUNT(Table13[SYNERGIE : Nos efforts de collaboration pour ce projet nous font gagner du temps plus qu’il n’en coute]) -> 7 | BK4: =COUNT(Table13[Feedback - SYNERGIE : Nos efforts de collaboration pour ce projet nous font gagner du temps plus qu’il n’en coute]) -> 0 | BL4: =COUNT(Table13[Points - SYNERGIE : Nos efforts de collaboration pour ce projet nous font gagner du temps plus qu’il n’en coute]) -> 0 | BM4: =COUNT(Table13[Si la réponse comporte moins de 2 étoiles OUI, merci de préciser votre réponse dans le champs ci-dessous :10]) -> 0 | BN4: =COUNT(Table13[Feedback - Si la réponse comporte moins de 2 étoiles OUI, merci de préciser votre réponse dans le champs ci-dessous :10]) -> 0 | BO4: =COUNT(Table13[Points - Si la réponse comporte moins de 2 étoiles OUI, merci de préciser votre réponse dans le champs ci-dessous :10]) -> 0 | BP4: =COUNT(Table13[PARTENARIAT : Nos interactions avec des partenaires externes sont suffisantes pour supporter ce changement]) -> 7 | BQ4: =COUNT(Table13[Feedback - PARTENARIAT : Nos interactions avec des partenaires externes sont suffisantes pour supporter ce changement]) -> 0 | BR4: =COUNT(Table13[Points - PARTENARIAT : Nos interactions avec des partenaires externes sont suffisantes pour supporter ce changement]) -> 0 | BS4: =COUNT(Table13[Si la réponse comporte moins de 2 étoiles OUI, merci de préciser votre réponse dans le champs ci-dessous :11]) -> 0 | BT4: =COUNT(Table13[Feedback - Si la réponse comporte moins de 2 étoiles OUI, merci de préciser votre réponse dans le champs ci-dessous :11]) -> 0 | BU4: =COUNT(Table13[Points - Si la réponse comporte moins de 2 étoiles OUI, merci de préciser votre réponse dans le champs ci-dessous :11]) -> 0 | BV4: =COUNT(Table13[SUPERVISION : Les instances de pilotage permettent de prendre des décisions rapides et efficaces]) -> 7 | BW4: =COUNT(Table13[Points - SUPERVISION : Les instances de pilotage permettent de prendre des décisions rapides et efficaces]) -> 0 | BX4: =COUNT(Table13[Feedback - SUPERVISION : Les instances de pilotage permettent de prendre des décisions rapides et efficaces]) -> 0 | BY4: =COUNT(Table13[Si la réponse comporte moins de 2 étoiles OUI, merci de préciser votre réponse dans le champs ci-dessous :12]) -> 0 | BZ4: =COUNT(Table13[Points - Si la réponse comporte moins de 2 étoiles OUI, merci de préciser votre réponse dans le champs ci-dessous :12]) -> 0 | CA4: =COUNT(Table13[Feedback - Si la réponse comporte moins de 2 étoiles OUI, merci de préciser votre réponse dans le champs ci-dessous :12]) -> 0 | CB4: =COUNT(Table13[RESSOURCES : Les ressources sont suffisantes pour absorber ce changement]) -> 7 | CC4: =COUNT(Table13[Points - RESSOURCES : Les ressources sont suffisantes pour absorber ce changement]) -> 0 | CD4: =COUNT(Table13[Feedback - RESSOURCES : Les ressources sont suffisantes pour absorber ce changement]) -> 0 | CE4: =COUNT(Table13[Si la réponse comporte moins de 2 étoiles OUI, merci de préciser votre réponse dans le champs ci-dessous :13]) -> 0 | CF4: =COUNT(Table13[Points - Si la réponse comporte moins de 2 étoiles OUI, merci de préciser votre réponse dans le champs ci-dessous :13]) -> 0 | CG4: =COUNT(Table13[Feedback - Si la réponse comporte moins de 2 étoiles OUI, merci de préciser votre réponse dans le champs ci-dessous :13]) -> 0 | CH4: =COUNT(Table13[PORTFOLIO : Les interactions de ce projet avec les autres initiatives sont gérées correctement]) -> 7 | CI4: =COUNT(Table13[Points - PORTFOLIO : Les interactions de ce projet avec les autres initiatives sont gérées correctement]) -> 0 | CJ4: =COUNT(Table13[Feedback - PORTFOLIO : Les interactions de ce projet avec les autres initiatives sont gérées correctement]) -> 0 | CK4: =COUNT(Table13[Si la réponse comporte moins de 2 étoiles OUI, merci de préciser votre réponse dans le champs ci-dessous :14]) -> 0 | CL4: =COUNT(Table13[Points - Si la réponse comporte moins de 2 étoiles OUI, merci de préciser votre réponse dans le champs ci-dessous :14]) -> 0 | CM4: =COUNT(Table13[Feedback - Si la réponse comporte moins de 2 étoiles OUI, merci de préciser votre réponse dans le champs ci-dessous :14]) -> 0 | CN4: =COUNT(Table13[CHEMIN CRITIQUE : Les délais et ressources à travers de ce projet sont gérés efficacement]) -> 7 | CO4: =COUNT(Table13[Points - CHEMIN CRITIQUE : Les délais et ressources à travers de ce projet sont gérés efficacement]) -> 0 | CP4: =COUNT(Table13[Feedback - CHEMIN CRITIQUE : Les délais et ressources à travers de ce projet sont gérés efficacement]) -> 0 | CQ4: =COUNT(Table13[Si la réponse comporte moins de 2 étoiles OUI, merci de préciser votre réponse dans le champs ci-dessous :15]) -> 0 | CR4: =COUNT(Table13[Points - Si la réponse comporte moins de 2 étoiles OUI, merci de préciser votre réponse dans le champs ci-dessous :15]) -> 0 | CS4: =COUNT(Table13[Feedback - Si la réponse comporte moins de 2 étoiles OUI, merci de préciser votre réponse dans le champs ci-dessous :15]) -> 0
A5: ID | B5: Heure de début | C5: Heure de fin | D5: Adresse de messagerie | E5: Nom | F5: Total points | G5: Quiz feedback | H5: CLARTE : J'ai une vision claire de l’objectif final du programme | I5: Points - CLARTE : J'ai une vision claire de l’objectif final du programme | J5: Feedback - CLARTE : J'ai une vision claire de l’objectif final du programme | K5: Si la réponse comporte moins de 2 étoiles OUI, merci de préciser votre réponse dans le champs ci-dessous : | L5: Points - Si la réponse comporte moins de 2 étoiles OUI, merci de préciser votre réponse dans le champs ci-dessous : | M5: Feedback - Si la réponse comporte moins de 2 étoiles OUI, merci de préciser votre réponse dans le champs ci-dessous : | N5: ALIGNEMENT : Je suis aligné sur l’objectif final du programme | O5: Points - ALIGNEMENT : Je suis aligné sur l’objectif final du programme | P5: Feedback - ALIGNEMENT : Je suis aligné sur l’objectif final du programme | Q5: Si la réponse comporte moins de 2 étoiles OUI, merci de préciser votre réponse dans le champs ci-dessous :2 | R5: Points - Si la réponse comporte moins de 2 étoiles OUI, merci de préciser votre réponse dans le champs ci-dessous :2 | S5: Feedback - Si la réponse comporte moins de 2 étoiles OUI, merci de préciser votre réponse dans le champs ci-dessous :2 | T5: ENGAGEMENT : Je supporte l’objectif du programme | U5: Points - ENGAGEMENT : Je supporte l’objectif du programme | V5: Feedback - ENGAGEMENT : Je supporte l’objectif du programme | W5: Si la réponse comporte moins de 2 étoiles OUI, merci de préciser votre réponse dans le champs ci-dessous :3 | X5: Points - Si la réponse comporte moins de 2 étoiles OUI, merci de préciser votre réponse dans le champs ci-dessous :3 | Y5: Feedback - Si la réponse comporte moins de 2 étoiles OUI, merci de préciser votre réponse dans le champs ci-dessous :3 | Z5: SOLUTION : L’approche pour atteindre l’objectif du programme est solide | AA5: Points - SOLUTION : L’approche pour atteindre l’objectif du programme est solide | AB5: Feedback - SOLUTION : L’approche pour atteindre l’objectif du programme est solide | AC5: Si la réponse comporte moins de 2 étoiles OUI, merci de préciser votre réponse dans le champs ci-dessous :4 | AD5: Points - Si la réponse comporte moins de 2 étoiles OUI, merci de préciser votre réponse dans le champs ci-dessous :4 | AE5: Feedback - Si la réponse comporte moins de 2 étoiles OUI, merci de préciser votre réponse dans le champs ci-dessous :4 | AF5: INTEGRITE : Les objectifs initiaux du programme restent les mêmes | AG5: Points - INTEGRITE : Les objectifs initiaux du programme restent les mêmes | AH5: Feedback - INTEGRITE : Les objectifs initiaux du programme restent les mêmes | AI5: Si la réponse comporte moins de 2 étoiles OUI, merci de préciser votre réponse dans le champs ci-dessous :5 | AJ5: Points - Si la réponse comporte moins de 2 étoiles OUI, merci de préciser votre réponse dans le champs ci-dessous :5 | AK5: Feedback - Si la réponse comporte moins de 2 étoiles OUI, merci de préciser votre réponse dans le champs ci-dessous :5 | AL5: SPONSORSHIP : Les leaders fournissent le niveau de sponsorship suffisant pour supporter le programme | AM5: Points - SPONSORSHIP : Les leaders fournissent le niveau de sponsorship suffisant pour supporter le programme | AN5: Feedback - SPONSORSHIP : Les leaders fournissent le niveau de sponsorship suffisant pour supporter le programme | AO5: Si la réponse comporte moins de 2 étoiles OUI, merci de préciser votre réponse dans le champs ci-dessous :6 | AP5: Points - Si la réponse comporte moins de 2 étoiles OUI, merci de préciser votre réponse dans le champs ci-dessous :6 | AQ5: Feedback - Si la réponse comporte moins de 2 étoiles OUI, merci de préciser votre réponse dans le champs ci-dessous :6 | AR5: CAPACITE : Ce changement entraine une charge de travail que nous pouvons absorber sur le site | AS5: Points - CAPACITE : Ce changement entraine une charge de travail que nous pouvons absorber sur le site | AT5: Feedback - CAPACITE : Ce changement entraine une charge de travail que nous pouvons absorber sur le site | AU5: Si la réponse comporte moins de 2 étoiles OUI, merci de préciser votre réponse dans le champs ci-dessous :7 | AV5: Points - Si la réponse comporte moins de 2 étoiles OUI, merci de préciser votre réponse dans le champs ci-dessous :7 | AW5: Feedback - Si la réponse comporte moins de 2 étoiles OUI, merci de préciser votre réponse dans le champs ci-dessous :7 | AX5: CULTURE : Nous avons la culture appropriée pour absorber ce changement | AY5: Points - CULTURE : Nous avons la culture appropriée pour absorber ce changement | AZ5: Feedback - CULTURE : Nous avons la culture appropriée pour absorber ce changement | BA5: Si la réponse comporte moins de 2 étoiles OUI, merci de préciser votre réponse dans le champs ci-dessous :8 | BB5: Feedback - Si la réponse comporte moins de 2 étoiles OUI, merci de préciser votre réponse dans le champs ci-dessous :8 | BC5: Points - Si la réponse comporte moins de 2 étoiles OUI, merci de préciser votre réponse dans le champs ci-dessous :8 | BD5: RESISTANCE : Les personnes impactées par ce changement démontrent l'engagement nécessaire pour réussir sa mise en place | BE5: Feedback - RESISTANCE : Les personnes impactées par ce changement démontrent l'engagement nécessaire pour réussir sa mise en place | BF5: Points - RESISTANCE : Les personnes impactées par ce changement démontrent l'engagement nécessaire pour réussir sa mise en place | BG5: Si la réponse comporte moins de 2 étoiles OUI, merci de préciser votre réponse dans le champs ci-dessous :9 | BH5: Feedback - Si la réponse comporte moins de 2 étoiles OUI, merci de préciser votre réponse dans le champs ci-dessous :9 | BI5: Points - Si la réponse comporte moins de 2 étoiles OUI, merci de préciser votre réponse dans le champs ci-dessous :9 | BJ5: SYNERGIE : Nos efforts de collaboration pour ce projet nous font gagner du temps plus qu’il n’en coute | BK5: Feedback - SYNERGIE : Nos efforts de collaboration pour ce projet nous font gagner du temps plus qu’il n’en coute | BL5: Points - SYNERGIE : Nos efforts de collaboration pour ce projet nous font gagner du temps plus qu’il n’en coute | BM5: Si la réponse comporte moins de 2 étoiles OUI, merci de préciser votre réponse dans le champs ci-dessous :10 | BN5: Feedback - Si la réponse comporte moins de 2 étoiles OUI, merci de préciser votre réponse dans le champs ci-dessous :10 | BO5: Points - Si la réponse comporte moins de 2 étoiles OUI, merci de préciser votre réponse dans le champs ci-dessous :10 | BP5: PARTENARIAT : Nos interactions avec des partenaires externes sont suffisantes pour supporter ce changement | BQ5: Feedback - PARTENARIAT : Nos interactions avec des partenaires externes sont suffisantes pour supporter ce changement | BR5: Points - PARTENARIAT : Nos interactions avec des partenaires externes sont suffisantes pour supporter ce changement | BS5: Si la réponse comporte moins de 2 étoiles OUI, merci de préciser votre réponse dans le champs ci-dessous :11 | BT5: Feedback - Si la réponse comporte moins de 2 étoiles OUI, merci de préciser votre réponse dans le champs ci-dessous :11 | BU5: Points - Si la réponse comporte moins de 2 étoiles OUI, merci de préciser votre réponse dans le champs ci-dessous :11 | BV5: SUPERVISION : Les instances de pilotage permettent de prendre des décisions rapides et efficaces | BW5: Points - SUPERVISION : Les instances de pilotage permettent de prendre des décisions rapides et efficaces | BX5: Feedback - SUPERVISION : Les instances de pilotage permettent de prendre des décisions rapides et efficaces | BY5: Si la réponse comporte moins de 2 étoiles OUI, merci de préciser votre réponse dans le champs ci-dessous :12 | BZ5: Points - Si la réponse comporte moins de 2 étoiles OUI, merci de préciser votre réponse dans le champs ci-dessous :12 | CA5: Feedback - Si la réponse comporte moins de 2 étoiles OUI, merci de préciser votre réponse dans le champs ci-dessous :12 | CB5: RESSOURCES : Les ressources sont suffisantes pour absorber ce changement | CC5: Points - RESSOURCES : Les ressources sont suffisantes pour absorber ce changement | CD5: Feedback - RESSOURCES : Les ressources sont suffisantes pour absorber ce changement | CE5: Si la réponse comporte moins de 2 étoiles OUI, merci de préciser votre réponse dans le champs ci-dessous :13 | CF5: Points - Si la réponse comporte moins de 2 étoiles OUI, merci de préciser votre réponse dans le champs ci-dessous :13 | CG5: Feedback - Si la réponse comporte moins de 2 étoiles OUI, merci de préciser votre réponse dans le champs ci-dessous :13 | CH5: PORTFOLIO : Les interactions de ce projet avec les autres initiatives sont gérées correctement | CI5: Points - PORTFOLIO : Les interactions de ce projet avec les autres initiatives sont gérées correctement | CJ5: Feedback - PORTFOLIO : Les interactions de ce projet avec les autres initiatives sont gérées correctement | CK5: Si la réponse comporte moins de 2 étoiles OUI, merci de préciser votre réponse dans le champs ci-dessous :14 | CL5: Points - Si la réponse comporte moins de 2 étoiles OUI, merci de préciser votre réponse dans le champs ci-dessous :14 | CM5: Feedback - Si la réponse comporte moins de 2 étoiles OUI, merci de préciser votre réponse dans le champs ci-dessous :14 | CN5: CHEMIN CRITIQUE : Les délais et ressources à travers de ce projet sont gérés efficacement | CO5: Points - CHEMIN CRITIQUE : Les délais et ressources à travers de ce projet sont gérés efficacement | CP5: Feedback - CHEMIN CRITIQUE : Les délais et ressources à travers de ce projet sont gérés efficacement | CQ5: Si la réponse comporte moins de 2 étoiles OUI, merci de préciser votre réponse dans le champs ci-dessous :15 | CR5: Points - Si la réponse comporte moins de 2 étoiles OUI, merci de préciser votre réponse dans le champs ci-dessous :15 | CS5: Feedback - Si la réponse comporte moins de 2 étoiles OUI, merci de préciser votre réponse dans le champs ci-dessous :15
A6: 1 | B6: 44900.356 | C6: 44900.358 | D6: anonymous | H6: 5 | N6: 5 | T6: 5 | Z6: 4 | AC6: Organisation pour maintenir la solution SAP Architecture SAP sécurisée | AF6: 5 | AL6: 5 | AR6: 4 | AX6: 3 | BD6: 4 | BJ6: 4 | BP6: 4 | BV6: 5 | CB6: 3 | CE6: Vigilance avec les SME | CH6: 3 | CK6: Pas de plan de charge commun avec les autres projets site. | CN6: 5
A7: 2 | B7: 44900.583 | C7: 44900.71 | D7: anonymous | H7: 5 | N7: 5 | T7: 5 | Z7: 5 | AF7: 5 | AL7: 5 | AR7: 5 | AX7: 3 | BD7: 5 | BJ7: 4 | BP7: 4 | BV7: 5 | CB7: 5 | CH7: 5 | CN7: 4
A8: 3 | B8: 44900.75 | C8: 44900.762 | D8: anonymous | H8: 5 | N8: 5 | T8: 5 | Z8: 5 | AF8: 5 | AL8: 5 | AR8: 4 | AX8: 3 | BD8: 5 | BJ8: 4 | BP8: 5 | BV8: 5 | CB8: 5 | CH8: 5 | CN8: 5
