Workbook
Name pause: Données!$S$1

Sheet Données
A1: Personne | B1: Date | C1: IN | D1: OUT | E1: Corr. | F1: Temps presté | G1: Solde journalier | H1: check double | I1: demi mois | J1: temps de travail | K1: Temps théorique | L1: Jours feriés | R1: pause | S1: 0.020833333
A2: A | B2: 43343 | C2: 0.35416667 | D2: 0.68888889 | F2: =IF(COUNT(C2:D2)<>2,0,D2-C2-(D2-C2>=pause)*IF(E2<>"",E2,pause)) -> 0.31388889 | G2: =IF(L2="x",Tabel2[[#This Row],[Temps théorique]]-RECAP!$Y$6,(F2-K2)*(COUNT(C2:D2)=2)) -> -0.0027777778 | I2: =MOD(YEAR(Tabel2[[#This Row],[Date]]),100)&"-"&(MONTH(Tabel2[[#This Row],[Date]])-1)*2+(DAY(Tabel2[[#This Row],[Date]])>15) -> 22-16 | J2: {=INDEX(RECAP!N:N,_xlfn.AGGREGATE(14,6,ROW(Tabel1[personne])/((Tabel1[personne]=Tabel2[[#This Row],[Personne]])*(Tabel1[début]<=Tabel2[[#This Row],[Date]])),1))} -> 38h/semaine | K2: =VLOOKUP(J2,RECAP!$T$4:$V$7,3,0) -> 0.31666667 | L2: =IF(WORKDAY.INTL(Tabel2[[#This Row],[Date]]-1,1,"0000000",TBL_Féries[])<>Tabel2[[#This Row],[Date]],"X","")
A3: A | B3: =B2+CHOOSE(WEEKDAY(B2,2),1,1,1,1,3,2,1) -> 43344 | C3: 0.35416667 | D3: 0.70277778 | F3: =IF(COUNT(C3:D3)<>2,0,D3-C3-(D3-C3>=pause)*IF(E3<>"",E3,pause)) -> 0.32777778 | G3: =IF(L3="x",Tabel2[[#This Row],[Temps théorique]]-RECAP!$Y$6,(F3-K3)*(COUNT(C3:D3)=2)) -> 0.011111111 | I3: =MOD(YEAR(Tabel2[[#This Row],[Date]]),100)&"-"&(MONTH(Tabel2[[#This Row],[Date]])-1)*2+(DAY(Tabel2[[#This Row],[Date]])>15) -> 22-16 | J3: {=INDEX(RECAP!N:N,_xlfn.AGGREGATE(14,6,ROW(Tabel1[personne])/((Tabel1[personne]=Tabel2[[#This Row],[Personne]])*(Tabel1[début]<=Tabel2[[#This Row],[Date]])),1))} -> 38h/semaine | K3: =VLOOKUP(J3,RECAP!$T$4:$V$7,3,0) -> 0.31666667 | L3: =IF(WORKDAY.INTL(Tabel2[[#This Row],[Date]]-1,1,"0000000",TBL_Féries[])<>Tabel2[[#This Row],[Date]],"X","")
A4: A | B4: =B3+CHOOSE(WEEKDAY(B3,2),1,1,1,1,3,2,1) -> 43347 | C4: 0.35416667 | D4: 0.68958333 | F4: =IF(COUNT(C4:D4)<>2,0,D4-C4-(D4-C4>=pause)*IF(E4<>"",E4,pause)) -> 0.31458333 | G4: =IF(L4="x",Tabel2[[#This Row],[Temps théorique]]-RECAP!$Y$6,(F4-K4)*(COUNT(C4:D4)=2)) -> -0.0020833333 | I4: =MOD(YEAR(Tabel2[[#This Row],[Date]]),100)&"-"&(MONTH(Tabel2[[#This Row],[Date]])-1)*2+(DAY(Tabel2[[#This Row],[Date]])>15) -> 22-16 | J4: {=INDEX(RECAP!N:N,_xlfn.AGGREGATE(14,6,ROW(Tabel1[personne])/((Tabel1[personne]=Tabel2[[#This Row],[Personne]])*(Tabel1[début]<=Tabel2[[#This Row],[Date]])),1))} -> 38h/semaine | K4: =VLOOKUP(J4,RECAP!$T$4:$V$7,3,0) -> 0.31666667 | L4: =IF(WORKDAY.INTL(Tabel2[[#This Row],[Date]]-1,1,"0000000",TBL_Féries[])<>Tabel2[[#This Row],[Date]],"X","")
A5: A | B5: =B4+CHOOSE(WEEKDAY(B4,2),1,1,1,1,3,2,1) -> 43348 | C5: 0.35416667 | D5: 0.6875 | F5: =IF(COUNT(C5:D5)<>2,0,D5-C5-(D5-C5>=pause)*IF(E5<>"",E5,pause)) -> 0.3125 | G5: =IF(L5="x",Tabel2[[#This Row],[Temps théorique]]-RECAP!$Y$6,(F5-K5)*(COUNT(C5:D5)=2)) -> -0.0041666667 | I5: =MOD(YEAR(Tabel2[[#This Row],[Date]]),100)&"-"&(MONTH(Tabel2[[#This Row],[Date]])-1)*2+(DAY(Tabel2[[#This Row],[Date]])>15) -> 22-16 | J5: {=INDEX(RECAP!N:N,_xlfn.AGGREGATE(14,6,ROW(Tabel1[personne])/((Tabel1[personne]=Tabel2[[#This Row],[Personne]])*(Tabel1[début]<=Tabel2[[#This Row],[Date]])),1))} -> 38h/semaine | K5: =VLOOKUP(J5,RECAP!$T$4:$V$7,3,0) -> 0.31666667 | L5: =IF(WORKDAY.INTL(Tabel2[[#This Row],[Date]]-1,1,"0000000",TBL_Féries[])<>Tabel2[[#This Row],[Date]],"X","")
A6: A | B6: =B5+CHOOSE(WEEKDAY(B5,2),1,1,1,1,3,2,1) -> 43349 | F6: =IF(COUNT(C6:D6)<>2,0,D6-C6-(D6-C6>=pause)*IF(E6<>"",E6,pause)) -> 0 | G6: =IF(L6="x",Tabel2[[#This Row],[Temps théorique]]-RECAP!$Y$6,(F6-K6)*(COUNT(C6:D6)=2)) -> 0 | I6: =MOD(YEAR(Tabel2[[#This Row],[Date]]),100)&"-"&(MONTH(Tabel2[[#This Row],[Date]])-1)*2+(DAY(Tabel2[[#This Row],[Date]])>15) -> 22-16 | J6: {=INDEX(RECAP!N:N,_xlfn.AGGREGATE(14,6,ROW(Tabel1[personne])/((Tabel1[personne]=Tabel2[[#This Row],[Personne]])*(Tabel1[début]<=Tabel2[[#This Row],[Date]])),1))} -> 38h/semaine | K6: =VLOOKUP(J6,RECAP!$T$4:$V$7,3,0) -> 0.31666667 | L6: =IF(WORKDAY.INTL(Tabel2[[#This Row],[Date]]-1,1,"0000000",TBL_Féries[])<>Tabel2[[#This Row],[Date]],"X","")
A7: A | B7: =B6+CHOOSE(WEEKDAY(B6,2),1,1,1,1,3,2,1) -> 43350 | C7: 0.35416667 | D7: 0.6875 | F7: =IF(COUNT(C7:D7)<>2,0,D7-C7-(D7-C7>=pause)*IF(E7<>"",E7,pause)) -> 0.3125 | G7: =IF(L7="x",Tabel2[[#This Row],[Temps théorique]]-RECAP!$Y$6,(F7-K7)*(COUNT(C7:D7)=2)) -> -0.0041666667 | I7: =MOD(YEAR(Tabel2[[#This Row],[Date]]),100)&"-"&(MONTH(Tabel2[[#This Row],[Date]])-1)*2+(DAY(Tabel2[[#This Row],[Date]])>15) -> 22-16 | J7: {=INDEX(RECAP!N:N,_xlfn.AGGREGATE(14,6,ROW(Tabel1[personne])/((Tabel1[personne]=Tabel2[[#This Row],[Personne]])*(Tabel1[début]<=Tabel2[[#This Row],[Date]])),1))} -> 38h/semaine | K7: =VLOOKUP(J7,RECAP!$T$4:$V$7,3,0) -> 0.31666667 | L7: =IF(WORKDAY.INTL(Tabel2[[#This Row],[Date]]-1,1,"0000000",TBL_Féries[])<>Tabel2[[#This Row],[Date]],"X","")
A8: A | B8: =B7+CHOOSE(WEEKDAY(B7,2),1,1,1,1,3,2,1) -> 43351 | C8: 0.35416667 | D8: 0.6875 | F8: =IF(COUNT(C8:D8)<>2,0,D8-C8-(D8-C8>=pause)*IF(E8<>"",E8,pause)) -> 0.3125 | G8: =IF(L8="x",Tabel2[[#This Row],[Temps théorique]]-RECAP!$Y$6,(F8-K8)*(COUNT(C8:D8)=2)) -> -0.0041666667 | I8: =MOD(YEAR(Tabel2[[#This Row],[Date]]),100)&"-"&(MONTH(Tabel2[[#This Row],[Date]])-1)*2+(DAY(Tabel2[[#This Row],[Date]])>15) -> 22-16 | J8: {=INDEX(RECAP!N:N,_xlfn.AGGREGATE(14,6,ROW(Tabel1[personne])/((Tabel1[personne]=Tabel2[[#This Row],[Personne]])*(Tabel1[début]<=Tabel2[[#This Row],[Date]])),1))} -> 38h/semaine | K8: =VLOOKUP(J8,RECAP!$T$4:$V$7,3,0) -> 0.31666667 | L8: =IF(WORKDAY.INTL(Tabel2[[#This Row],[Date]]-1,1,"0000000",TBL_Féries[])<>Tabel2[[#This Row],[Date]],"X","")
A9: A | B9: =B8+CHOOSE(WEEKDAY(B8,2),1,1,1,1,3,2,1) -> 43354 | C9: 0.35486111 | D9: 0.68819444 | F9: =IF(COUNT(C9:D9)<>2,0,D9-C9-(D9-C9>=pause)*IF(E9<>"",E9,pause)) -> 0.3125 | G9: =IF(L9="x",Tabel2[[#This Row],[Temps théorique]]-RECAP!$Y$6,(F9-K9)*(COUNT(C9:D9)=2)) -> -0.0041666667 | I9: =MOD(YEAR(Tabel2[[#This Row],[Date]]),100)&"-"&(MONTH(Tabel2[[#This Row],[Date]])-1)*2+(DAY(Tabel2[[#This Row],[Date]])>15) -> 22-16 | J9: {=INDEX(RECAP!N:N,_xlfn.AGGREGATE(14,6,ROW(Tabel1[personne])/((Tabel1[personne]=Tabel2[[#This Row],[Personne]])*(Tabel1[début]<=Tabel2[[#This Row],[Date]])),1))} -> 38h/semaine | K9: =VLOOKUP(J9,RECAP!$T$4:$V$7,3,0) -> 0.31666667 | L9: =IF(WORKDAY.INTL(Tabel2[[#This Row],[Date]]-1,1,"0000000",TBL_Féries[])<>Tabel2[[#This Row],[Date]],"X","")
A10: A | B10: =B9+CHOOSE(WEEKDAY(B9,2),1,1,1,1,3,2,1) -> 43355 | C10: 0.35416667 | D10: 0.69097222 | F10: =IF(COUNT(C10:D10)<>2,0,D10-C10-(D10-C10>=pause)*IF(E10<>"",E10,pause)) -> 0.31597222 | G10: =IF(L10="x",Tabel2[[#This Row],[Temps théorique]]-RECAP!$Y$6,(F10-K10)*(COUNT(C10:D10)=2)) -> -0.00069444444 | I10: =MOD(YEAR(Tabel2[[#This Row],[Date]]),100)&"-"&(MONTH(Tabel2[[#This Row],[Date]])-1)*2+(DAY(Tabel2[[#This Row],[Date]])>15) -> 22-16 | J10: {=INDEX(RECAP!N:N,_xlfn.AGGREGATE(14,6,ROW(Tabel1[personne])/((Tabel1[personne]=Tabel2[[#This Row],[Personne]])*(Tabel1[début]<=Tabel2[[#This Row],[Date]])),1))} -> 38h/semaine | K10: =VLOOKUP(J10,RECAP!$T$4:$V$7,3,0) -> 0.31666667 | L10: =IF(WORKDAY.INTL(Tabel2[[#This Row],[Date]]-1,1,"0000000",TBL_Féries[])<>Tabel2[[#This Row],[Date]],"X","")
A11: A | B11: =B10+CHOOSE(WEEKDAY(B10,2),1,1,1,1,3,2,1) -> 43356 | F11: =IF(COUNT(C11:D11)<>2,0,D11-C11-(D11-C11>=pause)*IF(E11<>"",E11,pause)) -> 0 | G11: =IF(L11="x",Tabel2[[#This Row],[Temps théorique]]-RECAP!$Y$6,(F11-K11)*(COUNT(C11:D11)=2)) -> 0 | I11: =MOD(YEAR(Tabel2[[#This Row],[Date]]),100)&"-"&(MONTH(Tabel2[[#This Row],[Date]])-1)*2+(DAY(Tabel2[[#This Row],[Date]])>15) -> 22-16 | J11: {=INDEX(RECAP!N:N,_xlfn.AGGREGATE(14,6,ROW(Tabel1[personne])/((Tabel1[personne]=Tabel2[[#This Row],[Personne]])*(Tabel1[début]<=Tabel2[[#This Row],[Date]])),1))} -> 38h/semaine | K11: =VLOOKUP(J11,RECAP!$T$4:$V$7,3,0) -> 0.31666667 | L11: =IF(WORKDAY.INTL(Tabel2[[#This Row],[Date]]-1,1,"0000000",TBL_Féries[])<>Tabel2[[#This Row],[Date]],"X","")
A12: A | B12: =B11+CHOOSE(WEEKDAY(B11,2),1,1,1,1,3,2,1) -> 43357 | C12: 0.35555556 | D12: 0.68958333 | F12: =IF(COUNT(C12:D12)<>2,0,D12-C12-(D12-C12>=pause)*IF(E12<>"",E12,pause)) -> 0.31319444 | G12: =IF(L12="x",Tabel2[[#This Row],[Temps théorique]]-RECAP!$Y$6,(F12-K12)*(COUNT(C12:D12)=2)) -> -0.0034722222 | I12: =MOD(YEAR(Tabel2[[#This Row],[Date]]),100)&"-"&(MONTH(Tabel2[[#This Row],[Date]])-1)*2+(DAY(Tabel2[[#This Row],[Date]])>15) -> 22-16 | J12: {=INDEX(RECAP!N:N,_xlfn.AGGREGATE(14,6,ROW(Tabel1[personne])/((Tabel1[personne]=Tabel2[[#This Row],[Personne]])*(Tabel1[début]<=Tabel2[[#This Row],[Date]])),1))} -> 38h/semaine | K12: =VLOOKUP(J12,RECAP!$T$4:$V$7,3,0) -> 0.31666667 | L12: =IF(WORKDAY.INTL(Tabel2[[#This Row],[Date]]-1,1,"0000000",TBL_Féries[])<>Tabel2[[#This Row],[Date]],"X","")
A13: A | B13: =B12+CHOOSE(WEEKDAY(B12,2),1,1,1,1,3,2,1) -> 43358 | C13: 0.35416667 | D13: 0.70902778 | F13: =IF(COUNT(C13:D13)<>2,0,D13-C13-(D13-C13>=pause)*IF(E13<>"",E13,pause)) -> 0.33402778 | G13: =IF(L13="x",Tabel2[[#This Row],[Temps théorique]]-RECAP!$Y$6,(F13-K13)*(COUNT(C13:D13)=2)) -> 0.017361111 | I13: =MOD(YEAR(Tabel2[[#This Row],[Date]]),100)&"-"&(MONTH(Tabel2[[#This Row],[Date]])-1)*2+(DAY(Tabel2[[#This Row],[Date]])>15) -> 22-17 | J13: {=INDEX(RECAP!N:N,_xlfn.AGGREGATE(14,6,ROW(Tabel1[personne])/((Tabel1[personne]=Tabel2[[#This Row],[Personne]])*(Tabel1[début]<=Tabel2[[#This Row],[Date]])),1))} -> 38h/semaine | K13: =VLOOKUP(J13,RECAP!$T$4:$V$7,3,0) -> 0.31666667 | L13: =IF(WORKDAY.INTL(Tabel2[[#This Row],[Date]]-1,1,"0000000",TBL_Féries[])<>Tabel2[[#This Row],[Date]],"X","")
A14: A | B14: =B13+CHOOSE(WEEKDAY(B13,2),1,1,1,1,3,2,1) -> 43361 | C14: 0.36597222 | D14: 0.69861111 | F14: =IF(COUNT(C14:D14)<>2,0,D14-C14-(D14-C14>=pause)*IF(E14<>"",E14,pause)) -> 0.31180556 | G14: =IF(L14="x",Tabel2[[#This Row],[Temps théorique]]-RECAP!$Y$6,(F14-K14)*(COUNT(C14:D14)=2)) -> -0.0048611111 | I14: =MOD(YEAR(Tabel2[[#This Row],[Date]]),100)&"-"&(MONTH(Tabel2[[#This Row],[Date]])-1)*2+(DAY(Tabel2[[#This Row],[Date]])>15) -> 22-17 | J14: {=INDEX(RECAP!N:N,_xlfn.AGGREGATE(14,6,ROW(Tabel1[personne])/((Tabel1[personne]=Tabel2[[#This Row],[Personne]])*(Tabel1[début]<=Tabel2[[#This Row],[Date]])),1))} -> 38h/semaine | K14: =VLOOKUP(J14,RECAP!$T$4:$V$7,3,0) -> 0.31666667 | L14: =IF(WORKDAY.INTL(Tabel2[[#This Row],[Date]]-1,1,"0000000",TBL_Féries[])<>Tabel2[[#This Row],[Date]],"X","")
A15: A | B15: =B14+CHOOSE(WEEKDAY(B14,2),1,1,1,1,3,2,1) -> 43362 | C15: 0.35416667 | D15: 0.68888889 | F15: =IF(COUNT(C15:D15)<>2,0,D15-C15-(D15-C15>=pause)*IF(E15<>"",E15,pause)) -> 0.31388889 | G15: =IF(L15="x",Tabel2[[#This Row],[Temps théorique]]-RECAP!$Y$6,(F15-K15)*(COUNT(C15:D15)=2)) -> 0.063888889 | I15: =MOD(YEAR(Tabel2[[#This Row],[Date]]),100)&"-"&(MONTH(Tabel2[[#This Row],[Date]])-1)*2+(DAY(Tabel2[[#This Row],[Date]])>15) -> 22-17 | J15: {=INDEX(RECAP!N:N,_xlfn.AGGREGATE(14,6,ROW(Tabel1[personne])/((Tabel1[personne]=Tabel2[[#This Row],[Personne]])*(Tabel1[début]<=Tabel2[[#This Row],[Date]])),1))} -> 30h/semaine | K15: =VLOOKUP(J15,RECAP!$T$4:$V$7,3,0) -> 0.25 | L15: =IF(WORKDAY.INTL(Tabel2[[#This Row],[Date]]-1,1,"0000000",TBL_Féries[])<>Tabel2[[#This Row],[Date]],"X","")
A16: A | B16: =B15+CHOOSE(WEEKDAY(B15,2),1,1,1,1,3,2,1) -> 43363 | F16: =IF(COUNT(C16:D16)<>2,0,D16-C16-(D16-C16>=pause)*IF(E16<>"",E16,pause)) -> 0 | G16: =IF(L16="x",Tabel2[[#This Row],[Temps théorique]]-RECAP!$Y$6,(F16-K16)*(COUNT(C16:D16)=2)) -> 0 | I16: =MOD(YEAR(Tabel2[[#This Row],[Date]]),100)&"-"&(MONTH(Tabel2[[#This Row],[Date]])-1)*2+(DAY(Tabel2[[#This Row],[Date]])>15) -> 22-17 | J16: {=INDEX(RECAP!N:N,_xlfn.AGGREGATE(14,6,ROW(Tabel1[personne])/((Tabel1[personne]=Tabel2[[#This Row],[Personne]])*(Tabel1[début]<=Tabel2[[#This Row],[Date]])),1))} -> 30h/semaine | K16: =VLOOKUP(J16,RECAP!$T$4:$V$7,3,0) -> 0.25 | L16: =IF(WORKDAY.INTL(Tabel2[[#This Row],[Date]]-1,1,"0000000",TBL_Féries[])<>Tabel2[[#This Row],[Date]],"X","")
A17: A | B17: =B16+CHOOSE(WEEKDAY(B16,2),1,1,1,1,3,2,1) -> 43364 | C17: 0.35416667 | D17: 0.6875 | F17: =IF(COUNT(C17:D17)<>2,0,D17-C17-(D17-C17>=pause)*IF(E17<>"",E17,pause)) -> 0.3125 | G17: =IF(L17="x",Tabel2[[#This Row],[Temps théorique]]-RECAP!$Y$6,(F17-K17)*(COUNT(C17:D17)=2)) -> 0.0625 | I17: =MOD(YEAR(Tabel2[[#This Row],[Date]]),100)&"-"&(MONTH(Tabel2[[#This Row],[Date]])-1)*2+(DAY(Tabel2[[#This Row],[Date]])>15) -> 22-17 | J17: {=INDEX(RECAP!N:N,_xlfn.AGGREGATE(14,6,ROW(Tabel1[personne])/((Tabel1[personne]=Tabel2[[#This Row],[Personne]])*(Tabel1[début]<=Tabel2[[#This Row],[Date]])),1))} -> 30h/semaine | K17: =VLOOKUP(J17,RECAP!$T$4:$V$7,3,0) -> 0.25 | L17: =IF(WORKDAY.INTL(Tabel2[[#This Row],[Date]]-1,1,"0000000",TBL_Féries[])<>Tabel2[[#This Row],[Date]],"X","") | T17: {=IF(J17="X",IFERROR(_xlfn.AGGREGATE(14,6,ROW($J$1:J16)/($J$1:J16="X"),1),2),"-")} -> -
A18: A | B18: =B17+CHOOSE(WEEKDAY(B17,2),1,1,1,1,3,2,1) -> 43365 | F18: =IF(COUNT(C18:D18)<>2,0,D18-C18-(D18-C18>=pause)*IF(E18<>"",E18,pause)) -> 0 | G18: =IF(L18="x",Tabel2[[#This Row],[Temps théorique]]-RECAP!$Y$6,(F18-K18)*(COUNT(C18:D18)=2)) -> 0 | I18: =MOD(YEAR(Tabel2[[#This Row],[Date]]),100)&"-"&(MONTH(Tabel2[[#This Row],[Date]])-1)*2+(DAY(Tabel2[[#This Row],[Date]])>15) -> 22-17 | J18: {=INDEX(RECAP!N:N,_xlfn.AGGREGATE(14,6,ROW(Tabel1[personne])/((Tabel1[personne]=Tabel2[[#This Row],[Personne]])*(Tabel1[début]<=Tabel2[[#This Row],[Date]])),1))} -> 30h/semaine | K18: =VLOOKUP(J18,RECAP!$T$4:$V$7,3,0) -> 0.25 | L18: =IF(WORKDAY.INTL(Tabel2[[#This Row],[Date]]-1,1,"0000000",TBL_Féries[])<>Tabel2[[#This Row],[Date]],"X","") | T18: {=IF(J18="X",IFERROR(_xlfn.AGGREGATE(14,6,ROW($J$1:J17)/($J$1:J17="X"),1),2),"-")} -> -
A19: A | B19: =B18+CHOOSE(WEEKDAY(B18,2),1,1,1,1,3,2,1) -> 43368 | C19: 0.35486111 | D19: 0.68819444 | F19: =IF(COUNT(C19:D19)<>2,0,D19-C19-(D19-C19>=pause)*IF(E19<>"",E19,pause)) -> 0.3125 | G19: =IF(L19="x",Tabel2[[#This Row],[Temps théorique]]-RECAP!$Y$6,(F19-K19)*(COUNT(C19:D19)=2)) -> 0.0625 | I19: =MOD(YEAR(Tabel2[[#This Row],[Date]]),100)&"-"&(MONTH(Tabel2[[#This Row],[Date]])-1)*2+(DAY(Tabel2[[#This Row],[Date]])>15) -> 22-17 | J19: {=INDEX(RECAP!N:N,_xlfn.AGGREGATE(14,6,ROW(Tabel1[personne])/((Tabel1[personne]=Tabel2[[#This Row],[Personne]])*(Tabel1[début]<=Tabel2[[#This Row],[Date]])),1))} -> 30h/semaine | K19: =VLOOKUP(J19,RECAP!$T$4:$V$7,3,0) -> 0.25 | L19: =IF(WORKDAY.INTL(Tabel2[[#This Row],[Date]]-1,1,"0000000",TBL_Féries[])<>Tabel2[[#This Row],[Date]],"X","") | T19: {=IF(J19="X",IFERROR(_xlfn.AGGREGATE(14,6,ROW($J$1:J18)/($J$1:J18="X"),1),2),"-")} -> -
A20: A | B20: =B19+CHOOSE(WEEKDAY(B19,2),1,1,1,1,3,2,1) -> 43369 | C20: 0.35625 | D20: 0.69305556 | F20: =IF(COUNT(C20:D20)<>2,0,D20-C20-(D20-C20>=pause)*IF(E20<>"",E20,pause)) -> 0.31597222 | G20: =IF(L20="x",Tabel2[[#This Row],[Temps théorique]]-RECAP!$Y$6,(F20-K20)*(COUNT(C20:D20)=2)) -> 0.065972222 | I20: =MOD(YEAR(Tabel2[[#This Row],[Date]]),100)&"-"&(MONTH(Tabel2[[#This Row],[Date]])-1)*2+(DAY(Tabel2[[#This Row],[Date]])>15) -> 22-17 | J20: {=INDEX(RECAP!N:N,_xlfn.AGGREGATE(14,6,ROW(Tabel1[personne])/((Tabel1[personne]=Tabel2[[#This Row],[Personne]])*(Tabel1[début]<=Tabel2[[#This Row],[Date]])),1))} -> 30h/semaine | K20: =VLOOKUP(J20,RECAP!$T$4:$V$7,3,0) -> 0.25 | L20: =IF(WORKDAY.INTL(Tabel2[[#This Row],[Date]]-1,1,"0000000",TBL_Féries[])<>Tabel2[[#This Row],[Date]],"X","") | T20: {=IF(J20="X",IFERROR(_xlfn.AGGREGATE(14,6,ROW($J$1:J19)/($J$1:J19="X"),1),2),"-")} -> -
A21: A | B21: =B20+CHOOSE(WEEKDAY(B20,2),1,1,1,1,3,2,1) -> 43370 | F21: =IF(COUNT(C21:D21)<>2,0,D21-C21-(D21-C21>=pause)*IF(E21<>"",E21,pause)) -> 0 | G21: =IF(L21="x",Tabel2[[#This Row],[Temps théorique]]-RECAP!$Y$6,(F21-K21)*(COUNT(C21:D21)=2)) -> 0 | I21: =MOD(YEAR(Tabel2[[#This Row],[Date]]),100)&"-"&(MONTH(Tabel2[[#This Row],[Date]])-1)*2+(DAY(Tabel2[[#This Row],[Date]])>15) -> 22-17 | J21: {=INDEX(RECAP!N:N,_xlfn.AGGREGATE(14,6,ROW(Tabel1[personne])/((Tabel1[personne]=Tabel2[[#This Row],[Personne]])*(Tabel1[début]<=Tabel2[[#This Row],[Date]])),1))} -> 30h/semaine | K21: =VLOOKUP(J21,RECAP!$T$4:$V$7,3,0) -> 0.25 | L21: =IF(WORKDAY.INTL(Tabel2[[#This Row],[Date]]-1,1,"0000000",TBL_Féries[])<>Tabel2[[#This Row],[Date]],"X","") | T21: {=IF(J21="X",IFERROR(_xlfn.AGGREGATE(14,6,ROW($J$1:J20)/($J$1:J20="X"),1),2),"-")} -> -
A22: A | B22: =B21+CHOOSE(WEEKDAY(B21,2),1,1,1,1,3,2,1) -> 43371 | C22: 0.35416667 | D22: 0.69861111 | F22: =IF(COUNT(C22:D22)<>2,0,D22-C22-(D22-C22>=pause)*IF(E22<>"",E22,pause)) -> 0.32361111 | G22: =IF(L22="x",Tabel2[[#This Row],[Temps théorique]]-RECAP!$Y$6,(F22-K22)*(COUNT(C22:D22)=2)) -> 0.073611111 | I22: =MOD(YEAR(Tabel2[[#This Row],[Date]]),100)&"-"&(MONTH(Tabel2[[#This Row],[Date]])-1)*2+(DAY(Tabel2[[#This Row],[Date]])>15) -> 22-17 | J22: {=INDEX(RECAP!N:N,_xlfn.AGGREGATE(14,6,ROW(Tabel1[personne])/((Tabel1[personne]=Tabel2[[#This Row],[Personne]])*(Tabel1[début]<=Tabel2[[#This Row],[Date]])),1))} -> 30h/semaine | K22: =VLOOKUP(J22,RECAP!$T$4:$V$7,3,0) -> 0.25 | L22: =IF(WORKDAY.INTL(Tabel2[[#This Row],[Date]]-1,1,"0000000",TBL_Féries[])<>Tabel2[[#This Row],[Date]],"X","") | T22: {=IF(J22="X",IFERROR(_xlfn.AGGREGATE(14,6,ROW($J$1:J21)/($J$1:J21="X"),1),2),"-")} -> -
A23: A | B23: =B22+CHOOSE(WEEKDAY(B22,2),1,1,1,1,3,2,1) -> 43372 | C23: 0.35416667 | D23: 0.69166667 | F23: =IF(COUNT(C23:D23)<>2,0,D23-C23-(D23-C23>=pause)*IF(E23<>"",E23,pause)) -> 0.31666667 | G23: =IF(L23="x",Tabel2[[#This Row],[Temps théorique]]-RECAP!$Y$6,(F23-K23)*(COUNT(C23:D23)=2)) -> 0.066666667 | I23: =MOD(YEAR(Tabel2[[#This Row],[Date]]),100)&"-"&(MONTH(Tabel2[[#This Row],[Date]])-1)*2+(DAY(Tabel2[[#This Row],[Date]])>15) -> 22-17 | J23: {=INDEX(RECAP!N:N,_xlfn.AGGREGATE(14,6,ROW(Tabel1[personne])/((Tabel1[personne]=Tabel2[[#This Row],[Personne]])*(Tabel1[début]<=Tabel2[[#This Row],[Date]])),1))} -> 30h/semaine | K23: =VLOOKUP(J23,RECAP!$T$4:$V$7,3,0) -> 0.25 | L23: =IF(WORKDAY.INTL(Tabel2[[#This Row],[Date]]-1,1,"0000000",TBL_Féries[])<>Tabel2[[#This Row],[Date]],"X","") | T23: {=IF(J23="X",IFERROR(_xlfn.AGGREGATE(14,6,ROW($J$1:J22)/($J$1:J22="X"),1),2),"-")} -> -
A24: A | B24: =B23+CHOOSE(WEEKDAY(B23,2),1,1,1,1,3,2,1) -> 43375 | C24: 0.35416667 | D24: 0.69861111 | F24: =IF(COUNT(C24:D24)<>2,0,D24-C24-(D24-C24>=pause)*IF(E24<>"",E24,pause)) -> 0.32361111 | G24: =IF(L24="x",Tabel2[[#This Row],[Temps théorique]]-RECAP!$Y$6,(F24-K24)*(COUNT(C24:D24)=2)) -> 0.073611111 | I24: =MOD(YEAR(Tabel2[[#This Row],[Date]]),100)&"-"&(MONTH(Tabel2[[#This Row],[Date]])-1)*2+(DAY(Tabel2[[#This Row],[Date]])>15) -> 22-18 | J24: {=INDEX(RECAP!N:N,_xlfn.AGGREGATE(14,6,ROW(Tabel1[personne])/((Tabel1[personne]=Tabel2[[#This Row],[Personne]])*(Tabel1[début]<=Tabel2[[#This Row],[Date]])),1))} -> 30h/semaine | K24: =VLOOKUP(J24,RECAP!$T$4:$V$7,3,0) -> 0.25 | L24: =IF(WORKDAY.INTL(Tabel2[[#This Row],[Date]]-1,1,"0000000",TBL_Féries[])<>Tabel2[[#This Row],[Date]],"X","") | T24: {=IF(J24="X",IFERROR(_xlfn.AGGREGATE(14,6,ROW($J$1:J23)/($J$1:J23="X"),1),2),"-")} -> -
A25: A | B25: =B24+CHOOSE(WEEKDAY(B24,2),1,1,1,1,3,2,1) -> 43376 | C25: 0.36736111 | D25: 0.68819444 | F25: =IF(COUNT(C25:D25)<>2,0,D25-C25-(D25-C25>=pause)*IF(E25<>"",E25,pause)) -> 0.3 | G25: =IF(L25="x",Tabel2[[#This Row],[Temps théorique]]-RECAP!$Y$6,(F25-K25)*(COUNT(C25:D25)=2)) -> 0.05 | I25: =MOD(YEAR(Tabel2[[#This Row],[Date]]),100)&"-"&(MONTH(Tabel2[[#This Row],[Date]])-1)*2+(DAY(Tabel2[[#This Row],[Date]])>15) -> 22-18 | J25: {=INDEX(RECAP!N:N,_xlfn.AGGREGATE(14,6,ROW(Tabel1[personne])/((Tabel1[personne]=Tabel2[[#This Row],[Personne]])*(Tabel1[début]<=Tabel2[[#This Row],[Date]])),1))} -> 30h/semaine | K25: =VLOOKUP(J25,RECAP!$T$4:$V$7,3,0) -> 0.25 | L25: =IF(WORKDAY.INTL(Tabel2[[#This Row],[Date]]-1,1,"0000000",TBL_Féries[])<>Tabel2[[#This Row],[Date]],"X","")
A26: A | B26: =B25+CHOOSE(WEEKDAY(B25,2),1,1,1,1,3,2,1) -> 43377 | F26: =IF(COUNT(C26:D26)<>2,0,D26-C26-(D26-C26>=pause)*IF(E26<>"",E26,pause)) -> 0 | G26: =IF(L26="x",Tabel2[[#This Row],[Temps théorique]]-RECAP!$Y$6,(F26-K26)*(COUNT(C26:D26)=2)) -> 0 | I26: =MOD(YEAR(Tabel2[[#This Row],[Date]]),100)&"-"&(MONTH(Tabel2[[#This Row],[Date]])-1)*2+(DAY(Tabel2[[#This Row],[Date]])>15) -> 22-18 | J26: {=INDEX(RECAP!N:N,_xlfn.AGGREGATE(14,6,ROW(Tabel1[personne])/((Tabel1[personne]=Tabel2[[#This Row],[Personne]])*(Tabel1[début]<=Tabel2[[#This Row],[Date]])),1))} -> 30h/semaine | K26: =VLOOKUP(J26,RECAP!$T$4:$V$7,3,0) -> 0.25 | L26: =IF(WORKDAY.INTL(Tabel2[[#This Row],[Date]]-1,1,"0000000",TBL_Féries[])<>Tabel2[[#This Row],[Date]],"X","")
A27: A | B27: =B26+CHOOSE(WEEKDAY(B26,2),1,1,1,1,3,2,1) -> 43378 | C27: 0.35416667 | D27: 0.69375 | F27: =IF(COUNT(C27:D27)<>2,0,D27-C27-(D27-C27>=pause)*IF(E27<>"",E27,pause)) -> 0.31875 | G27: =IF(L27="x",Tabel2[[#This Row],[Temps théorique]]-RECAP!$Y$6,(F27-K27)*(COUNT(C27:D27)=2)) -> 0.06875 | I27: =MOD(YEAR(Tabel2[[#This Row],[Date]]),100)&"-"&(MONTH(Tabel2[[#This Row],[Date]])-1)*2+(DAY(Tabel2[[#This Row],[Date]])>15) -> 22-18 | J27: {=INDEX(RECAP!N:N,_xlfn.AGGREGATE(14,6,ROW(Tabel1[personne])/((Tabel1[personne]=Tabel2[[#This Row],[Personne]])*(Tabel1[début]<=Tabel2[[#This Row],[Date]])),1))} -> 30h/semaine | K27: =VLOOKUP(J27,RECAP!$T$4:$V$7,3,0) -> 0.25 | L27: =IF(WORKDAY.INTL(Tabel2[[#This Row],[Date]]-1,1,"0000000",TBL_Féries[])<>Tabel2[[#This Row],[Date]],"X","")
A28: A | B28: =B27+CHOOSE(WEEKDAY(B27,2),1,1,1,1,3,2,1) -> 43379 | F28: =IF(COUNT(C28:D28)<>2,0,D28-C28-(D28-C28>=pause)*IF(E28<>"",E28,pause)) -> 0 | G28: =IF(L28="x",Tabel2[[#This Row],[Temps théorique]]-RECAP!$Y$6,(F28-K28)*(COUNT(C28:D28)=2)) -> 0 | I28: =MOD(YEAR(Tabel2[[#This Row],[Date]]),100)&"-"&(MONTH(Tabel2[[#This Row],[Date]])-1)*2+(DAY(Tabel2[[#This Row],[Date]])>15) -> 22-18 | J28: {=INDEX(RECAP!N:N,_xlfn.AGGREGATE(14,6,ROW(Tabel1[personne])/((Tabel1[personne]=Tabel2[[#This Row],[Personne]])*(Tabel1[début]<=Tabel2[[#This Row],[Date]])),1))} -> 30h/semaine | K28: =VLOOKUP(J28,RECAP!$T$4:$V$7,3,0) -> 0.25 | L28: =IF(WORKDAY.INTL(Tabel2[[#This Row],[Date]]-1,1,"0000000",TBL_Féries[])<>Tabel2[[#This Row],[Date]],"X","")
A29: A | B29: =B28+CHOOSE(WEEKDAY(B28,2),1,1,1,1,3,2,1) -> 43382 | F29: =IF(COUNT(C29:D29)<>2,0,D29-C29-(D29-C29>=pause)*IF(E29<>"",E29,pause)) -> 0 | G29: =IF(L29="x",Tabel2[[#This Row],[Temps théorique]]-RECAP!$Y$6,(F29-K29)*(COUNT(C29:D29)=2)) -> 0 | I29: =MOD(YEAR(Tabel2[[#This Row],[Date]]),100)&"-"&(MONTH(Tabel2[[#This Row],[Date]])-1)*2+(DAY(Tabel2[[#This Row],[Date]])>15) -> 22-18 | J29: {=INDEX(RECAP!N:N,_xlfn.AGGREGATE(14,6,ROW(Tabel1[personne])/((Tabel1[personne]=Tabel2[[#This Row],[Personne]])*(Tabel1[début]<=Tabel2[[#This Row],[Date]])),1))} -> 30,24h/semaine | K29: =VLOOKUP(J29,RECAP!$T$4:$V$7,3,0) -> 0.252 | L29: =IF(WORKDAY.INTL(Tabel2[[#This Row],[Date]]-1,1,"0000000",TBL_Féries[])<>Tabel2[[#This Row],[Date]],"X","")
A30: A | B30: =B29+CHOOSE(WEEKDAY(B29,2),1,1,1,1,3,2,1) -> 43383 | C30: 0.35416667 | D30: 0.69930556 | F30: =IF(COUNT(C30:D30)<>2,0,D30-C30-(D30-C30>=pause)*IF(E30<>"",E30,pause)) -> 0.32430556 | G30: =IF(L30="x",Tabel2[[#This Row],[Temps théorique]]-RECAP!$Y$6,(F30-K30)*(COUNT(C30:D30)=2)) -> 0.072305556 | I30: =MOD(YEAR(Tabel2[[#This Row],[Date]]),100)&"-"&(MONTH(Tabel2[[#This Row],[Date]])-1)*2+(DAY(Tabel2[[#This Row],[Date]])>15) -> 22-18 | J30: {=INDEX(RECAP!N:N,_xlfn.AGGREGATE(14,6,ROW(Tabel1[personne])/((Tabel1[personne]=Tabel2[[#This Row],[Personne]])*(Tabel1[début]<=Tabel2[[#This Row],[Date]])),1))} -> 30,24h/semaine | K30: =VLOOKUP(J30,RECAP!$T$4:$V$7,3,0) -> 0.252 | L30: =IF(WORKDAY.INTL(Tabel2[[#This Row],[Date]]-1,1,"0000000",TBL_Féries[])<>Tabel2[[#This Row],[Date]],"X","")
A31: A | B31: =B30+CHOOSE(WEEKDAY(B30,2),1,1,1,1,3,2,1) -> 43384 | F31: =IF(COUNT(C31:D31)<>2,0,D31-C31-(D31-C31>=pause)*IF(E31<>"",E31,pause)) -> 0 | G31: =IF(L31="x",Tabel2[[#This Row],[Temps théorique]]-RECAP!$Y$6,(F31-K31)*(COUNT(C31:D31)=2)) -> 0 | I31: =MOD(YEAR(Tabel2[[#This Row],[Date]]),100)&"-"&(MONTH(Tabel2[[#This Row],[Date]])-1)*2+(DAY(Tabel2[[#This Row],[Date]])>15) -> 22-18 | J31: {=INDEX(RECAP!N:N,_xlfn.AGGREGATE(14,6,ROW(Tabel1[personne])/((Tabel1[personne]=Tabel2[[#This Row],[Personne]])*(Tabel1[début]<=Tabel2[[#This Row],[Date]])),1))} -> 30,24h/semaine | K31: =VLOOKUP(J31,RECAP!$T$4:$V$7,3,0) -> 0.252 | L31: =IF(WORKDAY.INTL(Tabel2[[#This Row],[Date]]-1,1,"0000000",TBL_Féries[])<>Tabel2[[#This Row],[Date]],"X","")
A32: A | B32: =B31+CHOOSE(WEEKDAY(B31,2),1,1,1,1,3,2,1) -> 43385 | C32: 0.35555556 | D32: 0.70069444 | F32: =IF(COUNT(C32:D32)<>2,0,D32-C32-(D32-C32>=pause)*IF(E32<>"",E32,pause)) -> 0.32430556 | G32: =IF(L32="x",Tabel2[[#This Row],[Temps théorique]]-RECAP!$Y$6,(F32-K32)*(COUNT(C32:D32)=2)) -> 0.072305556 | I32: =MOD(YEAR(Tabel2[[#This Row],[Date]]),100)&"-"&(MONTH(Tabel2[[#This Row],[Date]])-1)*2+(DAY(Tabel2[[#This Row],[Date]])>15) -> 22-18 | J32: {=INDEX(RECAP!N:N,_xlfn.AGGREGATE(14,6,ROW(Tabel1[personne])/((Tabel1[personne]=Tabel2[[#This Row],[Personne]])*(Tabel1[début]<=Tabel2[[#This Row],[Date]])),1))} -> 30,24h/semaine | K32: =VLOOKUP(J32,RECAP!$T$4:$V$7,3,0) -> 0.252 | L32: =IF(WORKDAY.INTL(Tabel2[[#This Row],[Date]]-1,1,"0000000",TBL_Féries[])<>Tabel2[[#This Row],[Date]],"X","")
A33: A | B33: =B32+CHOOSE(WEEKDAY(B32,2),1,1,1,1,3,2,1) -> 43386 | C33: 0.35416667 | D33: 0.69305556 | F33: =IF(COUNT(C33:D33)<>2,0,D33-C33-(D33-C33>=pause)*IF(E33<>"",E33,pause)) -> 0.31805556 | G33: =IF(L33="x",Tabel2[[#This Row],[Temps théorique]]-RECAP!$Y$6,(F33-K33)*(COUNT(C33:D33)=2)) -> 0.066055556 | I33: =MOD(YEAR(Tabel2[[#This Row],[Date]]),100)&"-"&(MONTH(Tabel2[[#This Row],[Date]])-1)*2+(DAY(Tabel2[[#This Row],[Date]])>15) -> 22-18 | J33: {=INDEX(RECAP!N:N,_xlfn.AGGREGATE(14,6,ROW(Tabel1[personne])/((Tabel1[personne]=Tabel2[[#This Row],[Personne]])*(Tabel1[début]<=Tabel2[[#This Row],[Date]])),1))} -> 30,24h/semaine | K33: =VLOOKUP(J33,RECAP!$T$4:$V$7,3,0) -> 0.252 | L33: =IF(WORKDAY.INTL(Tabel2[[#This Row],[Date]]-1,1,"0000000",TBL_Féries[])<>Tabel2[[#This Row],[Date]],"X","")
A34: A | B34: =B33+CHOOSE(WEEKDAY(B33,2),1,1,1,1,3,2,1) -> 43389 | C34: 0.38055556 | D34: 0.68819444 | F34: =IF(COUNT(C34:D34)<>2,0,D34-C34-(D34-C34>=pause)*IF(E34<>"",E34,pause)) -> 0.28680556 | G34: =IF(L34="x",Tabel2[[#This Row],[Temps théorique]]-RECAP!$Y$6,(F34-K34)*(COUNT(C34:D34)=2)) -> 0.034805556 | I34: =MOD(YEAR(Tabel2[[#This Row],[Date]]),100)&"-"&(MONTH(Tabel2[[#This Row],[Date]])-1)*2+(DAY(Tabel2[[#This Row],[Date]])>15) -> 22-19 | J34: {=INDEX(RECAP!N:N,_xlfn.AGGREGATE(14,6,ROW(Tabel1[personne])/((Tabel1[personne]=Tabel2[[#This Row],[Personne]])*(Tabel1[début]<=Tabel2[[#This Row],[Date]])),1))} -> 30,24h/semaine | K34: =VLOOKUP(J34,RECAP!$T$4:$V$7,3,0) -> 0.252 | L34: =IF(WORKDAY.INTL(Tabel2[[#This Row],[Date]]-1,1,"0000000",TBL_Féries[])<>Tabel2[[#This Row],[Date]],"X","")
A35: A | B35: =B34+CHOOSE(WEEKDAY(B34,2),1,1,1,1,3,2,1) -> 43390 | C35: 0.37083333 | D35: 0.69722222 | F35: =IF(COUNT(C35:D35)<>2,0,D35-C35-(D35-C35>=pause)*IF(E35<>"",E35,pause)) -> 0.30555556 | G35: =IF(L35="x",Tabel2[[#This Row],[Temps théorique]]-RECAP!$Y$6,(F35-K35)*(COUNT(C35:D35)=2)) -> 0.053555556 | I35: =MOD(YEAR(Tabel2[[#This Row],[Date]]),100)&"-"&(MONTH(Tabel2[[#This Row],[Date]])-1)*2+(DAY(Tabel2[[#This Row],[Date]])>15) -> 22-19 | J35: {=INDEX(RECAP!N:N,_xlfn.AGGREGATE(14,6,ROW(Tabel1[personne])/((Tabel1[personne]=Tabel2[[#This Row],[Personne]])*(Tabel1[début]<=Tabel2[[#This Row],[Date]])),1))} -> 30,24h/semaine | K35: =VLOOKUP(J35,RECAP!$T$4:$V$7,3,0) -> 0.252 | L35: =IF(WORKDAY.INTL(Tabel2[[#This Row],[Date]]-1,1,"0000000",TBL_Féries[])<>Tabel2[[#This Row],[Date]],"X","")
A36: A | B36: =B35+CHOOSE(WEEKDAY(B35,2),1,1,1,1,3,2,1) -> 43391 | F36: =IF(COUNT(C36:D36)<>2,0,D36-C36-(D36-C36>=pause)*IF(E36<>"",E36,pause)) -> 0 | G36: =IF(L36="x",Tabel2[[#This Row],[Temps théorique]]-RECAP!$Y$6,(F36-K36)*(COUNT(C36:D36)=2)) -> 0 | I36: =MOD(YEAR(Tabel2[[#This Row],[Date]]),100)&"-"&(MONTH(Tabel2[[#This Row],[Date]])-1)*2+(DAY(Tabel2[[#This Row],[Date]])>15) -> 22-19 | J36: {=INDEX(RECAP!N:N,_xlfn.AGGREGATE(14,6,ROW(Tabel1[personne])/((Tabel1[personne]=Tabel2[[#This Row],[Personne]])*(Tabel1[début]<=Tabel2[[#This Row],[Date]])),1))} -> 30,24h/semaine | K36: =VLOOKUP(J36,RECAP!$T$4:$V$7,3,0) -> 0.252 | L36: =IF(WORKDAY.INTL(Tabel2[[#This Row],[Date]]-1,1,"0000000",TBL_Féries[])<>Tabel2[[#This Row],[Date]],"X","")
A37: A | B37: =B36+CHOOSE(WEEKDAY(B36,2),1,1,1,1,3,2,1) -> 43392 | C37: 0.35416667 | D37: 0.71180556 | F37: =IF(COUNT(C37:D37)<>2,0,D37-C37-(D37-C37>=pause)*IF(E37<>"",E37,pause)) -> 0.33680556 | G37: =IF(L37="x",Tabel2[[#This Row],[Temps théorique]]-RECAP!$Y$6,(F37-K37)*(COUNT(C37:D37)=2)) -> 0.084805556 | I37: =MOD(YEAR(Tabel2[[#This Row],[Date]]),100)&"-"&(MONTH(Tabel2[[#This Row],[Date]])-1)*2+(DAY(Tabel2[[#This Row],[Date]])>15) -> 22-19 | J37: {=INDEX(RECAP!N:N,_xlfn.AGGREGATE(14,6,ROW(Tabel1[personne])/((Tabel1[personne]=Tabel2[[#This Row],[Personne]])*(Tabel1[début]<=Tabel2[[#This Row],[Date]])),1))} -> 30,24h/semaine | K37: =VLOOKUP(J37,RECAP!$T$4:$V$7,3,0) -> 0.252 | L37: =IF(WORKDAY.INTL(Tabel2[[#This Row],[Date]]-1,1,"0000000",TBL_Féries[])<>Tabel2[[#This Row],[Date]],"X","")
A38: A | B38: =B37+CHOOSE(WEEKDAY(B37,2),1,1,1,1,3,2,1) -> 43393 | C38: 0.35416667 | D38: 0.70208333 | F38: =IF(COUNT(C38:D38)<>2,0,D38-C38-(D38-C38>=pause)*IF(E38<>"",E38,pause)) -> 0.32708333 | G38: =IF(L38="x",Tabel2[[#This Row],[Temps théorique]]-RECAP!$Y$6,(F38-K38)*(COUNT(C38:D38)=2)) -> 0.075083333 | I38: =MOD(YEAR(Tabel2[[#This Row],[Date]]),100)&"-"&(MONTH(Tabel2[[#This Row],[Date]])-1)*2+(DAY(Tabel2[[#This Row],[Date]])>15) -> 22-19 | J38: {=INDEX(RECAP!N:N,_xlfn.AGGREGATE(14,6,ROW(Tabel1[personne])/((Tabel1[personne]=Tabel2[[#This Row],[Personne]])*(Tabel1[début]<=Tabel2[[#This Row],[Date]])),1))} -> 30,24h/semaine | K38: =VLOOKUP(J38,RECAP!$T$4:$V$7,3,0) -> 0.252 | L38: =IF(WORKDAY.INTL(Tabel2[[#This Row],[Date]]-1,1,"0000000",TBL_Féries[])<>Tabel2[[#This Row],[Date]],"X","")
A39: A | B39: =B38+CHOOSE(WEEKDAY(B38,2),1,1,1,1,3,2,1) -> 43396 | C39: 0.35416667 | D39: 0.70277778 | F39: =IF(COUNT(C39:D39)<>2,0,D39-C39-(D39-C39>=pause)*IF(E39<>"",E39,pause)) -> 0.32777778 | G39: =IF(L39="x",Tabel2[[#This Row],[Temps théorique]]-RECAP!$Y$6,(F39-K39)*(COUNT(C39:D39)=2)) -> 0.075777778 | I39: =MOD(YEAR(Tabel2[[#This Row],[Date]]),100)&"-"&(MONTH(Tabel2[[#This Row],[Date]])-1)*2+(DAY(Tabel2[[#This Row],[Date]])>15) -> 22-19 | J39: {=INDEX(RECAP!N:N,_xlfn.AGGREGATE(14,6,ROW(Tabel1[personne])/((Tabel1[personne]=Tabel2[[#This Row],[Personne]])*(Tabel1[début]<=Tabel2[[#This Row],[Date]])),1))} -> 30,24h/semaine | K39: =VLOOKUP(J39,RECAP!$T$4:$V$7,3,0) -> 0.252 | L39: =IF(WORKDAY.INTL(Tabel2[[#This Row],[Date]]-1,1,"0000000",TBL_Féries[])<>Tabel2[[#This Row],[Date]],"X","")
A40: A | B40: =B39+CHOOSE(WEEKDAY(B39,2),1,1,1,1,3,2,1) -> 43397 | C40: 0.35833333 | D40: 0.68888889 | F40: =IF(COUNT(C40:D40)<>2,0,D40-C40-(D40-C40>=pause)*IF(E40<>"",E40,pause)) -> 0.30972222 | G40: =IF(L40="x",Tabel2[[#This Row],[Temps théorique]]-RECAP!$Y$6,(F40-K40)*(COUNT(C40:D40)=2)) -> 0.057722222 | I40: =MOD(YEAR(Tabel2[[#This Row],[Date]]),100)&"-"&(MONTH(Tabel2[[#This Row],[Date]])-1)*2+(DAY(Tabel2[[#This Row],[Date]])>15) -> 22-19 | J40: {=INDEX(RECAP!N:N,_xlfn.AGGREGATE(14,6,ROW(Tabel1[personne])/((Tabel1[personne]=Tabel2[[#This Row],[Personne]])*(Tabel1[début]<=Tabel2[[#This Row],[Date]])),1))} -> 30,24h/semaine | K40: =VLOOKUP(J40,RECAP!$T$4:$V$7,3,0) -> 0.252 | L40: =IF(WORKDAY.INTL(Tabel2[[#This Row],[Date]]-1,1,"0000000",TBL_Féries[])<>Tabel2[[#This Row],[Date]],"X","")
...

Sheet TCD
D3: Personne | E3: Waarden
D4: A | F4: B | H4: Totaal presté | I4: Totaal Solde
B5: Date | C5: demi | D5: presté | E5: Solde | F5: presté | G5: Solde
B6: sep | C6: 22-16 | D6: 2.8354167 | E6: -0.014583333 | F6: 2.8354167 | G6: 0.56739583 | H6: 5.6708333 | I6: 0.5528125
B7: sep | C7: 22-17 | D7: 2.5409722 | E7: 0.40763889 | F7: 2.5409722 | G7: 0.5249537 | H7: 5.0819444 | I7: 0.93259259
B8: Totaal sep | D8: 5.3763889 | E8: 0.39305556 | F8: 5.3763889 | G8: 1.0923495 | H8: 10.752778 | I8: 1.4854051
B10: okt | C10: 22-18 | D10: 1.9090278 | E10: 0.40302083 | F10: 1.9090278 | G10: 0.39701389 | H10: 3.8180556 | I10: 0.80003472
B11: okt | C11: 22-19 | D11: 2.5388889 | E11: 0.52287037 | F11: 2.5388889 | G11: 0.52287037 | H11: 5.0777778 | I11: 1.0457407
B12: Totaal okt | D12: 4.4479167 | E12: 0.9258912 | F12: 4.4479167 | G12: 0.91988426 | H12: 8.8958333 | I12: 1.8457755
B14: nov | C14: 22-20 | D14: 1.11875 | E14: 0.23758102 | F14: 1.11875 | G14: 0.050243056 | H14: 2.2375 | I14: 0.28782407
B15: nov | C15: 22-21 | D15: 0 | E15: 0 | F15: 0 | G15: 0 | H15: 0 | I15: 0
B16: Totaal nov | D16: 1.11875 | E16: 0.23758102 | F16: 1.11875 | G16: 0.050243056 | H16: 2.2375 | I16: 0.28782407
B18: Eindtotaal | D18: 10.943056 | E18: 1.5565278 | F18: 10.943056 | G18: 2.0624769 | H18: 21.886111 | I18: 3.6190046

Sheet RECAP
C1: Le solde est pour la date d'aujourd'hui tant que le tableau est mis à jour | T1: Données techniques
D3: Solde | G3: Solde | J3: Solde | L3: personne | M3: début | N3: temps de travail | O3: Semaine | P3: Jour | Q3: Solde férié (par jour) | T3: Temps de travail | U3: Semaine | V3: Jour | W3: Solde férié (par jour) | Y3: Pour la formule
C4: A | D4: =+GETPIVOTDATA("Solde",TCD!$B$3,"Personne",C4) -> 1.5565278 | F4: J | G4: =Données!#REF! -> #REF! | I4: L | J4: =#REF! -> #REF! | L4: A | M4: 43343 | N4: 38h/semaine | O4: =VLOOKUP($N4,$T$4:$W$7,2,0) -> 38 | P4: =VLOOKUP($N4,$T$4:$W$7,3,0) -> 0.31666667 | Q4: =VLOOKUP($N4,$T$4:$W$7,4,0) -> 0 | T4: 38h/semaine | U4: 38 | V4: =U4/5/24 -> 0.31666667 | W4: =V4-V4 -> 0 | Y4: =W4+V4 -> 0.31666667
C5: B | D5: =#REF! -> #REF! | F5: K | G5: =#REF! -> #REF! | J5: =#REF! -> #REF! | L5: A | M5: 43362 | N5: 30h/semaine | O5: =VLOOKUP($N5,$T$4:$W$7,2,0) -> 30 | P5: =VLOOKUP($N5,$T$4:$W$7,3,0) -> 0.25 | Q5: =VLOOKUP($N5,$T$4:$W$7,4,0) -> 0.0625 | T5: 30,24h/semaine | U5: 30.24 | V5: =U5/5/24 -> 0.252 | W5: 0.063194444 | Y5: =W5+V5 -> 0.31519444
C6: C | D6: =#REF! -> #REF! | L6: A | M6: 43382 | N6: 30,24h/semaine | O6: =VLOOKUP($N6,$T$4:$W$7,2,0) -> 30.24 | P6: =VLOOKUP($N6,$T$4:$W$7,3,0) -> 0.252 | Q6: =VLOOKUP($N6,$T$4:$W$7,4,0) -> 0.063194444 | T6: 30h/semaine | U6: 30 | V6: =U6/5/24 -> 0.25 | W6: 0.0625 | Y6: =W6+V6 -> 0.3125
C7: D | D7: =#REF! -> #REF! | G7: =#REF! -> #REF! | L7: A | M7: 43407 | N7: 19h/semaine | O7: =VLOOKUP($N7,$T$4:$W$7,2,0) -> 19 | P7: =VLOOKUP($N7,$T$4:$W$7,3,0) -> 0.15833333 | Q7: =VLOOKUP($N7,$T$4:$W$7,4,0) -> 0.15833333 | T7: 19h/semaine | U7: 19 | V7: =U7/5/24 -> 0.15833333 | W7: =V4-V7 -> 0.15833333 | Y7: =W7+V7 -> 0.31666667
D8: =#REF! -> #REF! | G8: =#REF! -> #REF! | L8: B | M8: 42369 | N8: 30,24h/semaine | O8: =VLOOKUP($N8,$T$4:$W$7,2,0) -> 30.24 | P8: =VLOOKUP($N8,$T$4:$W$7,3,0) -> 0.252 | Q8: =VLOOKUP($N8,$T$4:$W$7,4,0) -> 0.063194444
C9: F | D9: =#REF! -> #REF! | G9: =#REF! -> #REF! | L9: C | M9: 42369 | N9: 30h/semaine | O9: =VLOOKUP($N9,$T$4:$W$7,2,0) -> 30 | P9: =VLOOKUP($N9,$T$4:$W$7,3,0) -> 0.25 | Q9: =VLOOKUP($N9,$T$4:$W$7,4,0) -> 0.0625
C10: G | D10: =#REF! -> #REF! | G10: =#REF! -> #REF! | L10: D | M10: 42369 | N10: 19h/semaine | O10: =VLOOKUP($N10,$T$4:$W$7,2,0) -> 19 | P10: =VLOOKUP($N10,$T$4:$W$7,3,0) -> 0.15833333 | Q10: =VLOOKUP($N10,$T$4:$W$7,4,0) -> 0.15833333
C11: H | D11: =#REF! -> #REF! | L11: E | M11: 42369 | N11: 38h/semaine | O11: =VLOOKUP($N11,$T$4:$W$7,2,0) -> 38 | P11: =VLOOKUP($N11,$T$4:$W$7,3,0) -> 0.31666667 | Q11: =VLOOKUP($N11,$T$4:$W$7,4,0) -> 0
C12: I | D12: =#REF! -> #REF! | L12: F | M12: 42369 | N12: 38h/semaine | O12: =VLOOKUP($N12,$T$4:$W$7,2,0) -> 38 | P12: =VLOOKUP($N12,$T$4:$W$7,3,0) -> 0.31666667 | Q12: =VLOOKUP($N12,$T$4:$W$7,4,0) -> 0 | T12: 2022 | U12: 2023 | V12: 2024
L13: G | M13: 42369 | N13: 38h/semaine | O13: =VLOOKUP($N13,$T$4:$W$7,2,0) -> 38 | P13: =VLOOKUP($N13,$T$4:$W$7,3,0) -> 0.31666667 | Q13: =VLOOKUP($N13,$T$4:$W$7,4,0) -> 0 | T13: 43458 | U13: =EDATE(T13,12) -> 43823 | V13: =EDATE(U13,24) -> 44554
L14: H | M14: 42369 | N14: 38h/semaine | O14: =VLOOKUP($N14,$T$4:$W$7,2,0) -> 38 | P14: =VLOOKUP($N14,$T$4:$W$7,3,0) -> 0.31666667 | Q14: =VLOOKUP($N14,$T$4:$W$7,4,0) -> 0 | T14: 43414 | U14: =EDATE(T14,12) -> 43779 | V14: =EDATE(U14,24) -> 44510
L15: I | M15: 42369 | N15: 38h/semaine | O15: =VLOOKUP($N15,$T$4:$W$7,2,0) -> 38 | P15: =VLOOKUP($N15,$T$4:$W$7,3,0) -> 0.31666667 | Q15: =VLOOKUP($N15,$T$4:$W$7,4,0) -> 0
L16: J | M16: 42369 | N16: 38h/semaine | O16: =VLOOKUP($N16,$T$4:$W$7,2,0) -> 38 | P16: =VLOOKUP($N16,$T$4:$W$7,3,0) -> 0.31666667 | Q16: =VLOOKUP($N16,$T$4:$W$7,4,0) -> 0
L17: K | M17: 42369 | N17: 38h/semaine | O17: =VLOOKUP($N17,$T$4:$W$7,2,0) -> 38 | P17: =VLOOKUP($N17,$T$4:$W$7,3,0) -> 0.31666667 | Q17: =VLOOKUP($N17,$T$4:$W$7,4,0) -> 0
L18: L | M18: 42369 | N18: 38h/semaine | O18: =VLOOKUP($N18,$T$4:$W$7,2,0) -> 38 | P18: =VLOOKUP($N18,$T$4:$W$7,3,0) -> 0.31666667 | Q18: =VLOOKUP($N18,$T$4:$W$7,4,0) -> 0
