Workbook

Sheet A
A1: =RECAP!R6 -> 0.25 | B1: Travailleur : | D1: A | F1: Pause : | G1: 0.020833333 | H1: 0.25 | I1: Nbre de jours feriés pour la période concernée | J1: =COUNTA(C3:C67) -> 2 | K1: SI((D3-C3)<$F$1;" ";D3-C3-$E$1) | L1: 30 | N1: =IF(L1=19,J1*RECAP!R7,IF(L1=30,J1*RECAP!R6,IF(L1=30.24,J1*RECAP!R5,IF(L1=38,J1*RECAP!R4,"ERREUR")))) -> 0.5 | O1: =N1/24 -> 0.020833333
B2: Date | C2: Jours feriés | D2: Temps théorique | E2: IN | F2: OUT | G2: Temps presté | H2: Solde journalier | I2: Heures boni/mali cumulées | J2: Heures boni/mali par mois | K2: DA = Horaire autorisé | N2: pointage manquant
A3: =IF(OR(AND(DAY(B3)>=15,DAY(WORKDAY.INTL(B3,-1))<15),AND(MONTH(B3)<>MONTH(WORKDAY.INTL(B3,1)))),"X","") | B3: 43343 | D3: =+$N$6 -> 0.3125 | E3: 0.35416667 | F3: 0.68888889 | G3: =IF(COUNT(E3:F3)<>2,0,F3-E3-(F3-E3>=$H$1)*IF(K3<>"",K3,$G$1)) -> 0.31388889 | H3: =IF(C3="x",$A$1-RECAP!$U$6,(G3-D3)*(COUNT(E3:F3)=2)) -> 0.0013888889 | I3: {=IF($A3="X",SUM(OFFSET($H3,,,IFERROR(_xlfn.AGGREGATE(14,6,ROW($A$1:$A2)/($A$1:$A2="X"),1),2)-ROW(),)),"-")} -> -
A4: =IF(OR(AND(DAY(B4)>=15,DAY(WORKDAY.INTL(B4,-1))<15),AND(MONTH(B4)<>MONTH(WORKDAY.INTL(B4,1)))),"X","") | B4: =B3+CHOOSE(WEEKDAY(B3,2),1,1,1,1,3,2,1) -> 43344 | D4: =+$N$6 -> 0.3125 | E4: 0.35416667 | F4: 0.70277778 | G4: =IF(COUNT(E4:F4)<>2,0,F4-E4-(F4-E4>=$H$1)*IF(K4<>"",K4,$G$1)) -> 0.32777778 | H4: =IF(C4="x",$A$1-RECAP!$U$6,(G4-D4)*(COUNT(E4:F4)=2)) -> 0.015277778 | I4: {=IF($A4="X",SUM(OFFSET($H4,,,IFERROR(_xlfn.AGGREGATE(14,6,ROW($A$1:$A3)/($A$1:$A3="X"),1),2)-ROW(),)),"-")} -> -
A5: =IF(OR(AND(DAY(B5)>=15,DAY(WORKDAY.INTL(B5,-1))<15),AND(MONTH(B5)<>MONTH(WORKDAY.INTL(B5,1)))),"X","") | B5: =B4+CHOOSE(WEEKDAY(B4,2),1,1,1,1,3,2,1) -> 43347 | D5: =+$N$6 -> 0.3125 | E5: 0.35416667 | F5: 0.68958333 | G5: =IF(COUNT(E5:F5)<>2,0,F5-E5-(F5-E5>=$H$1)*IF(K5<>"",K5,$G$1)) -> 0.31458333 | H5: =IF(C5="x",$A$1-RECAP!$U$6,(G5-D5)*(COUNT(E5:F5)=2)) -> 0.0020833333 | I5: {=IF($A5="X",SUM(OFFSET($H5,,,IFERROR(_xlfn.AGGREGATE(14,6,ROW($A$1:$A4)/($A$1:$A4="X"),1),2)-ROW(),)),"-")} -> -
A6: =IF(OR(AND(DAY(B6)>=15,DAY(WORKDAY.INTL(B6,-1))<15),AND(MONTH(B6)<>MONTH(WORKDAY.INTL(B6,1)))),"X","") | B6: =B5+CHOOSE(WEEKDAY(B5,2),1,1,1,1,3,2,1) -> 43348 | D6: =+$N$6 -> 0.3125 | E6: 0.35416667 | F6: 0.6875 | G6: =IF(COUNT(E6:F6)<>2,0,F6-E6-(F6-E6>=$H$1)*IF(K6<>"",K6,$G$1)) -> 0.3125 | H6: =IF(C6="x",$A$1-RECAP!$U$6,(G6-D6)*(COUNT(E6:F6)=2)) -> 0 | I6: {=IF($A6="X",SUM(OFFSET($H6,,,IFERROR(_xlfn.AGGREGATE(14,6,ROW($A$1:$A5)/($A$1:$A5="X"),1),2)-ROW(),)),"-")} -> - | M6: Temps théorique | N6: 0.3125
A7: =IF(OR(AND(DAY(B7)>=15,DAY(WORKDAY.INTL(B7,-1))<15),AND(MONTH(B7)<>MONTH(WORKDAY.INTL(B7,1)))),"X","") | B7: =B6+CHOOSE(WEEKDAY(B6,2),1,1,1,1,3,2,1) -> 43349 | D7: =+$N$6 -> 0.3125 | G7: =IF(COUNT(E7:F7)<>2,0,F7-E7-(F7-E7>=$H$1)*IF(K7<>"",K7,$G$1)) -> 0 | H7: =IF(C7="x",$A$1-RECAP!$U$6,(G7-D7)*(COUNT(E7:F7)=2)) -> 0 | I7: {=IF($A7="X",SUM(OFFSET($H7,,,IFERROR(_xlfn.AGGREGATE(14,6,ROW($A$1:$A6)/($A$1:$A6="X"),1),2)-ROW(),)),"-")} -> - | M7: total boni/mali | N7: =SUM(N9:N12) -> -0.11944444
A8: =IF(OR(AND(DAY(B8)>=15,DAY(WORKDAY.INTL(B8,-1))<15),AND(MONTH(B8)<>MONTH(WORKDAY.INTL(B8,1)))),"X","") | B8: =B7+CHOOSE(WEEKDAY(B7,2),1,1,1,1,3,2,1) -> 43350 | D8: =+$N$6 -> 0.3125 | E8: 0.35416667 | F8: 0.6875 | G8: =IF(COUNT(E8:F8)<>2,0,F8-E8-(F8-E8>=$H$1)*IF(K8<>"",K8,$G$1)) -> 0.3125 | H8: =IF(C8="x",$A$1-RECAP!$U$6,(G8-D8)*(COUNT(E8:F8)=2)) -> 0 | I8: {=IF($A8="X",SUM(OFFSET($H8,,,IFERROR(_xlfn.AGGREGATE(14,6,ROW($A$1:$A7)/($A$1:$A7="X"),1),2)-ROW(),)),"-")} -> - | M8: mois | N8: boni/mali
A9: =IF(OR(AND(DAY(B9)>=15,DAY(WORKDAY.INTL(B9,-1))<15),AND(MONTH(B9)<>MONTH(WORKDAY.INTL(B9,1)))),"X","") | B9: =B8+CHOOSE(WEEKDAY(B8,2),1,1,1,1,3,2,1) -> 43351 | D9: =+$N$6 -> 0.3125 | E9: 0.35416667 | F9: 0.6875 | G9: =IF(COUNT(E9:F9)<>2,0,F9-E9-(F9-E9>=$H$1)*IF(K9<>"",K9,$G$1)) -> 0.3125 | H9: =IF(C9="x",$A$1-RECAP!$U$6,(G9-D9)*(COUNT(E9:F9)=2)) -> 0 | I9: {=IF($A9="X",SUM(OFFSET($H9,,,IFERROR(_xlfn.AGGREGATE(14,6,ROW($A$1:$A8)/($A$1:$A8="X"),1),2)-ROW(),)),"-")} -> - | M9: =B3-DAY(B3)+1 -> 43343 | N9: {=SUMPRODUCT(($H$3:$H$67)*(MONTH($B$3:$B$67)=MONTH($M9)))} -> 0.063888889
A10: =IF(OR(AND(DAY(B10)>=15,DAY(WORKDAY.INTL(B10,-1))<15),AND(MONTH(B10)<>MONTH(WORKDAY.INTL(B10,1)))),"X","") | B10: =B9+CHOOSE(WEEKDAY(B9,2),1,1,1,1,3,2,1) -> 43354 | D10: =+$N$6 -> 0.3125 | E10: 0.35486111 | F10: 0.68819444 | G10: =IF(COUNT(E10:F10)<>2,0,F10-E10-(F10-E10>=$H$1)*IF(K10<>"",K10,$G$1)) -> 0.3125 | H10: =IF(C10="x",$A$1-RECAP!$U$6,(G10-D10)*(COUNT(E10:F10)=2)) -> 0 | I10: {=IF($A10="X",SUM(OFFSET($H10,,,IFERROR(_xlfn.AGGREGATE(14,6,ROW($A$1:$A9)/($A$1:$A9="X"),1),2)-ROW(),)),"-")} -> - | M10: =DATE(YEAR(M9),MONTH(M9)+1,1) -> 43373 | N10: {=SUMPRODUCT(($H$3:$H$67)*(MONTH($B$3:$B$67)=MONTH($M10)))} -> 0.072916667
A11: =IF(OR(AND(DAY(B11)>=15,DAY(WORKDAY.INTL(B11,-1))<15),AND(MONTH(B11)<>MONTH(WORKDAY.INTL(B11,1)))),"X","") | B11: =B10+CHOOSE(WEEKDAY(B10,2),1,1,1,1,3,2,1) -> 43355 | D11: =+$N$6 -> 0.3125 | E11: 0.35416667 | F11: 0.69097222 | G11: =IF(COUNT(E11:F11)<>2,0,F11-E11-(F11-E11>=$H$1)*IF(K11<>"",K11,$G$1)) -> 0.31597222 | H11: =IF(C11="x",$A$1-RECAP!$U$6,(G11-D11)*(COUNT(E11:F11)=2)) -> 0.0034722222 | I11: {=IF($A11="X",SUM(OFFSET($H11,,,IFERROR(_xlfn.AGGREGATE(14,6,ROW($A$1:$A10)/($A$1:$A10="X"),1),2)-ROW(),)),"-")} -> - | M11: =DATE(YEAR(M10),MONTH(M10)+1,1) -> 43404 | N11: {=SUMPRODUCT(($H$3:$H$67)*(MONTH($B$3:$B$67)=MONTH($M11)))} -> -0.25625
A12: =IF(OR(AND(DAY(B12)>=15,DAY(WORKDAY.INTL(B12,-1))<15),AND(MONTH(B12)<>MONTH(WORKDAY.INTL(B12,1)))),"X","") | B12: =B11+CHOOSE(WEEKDAY(B11,2),1,1,1,1,3,2,1) -> 43356 | D12: =+$N$6 -> 0.3125 | G12: =IF(COUNT(E12:F12)<>2,0,F12-E12-(F12-E12>=$H$1)*IF(K12<>"",K12,$G$1)) -> 0 | H12: =IF(C12="x",$A$1-RECAP!$U$6,(G12-D12)*(COUNT(E12:F12)=2)) -> 0 | I12: {=IF($A12="X",SUM(OFFSET($H12,,,IFERROR(_xlfn.AGGREGATE(14,6,ROW($A$1:$A11)/($A$1:$A11="X"),1),2)-ROW(),)),"-")} -> - | M12: =DATE(YEAR(M11),MONTH(M11)+1,1) -> 43434 | N12: {=SUMPRODUCT(($H$3:$H$67)*(MONTH($B$3:$B$67)=MONTH($M12)))} -> 0
A13: =IF(OR(AND(DAY(B13)>=15,DAY(WORKDAY.INTL(B13,-1))<15),AND(MONTH(B13)<>MONTH(WORKDAY.INTL(B13,1)))),"X","") -> X | B13: =B12+CHOOSE(WEEKDAY(B12,2),1,1,1,1,3,2,1) -> 43357 | D13: =+$N$6 -> 0.3125 | E13: 0.35555556 | F13: 0.68958333 | G13: =IF(COUNT(E13:F13)<>2,0,F13-E13-(F13-E13>=$H$1)*IF(K13<>"",K13,$G$1)) -> 0.31319444 | H13: =IF(C13="x",$A$1-RECAP!$U$6,(G13-D13)*(COUNT(E13:F13)=2)) -> 0.00069444444 | I13: {=IF($A13="X",SUM(OFFSET($H13,,,IFERROR(_xlfn.AGGREGATE(14,6,ROW($A$1:$A12)/($A$1:$A12="X"),1),2)-ROW(),)),"-")} -> 0.022916667
A14: =IF(OR(AND(DAY(B14)>=15,DAY(WORKDAY.INTL(B14,-1))<15),AND(MONTH(B14)<>MONTH(WORKDAY.INTL(B14,1)))),"X","") | B14: =B13+CHOOSE(WEEKDAY(B13,2),1,1,1,1,3,2,1) -> 43358 | D14: =+$N$6 -> 0.3125 | E14: 0.35416667 | F14: 0.70902778 | G14: =IF(COUNT(E14:F14)<>2,0,F14-E14-(F14-E14>=$H$1)*IF(K14<>"",K14,$G$1)) -> 0.33402778 | H14: =IF(C14="x",$A$1-RECAP!$U$6,(G14-D14)*(COUNT(E14:F14)=2)) -> 0.021527778 | I14: {=IF($A14="X",SUM(OFFSET($H14,,,IFERROR(_xlfn.AGGREGATE(14,6,ROW($A$1:$A13)/($A$1:$A13="X"),1),2)-ROW(),)),"-")} -> -
A15: =IF(OR(AND(DAY(B15)>=15,DAY(WORKDAY.INTL(B15,-1))<15),AND(MONTH(B15)<>MONTH(WORKDAY.INTL(B15,1)))),"X","") | B15: =B14+CHOOSE(WEEKDAY(B14,2),1,1,1,1,3,2,1) -> 43361 | D15: =+$N$6 -> 0.3125 | E15: 0.36597222 | F15: 0.69861111 | G15: =IF(COUNT(E15:F15)<>2,0,F15-E15-(F15-E15>=$H$1)*IF(K15<>"",K15,$G$1)) -> 0.31180556 | H15: =IF(C15="x",$A$1-RECAP!$U$6,(G15-D15)*(COUNT(E15:F15)=2)) -> -0.00069444444 | I15: {=IF($A15="X",SUM(OFFSET($H15,,,IFERROR(_xlfn.AGGREGATE(14,6,ROW($A$1:$A14)/($A$1:$A14="X"),1),2)-ROW(),)),"-")} -> -
A16: =IF(OR(AND(DAY(B16)>=15,DAY(WORKDAY.INTL(B16,-1))<15),AND(MONTH(B16)<>MONTH(WORKDAY.INTL(B16,1)))),"X","") | B16: =B15+CHOOSE(WEEKDAY(B15,2),1,1,1,1,3,2,1) -> 43362 | D16: =+$N$6 -> 0.3125 | E16: 0.35416667 | F16: 0.68888889 | G16: =IF(COUNT(E16:F16)<>2,0,F16-E16-(F16-E16>=$H$1)*IF(K16<>"",K16,$G$1)) -> 0.31388889 | H16: =IF(C16="x",$A$1-RECAP!$U$6,(G16-D16)*(COUNT(E16:F16)=2)) -> 0.0013888889 | I16: {=IF($A16="X",SUM(OFFSET($H16,,,IFERROR(_xlfn.AGGREGATE(14,6,ROW($A$1:$A15)/($A$1:$A15="X"),1),2)-ROW(),)),"-")} -> -
A17: =IF(OR(AND(DAY(B17)>=15,DAY(WORKDAY.INTL(B17,-1))<15),AND(MONTH(B17)<>MONTH(WORKDAY.INTL(B17,1)))),"X","") | B17: =B16+CHOOSE(WEEKDAY(B16,2),1,1,1,1,3,2,1) -> 43363 | D17: =+$N$6 -> 0.3125 | G17: =IF(COUNT(E17:F17)<>2,0,F17-E17-(F17-E17>=$H$1)*IF(K17<>"",K17,$G$1)) -> 0 | H17: =IF(C17="x",$A$1-RECAP!$U$6,(G17-D17)*(COUNT(E17:F17)=2)) -> 0 | I17: {=IF($A17="X",SUM(OFFSET($H17,,,IFERROR(_xlfn.AGGREGATE(14,6,ROW($A$1:$A16)/($A$1:$A16="X"),1),2)-ROW(),)),"-")} -> -
A18: =IF(OR(AND(DAY(B18)>=15,DAY(WORKDAY.INTL(B18,-1))<15),AND(MONTH(B18)<>MONTH(WORKDAY.INTL(B18,1)))),"X","") | B18: =B17+CHOOSE(WEEKDAY(B17,2),1,1,1,1,3,2,1) -> 43364 | D18: =+$N$6 -> 0.3125 | E18: 0.35416667 | F18: 0.6875 | G18: =IF(COUNT(E18:F18)<>2,0,F18-E18-(F18-E18>=$H$1)*IF(K18<>"",K18,$G$1)) -> 0.3125 | H18: =IF(C18="x",$A$1-RECAP!$U$6,(G18-D18)*(COUNT(E18:F18)=2)) -> 0 | I18: {=IF($A18="X",SUM(OFFSET($H18,,,IFERROR(_xlfn.AGGREGATE(14,6,ROW($A$1:$A17)/($A$1:$A17="X"),1),2)-ROW(),)),"-")} -> - | O18: {=IF(A18="X",IFERROR(_xlfn.AGGREGATE(14,6,ROW($A$1:A17)/($A$1:A17="X"),1),2),"-")} -> -
A19: =IF(OR(AND(DAY(B19)>=15,DAY(WORKDAY.INTL(B19,-1))<15),AND(MONTH(B19)<>MONTH(WORKDAY.INTL(B19,1)))),"X","") | B19: =B18+CHOOSE(WEEKDAY(B18,2),1,1,1,1,3,2,1) -> 43365 | D19: =+$N$6 -> 0.3125 | G19: =IF(COUNT(E19:F19)<>2,0,F19-E19-(F19-E19>=$H$1)*IF(K19<>"",K19,$G$1)) -> 0 | H19: =IF(C19="x",$A$1-RECAP!$U$6,(G19-D19)*(COUNT(E19:F19)=2)) -> 0 | I19: {=IF($A19="X",SUM(OFFSET($H19,,,IFERROR(_xlfn.AGGREGATE(14,6,ROW($A$1:$A18)/($A$1:$A18="X"),1),2)-ROW(),)),"-")} -> - | O19: {=IF(A19="X",IFERROR(_xlfn.AGGREGATE(14,6,ROW($A$1:A18)/($A$1:A18="X"),1),2),"-")} -> -
A20: =IF(OR(AND(DAY(B20)>=15,DAY(WORKDAY.INTL(B20,-1))<15),AND(MONTH(B20)<>MONTH(WORKDAY.INTL(B20,1)))),"X","") | B20: =B19+CHOOSE(WEEKDAY(B19,2),1,1,1,1,3,2,1) -> 43368 | D20: =+$N$6 -> 0.3125 | E20: 0.35486111 | F20: 0.68819444 | G20: =IF(COUNT(E20:F20)<>2,0,F20-E20-(F20-E20>=$H$1)*IF(K20<>"",K20,$G$1)) -> 0.3125 | H20: =IF(C20="x",$A$1-RECAP!$U$6,(G20-D20)*(COUNT(E20:F20)=2)) -> 0 | I20: {=IF($A20="X",SUM(OFFSET($H20,,,IFERROR(_xlfn.AGGREGATE(14,6,ROW($A$1:$A19)/($A$1:$A19="X"),1),2)-ROW(),)),"-")} -> - | O20: {=IF(A20="X",IFERROR(_xlfn.AGGREGATE(14,6,ROW($A$1:A19)/($A$1:A19="X"),1),2),"-")} -> -
A21: =IF(OR(AND(DAY(B21)>=15,DAY(WORKDAY.INTL(B21,-1))<15),AND(MONTH(B21)<>MONTH(WORKDAY.INTL(B21,1)))),"X","") | B21: =B20+CHOOSE(WEEKDAY(B20,2),1,1,1,1,3,2,1) -> 43369 | D21: =+$N$6 -> 0.3125 | E21: 0.35625 | F21: 0.69305556 | G21: =IF(COUNT(E21:F21)<>2,0,F21-E21-(F21-E21>=$H$1)*IF(K21<>"",K21,$G$1)) -> 0.31597222 | H21: =IF(C21="x",$A$1-RECAP!$U$6,(G21-D21)*(COUNT(E21:F21)=2)) -> 0.0034722222 | I21: {=IF($A21="X",SUM(OFFSET($H21,,,IFERROR(_xlfn.AGGREGATE(14,6,ROW($A$1:$A20)/($A$1:$A20="X"),1),2)-ROW(),)),"-")} -> - | O21: {=IF(A21="X",IFERROR(_xlfn.AGGREGATE(14,6,ROW($A$1:A20)/($A$1:A20="X"),1),2),"-")} -> -
A22: =IF(OR(AND(DAY(B22)>=15,DAY(WORKDAY.INTL(B22,-1))<15),AND(MONTH(B22)<>MONTH(WORKDAY.INTL(B22,1)))),"X","") | B22: =B21+CHOOSE(WEEKDAY(B21,2),1,1,1,1,3,2,1) -> 43370 | D22: =+$N$6 -> 0.3125 | G22: =IF(COUNT(E22:F22)<>2,0,F22-E22-(F22-E22>=$H$1)*IF(K22<>"",K22,$G$1)) -> 0 | H22: =IF(C22="x",$A$1-RECAP!$U$6,(G22-D22)*(COUNT(E22:F22)=2)) -> 0 | I22: {=IF($A22="X",SUM(OFFSET($H22,,,IFERROR(_xlfn.AGGREGATE(14,6,ROW($A$1:$A21)/($A$1:$A21="X"),1),2)-ROW(),)),"-")} -> - | O22: {=IF(A22="X",IFERROR(_xlfn.AGGREGATE(14,6,ROW($A$1:A21)/($A$1:A21="X"),1),2),"-")} -> -
A23: =IF(OR(AND(DAY(B23)>=15,DAY(WORKDAY.INTL(B23,-1))<15),AND(MONTH(B23)<>MONTH(WORKDAY.INTL(B23,1)))),"X","") | B23: =B22+CHOOSE(WEEKDAY(B22,2),1,1,1,1,3,2,1) -> 43371 | D23: =+$N$6 -> 0.3125 | E23: 0.35416667 | F23: 0.69861111 | G23: =IF(COUNT(E23:F23)<>2,0,F23-E23-(F23-E23>=$H$1)*IF(K23<>"",K23,$G$1)) -> 0.32361111 | H23: =IF(C23="x",$A$1-RECAP!$U$6,(G23-D23)*(COUNT(E23:F23)=2)) -> 0.011111111 | I23: {=IF($A23="X",SUM(OFFSET($H23,,,IFERROR(_xlfn.AGGREGATE(14,6,ROW($A$1:$A22)/($A$1:$A22="X"),1),2)-ROW(),)),"-")} -> - | O23: {=IF(A23="X",IFERROR(_xlfn.AGGREGATE(14,6,ROW($A$1:A22)/($A$1:A22="X"),1),2),"-")} -> -
A24: =IF(OR(AND(DAY(B24)>=15,DAY(WORKDAY.INTL(B24,-1))<15),AND(MONTH(B24)<>MONTH(WORKDAY.INTL(B24,1)))),"X","") -> X | B24: =B23+CHOOSE(WEEKDAY(B23,2),1,1,1,1,3,2,1) -> 43372 | D24: =+$N$6 -> 0.3125 | E24: 0.35416667 | F24: 0.69166667 | G24: =IF(COUNT(E24:F24)<>2,0,F24-E24-(F24-E24>=$H$1)*IF(K24<>"",K24,$G$1)) -> 0.31666667 | H24: =IF(C24="x",$A$1-RECAP!$U$6,(G24-D24)*(COUNT(E24:F24)=2)) -> 0.0041666667 | I24: {=IF($A24="X",SUM(OFFSET($H24,,,IFERROR(_xlfn.AGGREGATE(14,6,ROW($A$1:$A23)/($A$1:$A23="X"),1),2)-ROW(),)),"-")} -> 0.040972222 | O24: {=IF(A24="X",IFERROR(_xlfn.AGGREGATE(14,6,ROW($A$1:A23)/($A$1:A23="X"),1),2),"-")} -> 13
A25: =IF(OR(AND(DAY(B25)>=15,DAY(WORKDAY.INTL(B25,-1))<15),AND(MONTH(B25)<>MONTH(WORKDAY.INTL(B25,1)))),"X","") | B25: =B24+CHOOSE(WEEKDAY(B24,2),1,1,1,1,3,2,1) -> 43375 | D25: =+$N$6 -> 0.3125 | E25: 0.35416667 | F25: 0.69861111 | G25: =IF(COUNT(E25:F25)<>2,0,F25-E25-(F25-E25>=$H$1)*IF(K25<>"",K25,$G$1)) -> 0.32361111 | H25: =IF(C25="x",$A$1-RECAP!$U$6,(G25-D25)*(COUNT(E25:F25)=2)) -> 0.011111111 | I25: {=IF($A25="X",SUM(OFFSET($H25,,,IFERROR(_xlfn.AGGREGATE(14,6,ROW($A$1:$A24)/($A$1:$A24="X"),1),2)-ROW(),)),"-")} -> - | O25: {=IF(A25="X",IFERROR(_xlfn.AGGREGATE(14,6,ROW($A$1:A24)/($A$1:A24="X"),1),2),"-")} -> -
A26: =IF(OR(AND(DAY(B26)>=15,DAY(WORKDAY.INTL(B26,-1))<15),AND(MONTH(B26)<>MONTH(WORKDAY.INTL(B26,1)))),"X","") | B26: =B25+CHOOSE(WEEKDAY(B25,2),1,1,1,1,3,2,1) -> 43376 | D26: =+$N$6 -> 0.3125 | E26: 0.36736111 | F26: 0.68819444 | G26: =IF(COUNT(E26:F26)<>2,0,F26-E26-(F26-E26>=$H$1)*IF(K26<>"",K26,$G$1)) -> 0.3 | H26: =IF(C26="x",$A$1-RECAP!$U$6,(G26-D26)*(COUNT(E26:F26)=2)) -> -0.0125 | I26: {=IF($A26="X",SUM(OFFSET($H26,,,IFERROR(_xlfn.AGGREGATE(14,6,ROW($A$1:$A25)/($A$1:$A25="X"),1),2)-ROW(),)),"-")} -> -
A27: =IF(OR(AND(DAY(B27)>=15,DAY(WORKDAY.INTL(B27,-1))<15),AND(MONTH(B27)<>MONTH(WORKDAY.INTL(B27,1)))),"X","") | B27: =B26+CHOOSE(WEEKDAY(B26,2),1,1,1,1,3,2,1) -> 43377 | D27: =+$N$6 -> 0.3125 | G27: =IF(COUNT(E27:F27)<>2,0,F27-E27-(F27-E27>=$H$1)*IF(K27<>"",K27,$G$1)) -> 0 | H27: =IF(C27="x",$A$1-RECAP!$U$6,(G27-D27)*(COUNT(E27:F27)=2)) -> 0 | I27: {=IF($A27="X",SUM(OFFSET($H27,,,IFERROR(_xlfn.AGGREGATE(14,6,ROW($A$1:$A26)/($A$1:$A26="X"),1),2)-ROW(),)),"-")} -> -
A28: =IF(OR(AND(DAY(B28)>=15,DAY(WORKDAY.INTL(B28,-1))<15),AND(MONTH(B28)<>MONTH(WORKDAY.INTL(B28,1)))),"X","") | B28: =B27+CHOOSE(WEEKDAY(B27,2),1,1,1,1,3,2,1) -> 43378 | D28: =+$N$6 -> 0.3125 | E28: 0.35416667 | F28: 0.69375 | G28: =IF(COUNT(E28:F28)<>2,0,F28-E28-(F28-E28>=$H$1)*IF(K28<>"",K28,$G$1)) -> 0.31875 | H28: =IF(C28="x",$A$1-RECAP!$U$6,(G28-D28)*(COUNT(E28:F28)=2)) -> 0.00625 | I28: {=IF($A28="X",SUM(OFFSET($H28,,,IFERROR(_xlfn.AGGREGATE(14,6,ROW($A$1:$A27)/($A$1:$A27="X"),1),2)-ROW(),)),"-")} -> -
A29: =IF(OR(AND(DAY(B29)>=15,DAY(WORKDAY.INTL(B29,-1))<15),AND(MONTH(B29)<>MONTH(WORKDAY.INTL(B29,1)))),"X","") | B29: =B28+CHOOSE(WEEKDAY(B28,2),1,1,1,1,3,2,1) -> 43379 | D29: =+$N$6 -> 0.3125 | G29: =IF(COUNT(E29:F29)<>2,0,F29-E29-(F29-E29>=$H$1)*IF(K29<>"",K29,$G$1)) -> 0 | H29: =IF(C29="x",$A$1-RECAP!$U$6,(G29-D29)*(COUNT(E29:F29)=2)) -> 0 | I29: {=IF($A29="X",SUM(OFFSET($H29,,,IFERROR(_xlfn.AGGREGATE(14,6,ROW($A$1:$A28)/($A$1:$A28="X"),1),2)-ROW(),)),"-")} -> -
A30: =IF(OR(AND(DAY(B30)>=15,DAY(WORKDAY.INTL(B30,-1))<15),AND(MONTH(B30)<>MONTH(WORKDAY.INTL(B30,1)))),"X","") | B30: =B29+CHOOSE(WEEKDAY(B29,2),1,1,1,1,3,2,1) -> 43382 | D30: =+$N$6 -> 0.3125 | G30: =IF(COUNT(E30:F30)<>2,0,F30-E30-(F30-E30>=$H$1)*IF(K30<>"",K30,$G$1)) -> 0 | H30: =IF(C30="x",$A$1-RECAP!$U$6,(G30-D30)*(COUNT(E30:F30)=2)) -> 0 | I30: {=IF($A30="X",SUM(OFFSET($H30,,,IFERROR(_xlfn.AGGREGATE(14,6,ROW($A$1:$A29)/($A$1:$A29="X"),1),2)-ROW(),)),"-")} -> -
A31: =IF(OR(AND(DAY(B31)>=15,DAY(WORKDAY.INTL(B31,-1))<15),AND(MONTH(B31)<>MONTH(WORKDAY.INTL(B31,1)))),"X","") | B31: =B30+CHOOSE(WEEKDAY(B30,2),1,1,1,1,3,2,1) -> 43383 | D31: =+$N$6 -> 0.3125 | E31: 0.35416667 | F31: 0.69930556 | G31: =IF(COUNT(E31:F31)<>2,0,F31-E31-(F31-E31>=$H$1)*IF(K31<>"",K31,$G$1)) -> 0.32430556 | H31: =IF(C31="x",$A$1-RECAP!$U$6,(G31-D31)*(COUNT(E31:F31)=2)) -> 0.011805556 | I31: {=IF($A31="X",SUM(OFFSET($H31,,,IFERROR(_xlfn.AGGREGATE(14,6,ROW($A$1:$A30)/($A$1:$A30="X"),1),2)-ROW(),)),"-")} -> -
A32: =IF(OR(AND(DAY(B32)>=15,DAY(WORKDAY.INTL(B32,-1))<15),AND(MONTH(B32)<>MONTH(WORKDAY.INTL(B32,1)))),"X","") | B32: =B31+CHOOSE(WEEKDAY(B31,2),1,1,1,1,3,2,1) -> 43384 | D32: =+$N$6 -> 0.3125 | G32: =IF(COUNT(E32:F32)<>2,0,F32-E32-(F32-E32>=$H$1)*IF(K32<>"",K32,$G$1)) -> 0 | H32: =IF(C32="x",$A$1-RECAP!$U$6,(G32-D32)*(COUNT(E32:F32)=2)) -> 0 | I32: {=IF($A32="X",SUM(OFFSET($H32,,,IFERROR(_xlfn.AGGREGATE(14,6,ROW($A$1:$A31)/($A$1:$A31="X"),1),2)-ROW(),)),"-")} -> -
A33: =IF(OR(AND(DAY(B33)>=15,DAY(WORKDAY.INTL(B33,-1))<15),AND(MONTH(B33)<>MONTH(WORKDAY.INTL(B33,1)))),"X","") | B33: =B32+CHOOSE(WEEKDAY(B32,2),1,1,1,1,3,2,1) -> 43385 | D33: =+$N$6 -> 0.3125 | E33: 0.35555556 | F33: 0.70069444 | G33: =IF(COUNT(E33:F33)<>2,0,F33-E33-(F33-E33>=$H$1)*IF(K33<>"",K33,$G$1)) -> 0.32430556 | H33: =IF(C33="x",$A$1-RECAP!$U$6,(G33-D33)*(COUNT(E33:F33)=2)) -> 0.011805556 | I33: {=IF($A33="X",SUM(OFFSET($H33,,,IFERROR(_xlfn.AGGREGATE(14,6,ROW($A$1:$A32)/($A$1:$A32="X"),1),2)-ROW(),)),"-")} -> -
A34: =IF(OR(AND(DAY(B34)>=15,DAY(WORKDAY.INTL(B34,-1))<15),AND(MONTH(B34)<>MONTH(WORKDAY.INTL(B34,1)))),"X","") | B34: =B33+CHOOSE(WEEKDAY(B33,2),1,1,1,1,3,2,1) -> 43386 | D34: =+$N$6 -> 0.3125 | E34: 0.35416667 | F34: 0.69305556 | G34: =IF(COUNT(E34:F34)<>2,0,F34-E34-(F34-E34>=$H$1)*IF(K34<>"",K34,$G$1)) -> 0.31805556 | H34: =IF(C34="x",$A$1-RECAP!$U$6,(G34-D34)*(COUNT(E34:F34)=2)) -> 0.0055555556 | I34: {=IF($A34="X",SUM(OFFSET($H34,,,IFERROR(_xlfn.AGGREGATE(14,6,ROW($A$1:$A33)/($A$1:$A33="X"),1),2)-ROW(),)),"-")} -> -
A35: =IF(OR(AND(DAY(B35)>=15,DAY(WORKDAY.INTL(B35,-1))<15),AND(MONTH(B35)<>MONTH(WORKDAY.INTL(B35,1)))),"X","") -> X | B35: =B34+CHOOSE(WEEKDAY(B34,2),1,1,1,1,3,2,1) -> 43389 | D35: =+$N$6 -> 0.3125 | E35: 0.38055556 | F35: 0.68819444 | G35: =IF(COUNT(E35:F35)<>2,0,F35-E35-(F35-E35>=$H$1)*IF(K35<>"",K35,$G$1)) -> 0.28680556 | H35: =IF(C35="x",$A$1-RECAP!$U$6,(G35-D35)*(COUNT(E35:F35)=2)) -> -0.025694444 | I35: {=IF($A35="X",SUM(OFFSET($H35,,,IFERROR(_xlfn.AGGREGATE(14,6,ROW($A$1:$A34)/($A$1:$A34="X"),1),2)-ROW(),)),"-")} -> 0.0083333333
A36: =IF(OR(AND(DAY(B36)>=15,DAY(WORKDAY.INTL(B36,-1))<15),AND(MONTH(B36)<>MONTH(WORKDAY.INTL(B36,1)))),"X","") | B36: =B35+CHOOSE(WEEKDAY(B35,2),1,1,1,1,3,2,1) -> 43390 | D36: =+$N$6 -> 0.3125 | E36: 0.37083333 | F36: 0.69722222 | G36: =IF(COUNT(E36:F36)<>2,0,F36-E36-(F36-E36>=$H$1)*IF(K36<>"",K36,$G$1)) -> 0.30555556 | H36: =IF(C36="x",$A$1-RECAP!$U$6,(G36-D36)*(COUNT(E36:F36)=2)) -> -0.0069444444 | I36: {=IF($A36="X",SUM(OFFSET($H36,,,IFERROR(_xlfn.AGGREGATE(14,6,ROW($A$1:$A35)/($A$1:$A35="X"),1),2)-ROW(),)),"-")} -> -
A37: =IF(OR(AND(DAY(B37)>=15,DAY(WORKDAY.INTL(B37,-1))<15),AND(MONTH(B37)<>MONTH(WORKDAY.INTL(B37,1)))),"X","") | B37: =B36+CHOOSE(WEEKDAY(B36,2),1,1,1,1,3,2,1) -> 43391 | D37: =+$N$6 -> 0.3125 | G37: =IF(COUNT(E37:F37)<>2,0,F37-E37-(F37-E37>=$H$1)*IF(K37<>"",K37,$G$1)) -> 0 | H37: =IF(C37="x",$A$1-RECAP!$U$6,(G37-D37)*(COUNT(E37:F37)=2)) -> 0 | I37: {=IF($A37="X",SUM(OFFSET($H37,,,IFERROR(_xlfn.AGGREGATE(14,6,ROW($A$1:$A36)/($A$1:$A36="X"),1),2)-ROW(),)),"-")} -> -
A38: =IF(OR(AND(DAY(B38)>=15,DAY(WORKDAY.INTL(B38,-1))<15),AND(MONTH(B38)<>MONTH(WORKDAY.INTL(B38,1)))),"X","") | B38: =B37+CHOOSE(WEEKDAY(B37,2),1,1,1,1,3,2,1) -> 43392 | D38: =+$N$6 -> 0.3125 | E38: 0.35416667 | F38: 0.71180556 | G38: =IF(COUNT(E38:F38)<>2,0,F38-E38-(F38-E38>=$H$1)*IF(K38<>"",K38,$G$1)) -> 0.33680556 | H38: =IF(C38="x",$A$1-RECAP!$U$6,(G38-D38)*(COUNT(E38:F38)=2)) -> 0.024305556 | I38: {=IF($A38="X",SUM(OFFSET($H38,,,IFERROR(_xlfn.AGGREGATE(14,6,ROW($A$1:$A37)/($A$1:$A37="X"),1),2)-ROW(),)),"-")} -> -
A39: =IF(OR(AND(DAY(B39)>=15,DAY(WORKDAY.INTL(B39,-1))<15),AND(MONTH(B39)<>MONTH(WORKDAY.INTL(B39,1)))),"X","") | B39: =B38+CHOOSE(WEEKDAY(B38,2),1,1,1,1,3,2,1) -> 43393 | D39: =+$N$6 -> 0.3125 | E39: 0.35416667 | F39: 0.70208333 | G39: =IF(COUNT(E39:F39)<>2,0,F39-E39-(F39-E39>=$H$1)*IF(K39<>"",K39,$G$1)) -> 0.32708333 | H39: =IF(C39="x",$A$1-RECAP!$U$6,(G39-D39)*(COUNT(E39:F39)=2)) -> 0.014583333 | I39: {=IF($A39="X",SUM(OFFSET($H39,,,IFERROR(_xlfn.AGGREGATE(14,6,ROW($A$1:$A38)/($A$1:$A38="X"),1),2)-ROW(),)),"-")} -> -
A40: =IF(OR(AND(DAY(B40)>=15,DAY(WORKDAY.INTL(B40,-1))<15),AND(MONTH(B40)<>MONTH(WORKDAY.INTL(B40,1)))),"X","") | B40: =B39+CHOOSE(WEEKDAY(B39,2),1,1,1,1,3,2,1) -> 43396 | D40: =+$N$6 -> 0.3125 | E40: 0.35416667 | F40: 0.70277778 | G40: =IF(COUNT(E40:F40)<>2,0,F40-E40-(F40-E40>=$H$1)*IF(K40<>"",K40,$G$1)) -> 0.32777778 | H40: =IF(C40="x",$A$1-RECAP!$U$6,(G40-D40)*(COUNT(E40:F40)=2)) -> 0.015277778 | I40: {=IF($A40="X",SUM(OFFSET($H40,,,IFERROR(_xlfn.AGGREGATE(14,6,ROW($A$1:$A39)/($A$1:$A39="X"),1),2)-ROW(),)),"-")} -> -
...

Sheet B
A1: =RECAP!R4 -> 0.31666667 | B1: Travailleur : | D1: B | F1: Pause : | G1: 0.020833333 | H1: 0.25 | I1: Nbre de jours feriés pour la période concernée | J1: =COUNTA(C3:C67) -> 3 | K1: SI((D3-C3)<$F$1;" ";D3-C3-$E$1) | L1: 38 | N1: =IF(L1=19,J1*RECAP!R7,IF(L1=30,J1*RECAP!R6,IF(L1=30.24,J1*RECAP!R5,IF(L1=38,J1*RECAP!R4,"ERREUR")))) -> 0.95 | O1: =N1/24 -> 0.039583333
B2: Date | C2: Jours feriés | D2: Temps théorique | E2: IN | F2: OUT | G2: Temps presté | H2: Solde journalier | I2: Heures boni/mali cumulées | J2: Heures boni/mali par mois | K2: DA = Horaire autorisé | N2: pointage manquant | Q2: G = garde
B3: 43343 | D3: 0 | G3: =IF(E3=""," ",IF((F3-E3)<$H$1,F3-E3,IF(K3="",F3-E3-$G$1,F3-E3-K3))) | H3: =IF(AND(C3="x",E3=""),($A$1-RECAP!$U$4),IF(G3=" "," ",(G3-D3))) | J3: 43343
B4: 43344 | D4: 0 | G4: =IF(E4=""," ",IF((F4-E4)<$H$1,F4-E4,IF(K4="",F4-E4-$G$1,F4-E4-K4))) | H4: =IF(AND(C4="x",E4=""),($A$1-RECAP!$U$4),IF(G4=" "," ",(G4-D4)))
B5: 43347 | D5: 0 | G5: =IF(E5=""," ",IF((F5-E5)<$H$1,F5-E5,IF(K5="",F5-E5-$G$1,F5-E5-K5))) | H5: =IF(AND(C5="x",E5=""),($A$1-RECAP!$U$4),IF(G5=" "," ",(G5-D5))) | J5: =SUM(H3:H24) -> 0.03125
B6: 43348 | D6: 0.31666667 | E6: 0.37430556 | F6: 0.7 | G6: =IF(E6=""," ",IF((F6-E6)<$H$1,F6-E6,IF(K6="",F6-E6-$G$1,F6-E6-K6))) -> 0.30486111 | H6: =IF(AND(C6="x",E6=""),($A$1-RECAP!$U$4),IF(G6=" "," ",(G6-D6))) -> -0.011805556 | L6: =IF(L1=38,J48+(RECAP!S4*-1*J1),IF(L1=30.24,J48+(RECAP!S5*-1*J1),IF(L1=30,J48+(RECAP!S6*-1*J1),IF(L1=19,J48+(RECAP!S7*-1*J1),"ERREUR")))) -> 0.023611111
B7: 43349 | D7: 0.31666667 | E7: 0.35694444 | F7: 0.69166667 | G7: =IF(E7=""," ",IF((F7-E7)<$H$1,F7-E7,IF(K7="",F7-E7-$G$1,F7-E7-K7))) -> 0.31388889 | H7: =IF(AND(C7="x",E7=""),($A$1-RECAP!$U$4),IF(G7=" "," ",(G7-D7))) -> -0.0027777778
B8: 43350 | D8: 0.31666667 | E8: 0.35416667 | F8: 0.69166667 | G8: =IF(E8=""," ",IF((F8-E8)<$H$1,F8-E8,IF(K8="",F8-E8-$G$1,F8-E8-K8))) -> 0.31666667 | H8: =IF(AND(C8="x",E8=""),($A$1-RECAP!$U$4),IF(G8=" "," ",(G8-D8))) -> -2.220446e-16
B9: 43351 | D9: 0.31666667 | E9: 0.35902778 | F9: 0.70625 | G9: =IF(E9=""," ",IF((F9-E9)<$H$1,F9-E9,IF(K9="",F9-E9-$G$1,F9-E9-K9))) -> 0.32638889 | H9: =IF(AND(C9="x",E9=""),($A$1-RECAP!$U$4),IF(G9=" "," ",(G9-D9))) -> 0.0097222222
B10: 43354 | D10: 0.31666667 | E10: 0.36180556 | F10: 0.70277778 | G10: =IF(E10=""," ",IF((F10-E10)<$H$1,F10-E10,IF(K10="",F10-E10-$G$1,F10-E10-K10))) -> 0.32013889 | H10: =IF(AND(C10="x",E10=""),($A$1-RECAP!$U$4),IF(G10=" "," ",(G10-D10))) -> 0.0034722222
B11: 43355 | D11: 0.31666667 | E11: 0.35902778 | F11: 0.69236111 | G11: =IF(E11=""," ",IF((F11-E11)<$H$1,F11-E11,IF(K11="",F11-E11-$G$1,F11-E11-K11))) -> 0.3125 | H11: =IF(AND(C11="x",E11=""),($A$1-RECAP!$U$4),IF(G11=" "," ",(G11-D11))) -> -0.0041666667
B12: 43356 | D12: 0.31666667 | E12: 0.36944444 | F12: 0.70555556 | G12: =IF(E12=""," ",IF((F12-E12)<$H$1,F12-E12,IF(K12="",F12-E12-$G$1,F12-E12-K12))) -> 0.31527778 | H12: =IF(AND(C12="x",E12=""),($A$1-RECAP!$U$4),IF(G12=" "," ",(G12-D12))) -> -0.0013888889
B13: 43357 | D13: 0.16666667 | E13: 0.52152778 | F13: 0.69513889 | G13: =IF(E13=""," ",IF((F13-E13)<$H$1,F13-E13,IF(K13="",F13-E13-$G$1,F13-E13-K13))) -> 0.17361111 | H13: =IF(AND(C13="x",E13=""),($A$1-RECAP!$U$4),IF(G13=" "," ",(G13-D13))) -> 0.0069444444 | I13: =SUM(H3:H13) -> -1.5265567e-15
B14: 43358 | D14: 0.31666667 | E14: 0.36319444 | F14: 0.70625 | G14: =IF(E14=""," ",IF((F14-E14)<$H$1,F14-E14,IF(K14="",F14-E14-$G$1,F14-E14-K14))) -> 0.32222222 | H14: =IF(AND(C14="x",E14=""),($A$1-RECAP!$U$4),IF(G14=" "," ",(G14-D14))) -> 0.0055555556
B15: 43361 | D15: 0.31666667 | E15: 0.35416667 | F15: 0.70972222 | G15: =IF(E15=""," ",IF((F15-E15)<$H$1,F15-E15,IF(K15="",F15-E15-$G$1,F15-E15-K15))) -> 0.33472222 | H15: =IF(AND(C15="x",E15=""),($A$1-RECAP!$U$4),IF(G15=" "," ",(G15-D15))) -> 0.018055556
B16: 43362 | D16: 0.31666667 | E16: 0.36944444 | F16: 0.69722222 | G16: =IF(E16=""," ",IF((F16-E16)<$H$1,F16-E16,IF(K16="",F16-E16-$G$1,F16-E16-K16))) -> 0.30694444 | H16: =IF(AND(C16="x",E16=""),($A$1-RECAP!$U$4),IF(G16=" "," ",(G16-D16))) -> -0.0097222222
B17: 43363 | D17: 0.31666667 | E17: 0.36111111 | F17: 0.69166667 | G17: =IF(E17=""," ",IF((F17-E17)<$H$1,F17-E17,IF(K17="",F17-E17-$G$1,F17-E17-K17))) -> 0.30972222 | H17: =IF(AND(C17="x",E17=""),($A$1-RECAP!$U$4),IF(G17=" "," ",(G17-D17))) -> -0.0069444444
B18: 43364 | D18: 0.31666667 | E18: 0.37013889 | F18: 0.71041667 | G18: =IF(E18=""," ",IF((F18-E18)<$H$1,F18-E18,IF(K18="",F18-E18-$G$1,F18-E18-K18))) -> 0.31944444 | H18: =IF(AND(C18="x",E18=""),($A$1-RECAP!$U$4),IF(G18=" "," ",(G18-D18))) -> 0.0027777778
B19: 43365 | D19: 0.31666667 | E19: 0.35416667 | F19: 0.7125 | G19: =IF(E19=""," ",IF((F19-E19)<$H$1,F19-E19,IF(K19="",F19-E19-$G$1,F19-E19-K19))) -> 0.3375 | H19: =IF(AND(C19="x",E19=""),($A$1-RECAP!$U$4),IF(G19=" "," ",(G19-D19))) -> 0.020833333
B20: 43368 | D20: 0.31666667 | E20: 0.35902778 | F20: 0.69652778 | G20: =IF(E20=""," ",IF((F20-E20)<$H$1,F20-E20,IF(K20="",F20-E20-$G$1,F20-E20-K20))) -> 0.31666667 | H20: =IF(AND(C20="x",E20=""),($A$1-RECAP!$U$4),IF(G20=" "," ",(G20-D20))) -> -3.3306691e-16
B21: 43369 | C21: x | D21: 0.31666667 | E21: 0.35416667 | F21: 0.69652778 | G21: =IF(E21=""," ",IF((F21-E21)<$H$1,F21-E21,IF(K21="",F21-E21-$G$1,F21-E21-K21))) -> 0.32152778 | H21: =IF(AND(C21="x",E21=""),($A$1-RECAP!$U$4),IF(G21=" "," ",(G21-D21)))+M21 -> 0.0048611111
B22: 43370 | D22: 0.31666667 | E22: 0.35416667 | F22: 0.69513889 | G22: =IF(E22=""," ",IF((F22-E22)<$H$1,F22-E22,IF(K22="",F22-E22-$G$1,F22-E22-K22))) -> 0.29930556 | H22: =IF(AND(C22="x",E22=""),($A$1-RECAP!$U$4),IF(G22=" "," ",(G22-D22))) -> -0.017361111 | K22: 0.041666667
B23: 43371 | D23: 0.16666667 | E23: 0.52777778 | F23: 0.7125 | G23: =IF(E23=""," ",IF((F23-E23)<$H$1,F23-E23,IF(K23="",F23-E23-$G$1,F23-E23-K23))) -> 0.18472222 | H23: =IF(AND(C23="x",E23=""),($A$1-RECAP!$U$4),IF(G23=" "," ",(G23-D23))) -> 0.018055556
B24: 43372 | D24: 0.31666667 | E24: 0.36458333 | F24: 0.69722222 | G24: =IF(E24=""," ",IF((F24-E24)<$H$1,F24-E24,IF(K24="",F24-E24-$G$1,F24-E24-K24))) -> 0.31180556 | H24: =IF(AND(C24="x",E24=""),($A$1-RECAP!$U$4),IF(G24=" "," ",(G24-D24))) -> -0.0048611111 | I24: =SUM(H14:H24) -> 0.03125
B25: 43375 | D25: 0.31666667 | E25: 0.36875 | F25: 0.7125 | G25: =IF(E25=""," ",IF((F25-E25)<$H$1,F25-E25,IF(K25="",F25-E25-$G$1,F25-E25-K25))) -> 0.32291667 | H25: =IF(AND(C25="x",E25=""),($A$1-RECAP!$U$4),IF(G25=" "," ",(G25-D25))) -> 0.00625 | J25: 43373
B26: 43376 | D26: 0.31666667 | E26: 0.35416667 | F26: 0.71111111 | G26: =IF(E26=""," ",IF((F26-E26)<$H$1,F26-E26,IF(K26="",F26-E26-$G$1,F26-E26-K26))) -> 0.33611111 | H26: =IF(AND(C26="x",E26=""),($A$1-RECAP!$U$4),IF(G26=" "," ",(G26-D26))) -> 0.019444444
B27: 43377 | D27: 0.31666667 | E27: 0.35972222 | F27: 0.7125 | G27: =IF(E27=""," ",IF((F27-E27)<$H$1,F27-E27,IF(K27="",F27-E27-$G$1,F27-E27-K27))) -> 0.33194444 | H27: =IF(AND(C27="x",E27=""),($A$1-RECAP!$U$4),IF(G27=" "," ",(G27-D27))) -> 0.015277778 | J27: =SUM(H25:H45)+J5 -> 0.032638889
B28: 43378 | D28: 0.31666667 | E28: 0.35416667 | F28: 0.70555556 | G28: =IF(E28=""," ",IF((F28-E28)<$H$1,F28-E28,IF(K28="",F28-E28-$G$1,F28-E28-K28))) -> 0.33055556 | H28: =IF(AND(C28="x",E28=""),($A$1-RECAP!$U$4),IF(G28=" "," ",(G28-D28))) -> 0.013888889
B29: 43379 | D29: 0.31666667 | E29: 0.36388889 | F29: 0.70902778 | G29: =IF(E29=""," ",IF((F29-E29)<$H$1,F29-E29,IF(K29="",F29-E29-$G$1,F29-E29-K29))) -> 0.32430556 | H29: =IF(AND(C29="x",E29=""),($A$1-RECAP!$U$4),IF(G29=" "," ",(G29-D29))) -> 0.0076388889
B30: 43382 | D30: 0.31666667 | E30: 0.36458333 | F30: 0.69513889 | G30: =IF(E30=""," ",IF((F30-E30)<$H$1,F30-E30,IF(K30="",F30-E30-$G$1,F30-E30-K30))) -> 0.30972222 | H30: =IF(AND(C30="x",E30=""),($A$1-RECAP!$U$4),IF(G30=" "," ",(G30-D30))) -> -0.0069444444
B31: 43383 | D31: 0.31666667 | E31: 0.36597222 | F31: 0.70347222 | G31: =IF(E31=""," ",IF((F31-E31)<$H$1,F31-E31,IF(K31="",F31-E31-$G$1,F31-E31-K31))) -> 0.31666667 | H31: =IF(AND(C31="x",E31=""),($A$1-RECAP!$U$4),IF(G31=" "," ",(G31-D31))) -> -3.3306691e-16
B32: 43384 | D32: 0.31666667 | E32: 0.36597222 | F32: 0.70069444 | G32: =IF(E32=""," ",IF((F32-E32)<$H$1,F32-E32,IF(K32="",F32-E32-$G$1,F32-E32-K32))) -> 0.31388889 | H32: =IF(AND(C32="x",E32=""),($A$1-RECAP!$U$4),IF(G32=" "," ",(G32-D32))) -> -0.0027777778
B33: 43385 | D33: 0.31666667 | E33: 0.35694444 | F33: 0.69236111 | G33: =IF(E33=""," ",IF((F33-E33)<$H$1,F33-E33,IF(K33="",F33-E33-$G$1,F33-E33-K33))) -> 0.31458333 | H33: =IF(AND(C33="x",E33=""),($A$1-RECAP!$U$4),IF(G33=" "," ",(G33-D33))) -> -0.0020833333
B34: 43386 | D34: 0.31666667 | E34: 0.35625 | F34: 0.66666667 | G34: =IF(E34=""," ",IF((F34-E34)<$H$1,F34-E34,IF(K34="",F34-E34-$G$1,F34-E34-K34))) -> 0.28958333 | H34: =IF(AND(C34="x",E34=""),($A$1-RECAP!$U$4),IF(G34=" "," ",(G34-D34))) -> -0.027083333
B35: 43389 | D35: 0.31666667 | E35: 0.36875 | F35: 0.69444444 | G35: =IF(E35=""," ",IF((F35-E35)<$H$1,F35-E35,IF(K35="",F35-E35-$G$1,F35-E35-K35))) -> 0.30486111 | H35: =IF(AND(C35="x",E35=""),($A$1-RECAP!$U$4),IF(G35=" "," ",(G35-D35))) -> -0.011805556 | I35: =SUM(H25:H35) -> 0.011805556
B36: 43390 | D36: 0.31666667 | E36: 0.36388889 | F36: 0.69583333 | G36: =IF(E36=""," ",IF((F36-E36)<$H$1,F36-E36,IF(K36="",F36-E36-$G$1,F36-E36-K36))) -> 0.31111111 | H36: =IF(AND(C36="x",E36=""),($A$1-RECAP!$U$4),IF(G36=" "," ",(G36-D36))) -> -0.0055555556
B37: 43391 | D37: 0.31666667 | E37: 0.35833333 | F37: 0.70694444 | G37: =IF(E37=""," ",IF((F37-E37)<$H$1,F37-E37,IF(K37="",F37-E37-$G$1,F37-E37-K37))) -> 0.32777778 | H37: =IF(AND(C37="x",E37=""),($A$1-RECAP!$U$4),IF(G37=" "," ",(G37-D37))) -> 0.011111111
B38: 43392 | D38: 0.31666667 | E38: 0.35833333 | F38: 0.69166667 | G38: =IF(E38=""," ",IF((F38-E38)<$H$1,F38-E38,IF(K38="",F38-E38-$G$1,F38-E38-K38))) -> 0.3125 | H38: =IF(AND(C38="x",E38=""),($A$1-RECAP!$U$4),IF(G38=" "," ",(G38-D38))) -> -0.0041666667
B39: 43393 | D39: 0.31666667 | E39: 0.37708333 | F39: 0.69513889 | G39: =IF(E39=""," ",IF((F39-E39)<$H$1,F39-E39,IF(K39="",F39-E39-$G$1,F39-E39-K39))) -> 0.29722222 | H39: =IF(AND(C39="x",E39=""),($A$1-RECAP!$U$4),IF(G39=" "," ",(G39-D39))) -> -0.019444444
B40: 43396 | D40: 0.31666667 | E40: 0.36527778 | F40: 0.69166667 | G40: =IF(E40=""," ",IF((F40-E40)<$H$1,F40-E40,IF(K40="",F40-E40-$G$1,F40-E40-K40))) -> 0.30555556 | H40: =IF(AND(C40="x",E40=""),($A$1-RECAP!$U$4),IF(G40=" "," ",(G40-D40))) -> -0.011111111
...

Sheet C
A1: =RECAP!R7 -> 0.15833333 | B1: Travailleur : | D1: C | F1: Pause : | G1: 0.020833333 | H1: 0.25 | I1: Nbre de jours feriés pour la période concernée | J1: =COUNTA(C3:C67) -> 4 | K1: SI((D3-C3)<$F$1;" ";D3-C3-$E$1) | L1: 19 | N1: =IF(L1=19,J1*RECAP!R7,IF(L1=30,J1*RECAP!R6,IF(L1=30.24,J1*RECAP!R5,IF(L1=38,J1*RECAP!R4,"ERREUR")))) -> 0.63333333 | O1: =N1/24 -> 0.026388889
B2: Date | C2: Jours feriés | D2: Temps théorique | E2: IN | F2: OUT | G2: Temps presté | H2: Solde journalier | I2: Heures boni/mali cumulées | J2: Heures boni/mali par mois | K2: DA = Horaire autorisé | N2: pointage manquant | Q2: G = garde
B3: 43343 | D3: 0 | G3: =IF(E3=""," ",IF((F3-E3)<$H$1,F3-E3,IF(K3="",F3-E3-$G$1,F3-E3-K3))) | H3: =IF(AND(C3="x",E3=""),($A$1-RECAP!$U$7),IF(G3=" "," ",(G3-D3))) | J3: 43343
B4: 43344 | D4: 0 | G4: =IF(E4=""," ",IF((F4-E4)<$H$1,F4-E4,IF(K4="",F4-E4-$G$1,F4-E4-K4))) | H4: =IF(AND(C4="x",E4=""),($A$1-RECAP!$U$7),IF(G4=" "," ",(G4-D4)))
B5: 43347 | D5: 0 | G5: =IF(E5=""," ",IF((F5-E5)<$H$1,F5-E5,IF(K5="",F5-E5-$G$1,F5-E5-K5))) | H5: =IF(AND(C5="x",E5=""),($A$1-RECAP!$U$7),IF(G5=" "," ",(G5-D5))) | J5: =SUM(H3:H24) -> 0.23611111
B6: 43348 | D6: 0 | G6: =IF(E6=""," ",IF((F6-E6)<$H$1,F6-E6,IF(K6="",F6-E6-$G$1,F6-E6-K6))) | H6: =IF(AND(C6="x",E6=""),($A$1-RECAP!$U$7),IF(G6=" "," ",(G6-D6))) | L6: =IF(L1=38,J48+(RECAP!S4*-1*J1),IF(L1=30.24,J48+(RECAP!S5*-1*J1),IF(L1=30,J48+(RECAP!S6*-1*J1),IF(L1=19,J48+(RECAP!S7*-1*J1),"ERREUR")))) -> -0.14305556
B7: 43349 | D7: 0.16666667 | E7: 0.375 | F7: 0.55694444 | G7: =IF(E7=""," ",IF((F7-E7)<$H$1,F7-E7,IF(K7="",F7-E7-$G$1,F7-E7-K7))) -> 0.18194444 | H7: =IF(AND(C7="x",E7=""),($A$1-RECAP!$U$7),IF(G7=" "," ",(G7-D7))) -> 0.015277778
B8: 43350 | D8: 0.13541667 | E8: 0.57430556 | F8: 0.7125 | G8: =IF(E8=""," ",IF((F8-E8)<$H$1,F8-E8,IF(K8="",F8-E8-$G$1,F8-E8-K8))) -> 0.13819444 | H8: =IF(AND(C8="x",E8=""),($A$1-RECAP!$U$7),IF(G8=" "," ",(G8-D8))) -> 0.0027777778
B9: 43351 | D9: 0.31666667 | E9: 0.375 | F9: 0.70972222 | G9: =IF(E9=""," ",IF((F9-E9)<$H$1,F9-E9,IF(K9="",F9-E9-$G$1,F9-E9-K9))) -> 0.31388889 | H9: =IF(AND(C9="x",E9=""),($A$1-RECAP!$U$7),IF(G9=" "," ",(G9-D9))) -> -0.0027777778
B10: 43354 | D10: 0 | G10: =IF(E10=""," ",IF((F10-E10)<$H$1,F10-E10,IF(K10="",F10-E10-$G$1,F10-E10-K10))) | H10: =IF(AND(C10="x",E10=""),($A$1-RECAP!$U$7),IF(G10=" "," ",(G10-D10)))
B11: 43355 | D11: 0 | G11: =IF(E11=""," ",IF((F11-E11)<$H$1,F11-E11,IF(K11="",F11-E11-$G$1,F11-E11-K11))) | H11: =IF(AND(C11="x",E11=""),($A$1-RECAP!$U$7),IF(G11=" "," ",(G11-D11)))
B12: 43356 | D12: 0.16666667 | E12: 0.375 | F12: 0.54861111 | G12: =IF(E12=""," ",IF((F12-E12)<$H$1,F12-E12,IF(K12="",F12-E12-$G$1,F12-E12-K12))) -> 0.17361111 | H12: =IF(AND(C12="x",E12=""),($A$1-RECAP!$U$7),IF(G12=" "," ",(G12-D12))) -> 0.0069444444
B13: 43357 | D13: 0.31666667 | E13: 0.39027778 | F13: 0.71111111 | G13: =IF(E13=""," ",IF((F13-E13)<$H$1,F13-E13,IF(K13="",F13-E13-$G$1,F13-E13-K13))) -> 0.3 | H13: =IF(AND(C13="x",E13=""),($A$1-RECAP!$U$7),IF(G13=" "," ",(G13-D13))) -> -0.016666667 | I13: =SUM(H3:H13) -> 0.0055555556
B14: 43358 | D14: 0.31666667 | E14: 0.375 | F14: 0.71041667 | G14: =IF(E14=""," ",IF((F14-E14)<$H$1,F14-E14,IF(K14="",F14-E14-$G$1,F14-E14-K14))) -> 0.31458333 | H14: =IF(AND(C14="x",E14=""),($A$1-RECAP!$U$7),IF(G14=" "," ",(G14-D14))) -> -0.0020833333
B15: 43361 | D15: 0 | G15: =IF(E15=""," ",IF((F15-E15)<$H$1,F15-E15,IF(K15="",F15-E15-$G$1,F15-E15-K15))) | H15: =IF(AND(C15="x",E15=""),($A$1-RECAP!$U$7),IF(G15=" "," ",(G15-D15)))
B16: 43362 | E16: 0.54166667 | F16: 0.62013889 | G16: =IF(E16=""," ",IF((F16-E16)<$H$1,F16-E16,IF(K16="",F16-E16-$G$1,F16-E16-K16))) -> 0.078472222 | H16: =IF(AND(C16="x",E16=""),($A$1-RECAP!$U$7),IF(G16=" "," ",(G16-D16))) -> 0.078472222
B17: 43363 | D17: 0 | G17: =IF(E17=""," ",IF((F17-E17)<$H$1,F17-E17,IF(K17="",F17-E17-$G$1,F17-E17-K17))) | H17: =IF(AND(C17="x",E17=""),($A$1-RECAP!$U$7),IF(G17=" "," ",(G17-D17)))
B18: 43364 | D18: 0.31666667 | E18: 0.37708333 | F18: 0.7125 | G18: =IF(E18=""," ",IF((F18-E18)<$H$1,F18-E18,IF(K18="",F18-E18-$G$1,F18-E18-K18))) -> 0.31458333 | H18: =IF(AND(C18="x",E18=""),($A$1-RECAP!$U$7),IF(G18=" "," ",(G18-D18))) -> -0.0020833333
B19: 43365 | D19: 0.31666667 | E19: 0.375 | F19: 0.70902778 | G19: =IF(E19=""," ",IF((F19-E19)<$H$1,F19-E19,IF(K19="",F19-E19-$G$1,F19-E19-K19))) -> 0.31319444 | H19: =IF(AND(C19="x",E19=""),($A$1-RECAP!$U$7),IF(G19=" "," ",(G19-D19))) -> -0.0034722222
B20: 43368 | D20: 0 | G20: =IF(E20=""," ",IF((F20-E20)<$H$1,F20-E20,IF(K20="",F20-E20-$G$1,F20-E20-K20))) | H20: =IF(AND(C20="x",E20=""),($A$1-RECAP!$U$7),IF(G20=" "," ",(G20-D20)))
B21: 43369 | C21: x | D21: 0 | G21: =IF(E21=""," ",IF((F21-E21)<$H$1,F21-E21,IF(K21="",F21-E21-$G$1,F21-E21-K21))) | H21: 0.15833333
B22: 43370 | D22: 0.16666667 | E22: 0.375 | F22: 0.54305556 | G22: =IF(E22=""," ",IF((F22-E22)<$H$1,F22-E22,IF(K22="",F22-E22-$G$1,F22-E22-K22))) -> 0.16805556 | H22: =IF(AND(C22="x",E22=""),($A$1-RECAP!$U$7),IF(G22=" "," ",(G22-D22))) -> 0.0013888889
B23: 43371 | D23: 0.31666667 | E23: 0.375 | F23: 0.7125 | G23: =IF(E23=""," ",IF((F23-E23)<$H$1,F23-E23,IF(K23="",F23-E23-$G$1,F23-E23-K23))) -> 0.31666667 | H23: =IF(AND(C23="x",E23=""),($A$1-RECAP!$U$7),IF(G23=" "," ",(G23-D23))) -> 5.5511151e-17
B24: 43372 | D24: 0.31666667 | E24: 0.375 | F24: 0.7125 | G24: =IF(E24=""," ",IF((F24-E24)<$H$1,F24-E24,IF(K24="",F24-E24-$G$1,F24-E24-K24))) -> 0.31666667 | H24: =IF(AND(C24="x",E24=""),($A$1-RECAP!$U$7),IF(G24=" "," ",(G24-D24))) -> 5.5511151e-17 | I24: =SUM(H14:H24) -> 0.23055556
B25: 43375 | D25: 0 | G25: =IF(E25=""," ",IF((F25-E25)<$H$1,F25-E25,IF(K25="",F25-E25-$G$1,F25-E25-K25))) | H25: 0.3125 | J25: 43373
B26: 43376 | D26: 0 | G26: =IF(E26=""," ",IF((F26-E26)<$H$1,F26-E26,IF(K26="",F26-E26-$G$1,F26-E26-K26))) | H26: =IF(AND(C26="x",E26=""),($A$1-RECAP!$U$7),IF(G26=" "," ",(G26-D26)))
B27: 43377 | D27: 0 | G27: =IF(E27=""," ",IF((F27-E27)<$H$1,F27-E27,IF(K27="",F27-E27-$G$1,F27-E27-K27))) | H27: =IF(AND(C27="x",E27=""),($A$1-RECAP!$U$7),IF(G27=" "," ",(G27-D27))) | J27: =SUM(H25:H45)+J5 -> 0.65763889
B28: 43378 | D28: 0.31666667 | E28: 0.37986111 | F28: 0.70833333 | G28: =IF(E28=""," ",IF((F28-E28)<$H$1,F28-E28,IF(K28="",F28-E28-$G$1,F28-E28-K28))) -> 0.30763889 | H28: =IF(AND(C28="x",E28=""),($A$1-RECAP!$U$7),IF(G28=" "," ",(G28-D28))) -> -0.0090277778
B29: 43379 | D29: 0.31666667 | E29: 0.375 | F29: 0.7125 | G29: =IF(E29=""," ",IF((F29-E29)<$H$1,F29-E29,IF(K29="",F29-E29-$G$1,F29-E29-K29))) -> 0.31666667 | H29: =IF(AND(C29="x",E29=""),($A$1-RECAP!$U$7),IF(G29=" "," ",(G29-D29))) -> 5.5511151e-17
B30: 43382 | D30: 0 | E30: 0.375 | F30: 0.6875 | G30: =IF(E30=""," ",IF((F30-E30)<$H$1,F30-E30,IF(K30="",F30-E30-$G$1,F30-E30-K30))) -> 0.29166667 | H30: =IF(AND(C30="x",E30=""),($A$1-RECAP!$U$7),IF(G30=" "," ",(G30-D30))) -> 0.29166667
B31: 43383 | D31: 0 | G31: =IF(E31=""," ",IF((F31-E31)<$H$1,F31-E31,IF(K31="",F31-E31-$G$1,F31-E31-K31))) | H31: =IF(AND(C31="x",E31=""),($A$1-RECAP!$U$7),IF(G31=" "," ",(G31-D31)))
B32: 43384 | C32: x | D32: 0 | G32: =IF(E32=""," ",IF((F32-E32)<$H$1,F32-E32,IF(K32="",F32-E32-$G$1,F32-E32-K32))) | H32: =IF(AND(C32="x",E32=""),($A$1-RECAP!$U$7),IF(G32=" "," ",(G32-D32)))-L32 -> -0.15833333
B33: 43385 | D33: 0.31666667 | E33: 0.375 | F33: 0.66666667 | G33: =IF(E33=""," ",IF((F33-E33)<$H$1,F33-E33,IF(K33="",F33-E33-$G$1,F33-E33-K33))) -> 0.27083333 | H33: =IF(AND(C33="x",E33=""),($A$1-RECAP!$U$7),IF(G33=" "," ",(G33-D33)))+L33 -> -0.045833333
B34: 43386 | D34: 0.31666667 | E34: 0.375 | F34: 0.7125 | G34: =IF(E34=""," ",IF((F34-E34)<$H$1,F34-E34,IF(K34="",F34-E34-$G$1,F34-E34-K34))) -> 0.31666667 | H34: =IF(AND(C34="x",E34=""),($A$1-RECAP!$U$7),IF(G34=" "," ",(G34-D34))) -> 5.5511151e-17
B35: 43389 | D35: 0 | E35: 0.375 | F35: 0.58333333 | G35: =IF(E35=""," ",IF((F35-E35)<$H$1,F35-E35,IF(K35="",F35-E35-$G$1,F35-E35-K35))) -> 0.20833333 | H35: =IF(AND(C35="x",E35=""),($A$1-RECAP!$U$7),IF(G35=" "," ",(G35-D35))) -> 0.20833333 | I35: =SUM(H25:H35) -> 0.59930556
B36: 43390 | D36: 0 | E36: 0.48611111 | F36: 0.70833333 | G36: =IF(E36=""," ",IF((F36-E36)<$H$1,F36-E36,IF(K36="",F36-E36-$G$1,F36-E36-K36))) -> 0.22222222 | H36: =IF(AND(C36="x",E36=""),($A$1-RECAP!$U$7),IF(G36=" "," ",(G36-D36))) -> 0.22222222
B37: 43391 | C37: x | D37: 0 | G37: =IF(E37=""," ",IF((F37-E37)<$H$1,F37-E37,IF(K37="",F37-E37-$G$1,F37-E37-K37))) | H37: =IF(AND(C37="x",E37=""),($A$1-RECAP!$U$7),IF(G37=" "," ",(G37-D37)))-L37 -> -0.15833333
B38: 43392 | D38: 0.31666667 | E38: 0.375 | F38: 0.70833333 | G38: =IF(E38=""," ",IF((F38-E38)<$H$1,F38-E38,IF(K38="",F38-E38-$G$1,F38-E38-K38))) -> 0.3125 | H38: =IF(AND(C38="x",E38=""),($A$1-RECAP!$U$7),IF(G38=" "," ",(G38-D38))) -> -0.0041666667
B39: 43393 | D39: 0.31666667 | E39: 0.4 | F39: 0.71111111 | G39: =IF(E39=""," ",IF((F39-E39)<$H$1,F39-E39,IF(K39="",F39-E39-$G$1,F39-E39-K39))) -> 0.29027778 | H39: =IF(AND(C39="x",E39=""),($A$1-RECAP!$U$7),IF(G39=" "," ",(G39-D39))) -> -0.026388889
B40: 43396 | D40: 0 | G40: =IF(E40=""," ",IF((F40-E40)<$H$1,F40-E40,IF(K40="",F40-E40-$G$1,F40-E40-K40))) | H40: =IF(AND(C40="x",E40=""),($A$1-RECAP!$U$7),IF(G40=" "," ",(G40-D40)))
...

Sheet D
A1: =RECAP!R5 -> 0.252 | B1: Travailleur : | D1: D | F1: Pause : | G1: 0.020833333 | H1: 0.25 | I1: Nbre de jours feriés pour la période concernée | J1: =COUNTA(C3:C67) -> 3 | K1: SI((D3-C3)<$F$1;" ";D3-C3-$E$1) | L1: 30.24 | N1: =IF(L1=19,J1*RECAP!R7,IF(L1=30,J1*RECAP!R6,IF(L1=30.24,J1*RECAP!R5,IF(L1=38,J1*RECAP!R4,"ERREUR")))) -> 0.756 | O1: =N1/24 -> 0.0315
B2: Date | C2: Jours feriés | D2: Temps théorique | E2: IN | F2: OUT | G2: Temps presté | H2: Solde journalier | I2: Heures boni/mali cumulées | J2: Heures boni/mali par mois | K2: DA = Horaire autorisé | N2: pointage manquant | Q2: G = garde
B3: 43343 | D3: 0.31666667 | E3: 0.35416667 | F3: 0.7125 | G3: =IF(E3=""," ",IF((F3-E3)<$H$1,F3-E3,IF(K3="",F3-E3-$G$1,F3-E3-K3))) -> 0.3375 | H3: =IF(AND(C3="x",E3=""),($A$1-RECAP!$U$5),IF(G3=" "," ",(G3-D3))) -> 0.020833333 | J3: 43343
B4: 43344 | D4: 0.31666667 | E4: 0.35416667 | F4: 0.7 | G4: =IF(E4=""," ",IF((F4-E4)<$H$1,F4-E4,IF(K4="",F4-E4-$G$1,F4-E4-K4))) -> 0.325 | H4: =IF(AND(C4="x",E4=""),($A$1-RECAP!$U$5),IF(G4=" "," ",(G4-D4))) -> 0.0083333333
B5: 43347 | D5: 0.31666667 | E5: 0.35416667 | F5: 0.68958333 | G5: =IF(E5=""," ",IF((F5-E5)<$H$1,F5-E5,IF(K5="",F5-E5-$G$1,F5-E5-K5))) -> 0.31458333 | H5: =IF(AND(C5="x",E5=""),($A$1-RECAP!$U$5),IF(G5=" "," ",(G5-D5))) -> -0.0020833333 | J5: =SUM(H3:H24) -> 0.20902778
B6: 43348 | D6: 0.31666667 | E6: 0.35416667 | F6: 0.7125 | G6: =IF(E6=""," ",IF((F6-E6)<$H$1,F6-E6,IF(K6="",F6-E6-$G$1,F6-E6-K6))) -> 0.3375 | H6: =IF(AND(C6="x",E6=""),($A$1-RECAP!$U$5),IF(G6=" "," ",(G6-D6))) -> 0.020833333 | L6: =IF(L1=38,J48+(RECAP!S4*-1*J1),IF(L1=30.24,J48+(RECAP!S5*-1*J1),IF(L1=30,J48+(RECAP!S6*-1*J1),IF(L1=19,J48+(RECAP!S7*-1*J1),"ERREUR")))) -> 0.075694444
B7: 43349 | D7: 0.31666667 | E7: 0.35416667 | F7: 0.70972222 | G7: =IF(E7=""," ",IF((F7-E7)<$H$1,F7-E7,IF(K7="",F7-E7-$G$1,F7-E7-K7))) -> 0.33472222 | H7: =IF(AND(C7="x",E7=""),($A$1-RECAP!$U$5),IF(G7=" "," ",(G7-D7))) -> 0.018055556
B8: 43350 | D8: 0.31666667 | E8: 0.35416667 | F8: 0.69166667 | G8: =IF(E8=""," ",IF((F8-E8)<$H$1,F8-E8,IF(K8="",F8-E8-$G$1,F8-E8-K8))) -> 0.31666667 | H8: =IF(AND(C8="x",E8=""),($A$1-RECAP!$U$5),IF(G8=" "," ",(G8-D8))) -> 1.110223e-16
B9: 43351 | D9: 0 | G9: =IF(E9=""," ",IF((F9-E9)<$H$1,F9-E9,IF(K9="",F9-E9-$G$1,F9-E9-K9))) | H9: =IF(AND(C9="x",E9=""),($A$1-RECAP!$U$5),IF(G9=" "," ",(G9-D9)))
B10: 43354 | D10: 0.31666667 | E10: 0.35416667 | F10: 0.69375 | G10: =IF(E10=""," ",IF((F10-E10)<$H$1,F10-E10,IF(K10="",F10-E10-$G$1,F10-E10-K10))) -> 0.31875 | H10: =IF(AND(C10="x",E10=""),($A$1-RECAP!$U$5),IF(G10=" "," ",(G10-D10))) -> 0.0020833333
B11: 43355 | D11: 0.31666667 | E11: 0.35416667 | F11: 0.69513889 | G11: =IF(E11=""," ",IF((F11-E11)<$H$1,F11-E11,IF(K11="",F11-E11-$G$1,F11-E11-K11))) -> 0.32013889 | H11: =IF(AND(C11="x",E11=""),($A$1-RECAP!$U$5),IF(G11=" "," ",(G11-D11))) -> 0.0034722222
B12: 43356 | D12: 0 | G12: =IF(E12=""," ",IF((F12-E12)<$H$1,F12-E12,IF(K12="",F12-E12-$G$1,F12-E12-K12))) | H12: =IF(AND(C12="x",E12=""),($A$1-RECAP!$U$5),IF(G12=" "," ",(G12-D12)))
B13: 43357 | D13: 0.31666667 | E13: 0.35416667 | F13: 0.70625 | G13: =IF(E13=""," ",IF((F13-E13)<$H$1,F13-E13,IF(K13="",F13-E13-$G$1,F13-E13-K13))) -> 0.33125 | H13: =IF(AND(C13="x",E13=""),($A$1-RECAP!$U$5),IF(G13=" "," ",(G13-D13))) -> 0.014583333 | I13: =SUM(H3:H13) -> 0.086111111
B14: 43358 | D14: 0.31666667 | E14: 0.35416667 | F14: 0.7125 | G14: =IF(E14=""," ",IF((F14-E14)<$H$1,F14-E14,IF(K14="",F14-E14-$G$1,F14-E14-K14))) -> 0.3375 | H14: =IF(AND(C14="x",E14=""),($A$1-RECAP!$U$5),IF(G14=" "," ",(G14-D14))) -> 0.020833333
B15: 43361 | D15: 0.31666667 | E15: 0.35416667 | F15: 0.69236111 | G15: =IF(E15=""," ",IF((F15-E15)<$H$1,F15-E15,IF(K15="",F15-E15-$G$1,F15-E15-K15))) -> 0.31736111 | H15: =IF(AND(C15="x",E15=""),($A$1-RECAP!$U$5),IF(G15=" "," ",(G15-D15))) -> 0.00069444444 | O15: =IF(L1=38,J49+(RECAP!S4*-1*J1),IF(L1=30.24,J49+(RECAP!S5*-1*J1),IF(L1=30,J49+(RECAP!S6*-1*J1),IF(L1=19,J49+(RECAP!S7*-1*J1),"ERREUR")))) -> -0.18958333
B16: 43362 | D16: 0.31666667 | E16: 0.35555556 | F16: 0.69583333 | G16: =IF(E16=""," ",IF((F16-E16)<$H$1,F16-E16,IF(K16="",F16-E16-$G$1,F16-E16-K16))) -> 0.31944444 | H16: =IF(AND(C16="x",E16=""),($A$1-RECAP!$U$5),IF(G16=" "," ",(G16-D16))) -> 0.0027777778
B17: 43363 | D17: 0 | G17: =IF(E17=""," ",IF((F17-E17)<$H$1,F17-E17,IF(K17="",F17-E17-$G$1,F17-E17-K17))) | H17: =IF(AND(C17="x",E17=""),($A$1-RECAP!$U$5),IF(G17=" "," ",(G17-D17)))
B18: 43364 | D18: 0.31666667 | E18: 0.35416667 | F18: 0.7125 | G18: =IF(E18=""," ",IF((F18-E18)<$H$1,F18-E18,IF(K18="",F18-E18-$G$1,F18-E18-K18))) -> 0.3375 | H18: =IF(AND(C18="x",E18=""),($A$1-RECAP!$U$5),IF(G18=" "," ",(G18-D18))) -> 0.020833333
B19: 43365 | D19: 0.31666667 | E19: 0.35416667 | F19: 0.70555556 | G19: =IF(E19=""," ",IF((F19-E19)<$H$1,F19-E19,IF(K19="",F19-E19-$G$1,F19-E19-K19))) -> 0.33055556 | H19: =IF(AND(C19="x",E19=""),($A$1-RECAP!$U$5),IF(G19=" "," ",(G19-D19))) -> 0.013888889
B20: 43368 | D20: 0.31666667 | E20: 0.35416667 | F20: 0.69722222 | G20: =IF(E20=""," ",IF((F20-E20)<$H$1,F20-E20,IF(K20="",F20-E20-$G$1,F20-E20-K20))) -> 0.32222222 | H20: =IF(AND(C20="x",E20=""),($A$1-RECAP!$U$5),IF(G20=" "," ",(G20-D20))) -> 0.0055555556
B21: 43369 | C21: x | D21: 0.31666667 | E21: 0.35416667 | F21: 0.70902778 | G21: =IF(E21=""," ",IF((F21-E21)<$H$1,F21-E21,IF(K21="",F21-E21-$G$1,F21-E21-K21))) -> 0.31319444 | H21: =IF(AND(C21="x",E21=""),($A$1-RECAP!$U$5),IF(G21=" "," ",(G21-D21)))+M21 -> -0.0034722222 | K21: 0.041666667
B22: 43370 | D22: 0 | G22: =IF(E22=""," ",IF((F22-E22)<$H$1,F22-E22,IF(K22="",F22-E22-$G$1,F22-E22-K22))) | H22: =IF(AND(C22="x",E22=""),($A$1-RECAP!$U$5),IF(G22=" "," ",(G22-D22)))
B23: 43371 | D23: 0.31666667 | E23: 0.35416667 | F23: 0.73263889 | G23: =IF(E23=""," ",IF((F23-E23)<$H$1,F23-E23,IF(K23="",F23-E23-$G$1,F23-E23-K23))) -> 0.35763889 | H23: =IF(AND(C23="x",E23=""),($A$1-RECAP!$U$5),IF(G23=" "," ",(G23-D23))) -> 0.040972222
B24: 43372 | D24: 0.31666667 | E24: 0.35416667 | F24: 0.7125 | G24: =IF(E24=""," ",IF((F24-E24)<$H$1,F24-E24,IF(K24="",F24-E24-$G$1,F24-E24-K24))) -> 0.3375 | H24: =IF(AND(C24="x",E24=""),($A$1-RECAP!$U$5),IF(G24=" "," ",(G24-D24))) -> 0.020833333 | I24: =SUM(H14:H24) -> 0.12291667
B25: 43375 | D25: 0.31666667 | E25: 0.35416667 | F25: 0.69861111 | G25: =IF(E25=""," ",IF((F25-E25)<$H$1,F25-E25,IF(K25="",F25-E25-$G$1,F25-E25-K25))) -> 0.32361111 | H25: =IF(AND(C25="x",E25=""),($A$1-RECAP!$U$5),IF(G25=" "," ",(G25-D25))) -> 0.0069444444 | J25: 43373
B26: 43376 | D26: 0.31666667 | E26: 0.35416667 | F26: 0.69513889 | G26: =IF(E26=""," ",IF((F26-E26)<$H$1,F26-E26,IF(K26="",F26-E26-$G$1,F26-E26-K26))) -> 0.32013889 | H26: =IF(AND(C26="x",E26=""),($A$1-RECAP!$U$5),IF(G26=" "," ",(G26-D26))) -> 0.0034722222
B27: 43377 | D27: 0.31666667 | E27: 0.35416667 | F27: 0.69166667 | G27: =IF(E27=""," ",IF((F27-E27)<$H$1,F27-E27,IF(K27="",F27-E27-$G$1,F27-E27-K27))) -> 0.31666667 | H27: =IF(AND(C27="x",E27=""),($A$1-RECAP!$U$5),IF(G27=" "," ",(G27-D27))) -> 1.110223e-16 | J27: =SUM(H25:H45)+J5 -> 0.20625
B28: 43378 | D28: 0.31666667 | E28: 0.35416667 | F28: 0.69861111 | G28: =IF(E28=""," ",IF((F28-E28)<$H$1,F28-E28,IF(K28="",F28-E28-$G$1,F28-E28-K28))) -> 0.32361111 | H28: =IF(AND(C28="x",E28=""),($A$1-RECAP!$U$5),IF(G28=" "," ",(G28-D28))) -> 0.0069444444
B29: 43379 | D29: 0.31666667 | E29: 0.35416667 | F29: 0.69513889 | G29: =IF(E29=""," ",IF((F29-E29)<$H$1,F29-E29,IF(K29="",F29-E29-$G$1,F29-E29-K29))) -> 0.32013889 | H29: =IF(AND(C29="x",E29=""),($A$1-RECAP!$U$5),IF(G29=" "," ",(G29-D29))) -> 0.0034722222
B30: 43382 | D30: 0.31666667 | E30: 0.35416667 | F30: 0.69444444 | G30: =IF(E30=""," ",IF((F30-E30)<$H$1,F30-E30,IF(K30="",F30-E30-$G$1,F30-E30-K30))) -> 0.31944444 | H30: =IF(AND(C30="x",E30=""),($A$1-RECAP!$U$5),IF(G30=" "," ",(G30-D30))) -> 0.0027777778
B31: 43383 | D31: 0.31666667 | E31: 0.35416667 | F31: 0.70416667 | G31: =IF(E31=""," ",IF((F31-E31)<$H$1,F31-E31,IF(K31="",F31-E31-$G$1,F31-E31-K31))) -> 0.32916667 | H31: =IF(AND(C31="x",E31=""),($A$1-RECAP!$U$5),IF(G31=" "," ",(G31-D31))) -> 0.0125
B32: 43384 | D32: 0.31666667 | E32: 0.35416667 | F32: 0.69166667 | G32: =IF(E32=""," ",IF((F32-E32)<$H$1,F32-E32,IF(K32="",F32-E32-$G$1,F32-E32-K32))) -> 0.31666667 | H32: =IF(AND(C32="x",E32=""),($A$1-RECAP!$U$5),IF(G32=" "," ",(G32-D32))) -> -2.220446e-16
B33: 43385 | D33: 0.31666667 | E33: 0.35763889 | F33: 0.69513889 | G33: =IF(E33=""," ",IF((F33-E33)<$H$1,F33-E33,IF(K33="",F33-E33-$G$1,F33-E33-K33))) -> 0.31666667 | H33: =IF(AND(C33="x",E33=""),($A$1-RECAP!$U$5),IF(G33=" "," ",(G33-D33))) -> -3.3306691e-16
B34: 43386 | D34: 0.31666667 | E34: 0.35833333 | F34: 0.71180556 | G34: =IF(E34=""," ",IF((F34-E34)<$H$1,F34-E34,IF(K34="",F34-E34-$G$1,F34-E34-K34))) -> 0.33263889 | H34: =IF(AND(C34="x",E34=""),($A$1-RECAP!$U$5),IF(G34=" "," ",(G34-D34))) -> 0.015972222
B35: 43389 | D35: 0.31666667 | E35: 0.35416667 | F35: 0.70625 | G35: =IF(E35=""," ",IF((F35-E35)<$H$1,F35-E35,IF(K35="",F35-E35-$G$1,F35-E35-K35))) -> 0.33125 | H35: =IF(AND(C35="x",E35=""),($A$1-RECAP!$U$5),IF(G35=" "," ",(G35-D35))) -> 0.014583333 | I35: =SUM(H25:H35) -> 0.066666667
B36: 43390 | D36: 0.31666667 | E36: 0.35416667 | F36: 0.69513889 | G36: =IF(E36=""," ",IF((F36-E36)<$H$1,F36-E36,IF(K36="",F36-E36-$G$1,F36-E36-K36))) -> 0.32013889 | H36: =IF(AND(C36="x",E36=""),($A$1-RECAP!$U$5),IF(G36=" "," ",(G36-D36))) -> 0.0034722222
B37: 43391 | D37: 0.31666667 | E37: 0.35416667 | F37: 0.69166667 | G37: =IF(E37=""," ",IF((F37-E37)<$H$1,F37-E37,IF(K37="",F37-E37-$G$1,F37-E37-K37))) -> 0.31666667 | H37: =IF(AND(C37="x",E37=""),($A$1-RECAP!$U$5),IF(G37=" "," ",(G37-D37))) -> -2.220446e-16
B38: 43392 | D38: 0.31666667 | E38: 0.35416667 | F38: 0.70694444 | G38: =IF(E38=""," ",IF((F38-E38)<$H$1,F38-E38,IF(K38="",F38-E38-$G$1,F38-E38-K38))) -> 0.29027778 | H38: =IF(AND(C38="x",E38=""),($A$1-RECAP!$U$5),IF(G38=" "," ",(G38-D38))) -> -0.026388889 | K38: 0.0625
B39: 43393 | D39: 0.31666667 | E39: 0.35416667 | F39: 0.71111111 | G39: =IF(E39=""," ",IF((F39-E39)<$H$1,F39-E39,IF(K39="",F39-E39-$G$1,F39-E39-K39))) -> 0.33611111 | H39: =IF(AND(C39="x",E39=""),($A$1-RECAP!$U$5),IF(G39=" "," ",(G39-D39))) -> 0.019444444
B40: 43396 | D40: 0.31666667 | E40: 0.35416667 | F40: 0.69236111 | G40: =IF(E40=""," ",IF((F40-E40)<$H$1,F40-E40,IF(K40="",F40-E40-$G$1,F40-E40-K40))) -> 0.31736111 | H40: =IF(AND(C40="x",E40=""),($A$1-RECAP!$U$5),IF(G40=" "," ",(G40-D40))) -> 0.00069444444
...

Sheet E
A1: =RECAP!R4 -> 0.31666667 | B1: Travailleur : | D1: E | F1: Pause : | G1: 0.020833333 | H1: 0.25 | I1: Nbre de jours feriés pour la période concernée | J1: =COUNTA(C3:C67) -> 3 | K1: SI((D3-C3)<$F$1;" ";D3-C3-$E$1) | L1: 38 | N1: =IF(L1=19,J1*RECAP!R7,IF(L1=30,J1*RECAP!R6,IF(L1=30.24,J1*RECAP!R5,IF(L1=38,J1*RECAP!R4,"ERREUR")))) -> 0.95 | O1: =N1/24 -> 0.039583333
B2: Date | C2: Jours feriés | D2: Temps théorique | E2: IN | F2: OUT | G2: Temps presté | H2: Solde journalier | I2: Heures boni/mali cumulées | J2: Heures boni/mali par mois | K2: DA = Horaire autorisé | N2: pointage manquant | Q2: G = garde
B3: 43343 | D3: 0.31666667 | E3: 0.35416667 | F3: 0.69166667 | G3: =IF(E3=""," ",IF((F3-E3)<$H$1,F3-E3,IF(K3="",F3-E3-$G$1,F3-E3-K3))) -> 0.31666667 | H3: =IF(AND(C3="x",E3=""),($A$1-RECAP!$U$4),IF(G3=" "," ",(G3-D3))) -> 1.110223e-16 | J3: 43343
B4: 43344 | D4: 0.31666667 | E4: 0.35416667 | F4: 0.70486111 | G4: =IF(E4=""," ",IF((F4-E4)<$H$1,F4-E4,IF(K4="",F4-E4-$G$1,F4-E4-K4))) -> 0.32986111 | H4: =IF(AND(C4="x",E4=""),($A$1-RECAP!$U$4),IF(G4=" "," ",(G4-D4))) -> 0.013194444
B5: 43347 | D5: 0 | G5: =IF(E5=""," ",IF((F5-E5)<$H$1,F5-E5,IF(K5="",F5-E5-$G$1,F5-E5-K5))) | H5: =IF(AND(C5="x",E5=""),($A$1-RECAP!$U$4),IF(G5=" "," ",(G5-D5))) | J5: =SUM(H3:H24) -> 0.088888889
B6: 43348 | D6: 0 | G6: =IF(E6=""," ",IF((F6-E6)<$H$1,F6-E6,IF(K6="",F6-E6-$G$1,F6-E6-K6))) | H6: =IF(AND(C6="x",E6=""),($A$1-RECAP!$U$4),IF(G6=" "," ",(G6-D6))) | L6: =IF(L1=38,J48+(RECAP!S4*-1*J1),IF(L1=30.24,J48+(RECAP!S5*-1*J1),IF(L1=30,J48+(RECAP!S6*-1*J1),IF(L1=19,J48+(RECAP!S7*-1*J1),"ERREUR")))) -> 0.044444444
B7: 43349 | D7: 0 | G7: =IF(E7=""," ",IF((F7-E7)<$H$1,F7-E7,IF(K7="",F7-E7-$G$1,F7-E7-K7))) | H7: =IF(AND(C7="x",E7=""),($A$1-RECAP!$U$4),IF(G7=" "," ",(G7-D7)))
B8: 43350 | D8: 0 | G8: =IF(E8=""," ",IF((F8-E8)<$H$1,F8-E8,IF(K8="",F8-E8-$G$1,F8-E8-K8))) | H8: =IF(AND(C8="x",E8=""),($A$1-RECAP!$U$4),IF(G8=" "," ",(G8-D8)))
B9: 43351 | D9: 0 | G9: =IF(E9=""," ",IF((F9-E9)<$H$1,F9-E9,IF(K9="",F9-E9-$G$1,F9-E9-K9))) | H9: =IF(AND(C9="x",E9=""),($A$1-RECAP!$U$4),IF(G9=" "," ",(G9-D9)))
B10: 43354 | D10: 0 | G10: =IF(E10=""," ",IF((F10-E10)<$H$1,F10-E10,IF(K10="",F10-E10-$G$1,F10-E10-K10))) | H10: =IF(AND(C10="x",E10=""),($A$1-RECAP!$U$4),IF(G10=" "," ",(G10-D10)))
B11: 43355 | D11: 0 | G11: =IF(E11=""," ",IF((F11-E11)<$H$1,F11-E11,IF(K11="",F11-E11-$G$1,F11-E11-K11))) | H11: =IF(AND(C11="x",E11=""),($A$1-RECAP!$U$4),IF(G11=" "," ",(G11-D11)))
B12: 43356 | D12: 0 | G12: =IF(E12=""," ",IF((F12-E12)<$H$1,F12-E12,IF(K12="",F12-E12-$G$1,F12-E12-K12))) | H12: =IF(AND(C12="x",E12=""),($A$1-RECAP!$U$4),IF(G12=" "," ",(G12-D12)))
B13: 43357 | D13: 0 | G13: =IF(E13=""," ",IF((F13-E13)<$H$1,F13-E13,IF(K13="",F13-E13-$G$1,F13-E13-K13))) | H13: =IF(AND(C13="x",E13=""),($A$1-RECAP!$U$4),IF(G13=" "," ",(G13-D13))) | I13: =SUM(H3:H13) -> 0.013194444
B14: 43358 | D14: 0 | G14: =IF(E14=""," ",IF((F14-E14)<$H$1,F14-E14,IF(K14="",F14-E14-$G$1,F14-E14-K14))) | H14: =IF(AND(C14="x",E14=""),($A$1-RECAP!$U$4),IF(G14=" "," ",(G14-D14)))
B15: 43361 | D15: 0.31666667 | E15: 0.36319444 | F15: 0.69513889 | G15: =IF(E15=""," ",IF((F15-E15)<$H$1,F15-E15,IF(K15="",F15-E15-$G$1,F15-E15-K15))) -> 0.31111111 | H15: =IF(AND(C15="x",E15=""),($A$1-RECAP!$U$4),IF(G15=" "," ",(G15-D15))) -> -0.0055555556
B16: 43362 | D16: 0.31666667 | E16: 0.35486111 | F16: 0.70069444 | G16: =IF(E16=""," ",IF((F16-E16)<$H$1,F16-E16,IF(K16="",F16-E16-$G$1,F16-E16-K16))) -> 0.325 | H16: =IF(AND(C16="x",E16=""),($A$1-RECAP!$U$4),IF(G16=" "," ",(G16-D16))) -> 0.0083333333
B17: 43363 | D17: 0.31666667 | E17: 0.35416667 | F17: 0.69930556 | G17: =IF(E17=""," ",IF((F17-E17)<$H$1,F17-E17,IF(K17="",F17-E17-$G$1,F17-E17-K17))) -> 0.32430556 | H17: =IF(AND(C17="x",E17=""),($A$1-RECAP!$U$4),IF(G17=" "," ",(G17-D17))) -> 0.0076388889
B18: 43364 | D18: 0.31666667 | E18: 0.36319444 | F18: 0.69930556 | G18: =IF(E18=""," ",IF((F18-E18)<$H$1,F18-E18,IF(K18="",F18-E18-$G$1,F18-E18-K18))) -> 0.31527778 | H18: =IF(AND(C18="x",E18=""),($A$1-RECAP!$U$4),IF(G18=" "," ",(G18-D18))) -> -0.0013888889
B19: 43365 | D19: 0.31666667 | E19: 0.36875 | F19: 0.70555556 | G19: =IF(E19=""," ",IF((F19-E19)<$H$1,F19-E19,IF(K19="",F19-E19-$G$1,F19-E19-K19))) -> 0.31597222 | H19: =IF(AND(C19="x",E19=""),($A$1-RECAP!$U$4),IF(G19=" "," ",(G19-D19))) -> -0.00069444444
B20: 43368 | D20: 0.31666667 | E20: 0.35416667 | F20: 0.70902778 | G20: =IF(E20=""," ",IF((F20-E20)<$H$1,F20-E20,IF(K20="",F20-E20-$G$1,F20-E20-K20))) -> 0.33402778 | H20: =IF(AND(C20="x",E20=""),($A$1-RECAP!$U$4),IF(G20=" "," ",(G20-D20))) -> 0.017361111
B21: 43369 | C21: x | D21: 0.31666667 | E21: 0.35416667 | F21: 0.7125 | G21: =IF(E21=""," ",IF((F21-E21)<$H$1,F21-E21,IF(K21="",F21-E21-$G$1,F21-E21-K21))) -> 0.3375 | H21: =IF(AND(C21="x",E21=""),($A$1-RECAP!$U$4),IF(G21=" "," ",(G21-D21)))+M21 -> 0.020833333
B22: 43370 | D22: 0.31666667 | E22: 0.35416667 | F22: 0.69652778 | G22: =IF(E22=""," ",IF((F22-E22)<$H$1,F22-E22,IF(K22="",F22-E22-$G$1,F22-E22-K22))) -> 0.32152778 | H22: =IF(AND(C22="x",E22=""),($A$1-RECAP!$U$4),IF(G22=" "," ",(G22-D22))) -> 0.0048611111
B23: 43371 | D23: 0.31666667 | E23: 0.35416667 | F23: 0.69791667 | G23: =IF(E23=""," ",IF((F23-E23)<$H$1,F23-E23,IF(K23="",F23-E23-$G$1,F23-E23-K23))) -> 0.32291667 | H23: =IF(AND(C23="x",E23=""),($A$1-RECAP!$U$4),IF(G23=" "," ",(G23-D23))) -> 0.00625
B24: 43372 | D24: 0.31666667 | E24: 0.35625 | F24: 0.71180556 | G24: =IF(E24=""," ",IF((F24-E24)<$H$1,F24-E24,IF(K24="",F24-E24-$G$1,F24-E24-K24))) -> 0.33472222 | H24: =IF(AND(C24="x",E24=""),($A$1-RECAP!$U$4),IF(G24=" "," ",(G24-D24))) -> 0.018055556 | I24: =SUM(H14:H24) -> 0.075694444
B25: 43375 | D25: 0.31666667 | E25: 0.3625 | F25: 0.70277778 | G25: =IF(E25=""," ",IF((F25-E25)<$H$1,F25-E25,IF(K25="",F25-E25-$G$1,F25-E25-K25))) -> 0.31944444 | H25: =IF(AND(C25="x",E25=""),($A$1-RECAP!$U$4),IF(G25=" "," ",(G25-D25))) -> 0.0027777778 | J25: 43373
B26: 43376 | D26: 0.31666667 | E26: 0.375 | F26: 0.7 | G26: =IF(E26=""," ",IF((F26-E26)<$H$1,F26-E26,IF(K26="",F26-E26-$G$1,F26-E26-K26))) -> 0.30416667 | H26: =IF(AND(C26="x",E26=""),($A$1-RECAP!$U$4),IF(G26=" "," ",(G26-D26))) -> -0.0125
B27: 43377 | D27: 0.31666667 | E27: 0.375 | F27: 0.7125 | G27: =IF(E27=""," ",IF((F27-E27)<$H$1,F27-E27,IF(K27="",F27-E27-$G$1,F27-E27-K27))) -> 0.31666667 | H27: =IF(AND(C27="x",E27=""),($A$1-RECAP!$U$4),IF(G27=" "," ",(G27-D27))) -> -2.7755576e-16 | J27: =SUM(H25:H45)+J5 -> 0.16041667
B28: 43378 | D28: 0.31666667 | E28: 0.35416667 | F28: 0.70972222 | G28: =IF(E28=""," ",IF((F28-E28)<$H$1,F28-E28,IF(K28="",F28-E28-$G$1,F28-E28-K28))) -> 0.33472222 | H28: =IF(AND(C28="x",E28=""),($A$1-RECAP!$U$4),IF(G28=" "," ",(G28-D28))) -> 0.018055556
B29: 43379 | D29: 0.31666667 | E29: 0.375 | F29: 0.7125 | G29: =IF(E29=""," ",IF((F29-E29)<$H$1,F29-E29,IF(K29="",F29-E29-$G$1,F29-E29-K29))) -> 0.31666667 | H29: =IF(AND(C29="x",E29=""),($A$1-RECAP!$U$4),IF(G29=" "," ",(G29-D29))) -> -2.7755576e-16
B30: 43382 | D30: 0.31666667 | E30: 0.36180556 | F30: 0.69791667 | G30: =IF(E30=""," ",IF((F30-E30)<$H$1,F30-E30,IF(K30="",F30-E30-$G$1,F30-E30-K30))) -> 0.31527778 | H30: =IF(AND(C30="x",E30=""),($A$1-RECAP!$U$4),IF(G30=" "," ",(G30-D30))) -> -0.0013888889
B31: 43383 | D31: 0.31666667 | E31: 0.35763889 | F31: 0.70277778 | G31: =IF(E31=""," ",IF((F31-E31)<$H$1,F31-E31,IF(K31="",F31-E31-$G$1,F31-E31-K31))) -> 0.32430556 | H31: =IF(AND(C31="x",E31=""),($A$1-RECAP!$U$4),IF(G31=" "," ",(G31-D31))) -> 0.0076388889
B32: 43384 | D32: 0.31666667 | E32: 0.35486111 | F32: 0.70138889 | G32: =IF(E32=""," ",IF((F32-E32)<$H$1,F32-E32,IF(K32="",F32-E32-$G$1,F32-E32-K32))) -> 0.32569444 | H32: =IF(AND(C32="x",E32=""),($A$1-RECAP!$U$4),IF(G32=" "," ",(G32-D32))) -> 0.0090277778
B33: 43385 | D33: 0.31666667 | E33: 0.35555556 | F33: 0.69236111 | G33: =IF(E33=""," ",IF((F33-E33)<$H$1,F33-E33,IF(K33="",F33-E33-$G$1,F33-E33-K33))) -> 0.31597222 | H33: =IF(AND(C33="x",E33=""),($A$1-RECAP!$U$4),IF(G33=" "," ",(G33-D33))) -> -0.00069444444
B34: 43386 | D34: 0.31666667 | E34: 0.35416667 | F34: 0.69166667 | G34: =IF(E34=""," ",IF((F34-E34)<$H$1,F34-E34,IF(K34="",F34-E34-$G$1,F34-E34-K34))) -> 0.31666667 | H34: =IF(AND(C34="x",E34=""),($A$1-RECAP!$U$4),IF(G34=" "," ",(G34-D34))) -> -2.220446e-16
B35: 43389 | D35: 0.31666667 | E35: 0.35902778 | F35: 0.69444444 | G35: =IF(E35=""," ",IF((F35-E35)<$H$1,F35-E35,IF(K35="",F35-E35-$G$1,F35-E35-K35))) -> 0.31458333 | H35: =IF(AND(C35="x",E35=""),($A$1-RECAP!$U$4),IF(G35=" "," ",(G35-D35))) -> -0.0020833333 | I35: =SUM(H25:H35) -> 0.020833333
B36: 43390 | D36: 0.31666667 | E36: 0.35972222 | F36: 0.70555556 | G36: =IF(E36=""," ",IF((F36-E36)<$H$1,F36-E36,IF(K36="",F36-E36-$G$1,F36-E36-K36))) -> 0.325 | H36: =IF(AND(C36="x",E36=""),($A$1-RECAP!$U$4),IF(G36=" "," ",(G36-D36))) -> 0.0083333333
