Workbook

Sheet A
A1: =RECAP!R6 -> 0.25 | B1: Travailleur : | D1: A | F1: Pause : | G1: 0.020833333 | H1: 0.25 | I1: Nbre de jours feriés pour la période concernée | J1: =COUNTA(C3:C67) -> 2 | K1: SI((D3-C3)<$F$1;" ";D3-C3-$E$1) | L1: 30 | N1: =IF(L1=19,J1*RECAP!R7,IF(L1=30,J1*RECAP!R6,IF(L1=30.24,J1*RECAP!R5,IF(L1=38,J1*RECAP!R4,"ERREUR")))) -> 0.5 | O1: =N1/24 -> 0.020833333
B2: Date | C2: Jours feriés | D2: Temps théorique | E2: IN | F2: OUT | G2: Temps presté | H2: Solde journalier | I2: Heures boni/mali cumulées | J2: Heures boni/mali par mois | K2: DA = Horaire autorisé | N2: pointage manquant
A3: =IF(OR(AND(DAY(B3)>=15,DAY(WORKDAY.INTL(B3,-1))<15),AND(MONTH(B3)<>MONTH(WORKDAY.INTL(B3,1)))),"X","") | B3: 43343 | D3: =+$N$6 -> 0.3125 | E3: 0.35416667 | F3: 0.68888889 | G3: =IF(COUNT(E3:F3)<>2,0,F3-E3-(F3-E3>=$H$1)*IF(K3<>"",K3,$G$1)) -> 0.31388889 | H3: =IF(C3="x",$A$1-RECAP!$U$6,(G3-D3)*(COUNT(E3:F3)=2)) -> 0.0013888889 | I3: {=IF($A3="X",SUM(OFFSET($H3,,,IFERROR(_xlfn.AGGREGATE(14,6,ROW($A$1:$A2)/($A$1:$A2="X"),1),2)-ROW(),)),"-")} -> -
A4: =IF(OR(AND(DAY(B4)>=15,DAY(WORKDAY.INTL(B4,-1))<15),AND(MONTH(B4)<>MONTH(WORKDAY.INTL(B4,1)))),"X","") | B4: =B3+CHOOSE(WEEKDAY(B3,2),1,1,1,1,3,2,1) -> 43344 | D4: =+$N$6 -> 0.3125 | E4: 0.35416667 | F4: 0.70277778 | G4: =IF(COUNT(E4:F4)<>2,0,F4-E4-(F4-E4>=$H$1)*IF(K4<>"",K4,$G$1)) -> 0.32777778 | H4: =IF(C4="x",$A$1-RECAP!$U$6,(G4-D4)*(COUNT(E4:F4)=2)) -> 0.015277778 | I4: {=IF($A4="X",SUM(OFFSET($H4,,,IFERROR(_xlfn.AGGREGATE(14,6,ROW($A$1:$A3)/($A$1:$A3="X"),1),2)-ROW(),)),"-")} -> -
A5: =IF(OR(AND(DAY(B5)>=15,DAY(WORKDAY.INTL(B5,-1))<15),AND(MONTH(B5)<>MONTH(WORKDAY.INTL(B5,1)))),"X","") | B5: =B4+CHOOSE(WEEKDAY(B4,2),1,1,1,1,3,2,1) -> 43347 | D5: =+$N$6 -> 0.3125 | E5: 0.35416667 | F5: 0.68958333 | G5: =IF(COUNT(E5:F5)<>2,0,F5-E5-(F5-E5>=$H$1)*IF(K5<>"",K5,$G$1)) -> 0.31458333 | H5: =IF(C5="x",$A$1-RECAP!$U$6,(G5-D5)*(COUNT(E5:F5)=2)) -> 0.0020833333 | I5: {=IF($A5="X",SUM(OFFSET($H5,,,IFERROR(_xlfn.AGGREGATE(14,6,ROW($A$1:$A4)/($A$1:$A4="X"),1),2)-ROW(),)),"-")} -> -
A6: =IF(OR(AND(DAY(B6)>=15,DAY(WORKDAY.INTL(B6,-1))<15),AND(MONTH(B6)<>MONTH(WORKDAY.INTL(B6,1)))),"X","") | B6: =B5+CHOOSE(WEEKDAY(B5,2),1,1,1,1,3,2,1) -> 43348 | D6: =+$N$6 -> 0.3125 | E6: 0.35416667 | F6: 0.6875 | G6: =IF(COUNT(E6:F6)<>2,0,F6-E6-(F6-E6>=$H$1)*IF(K6<>"",K6,$G$1)) -> 0.3125 | H6: =IF(C6="x",$A$1-RECAP!$U$6,(G6-D6)*(COUNT(E6:F6)=2)) -> 0 | I6: {=IF($A6="X",SUM(OFFSET($H6,,,IFERROR(_xlfn.AGGREGATE(14,6,ROW($A$1:$A5)/($A$1:$A5="X"),1),2)-ROW(),)),"-")} -> - | M6: Temps théorique | N6: 0.3125
A7: =IF(OR(AND(DAY(B7)>=15,DAY(WORKDAY.INTL(B7,-1))<15),AND(MONTH(B7)<>MONTH(WORKDAY.INTL(B7,1)))),"X","") | B7: =B6+CHOOSE(WEEKDAY(B6,2),1,1,1,1,3,2,1) -> 43349 | D7: =+$N$6 -> 0.3125 | G7: =IF(COUNT(E7:F7)<>2,0,F7-E7-(F7-E7>=$H$1)*IF(K7<>"",K7,$G$1)) -> 0 | H7: =IF(C7="x",$A$1-RECAP!$U$6,(G7-D7)*(COUNT(E7:F7)=2)) -> 0 | I7: {=IF($A7="X",SUM(OFFSET($H7,,,IFERROR(_xlfn.AGGREGATE(14,6,ROW($A$1:$A6)/($A$1:$A6="X"),1),2)-ROW(),)),"-")} -> - | M7: total boni/mali | N7: =SUM(N9:N12) -> -0.11944444
A8: =IF(OR(AND(DAY(B8)>=15,DAY(WORKDAY.INTL(B8,-1))<15),AND(MONTH(B8)<>MONTH(WORKDAY.INTL(B8,1)))),"X","") | B8: =B7+CHOOSE(WEEKDAY(B7,2),1,1,1,1,3,2,1) -> 43350 | D8: =+$N$6 -> 0.3125 | E8: 0.35416667 | F8: 0.6875 | G8: =IF(COUNT(E8:F8)<>2,0,F8-E8-(F8-E8>=$H$1)*IF(K8<>"",K8,$G$1)) -> 0.3125 | H8: =IF(C8="x",$A$1-RECAP!$U$6,(G8-D8)*(COUNT(E8:F8)=2)) -> 0 | I8: {=IF($A8="X",SUM(OFFSET($H8,,,IFERROR(_xlfn.AGGREGATE(14,6,ROW($A$1:$A7)/($A$1:$A7="X"),1),2)-ROW(),)),"-")} -> - | M8: mois | N8: boni/mali
A9: =IF(OR(AND(DAY(B9)>=15,DAY(WORKDAY.INTL(B9,-1))<15),AND(MONTH(B9)<>MONTH(WORKDAY.INTL(B9,1)))),"X","") | B9: =B8+CHOOSE(WEEKDAY(B8,2),1,1,1,1,3,2,1) -> 43351 | D9: =+$N$6 -> 0.3125 | E9: 0.35416667 | F9: 0.6875 | G9: =IF(COUNT(E9:F9)<>2,0,F9-E9-(F9-E9>=$H$1)*IF(K9<>"",K9,$G$1)) -> 0.3125 | H9: =IF(C9="x",$A$1-RECAP!$U$6,(G9-D9)*(COUNT(E9:F9)=2)) -> 0 | I9: {=IF($A9="X",SUM(OFFSET($H9,,,IFERROR(_xlfn.AGGREGATE(14,6,ROW($A$1:$A8)/($A$1:$A8="X"),1),2)-ROW(),)),"-")} -> - | M9: =B3-DAY(B3)+1 -> 43343 | N9: {=SUMPRODUCT(($H$3:$H$67)*(MONTH($B$3:$B$67)=MONTH($M9)))} -> 0.063888889
A10: =IF(OR(AND(DAY(B10)>=15,DAY(WORKDAY.INTL(B10,-1))<15),AND(MONTH(B10)<>MONTH(WORKDAY.INTL(B10,1)))),"X","") | B10: =B9+CHOOSE(WEEKDAY(B9,2),1,1,1,1,3,2,1) -> 43354 | D10: =+$N$6 -> 0.3125 | E10: 0.35486111 | F10: 0.68819444 | G10: =IF(COUNT(E10:F10)<>2,0,F10-E10-(F10-E10>=$H$1)*IF(K10<>"",K10,$G$1)) -> 0.3125 | H10: =IF(C10="x",$A$1-RECAP!$U$6,(G10-D10)*(COUNT(E10:F10)=2)) -> 0 | I10: {=IF($A10="X",SUM(OFFSET($H10,,,IFERROR(_xlfn.AGGREGATE(14,6,ROW($A$1:$A9)/($A$1:$A9="X"),1),2)-ROW(),)),"-")} -> - | M10: =DATE(YEAR(M9),MONTH(M9)+1,1) -> 43373 | N10: {=SUMPRODUCT(($H$3:$H$67)*(MONTH($B$3:$B$67)=MONTH($M10)))} -> 0.072916667
A11: =IF(OR(AND(DAY(B11)>=15,DAY(WORKDAY.INTL(B11,-1))<15),AND(MONTH(B11)<>MONTH(WORKDAY.INTL(B11,1)))),"X","") | B11: =B10+CHOOSE(WEEKDAY(B10,2),1,1,1,1,3,2,1) -> 43355 | D11: =+$N$6 -> 0.3125 | E11: 0.35416667 | F11: 0.69097222 | G11: =IF(COUNT(E11:F11)<>2,0,F11-E11-(F11-E11>=$H$1)*IF(K11<>"",K11,$G$1)) -> 0.31597222 | H11: =IF(C11="x",$A$1-RECAP!$U$6,(G11-D11)*(COUNT(E11:F11)=2)) -> 0.0034722222 | I11: {=IF($A11="X",SUM(OFFSET($H11,,,IFERROR(_xlfn.AGGREGATE(14,6,ROW($A$1:$A10)/($A$1:$A10="X"),1),2)-ROW(),)),"-")} -> - | M11: =DATE(YEAR(M10),MONTH(M10)+1,1) -> 43404 | N11: {=SUMPRODUCT(($H$3:$H$67)*(MONTH($B$3:$B$67)=MONTH($M11)))} -> -0.25625
A12: =IF(OR(AND(DAY(B12)>=15,DAY(WORKDAY.INTL(B12,-1))<15),AND(MONTH(B12)<>MONTH(WORKDAY.INTL(B12,1)))),"X","") | B12: =B11+CHOOSE(WEEKDAY(B11,2),1,1,1,1,3,2,1) -> 43356 | D12: =+$N$6 -> 0.3125 | G12: =IF(COUNT(E12:F12)<>2,0,F12-E12-(F12-E12>=$H$1)*IF(K12<>"",K12,$G$1)) -> 0 | H12: =IF(C12="x",$A$1-RECAP!$U$6,(G12-D12)*(COUNT(E12:F12)=2)) -> 0 | I12: {=IF($A12="X",SUM(OFFSET($H12,,,IFERROR(_xlfn.AGGREGATE(14,6,ROW($A$1:$A11)/($A$1:$A11="X"),1),2)-ROW(),)),"-")} -> - | M12: =DATE(YEAR(M11),MONTH(M11)+1,1) -> 43434 | N12: {=SUMPRODUCT(($H$3:$H$67)*(MONTH($B$3:$B$67)=MONTH($M12)))} -> 0
A13: =IF(OR(AND(DAY(B13)>=15,DAY(WORKDAY.INTL(B13,-1))<15),AND(MONTH(B13)<>MONTH(WORKDAY.INTL(B13,1)))),"X","") -> X | B13: =B12+CHOOSE(WEEKDAY(B12,2),1,1,1,1,3,2,1) -> 43357 | D13: =+$N$6 -> 0.3125 | E13: 0.35555556 | F13: 0.68958333 | G13: =IF(COUNT(E13:F13)<>2,0,F13-E13-(F13-E13>=$H$1)*IF(K13<>"",K13,$G$1)) -> 0.31319444 | H13: =IF(C13="x",$A$1-RECAP!$U$6,(G13-D13)*(COUNT(E13:F13)=2)) -> 0.00069444444 | I13: {=IF($A13="X",SUM(OFFSET($H13,,,IFERROR(_xlfn.AGGREGATE(14,6,ROW($A$1:$A12)/($A$1:$A12="X"),1),2)-ROW(),)),"-")} -> 0.022916667
A14: =IF(OR(AND(DAY(B14)>=15,DAY(WORKDAY.INTL(B14,-1))<15),AND(MONTH(B14)<>MONTH(WORKDAY.INTL(B14,1)))),"X","") | B14: =B13+CHOOSE(WEEKDAY(B13,2),1,1,1,1,3,2,1) -> 43358 | D14: =+$N$6 -> 0.3125 | E14: 0.35416667 | F14: 0.70902778 | G14: =IF(COUNT(E14:F14)<>2,0,F14-E14-(F14-E14>=$H$1)*IF(K14<>"",K14,$G$1)) -> 0.33402778 | H14: =IF(C14="x",$A$1-RECAP!$U$6,(G14-D14)*(COUNT(E14:F14)=2)) -> 0.021527778 | I14: {=IF($A14="X",SUM(OFFSET($H14,,,IFERROR(_xlfn.AGGREGATE(14,6,ROW($A$1:$A13)/($A$1:$A13="X"),1),2)-ROW(),)),"-")} -> -
A15: =IF(OR(AND(DAY(B15)>=15,DAY(WORKDAY.INTL(B15,-1))<15),AND(MONTH(B15)<>MONTH(WORKDAY.INTL(B15,1)))),"X","") | B15: =B14+CHOOSE(WEEKDAY(B14,2),1,1,1,1,3,2,1) -> 43361 | D15: =+$N$6 -> 0.3125 | E15: 0.36597222 | F15: 0.69861111 | G15: =IF(COUNT(E15:F15)<>2,0,F15-E15-(F15-E15>=$H$1)*IF(K15<>"",K15,$G$1)) -> 0.31180556 | H15: =IF(C15="x",$A$1-RECAP!$U$6,(G15-D15)*(COUNT(E15:F15)=2)) -> -0.00069444444 | I15: {=IF($A15="X",SUM(OFFSET($H15,,,IFERROR(_xlfn.AGGREGATE(14,6,ROW($A$1:$A14)/($A$1:$A14="X"),1),2)-ROW(),)),"-")} -> -
A16: =IF(OR(AND(DAY(B16)>=15,DAY(WORKDAY.INTL(B16,-1))<15),AND(MONTH(B16)<>MONTH(WORKDAY.INTL(B16,1)))),"X","") | B16: =B15+CHOOSE(WEEKDAY(B15,2),1,1,1,1,3,2,1) -> 43362 | D16: =+$N$6 -> 0.3125 | E16: 0.35416667 | F16: 0.68888889 | G16: =IF(COUNT(E16:F16)<>2,0,F16-E16-(F16-E16>=$H$1)*IF(K16<>"",K16,$G$1)) -> 0.31388889 | H16: =IF(C16="x",$A$1-RECAP!$U$6,(G16-D16)*(COUNT(E16:F16)=2)) -> 0.0013888889 | I16: {=IF($A16="X",SUM(OFFSET($H16,,,IFERROR(_xlfn.AGGREGATE(14,6,ROW($A$1:$A15)/($A$1:$A15="X"),1),2)-ROW(),)),"-")} -> -
A17: =IF(OR(AND(DAY(B17)>=15,DAY(WORKDAY.INTL(B17,-1))<15),AND(MONTH(B17)<>MONTH(WORKDAY.INTL(B17,1)))),"X","") | B17: =B16+CHOOSE(WEEKDAY(B16,2),1,1,1,1,3,2,1) -> 43363 | D17: =+$N$6 -> 0.3125 | G17: =IF(COUNT(E17:F17)<>2,0,F17-E17-(F17-E17>=$H$1)*IF(K17<>"",K17,$G$1)) -> 0 | H17: =IF(C17="x",$A$1-RECAP!$U$6,(G17-D17)*(COUNT(E17:F17)=2)) -> 0 | I17: {=IF($A17="X",SUM(OFFSET($H17,,,IFERROR(_xlfn.AGGREGATE(14,6,ROW($A$1:$A16)/($A$1:$A16="X"),1),2)-ROW(),)),"-")} -> -
A18: =IF(OR(AND(DAY(B18)>=15,DAY(WORKDAY.INTL(B18,-1))<15),AND(MONTH(B18)<>MONTH(WORKDAY.INTL(B18,1)))),"X","") | B18: =B17+CHOOSE(WEEKDAY(B17,2),1,1,1,1,3,2,1) -> 43364 | D18: =+$N$6 -> 0.3125 | E18: 0.35416667 | F18: 0.6875 | G18: =IF(COUNT(E18:F18)<>2,0,F18-E18-(F18-E18>=$H$1)*IF(K18<>"",K18,$G$1)) -> 0.3125 | H18: =IF(C18="x",$A$1-RECAP!$U$6,(G18-D18)*(COUNT(E18:F18)=2)) -> 0 | I18: {=IF($A18="X",SUM(OFFSET($H18,,,IFERROR(_xlfn.AGGREGATE(14,6,ROW($A$1:$A17)/($A$1:$A17="X"),1),2)-ROW(),)),"-")} -> - | O18: {=IF(A18="X",IFERROR(_xlfn.AGGREGATE(14,6,ROW($A$1:A17)/($A$1:A17="X"),1),2),"-")} -> -
A19: =IF(OR(AND(DAY(B19)>=15,DAY(WORKDAY.INTL(B19,-1))<15),AND(MONTH(B19)<>MONTH(WORKDAY.INTL(B19,1)))),"X","") | B19: =B18+CHOOSE(WEEKDAY(B18,2),1,1,1,1,3,2,1) -> 43365 | D19: =+$N$6 -> 0.3125 | G19: =IF(COUNT(E19:F19)<>2,0,F19-E19-(F19-E19>=$H$1)*IF(K19<>"",K19,$G$1)) -> 0 | H19: =IF(C19="x",$A$1-RECAP!$U$6,(G19-D19)*(COUNT(E19:F19)=2)) -> 0 | I19: {=IF($A19="X",SUM(OFFSET($H19,,,IFERROR(_xlfn.AGGREGATE(14,6,ROW($A$1:$A18)/($A$1:$A18="X"),1),2)-ROW(),)),"-")} -> - | O19: {=IF(A19="X",IFERROR(_xlfn.AGGREGATE(14,6,ROW($A$1:A18)/($A$1:A18="X"),1),2),"-")} -> -
A20: =IF(OR(AND(DAY(B20)>=15,DAY(WORKDAY.INTL(B20,-1))<15),AND(MONTH(B20)<>MONTH(WORKDAY.INTL(B20,1)))),"X","") | B20: =B19+CHOOSE(WEEKDAY(B19,2),1,1,1,1,3,2,1) -> 43368 | D20: =+$N$6 -> 0.3125 | E20: 0.35486111 | F20: 0.68819444 | G20: =IF(COUNT(E20:F20)<>2,0,F20-E20-(F20-E20>=$H$1)*IF(K20<>"",K20,$G$1)) -> 0.3125 | H20: =IF(C20="x",$A$1-RECAP!$U$6,(G20-D20)*(COUNT(E20:F20)=2)) -> 0 | I20: {=IF($A20="X",SUM(OFFSET($H20,,,IFERROR(_xlfn.AGGREGATE(14,6,ROW($A$1:$A19)/($A$1:$A19="X"),1),2)-ROW(),)),"-")} -> - | O20: {=IF(A20="X",IFERROR(_xlfn.AGGREGATE(14,6,ROW($A$1:A19)/($A$1:A19="X"),1),2),"-")} -> -
A21: =IF(OR(AND(DAY(B21)>=15,DAY(WORKDAY.INTL(B21,-1))<15),AND(MONTH(B21)<>MONTH(WORKDAY.INTL(B21,1)))),"X","") | B21: =B20+CHOOSE(WEEKDAY(B20,2),1,1,1,1,3,2,1) -> 43369 | D21: =+$N$6 -> 0.3125 | E21: 0.35625 | F21: 0.69305556 | G21: =IF(COUNT(E21:F21)<>2,0,F21-E21-(F21-E21>=$H$1)*IF(K21<>"",K21,$G$1)) -> 0.31597222 | H21: =IF(C21="x",$A$1-RECAP!$U$6,(G21-D21)*(COUNT(E21:F21)=2)) -> 0.0034722222 | I21: {=IF($A21="X",SUM(OFFSET($H21,,,IFERROR(_xlfn.AGGREGATE(14,6,ROW($A$1:$A20)/($A$1:$A20="X"),1),2)-ROW(),)),"-")} -> - | O21: {=IF(A21="X",IFERROR(_xlfn.AGGREGATE(14,6,ROW($A$1:A20)/($A$1:A20="X"),1),2),"-")} -> -
A22: =IF(OR(AND(DAY(B22)>=15,DAY(WORKDAY.INTL(B22,-1))<15),AND(MONTH(B22)<>MONTH(WORKDAY.INTL(B22,1)))),"X","") | B22: =B21+CHOOSE(WEEKDAY(B21,2),1,1,1,1,3,2,1) -> 43370 | D22: =+$N$6 -> 0.3125 | G22: =IF(COUNT(E22:F22)<>2,0,F22-E22-(F22-E22>=$H$1)*IF(K22<>"",K22,$G$1)) -> 0 | H22: =IF(C22="x",$A$1-RECAP!$U$6,(G22-D22)*(COUNT(E22:F22)=2)) -> 0 | I22: {=IF($A22="X",SUM(OFFSET($H22,,,IFERROR(_xlfn.AGGREGATE(14,6,ROW($A$1:$A21)/($A$1:$A21="X"),1),2)-ROW(),)),"-")} -> - | O22: {=IF(A22="X",IFERROR(_xlfn.AGGREGATE(14,6,ROW($A$1:A21)/($A$1:A21="X"),1),2),"-")} -> -
A23: =IF(OR(AND(DAY(B23)>=15,DAY(WORKDAY.INTL(B23,-1))<15),AND(MONTH(B23)<>MONTH(WORKDAY.INTL(B23,1)))),"X","") | B23: =B22+CHOOSE(WEEKDAY(B22,2),1,1,1,1,3,2,1) -> 43371 | D23: =+$N$6 -> 0.3125 | E23: 0.35416667 | F23: 0.69861111 | G23: =IF(COUNT(E23:F23)<>2,0,F23-E23-(F23-E23>=$H$1)*IF(K23<>"",K23,$G$1)) -> 0.32361111 | H23: =IF(C23="x",$A$1-RECAP!$U$6,(G23-D23)*(COUNT(E23:F23)=2)) -> 0.011111111 | I23: {=IF($A23="X",SUM(OFFSET($H23,,,IFERROR(_xlfn.AGGREGATE(14,6,ROW($A$1:$A22)/($A$1:$A22="X"),1),2)-ROW(),)),"-")} -> - | O23: {=IF(A23="X",IFERROR(_xlfn.AGGREGATE(14,6,ROW($A$1:A22)/($A$1:A22="X"),1),2),"-")} -> -
A24: =IF(OR(AND(DAY(B24)>=15,DAY(WORKDAY.INTL(B24,-1))<15),AND(MONTH(B24)<>MONTH(WORKDAY.INTL(B24,1)))),"X","") -> X | B24: =B23+CHOOSE(WEEKDAY(B23,2),1,1,1,1,3,2,1) -> 43372 | D24: =+$N$6 -> 0.3125 | E24: 0.35416667 | F24: 0.69166667 | G24: =IF(COUNT(E24:F24)<>2,0,F24-E24-(F24-E24>=$H$1)*IF(K24<>"",K24,$G$1)) -> 0.31666667 | H24: =IF(C24="x",$A$1-RECAP!$U$6,(G24-D24)*(COUNT(E24:F24)=2)) -> 0.0041666667 | I24: {=IF($A24="X",SUM(OFFSET($H24,,,IFERROR(_xlfn.AGGREGATE(14,6,ROW($A$1:$A23)/($A$1:$A23="X"),1),2)-ROW(),)),"-")} -> 0.040972222 | O24: {=IF(A24="X",IFERROR(_xlfn.AGGREGATE(14,6,ROW($A$1:A23)/($A$1:A23="X"),1),2),"-")} -> 13
A25: =IF(OR(AND(DAY(B25)>=15,DAY(WORKDAY.INTL(B25,-1))<15),AND(MONTH(B25)<>MONTH(WORKDAY.INTL(B25,1)))),"X","") | B25: =B24+CHOOSE(WEEKDAY(B24,2),1,1,1,1,3,2,1) -> 43375 | D25: =+$N$6 -> 0.3125 | E25: 0.35416667 | F25: 0.69861111 | G25: =IF(COUNT(E25:F25)<>2,0,F25-E25-(F25-E25>=$H$1)*IF(K25<>"",K25,$G$1)) -> 0.32361111 | H25: =IF(C25="x",$A$1-RECAP!$U$6,(G25-D25)*(COUNT(E25:F25)=2)) -> 0.011111111 | I25: {=IF($A25="X",SUM(OFFSET($H25,,,IFERROR(_xlfn.AGGREGATE(14,6,ROW($A$1:$A24)/($A$1:$A24="X"),1),2)-ROW(),)),"-")} -> - | O25: {=IF(A25="X",IFERROR(_xlfn.AGGREGATE(14,6,ROW($A$1:A24)/($A$1:A24="X"),1),2),"-")} -> -
A26: =IF(OR(AND(DAY(B26)>=15,DAY(WORKDAY.INTL(B26,-1))<15),AND(MONTH(B26)<>MONTH(WORKDAY.INTL(B26,1)))),"X","") | B26: =B25+CHOOSE(WEEKDAY(B25,2),1,1,1,1,3,2,1) -> 43376 | D26: =+$N$6 -> 0.3125 | E26: 0.36736111 | F26: 0.68819444 | G26: =IF(COUNT(E26:F26)<>2,0,F26-E26-(F26-E26>=$H$1)*IF(K26<>"",K26,$G$1)) -> 0.3 | H26: =IF(C26="x",$A$1-RECAP!$U$6,(G26-D26)*(COUNT(E26:F26)=2)) -> -0.0125 | I26: {=IF($A26="X",SUM(OFFSET($H26,,,IFERROR(_xlfn.AGGREGATE(14,6,ROW($A$1:$A25)/($A$1:$A25="X"),1),2)-ROW(),)),"-")} -> -
A27: =IF(OR(AND(DAY(B27)>=15,DAY(WORKDAY.INTL(B27,-1))<15),AND(MONTH(B27)<>MONTH(WORKDAY.INTL(B27,1)))),"X","") | B27: =B26+CHOOSE(WEEKDAY(B26,2),1,1,1,1,3,2,1) -> 43377 | D27: =+$N$6 -> 0.3125 | G27: =IF(COUNT(E27:F27)<>2,0,F27-E27-(F27-E27>=$H$1)*IF(K27<>"",K27,$G$1)) -> 0 | H27: =IF(C27="x",$A$1-RECAP!$U$6,(G27-D27)*(COUNT(E27:F27)=2)) -> 0 | I27: {=IF($A27="X",SUM(OFFSET($H27,,,IFERROR(_xlfn.AGGREGATE(14,6,ROW($A$1:$A26)/($A$1:$A26="X"),1),2)-ROW(),)),"-")} -> -
A28: =IF(OR(AND(DAY(B28)>=15,DAY(WORKDAY.INTL(B28,-1))<15),AND(MONTH(B28)<>MONTH(WORKDAY.INTL(B28,1)))),"X","") | B28: =B27+CHOOSE(WEEKDAY(B27,2),1,1,1,1,3,2,1) -> 43378 | D28: =+$N$6 -> 0.3125 | E28: 0.35416667 | F28: 0.69375 | G28: =IF(COUNT(E28:F28)<>2,0,F28-E28-(F28-E28>=$H$1)*IF(K28<>"",K28,$G$1)) -> 0.31875 | H28: =IF(C28="x",$A$1-RECAP!$U$6,(G28-D28)*(COUNT(E28:F28)=2)) -> 0.00625 | I28: {=IF($A28="X",SUM(OFFSET($H28,,,IFERROR(_xlfn.AGGREGATE(14,6,ROW($A$1:$A27)/($A$1:$A27="X"),1),2)-ROW(),)),"-")} -> -
A29: =IF(OR(AND(DAY(B29)>=15,DAY(WORKDAY.INTL(B29,-1))<15),AND(MONTH(B29)<>MONTH(WORKDAY.INTL(B29,1)))),"X","") | B29: =B28+CHOOSE(WEEKDAY(B28,2),1,1,1,1,3,2,1) -> 43379 | D29: =+$N$6 -> 0.3125 | G29: =IF(COUNT(E29:F29)<>2,0,F29-E29-(F29-E29>=$H$1)*IF(K29<>"",K29,$G$1)) -> 0 | H29: =IF(C29="x",$A$1-RECAP!$U$6,(G29-D29)*(COUNT(E29:F29)=2)) -> 0 | I29: {=IF($A29="X",SUM(OFFSET($H29,,,IFERROR(_xlfn.AGGREGATE(14,6,ROW($A$1:$A28)/($A$1:$A28="X"),1),2)-ROW(),)),"-")} -> -
A30: =IF(OR(AND(DAY(B30)>=15,DAY(WORKDAY.INTL(B30,-1))<15),AND(MONTH(B30)<>MONTH(WORKDAY.INTL(B30,1)))),"X","") | B30: =B29+CHOOSE(WEEKDAY(B29,2),1,1,1,1,3,2,1) -> 43382 | D30: =+$N$6 -> 0.3125 | G30: =IF(COUNT(E30:F30)<>2,0,F30-E30-(F30-E30>=$H$1)*IF(K30<>"",K30,$G$1)) -> 0 | H30: =IF(C30="x",$A$1-RECAP!$U$6,(G30-D30)*(COUNT(E30:F30)=2)) -> 0 | I30: {=IF($A30="X",SUM(OFFSET($H30,,,IFERROR(_xlfn.AGGREGATE(14,6,ROW($A$1:$A29)/($A$1:$A29="X"),1),2)-ROW(),)),"-")} -> -
A31: =IF(OR(AND(DAY(B31)>=15,DAY(WORKDAY.INTL(B31,-1))<15),AND(MONTH(B31)<>MONTH(WORKDAY.INTL(B31,1)))),"X","") | B31: =B30+CHOOSE(WEEKDAY(B30,2),1,1,1,1,3,2,1) -> 43383 | D31: =+$N$6 -> 0.3125 | E31: 0.35416667 | F31: 0.69930556 | G31: =IF(COUNT(E31:F31)<>2,0,F31-E31-(F31-E31>=$H$1)*IF(K31<>"",K31,$G$1)) -> 0.32430556 | H31: =IF(C31="x",$A$1-RECAP!$U$6,(G31-D31)*(COUNT(E31:F31)=2)) -> 0.011805556 | I31: {=IF($A31="X",SUM(OFFSET($H31,,,IFERROR(_xlfn.AGGREGATE(14,6,ROW($A$1:$A30)/($A$1:$A30="X"),1),2)-ROW(),)),"-")} -> -
A32: =IF(OR(AND(DAY(B32)>=15,DAY(WORKDAY.INTL(B32,-1))<15),AND(MONTH(B32)<>MONTH(WORKDAY.INTL(B32,1)))),"X","") | B32: =B31+CHOOSE(WEEKDAY(B31,2),1,1,1,1,3,2,1) -> 43384 | D32: =+$N$6 -> 0.3125 | G32: =IF(COUNT(E32:F32)<>2,0,F32-E32-(F32-E32>=$H$1)*IF(K32<>"",K32,$G$1)) -> 0 | H32: =IF(C32="x",$A$1-RECAP!$U$6,(G32-D32)*(COUNT(E32:F32)=2)) -> 0 | I32: {=IF($A32="X",SUM(OFFSET($H32,,,IFERROR(_xlfn.AGGREGATE(14,6,ROW($A$1:$A31)/($A$1:$A31="X"),1),2)-ROW(),)),"-")} -> -
A33: =IF(OR(AND(DAY(B33)>=15,DAY(WORKDAY.INTL(B33,-1))<15),AND(MONTH(B33)<>MONTH(WORKDAY.INTL(B33,1)))),"X","") | B33: =B32+CHOOSE(WEEKDAY(B32,2),1,1,1,1,3,2,1) -> 43385 | D33: =+$N$6 -> 0.3125 | E33: 0.35555556 | F33: 0.70069444 | G33: =IF(COUNT(E33:F33)<>2,0,F33-E33-(F33-E33>=$H$1)*IF(K33<>"",K33,$G$1)) -> 0.32430556 | H33: =IF(C33="x",$A$1-RECAP!$U$6,(G33-D33)*(COUNT(E33:F33)=2)) -> 0.011805556 | I33: {=IF($A33="X",SUM(OFFSET($H33,,,IFERROR(_xlfn.AGGREGATE(14,6,ROW($A$1:$A32)/($A$1:$A32="X"),1),2)-ROW(),)),"-")} -> -
A34: =IF(OR(AND(DAY(B34)>=15,DAY(WORKDAY.INTL(B34,-1))<15),AND(MONTH(B34)<>MONTH(WORKDAY.INTL(B34,1)))),"X","") | B34: =B33+CHOOSE(WEEKDAY(B33,2),1,1,1,1,3,2,1) -> 43386 | D34: =+$N$6 -> 0.3125 | E34: 0.35416667 | F34: 0.69305556 | G34: =IF(COUNT(E34:F34)<>2,0,F34-E34-(F34-E34>=$H$1)*IF(K34<>"",K34,$G$1)) -> 0.31805556 | H34: =IF(C34="x",$A$1-RECAP!$U$6,(G34-D34)*(COUNT(E34:F34)=2)) -> 0.0055555556 | I34: {=IF($A34="X",SUM(OFFSET($H34,,,IFERROR(_xlfn.AGGREGATE(14,6,ROW($A$1:$A33)/($A$1:$A33="X"),1),2)-ROW(),)),"-")} -> -
A35: =IF(OR(AND(DAY(B35)>=15,DAY(WORKDAY.INTL(B35,-1))<15),AND(MONTH(B35)<>MONTH(WORKDAY.INTL(B35,1)))),"X","") -> X | B35: =B34+CHOOSE(WEEKDAY(B34,2),1,1,1,1,3,2,1) -> 43389 | D35: =+$N$6 -> 0.3125 | E35: 0.38055556 | F35: 0.68819444 | G35: =IF(COUNT(E35:F35)<>2,0,F35-E35-(F35-E35>=$H$1)*IF(K35<>"",K35,$G$1)) -> 0.28680556 | H35: =IF(C35="x",$A$1-RECAP!$U$6,(G35-D35)*(COUNT(E35:F35)=2)) -> -0.025694444 | I35: {=IF($A35="X",SUM(OFFSET($H35,,,IFERROR(_xlfn.AGGREGATE(14,6,ROW($A$1:$A34)/($A$1:$A34="X"),1),2)-ROW(),)),"-")} -> 0.0083333333
A36: =IF(OR(AND(DAY(B36)>=15,DAY(WORKDAY.INTL(B36,-1))<15),AND(MONTH(B36)<>MONTH(WORKDAY.INTL(B36,1)))),"X","") | B36: =B35+CHOOSE(WEEKDAY(B35,2),1,1,1,1,3,2,1) -> 43390 | D36: =+$N$6 -> 0.3125 | E36: 0.37083333 | F36: 0.69722222 | G36: =IF(COUNT(E36:F36)<>2,0,F36-E36-(F36-E36>=$H$1)*IF(K36<>"",K36,$G$1)) -> 0.30555556 | H36: =IF(C36="x",$A$1-RECAP!$U$6,(G36-D36)*(COUNT(E36:F36)=2)) -> -0.0069444444 | I36: {=IF($A36="X",SUM(OFFSET($H36,,,IFERROR(_xlfn.AGGREGATE(14,6,ROW($A$1:$A35)/($A$1:$A35="X"),1),2)-ROW(),)),"-")} -> -
A37: =IF(OR(AND(DAY(B37)>=15,DAY(WORKDAY.INTL(B37,-1))<15),AND(MONTH(B37)<>MONTH(WORKDAY.INTL(B37,1)))),"X","") | B37: =B36+CHOOSE(WEEKDAY(B36,2),1,1,1,1,3,2,1) -> 43391 | D37: =+$N$6 -> 0.3125 | G37: =IF(COUNT(E37:F37)<>2,0,F37-E37-(F37-E37>=$H$1)*IF(K37<>"",K37,$G$1)) -> 0 | H37: =IF(C37="x",$A$1-RECAP!$U$6,(G37-D37)*(COUNT(E37:F37)=2)) -> 0 | I37: {=IF($A37="X",SUM(OFFSET($H37,,,IFERROR(_xlfn.AGGREGATE(14,6,ROW($A$1:$A36)/($A$1:$A36="X"),1),2)-ROW(),)),"-")} -> -
A38: =IF(OR(AND(DAY(B38)>=15,DAY(WORKDAY.INTL(B38,-1))<15),AND(MONTH(B38)<>MONTH(WORKDAY.INTL(B38,1)))),"X","") | B38: =B37+CHOOSE(WEEKDAY(B37,2),1,1,1,1,3,2,1) -> 43392 | D38: =+$N$6 -> 0.3125 | E38: 0.35416667 | F38: 0.71180556 | G38: =IF(COUNT(E38:F38)<>2,0,F38-E38-(F38-E38>=$H$1)*IF(K38<>"",K38,$G$1)) -> 0.33680556 | H38: =IF(C38="x",$A$1-RECAP!$U$6,(G38-D38)*(COUNT(E38:F38)=2)) -> 0.024305556 | I38: {=IF($A38="X",SUM(OFFSET($H38,,,IFERROR(_xlfn.AGGREGATE(14,6,ROW($A$1:$A37)/($A$1:$A37="X"),1),2)-ROW(),)),"-")} -> -
A39: =IF(OR(AND(DAY(B39)>=15,DAY(WORKDAY.INTL(B39,-1))<15),AND(MONTH(B39)<>MONTH(WORKDAY.INTL(B39,1)))),"X","") | B39: =B38+CHOOSE(WEEKDAY(B38,2),1,1,1,1,3,2,1) -> 43393 | D39: =+$N$6 -> 0.3125 | E39: 0.35416667 | F39: 0.70208333 | G39: =IF(COUNT(E39:F39)<>2,0,F39-E39-(F39-E39>=$H$1)*IF(K39<>"",K39,$G$1)) -> 0.32708333 | H39: =IF(C39="x",$A$1-RECAP!$U$6,(G39-D39)*(COUNT(E39:F39)=2)) -> 0.014583333 | I39: {=IF($A39="X",SUM(OFFSET($H39,,,IFERROR(_xlfn.AGGREGATE(14,6,ROW($A$1:$A38)/($A$1:$A38="X"),1),2)-ROW(),)),"-")} -> -
A40: =IF(OR(AND(DAY(B40)>=15,DAY(WORKDAY.INTL(B40,-1))<15),AND(MONTH(B40)<>MONTH(WORKDAY.INTL(B40,1)))),"X","") | B40: =B39+CHOOSE(WEEKDAY(B39,2),1,1,1,1,3,2,1) -> 43396 | D40: =+$N$6 -> 0.3125 | E40: 0.35416667 | F40: 0.70277778 | G40: =IF(COUNT(E40:F40)<>2,0,F40-E40-(F40-E40>=$H$1)*IF(K40<>"",K40,$G$1)) -> 0.32777778 | H40: =IF(C40="x",$A$1-RECAP!$U$6,(G40-D40)*(COUNT(E40:F40)=2)) -> 0.015277778 | I40: {=IF($A40="X",SUM(OFFSET($H40,,,IFERROR(_xlfn.AGGREGATE(14,6,ROW($A$1:$A39)/($A$1:$A39="X"),1),2)-ROW(),)),"-")} -> -
A41: =IF(OR(AND(DAY(B41)>=15,DAY(WORKDAY.INTL(B41,-1))<15),AND(MONTH(B41)<>MONTH(WORKDAY.INTL(B41,1)))),"X","") | B41: =B40+CHOOSE(WEEKDAY(B40,2),1,1,1,1,3,2,1) -> 43397 | D41: =+$N$6 -> 0.3125 | E41: 0.35833333 | F41: 0.68888889 | G41: =IF(COUNT(E41:F41)<>2,0,F41-E41-(F41-E41>=$H$1)*IF(K41<>"",K41,$G$1)) -> 0.30972222 | H41: =IF(C41="x",$A$1-RECAP!$U$6,(G41-D41)*(COUNT(E41:F41)=2)) -> -0.0027777778 | I41: {=IF($A41="X",SUM(OFFSET($H41,,,IFERROR(_xlfn.AGGREGATE(14,6,ROW($A$1:$A40)/($A$1:$A40="X"),1),2)-ROW(),)),"-")} -> -
A42: =IF(OR(AND(DAY(B42)>=15,DAY(WORKDAY.INTL(B42,-1))<15),AND(MONTH(B42)<>MONTH(WORKDAY.INTL(B42,1)))),"X","") | B42: =B41+CHOOSE(WEEKDAY(B41,2),1,1,1,1,3,2,1) -> 43398 | D42: =+$N$6 -> 0.3125 | G42: =IF(COUNT(E42:F42)<>2,0,F42-E42-(F42-E42>=$H$1)*IF(K42<>"",K42,$G$1)) -> 0 | H42: =IF(C42="x",$A$1-RECAP!$U$6,(G42-D42)*(COUNT(E42:F42)=2)) -> 0 | I42: {=IF($A42="X",SUM(OFFSET($H42,,,IFERROR(_xlfn.AGGREGATE(14,6,ROW($A$1:$A41)/($A$1:$A41="X"),1),2)-ROW(),)),"-")} -> -
A43: =IF(OR(AND(DAY(B43)>=15,DAY(WORKDAY.INTL(B43,-1))<15),AND(MONTH(B43)<>MONTH(WORKDAY.INTL(B43,1)))),"X","") | B43: =B42+CHOOSE(WEEKDAY(B42,2),1,1,1,1,3,2,1) -> 43399 | D43: =+$N$6 -> 0.3125 | E43: 0.35416667 | F43: 0.68888889 | G43: =IF(COUNT(E43:F43)<>2,0,F43-E43-(F43-E43>=$H$1)*IF(K43<>"",K43,$G$1)) -> 0.31388889 | H43: =IF(C43="x",$A$1-RECAP!$U$6,(G43-D43)*(COUNT(E43:F43)=2)) -> 0.0013888889 | I43: {=IF($A43="X",SUM(OFFSET($H43,,,IFERROR(_xlfn.AGGREGATE(14,6,ROW($A$1:$A42)/($A$1:$A42="X"),1),2)-ROW(),)),"-")} -> -
A44: =IF(OR(AND(DAY(B44)>=15,DAY(WORKDAY.INTL(B44,-1))<15),AND(MONTH(B44)<>MONTH(WORKDAY.INTL(B44,1)))),"X","") | B44: =B43+CHOOSE(WEEKDAY(B43,2),1,1,1,1,3,2,1) -> 43400 | D44: =+$N$6 -> 0.3125 | E44: 0.35902778 | F44: 0.71111111 | G44: =IF(COUNT(E44:F44)<>2,0,F44-E44-(F44-E44>=$H$1)*IF(K44<>"",K44,$G$1)) -> 0.33125 | H44: =IF(C44="x",$A$1-RECAP!$U$6,(G44-D44)*(COUNT(E44:F44)=2)) -> 0.01875 | I44: {=IF($A44="X",SUM(OFFSET($H44,,,IFERROR(_xlfn.AGGREGATE(14,6,ROW($A$1:$A43)/($A$1:$A43="X"),1),2)-ROW(),)),"-")} -> -
A45: =IF(OR(AND(DAY(B45)>=15,DAY(WORKDAY.INTL(B45,-1))<15),AND(MONTH(B45)<>MONTH(WORKDAY.INTL(B45,1)))),"X","") -> X | B45: =B44+CHOOSE(WEEKDAY(B44,2),1,1,1,1,3,2,1) -> 43403 | D45: =+$N$6 -> 0.3125 | G45: =IF(COUNT(E45:F45)<>2,0,F45-E45-(F45-E45>=$H$1)*IF(K45<>"",K45,$G$1)) -> 0 | H45: =IF(C45="x",$A$1-RECAP!$U$6,(G45-D45)*(COUNT(E45:F45)=2)) -> 0 | I45: {=IF($A45="X",SUM(OFFSET($H45,,,IFERROR(_xlfn.AGGREGATE(14,6,ROW($A$1:$A44)/($A$1:$A44="X"),1),2)-ROW(),)),"-")} -> 0.064583333
A46: =IF(OR(AND(DAY(B46)>=15,DAY(WORKDAY.INTL(B46,-1))<15),AND(MONTH(B46)<>MONTH(WORKDAY.INTL(B46,1)))),"X","") | B46: =B45+CHOOSE(WEEKDAY(B45,2),1,1,1,1,3,2,1) -> 43404 | C46: x | D46: =+$N$6 -> 0.3125 | G46: =IF(COUNT(E46:F46)<>2,0,F46-E46-(F46-E46>=$H$1)*IF(K46<>"",K46,$G$1)) -> 0 | H46: =IF(C46="x",$A$1-RECAP!$U$6,(G46-D46)*(COUNT(E46:F46)=2)) -> -0.0625 | I46: {=IF($A46="X",SUM(OFFSET($H46,,,IFERROR(_xlfn.AGGREGATE(14,6,ROW($A$1:$A45)/($A$1:$A45="X"),1),2)-ROW(),)),"-")} -> -
A47: =IF(OR(AND(DAY(B47)>=15,DAY(WORKDAY.INTL(B47,-1))<15),AND(MONTH(B47)<>MONTH(WORKDAY.INTL(B47,1)))),"X","") | B47: =B46+CHOOSE(WEEKDAY(B46,2),1,1,1,1,3,2,1) -> 43405 | D47: =+$N$6 -> 0.3125 | G47: =IF(COUNT(E47:F47)<>2,0,F47-E47-(F47-E47>=$H$1)*IF(K47<>"",K47,$G$1)) -> 0 | H47: =IF(C47="x",$A$1-RECAP!$U$6,(G47-D47)*(COUNT(E47:F47)=2)) -> 0 | I47: {=IF($A47="X",SUM(OFFSET($H47,,,IFERROR(_xlfn.AGGREGATE(14,6,ROW($A$1:$A46)/($A$1:$A46="X"),1),2)-ROW(),)),"-")} -> -
A48: =IF(OR(AND(DAY(B48)>=15,DAY(WORKDAY.INTL(B48,-1))<15),AND(MONTH(B48)<>MONTH(WORKDAY.INTL(B48,1)))),"X","") | B48: =B47+CHOOSE(WEEKDAY(B47,2),1,1,1,1,3,2,1) -> 43406 | D48: =+$N$6 -> 0.3125 | E48: 0.3625 | F48: 0.69722222 | G48: =IF(COUNT(E48:F48)<>2,0,F48-E48-(F48-E48>=$H$1)*IF(K48<>"",K48,$G$1)) -> 0.31388889 | H48: =IF(C48="x",$A$1-RECAP!$U$6,(G48-D48)*(COUNT(E48:F48)=2)) -> 0.0013888889 | I48: {=IF($A48="X",SUM(OFFSET($H48,,,IFERROR(_xlfn.AGGREGATE(14,6,ROW($A$1:$A47)/($A$1:$A47="X"),1),2)-ROW(),)),"-")} -> -
A49: =IF(OR(AND(DAY(B49)>=15,DAY(WORKDAY.INTL(B49,-1))<15),AND(MONTH(B49)<>MONTH(WORKDAY.INTL(B49,1)))),"X","") | B49: =B48+CHOOSE(WEEKDAY(B48,2),1,1,1,1,3,2,1) -> 43407 | D49: =+$N$6 -> 0.3125 | E49: 0.35694444 | F49: 0.68888889 | G49: =IF(COUNT(E49:F49)<>2,0,F49-E49-(F49-E49>=$H$1)*IF(K49<>"",K49,$G$1)) -> 0.29027778 | H49: =IF(C49="x",$A$1-RECAP!$U$6,(G49-D49)*(COUNT(E49:F49)=2)) -> -0.022222222 | I49: {=IF($A49="X",SUM(OFFSET($H49,,,IFERROR(_xlfn.AGGREGATE(14,6,ROW($A$1:$A48)/($A$1:$A48="X"),1),2)-ROW(),)),"-")} -> - | K49: 0.041666667
A50: =IF(OR(AND(DAY(B50)>=15,DAY(WORKDAY.INTL(B50,-1))<15),AND(MONTH(B50)<>MONTH(WORKDAY.INTL(B50,1)))),"X","") | B50: =B49+CHOOSE(WEEKDAY(B49,2),1,1,1,1,3,2,1) -> 43410 | D50: =+$N$6 -> 0.3125 | E50: 0.35833333 | F50: 0.6875 | G50: =IF(COUNT(E50:F50)<>2,0,F50-E50-(F50-E50>=$H$1)*IF(K50<>"",K50,$G$1)) -> 0.30833333 | H50: =IF(C50="x",$A$1-RECAP!$U$6,(G50-D50)*(COUNT(E50:F50)=2)) -> -0.0041666667 | I50: {=IF($A50="X",SUM(OFFSET($H50,,,IFERROR(_xlfn.AGGREGATE(14,6,ROW($A$1:$A49)/($A$1:$A49="X"),1),2)-ROW(),)),"-")} -> -
A51: =IF(OR(AND(DAY(B51)>=15,DAY(WORKDAY.INTL(B51,-1))<15),AND(MONTH(B51)<>MONTH(WORKDAY.INTL(B51,1)))),"X","") | B51: =B50+CHOOSE(WEEKDAY(B50,2),1,1,1,1,3,2,1) -> 43411 | D51: =+$N$6 -> 0.3125 | E51: 0.35555556 | F51: 0.56180556 | G51: =IF(COUNT(E51:F51)<>2,0,F51-E51-(F51-E51>=$H$1)*IF(K51<>"",K51,$G$1)) -> 0.20625 | H51: =IF(C51="x",$A$1-RECAP!$U$6,(G51-D51)*(COUNT(E51:F51)=2)) -> -0.10625 | I51: {=IF($A51="X",SUM(OFFSET($H51,,,IFERROR(_xlfn.AGGREGATE(14,6,ROW($A$1:$A50)/($A$1:$A50="X"),1),2)-ROW(),)),"-")} -> -
A52: =IF(OR(AND(DAY(B52)>=15,DAY(WORKDAY.INTL(B52,-1))<15),AND(MONTH(B52)<>MONTH(WORKDAY.INTL(B52,1)))),"X","") | B52: =B51+CHOOSE(WEEKDAY(B51,2),1,1,1,1,3,2,1) -> 43412 | D52: =+$N$6 -> 0.3125 | G52: =IF(COUNT(E52:F52)<>2,0,F52-E52-(F52-E52>=$H$1)*IF(K52<>"",K52,$G$1)) -> 0 | H52: =IF(C52="x",$A$1-RECAP!$U$6,(G52-D52)*(COUNT(E52:F52)=2)) -> 0 | I52: {=IF($A52="X",SUM(OFFSET($H52,,,IFERROR(_xlfn.AGGREGATE(14,6,ROW($A$1:$A51)/($A$1:$A51="X"),1),2)-ROW(),)),"-")} -> -
A53: =IF(OR(AND(DAY(B53)>=15,DAY(WORKDAY.INTL(B53,-1))<15),AND(MONTH(B53)<>MONTH(WORKDAY.INTL(B53,1)))),"X","") | B53: =B52+CHOOSE(WEEKDAY(B52,2),1,1,1,1,3,2,1) -> 43413 | D53: =+$N$6 -> 0.3125 | G53: =IF(COUNT(E53:F53)<>2,0,F53-E53-(F53-E53>=$H$1)*IF(K53<>"",K53,$G$1)) -> 0 | H53: =IF(C53="x",$A$1-RECAP!$U$6,(G53-D53)*(COUNT(E53:F53)=2)) -> 0 | I53: {=IF($A53="X",SUM(OFFSET($H53,,,IFERROR(_xlfn.AGGREGATE(14,6,ROW($A$1:$A52)/($A$1:$A52="X"),1),2)-ROW(),)),"-")} -> -
A54: =IF(OR(AND(DAY(B54)>=15,DAY(WORKDAY.INTL(B54,-1))<15),AND(MONTH(B54)<>MONTH(WORKDAY.INTL(B54,1)))),"X","") | B54: =B53+CHOOSE(WEEKDAY(B53,2),1,1,1,1,3,2,1) -> 43414 | C54: x | D54: =+$N$6 -> 0.3125 | G54: =IF(COUNT(E54:F54)<>2,0,F54-E54-(F54-E54>=$H$1)*IF(K54<>"",K54,$G$1)) -> 0 | H54: =IF(C54="x",$A$1-RECAP!$U$6,(G54-D54)*(COUNT(E54:F54)=2)) -> -0.0625 | I54: {=IF($A54="X",SUM(OFFSET($H54,,,IFERROR(_xlfn.AGGREGATE(14,6,ROW($A$1:$A53)/($A$1:$A53="X"),1),2)-ROW(),)),"-")} -> -
A55: =IF(OR(AND(DAY(B55)>=15,DAY(WORKDAY.INTL(B55,-1))<15),AND(MONTH(B55)<>MONTH(WORKDAY.INTL(B55,1)))),"X","") | B55: =B54+CHOOSE(WEEKDAY(B54,2),1,1,1,1,3,2,1) -> 43417 | D55: =+$N$6 -> 0.3125 | G55: =IF(COUNT(E55:F55)<>2,0,F55-E55-(F55-E55>=$H$1)*IF(K55<>"",K55,$G$1)) -> 0 | H55: =IF(C55="x",$A$1-RECAP!$U$6,(G55-D55)*(COUNT(E55:F55)=2)) -> 0 | I55: {=IF($A55="X",SUM(OFFSET($H55,,,IFERROR(_xlfn.AGGREGATE(14,6,ROW($A$1:$A54)/($A$1:$A54="X"),1),2)-ROW(),)),"-")} -> -
A56: =IF(OR(AND(DAY(B56)>=15,DAY(WORKDAY.INTL(B56,-1))<15),AND(MONTH(B56)<>MONTH(WORKDAY.INTL(B56,1)))),"X","") -> X | B56: =B55+CHOOSE(WEEKDAY(B55,2),1,1,1,1,3,2,1) -> 43418 | D56: =+$N$6 -> 0.3125 | G56: =IF(COUNT(E56:F56)<>2,0,F56-E56-(F56-E56>=$H$1)*IF(K56<>"",K56,$G$1)) -> 0 | H56: =IF(C56="x",$A$1-RECAP!$U$6,(G56-D56)*(COUNT(E56:F56)=2)) -> 0 | I56: {=IF($A56="X",SUM(OFFSET($H56,,,IFERROR(_xlfn.AGGREGATE(14,6,ROW($A$1:$A55)/($A$1:$A55="X"),1),2)-ROW(),)),"-")} -> -0.25625
A57: =IF(OR(AND(DAY(B57)>=15,DAY(WORKDAY.INTL(B57,-1))<15),AND(MONTH(B57)<>MONTH(WORKDAY.INTL(B57,1)))),"X","") | B57: =B56+CHOOSE(WEEKDAY(B56,2),1,1,1,1,3,2,1) -> 43419 | D57: =+$N$6 -> 0.3125 | G57: =IF(COUNT(E57:F57)<>2,0,F57-E57-(F57-E57>=$H$1)*IF(K57<>"",K57,$G$1)) -> 0 | H57: =IF(C57="x",$A$1-RECAP!$U$6,(G57-D57)*(COUNT(E57:F57)=2)) -> 0 | I57: {=IF($A57="X",SUM(OFFSET($H57,,,IFERROR(_xlfn.AGGREGATE(14,6,ROW($A$1:$A56)/($A$1:$A56="X"),1),2)-ROW(),)),"-")} -> -
A58: =IF(OR(AND(DAY(B58)>=15,DAY(WORKDAY.INTL(B58,-1))<15),AND(MONTH(B58)<>MONTH(WORKDAY.INTL(B58,1)))),"X","") | B58: =B57+CHOOSE(WEEKDAY(B57,2),1,1,1,1,3,2,1) -> 43420 | D58: =+$N$6 -> 0.3125 | G58: =IF(COUNT(E58:F58)<>2,0,F58-E58-(F58-E58>=$H$1)*IF(K58<>"",K58,$G$1)) -> 0 | H58: =IF(C58="x",$A$1-RECAP!$U$6,(G58-D58)*(COUNT(E58:F58)=2)) -> 0 | I58: {=IF($A58="X",SUM(OFFSET($H58,,,IFERROR(_xlfn.AGGREGATE(14,6,ROW($A$1:$A57)/($A$1:$A57="X"),1),2)-ROW(),)),"-")} -> -
A59: =IF(OR(AND(DAY(B59)>=15,DAY(WORKDAY.INTL(B59,-1))<15),AND(MONTH(B59)<>MONTH(WORKDAY.INTL(B59,1)))),"X","") | B59: =B58+CHOOSE(WEEKDAY(B58,2),1,1,1,1,3,2,1) -> 43421 | D59: =+$N$6 -> 0.3125 | G59: =IF(COUNT(E59:F59)<>2,0,F59-E59-(F59-E59>=$H$1)*IF(K59<>"",K59,$G$1)) -> 0 | H59: =IF(C59="x",$A$1-RECAP!$U$6,(G59-D59)*(COUNT(E59:F59)=2)) -> 0 | I59: {=IF($A59="X",SUM(OFFSET($H59,,,IFERROR(_xlfn.AGGREGATE(14,6,ROW($A$1:$A58)/($A$1:$A58="X"),1),2)-ROW(),)),"-")} -> -
A60: =IF(OR(AND(DAY(B60)>=15,DAY(WORKDAY.INTL(B60,-1))<15),AND(MONTH(B60)<>MONTH(WORKDAY.INTL(B60,1)))),"X","") | B60: =B59+CHOOSE(WEEKDAY(B59,2),1,1,1,1,3,2,1) -> 43424 | D60: =+$N$6 -> 0.3125 | G60: =IF(COUNT(E60:F60)<>2,0,F60-E60-(F60-E60>=$H$1)*IF(K60<>"",K60,$G$1)) -> 0 | H60: =IF(C60="x",$A$1-RECAP!$U$6,(G60-D60)*(COUNT(E60:F60)=2)) -> 0 | I60: {=IF($A60="X",SUM(OFFSET($H60,,,IFERROR(_xlfn.AGGREGATE(14,6,ROW($A$1:$A59)/($A$1:$A59="X"),1),2)-ROW(),)),"-")} -> -
A61: =IF(OR(AND(DAY(B61)>=15,DAY(WORKDAY.INTL(B61,-1))<15),AND(MONTH(B61)<>MONTH(WORKDAY.INTL(B61,1)))),"X","") | B61: =B60+CHOOSE(WEEKDAY(B60,2),1,1,1,1,3,2,1) -> 43425 | D61: =+$N$6 -> 0.3125 | G61: =IF(COUNT(E61:F61)<>2,0,F61-E61-(F61-E61>=$H$1)*IF(K61<>"",K61,$G$1)) -> 0 | H61: =IF(C61="x",$A$1-RECAP!$U$6,(G61-D61)*(COUNT(E61:F61)=2)) -> 0 | I61: {=IF($A61="X",SUM(OFFSET($H61,,,IFERROR(_xlfn.AGGREGATE(14,6,ROW($A$1:$A60)/($A$1:$A60="X"),1),2)-ROW(),)),"-")} -> -
A62: =IF(OR(AND(DAY(B62)>=15,DAY(WORKDAY.INTL(B62,-1))<15),AND(MONTH(B62)<>MONTH(WORKDAY.INTL(B62,1)))),"X","") | B62: =B61+CHOOSE(WEEKDAY(B61,2),1,1,1,1,3,2,1) -> 43426 | D62: =+$N$6 -> 0.3125 | G62: =IF(COUNT(E62:F62)<>2,0,F62-E62-(F62-E62>=$H$1)*IF(K62<>"",K62,$G$1)) -> 0 | H62: =IF(C62="x",$A$1-RECAP!$U$6,(G62-D62)*(COUNT(E62:F62)=2)) -> 0 | I62: {=IF($A62="X",SUM(OFFSET($H62,,,IFERROR(_xlfn.AGGREGATE(14,6,ROW($A$1:$A61)/($A$1:$A61="X"),1),2)-ROW(),)),"-")} -> -
A63: =IF(OR(AND(DAY(B63)>=15,DAY(WORKDAY.INTL(B63,-1))<15),AND(MONTH(B63)<>MONTH(WORKDAY.INTL(B63,1)))),"X","") | B63: =B62+CHOOSE(WEEKDAY(B62,2),1,1,1,1,3,2,1) -> 43427 | D63: =+$N$6 -> 0.3125 | G63: =IF(COUNT(E63:F63)<>2,0,F63-E63-(F63-E63>=$H$1)*IF(K63<>"",K63,$G$1)) -> 0 | H63: =IF(C63="x",$A$1-RECAP!$U$6,(G63-D63)*(COUNT(E63:F63)=2)) -> 0 | I63: {=IF($A63="X",SUM(OFFSET($H63,,,IFERROR(_xlfn.AGGREGATE(14,6,ROW($A$1:$A62)/($A$1:$A62="X"),1),2)-ROW(),)),"-")} -> -
A64: =IF(OR(AND(DAY(B64)>=15,DAY(WORKDAY.INTL(B64,-1))<15),AND(MONTH(B64)<>MONTH(WORKDAY.INTL(B64,1)))),"X","") | B64: =B63+CHOOSE(WEEKDAY(B63,2),1,1,1,1,3,2,1) -> 43428 | D64: =+$N$6 -> 0.3125 | G64: =IF(COUNT(E64:F64)<>2,0,F64-E64-(F64-E64>=$H$1)*IF(K64<>"",K64,$G$1)) -> 0 | H64: =IF(C64="x",$A$1-RECAP!$U$6,(G64-D64)*(COUNT(E64:F64)=2)) -> 0 | I64: {=IF($A64="X",SUM(OFFSET($H64,,,IFERROR(_xlfn.AGGREGATE(14,6,ROW($A$1:$A63)/($A$1:$A63="X"),1),2)-ROW(),)),"-")} -> -
A65: =IF(OR(AND(DAY(B65)>=15,DAY(WORKDAY.INTL(B65,-1))<15),AND(MONTH(B65)<>MONTH(WORKDAY.INTL(B65,1)))),"X","") | B65: =B64+CHOOSE(WEEKDAY(B64,2),1,1,1,1,3,2,1) -> 43431 | D65: =+$N$6 -> 0.3125 | G65: =IF(COUNT(E65:F65)<>2,0,F65-E65-(F65-E65>=$H$1)*IF(K65<>"",K65,$G$1)) -> 0 | H65: =IF(C65="x",$A$1-RECAP!$U$6,(G65-D65)*(COUNT(E65:F65)=2)) -> 0 | I65: {=IF($A65="X",SUM(OFFSET($H65,,,IFERROR(_xlfn.AGGREGATE(14,6,ROW($A$1:$A64)/($A$1:$A64="X"),1),2)-ROW(),)),"-")} -> -
A66: =IF(OR(AND(DAY(B66)>=15,DAY(WORKDAY.INTL(B66,-1))<15),AND(MONTH(B66)<>MONTH(WORKDAY.INTL(B66,1)))),"X","") | B66: =B65+CHOOSE(WEEKDAY(B65,2),1,1,1,1,3,2,1) -> 43432 | D66: =+$N$6 -> 0.3125 | G66: =IF(COUNT(E66:F66)<>2,0,F66-E66-(F66-E66>=$H$1)*IF(K66<>"",K66,$G$1)) -> 0 | H66: =IF(C66="x",$A$1-RECAP!$U$6,(G66-D66)*(COUNT(E66:F66)=2)) -> 0 | I66: {=IF($A66="X",SUM(OFFSET($H66,,,IFERROR(_xlfn.AGGREGATE(14,6,ROW($A$1:$A65)/($A$1:$A65="X"),1),2)-ROW(),)),"-")} -> -
A67: =IF(OR(AND(DAY(B67)>=15,DAY(WORKDAY.INTL(B67,-1))<15),AND(MONTH(B67)<>MONTH(WORKDAY.INTL(B67,1)))),"X","") -> X | B67: =B66+CHOOSE(WEEKDAY(B66,2),1,1,1,1,3,2,1) -> 43433 | D67: =+$N$6 -> 0.3125 | G67: =IF(COUNT(E67:F67)<>2,0,F67-E67-(F67-E67>=$H$1)*IF(K67<>"",K67,$G$1)) -> 0 | H67: =IF(C67="x",$A$1-RECAP!$U$6,(G67-D67)*(COUNT(E67:F67)=2)) -> 0 | I67: {=IF($A67="X",SUM(OFFSET($H67,,,IFERROR(_xlfn.AGGREGATE(14,6,ROW($A$1:$A66)/($A$1:$A66="X"),1),2)-ROW(),)),"-")} -> 0

Sheet B
A1: =RECAP!R4 -> 0.31666667 | B1: Travailleur : | D1: B | F1: Pause : | G1: 0.020833333 | H1: 0.25 | I1: Nbre de jours feriés pour la période concernée | J1: =COUNTA(C3:C67) -> 3 | K1: SI((D3-C3)<$F$1;" ";D3-C3-$E$1) | L1: 38 | N1: =IF(L1=19,J1*RECAP!R7,IF(L1=30,J1*RECAP!R6,IF(L1=30.24,J1*RECAP!R5,IF(L1=38,J1*RECAP!R4,"ERREUR")))) -> 0.95 | O1: =N1/24 -> 0.039583333
B2: Date | C2: Jours feriés | D2: Temps théorique | E2: IN | F2: OUT | G2: Temps presté | H2: Solde journalier | I2: Heures boni/mali cumulées | J2: Heures boni/mali par mois | K2: DA = Horaire autorisé | N2: pointage manquant | Q2: G = garde
B3: 43343 | D3: 0 | G3: =IF(E3=""," ",IF((F3-E3)<$H$1,F3-E3,IF(K3="",F3-E3-$G$1,F3-E3-K3))) | H3: =IF(AND(C3="x",E3=""),($A$1-RECAP!$U$4),IF(G3=" "," ",(G3-D3))) | J3: 43343
B4: 43344 | D4: 0 | G4: =IF(E4=""," ",IF((F4-E4)<$H$1,F4-E4,IF(K4="",F4-E4-$G$1,F4-E4-K4))) | H4: =IF(AND(C4="x",E4=""),($A$1-RECAP!$U$4),IF(G4=" "," ",(G4-D4)))
B5: 43347 | D5: 0 | G5: =IF(E5=""," ",IF((F5-E5)<$H$1,F5-E5,IF(K5="",F5-E5-$G$1,F5-E5-K5))) | H5: =IF(AND(C5="x",E5=""),($A$1-RECAP!$U$4),IF(G5=" "," ",(G5-D5))) | J5: =SUM(H3:H24) -> 0.03125
B6: 43348 | D6: 0.31666667 | E6: 0.37430556 | F6: 0.7 | G6: =IF(E6=""," ",IF((F6-E6)<$H$1,F6-E6,IF(K6="",F6-E6-$G$1,F6-E6-K6))) -> 0.30486111 | H6: =IF(AND(C6="x",E6=""),($A$1-RECAP!$U$4),IF(G6=" "," ",(G6-D6))) -> -0.011805556 | L6: =IF(L1=38,J48+(RECAP!S4*-1*J1),IF(L1=30.24,J48+(RECAP!S5*-1*J1),IF(L1=30,J48+(RECAP!S6*-1*J1),IF(L1=19,J48+(RECAP!S7*-1*J1),"ERREUR")))) -> 0.023611111
B7: 43349 | D7: 0.31666667 | E7: 0.35694444 | F7: 0.69166667 | G7: =IF(E7=""," ",IF((F7-E7)<$H$1,F7-E7,IF(K7="",F7-E7-$G$1,F7-E7-K7))) -> 0.31388889 | H7: =IF(AND(C7="x",E7=""),($A$1-RECAP!$U$4),IF(G7=" "," ",(G7-D7))) -> -0.0027777778
B8: 43350 | D8: 0.31666667 | E8: 0.35416667 | F8: 0.69166667 | G8: =IF(E8=""," ",IF((F8-E8)<$H$1,F8-E8,IF(K8="",F8-E8-$G$1,F8-E8-K8))) -> 0.31666667 | H8: =IF(AND(C8="x",E8=""),($A$1-RECAP!$U$4),IF(G8=" "," ",(G8-D8))) -> -2.220446e-16
B9: 43351 | D9: 0.31666667 | E9: 0.35902778 | F9: 0.70625 | G9: =IF(E9=""," ",IF((F9-E9)<$H$1,F9-E9,IF(K9="",F9-E9-$G$1,F9-E9-K9))) -> 0.32638889 | H9: =IF(AND(C9="x",E9=""),($A$1-RECAP!$U$4),IF(G9=" "," ",(G9-D9))) -> 0.0097222222
B10: 43354 | D10: 0.31666667 | E10: 0.36180556 | F10: 0.70277778 | G10: =IF(E10=""," ",IF((F10-E10)<$H$1,F10-E10,IF(K10="",F10-E10-$G$1,F10-E10-K10))) -> 0.32013889 | H10: =IF(AND(C10="x",E10=""),($A$1-RECAP!$U$4),IF(G10=" "," ",(G10-D10))) -> 0.0034722222
B11: 43355 | D11: 0.31666667 | E11: 0.35902778 | F11: 0.69236111 | G11: =IF(E11=""," ",IF((F11-E11)<$H$1,F11-E11,IF(K11="",F11-E11-$G$1,F11-E11-K11))) -> 0.3125 | H11: =IF(AND(C11="x",E11=""),($A$1-RECAP!$U$4),IF(G11=" "," ",(G11-D11))) -> -0.0041666667
B12: 43356 | D12: 0.31666667 | E12: 0.36944444 | F12: 0.70555556 | G12: =IF(E12=""," ",IF((F12-E12)<$H$1,F12-E12,IF(K12="",F12-E12-$G$1,F12-E12-K12))) -> 0.31527778 | H12: =IF(AND(C12="x",E12=""),($A$1-RECAP!$U$4),IF(G12=" "," ",(G12-D12))) -> -0.0013888889
B13: 43357 | D13: 0.16666667 | E13: 0.52152778 | F13: 0.69513889 | G13: =IF(E13=""," ",IF((F13-E13)<$H$1,F13-E13,IF(K13="",F13-E13-$G$1,F13-E13-K13))) -> 0.17361111 | H13: =IF(AND(C13="x",E13=""),($A$1-RECAP!$U$4),IF(G13=" "," ",(G13-D13))) -> 0.0069444444 | I13: =SUM(H3:H13) -> -1.5265567e-15
B14: 43358 | D14: 0.31666667 | E14: 0.36319444 | F14: 0.70625 | G14: =IF(E14=""," ",IF((F14-E14)<$H$1,F14-E14,IF(K14="",F14-E14-$G$1,F14-E14-K14))) -> 0.32222222 | H14: =IF(AND(C14="x",E14=""),($A$1-RECAP!$U$4),IF(G14=" "," ",(G14-D14))) -> 0.0055555556
B15: 43361 | D15: 0.31666667 | E15: 0.35416667 | F15: 0.70972222 | G15: =IF(E15=""," ",IF((F15-E15)<$H$1,F15-E15,IF(K15="",F15-E15-$G$1,F15-E15-K15))) -> 0.33472222 | H15: =IF(AND(C15="x",E15=""),($A$1-RECAP!$U$4),IF(G15=" "," ",(G15-D15))) -> 0.018055556
B16: 43362 | D16: 0.31666667 | E16: 0.36944444 | F16: 0.69722222 | G16: =IF(E16=""," ",IF((F16-E16)<$H$1,F16-E16,IF(K16="",F16-E16-$G$1,F16-E16-K16))) -> 0.30694444 | H16: =IF(AND(C16="x",E16=""),($A$1-RECAP!$U$4),IF(G16=" "," ",(G16-D16))) -> -0.0097222222
B17: 43363 | D17: 0.31666667 | E17: 0.36111111 | F17: 0.69166667 | G17: =IF(E17=""," ",IF((F17-E17)<$H$1,F17-E17,IF(K17="",F17-E17-$G$1,F17-E17-K17))) -> 0.30972222 | H17: =IF(AND(C17="x",E17=""),($A$1-RECAP!$U$4),IF(G17=" "," ",(G17-D17))) -> -0.0069444444
B18: 43364 | D18: 0.31666667 | E18: 0.37013889 | F18: 0.71041667 | G18: =IF(E18=""," ",IF((F18-E18)<$H$1,F18-E18,IF(K18="",F18-E18-$G$1,F18-E18-K18))) -> 0.31944444 | H18: =IF(AND(C18="x",E18=""),($A$1-RECAP!$U$4),IF(G18=" "," ",(G18-D18))) -> 0.0027777778
B19: 43365 | D19: 0.31666667 | E19: 0.35416667 | F19: 0.7125 | G19: =IF(E19=""," ",IF((F19-E19)<$H$1,F19-E19,IF(K19="",F19-E19-$G$1,F19-E19-K19))) -> 0.3375 | H19: =IF(AND(C19="x",E19=""),($A$1-RECAP!$U$4),IF(G19=" "," ",(G19-D19))) -> 0.020833333
B20: 43368 | D20: 0.31666667 | E20: 0.35902778 | F20: 0.69652778 | G20: =IF(E20=""," ",IF((F20-E20)<$H$1,F20-E20,IF(K20="",F20-E20-$G$1,F20-E20-K20))) -> 0.31666667 | H20: =IF(AND(C20="x",E20=""),($A$1-RECAP!$U$4),IF(G20=" "," ",(G20-D20))) -> -3.3306691e-16
B21: 43369 | C21: x | D21: 0.31666667 | E21: 0.35416667 | F21: 0.69652778 | G21: =IF(E21=""," ",IF((F21-E21)<$H$1,F21-E21,IF(K21="",F21-E21-$G$1,F21-E21-K21))) -> 0.32152778 | H21: =IF(AND(C21="x",E21=""),($A$1-RECAP!$U$4),IF(G21=" "," ",(G21-D21)))+M21 -> 0.0048611111
B22: 43370 | D22: 0.31666667 | E22: 0.35416667 | F22: 0.69513889 | G22: =IF(E22=""," ",IF((F22-E22)<$H$1,F22-E22,IF(K22="",F22-E22-$G$1,F22-E22-K22))) -> 0.29930556 | H22: =IF(AND(C22="x",E22=""),($A$1-RECAP!$U$4),IF(G22=" "," ",(G22-D22))) -> -0.017361111 | K22: 0.041666667
B23: 43371 | D23: 0.16666667 | E23: 0.52777778 | F23: 0.7125 | G23: =IF(E23=""," ",IF((F23-E23)<$H$1,F23-E23,IF(K23="",F23-E23-$G$1,F23-E23-K23))) -> 0.18472222 | H23: =IF(AND(C23="x",E23=""),($A$1-RECAP!$U$4),IF(G23=" "," ",(G23-D23))) -> 0.018055556
B24: 43372 | D24: 0.31666667 | E24: 0.36458333 | F24: 0.69722222 | G24: =IF(E24=""," ",IF((F24-E24)<$H$1,F24-E24,IF(K24="",F24-E24-$G$1,F24-E24-K24))) -> 0.31180556 | H24: =IF(AND(C24="x",E24=""),($A$1-RECAP!$U$4),IF(G24=" "," ",(G24-D24))) -> -0.0048611111 | I24: =SUM(H14:H24) -> 0.03125
B25: 43375 | D25: 0.31666667 | E25: 0.36875 | F25: 0.7125 | G25: =IF(E25=""," ",IF((F25-E25)<$H$1,F25-E25,IF(K25="",F25-E25-$G$1,F25-E25-K25))) -> 0.32291667 | H25: =IF(AND(C25="x",E25=""),($A$1-RECAP!$U$4),IF(G25=" "," ",(G25-D25))) -> 0.00625 | J25: 43373
B26: 43376 | D26: 0.31666667 | E26: 0.35416667 | F26: 0.71111111 | G26: =IF(E26=""," ",IF((F26-E26)<$H$1,F26-E26,IF(K26="",F26-E26-$G$1,F26-E26-K26))) -> 0.33611111 | H26: =IF(AND(C26="x",E26=""),($A$1-RECAP!$U$4),IF(G26=" "," ",(G26-D26))) -> 0.019444444
B27: 43377 | D27: 0.31666667 | E27: 0.35972222 | F27: 0.7125 | G27: =IF(E27=""," ",IF((F27-E27)<$H$1,F27-E27,IF(K27="",F27-E27-$G$1,F27-E27-K27))) -> 0.33194444 | H27: =IF(AND(C27="x",E27=""),($A$1-RECAP!$U$4),IF(G27=" "," ",(G27-D27))) -> 0.015277778 | J27: =SUM(H25:H45)+J5 -> 0.032638889
B28: 43378 | D28: 0.31666667 | E28: 0.35416667 | F28: 0.70555556 | G28: =IF(E28=""," ",IF((F28-E28)<$H$1,F28-E28,IF(K28="",F28-E28-$G$1,F28-E28-K28))) -> 0.33055556 | H28: =IF(AND(C28="x",E28=""),($A$1-RECAP!$U$4),IF(G28=" "," ",(G28-D28))) -> 0.013888889
B29: 43379 | D29: 0.31666667 | E29: 0.36388889 | F29: 0.70902778 | G29: =IF(E29=""," ",IF((F29-E29)<$H$1,F29-E29,IF(K29="",F29-E29-$G$1,F29-E29-K29))) -> 0.32430556 | H29: =IF(AND(C29="x",E29=""),($A$1-RECAP!$U$4),IF(G29=" "," ",(G29-D29))) -> 0.0076388889
B30: 43382 | D30: 0.31666667 | E30: 0.36458333 | F30: 0.69513889 | G30: =IF(E30=""," ",IF((F30-E30)<$H$1,F30-E30,IF(K30="",F30-E30-$G$1,F30-E30-K30))) -> 0.30972222 | H30: =IF(AND(C30="x",E30=""),($A$1-RECAP!$U$4),IF(G30=" "," ",(G30-D30))) -> -0.0069444444
B31: 43383 | D31: 0.31666667 | E31: 0.36597222 | F31: 0.70347222 | G31: =IF(E31=""," ",IF((F31-E31)<$H$1,F31-E31,IF(K31="",F31-E31-$G$1,F31-E31-K31))) -> 0.31666667 | H31: =IF(AND(C31="x",E31=""),($A$1-RECAP!$U$4),IF(G31=" "," ",(G31-D31))) -> -3.3306691e-16
B32: 43384 | D32: 0.31666667 | E32: 0.36597222 | F32: 0.70069444 | G32: =IF(E32=""," ",IF((F32-E32)<$H$1,F32-E32,IF(K32="",F32-E32-$G$1,F32-E32-K32))) -> 0.31388889 | H32: =IF(AND(C32="x",E32=""),($A$1-RECAP!$U$4),IF(G32=" "," ",(G32-D32))) -> -0.0027777778
B33: 43385 | D33: 0.31666667 | E33: 0.35694444 | F33: 0.69236111 | G33: =IF(E33=""," ",IF((F33-E33)<$H$1,F33-E33,IF(K33="",F33-E33-$G$1,F33-E33-K33))) -> 0.31458333 | H33: =IF(AND(C33="x",E33=""),($A$1-RECAP!$U$4),IF(G33=" "," ",(G33-D33))) -> -0.0020833333
B34: 43386 | D34: 0.31666667 | E34: 0.35625 | F34: 0.66666667 | G34: =IF(E34=""," ",IF((F34-E34)<$H$1,F34-E34,IF(K34="",F34-E34-$G$1,F34-E34-K34))) -> 0.28958333 | H34: =IF(AND(C34="x",E34=""),($A$1-RECAP!$U$4),IF(G34=" "," ",(G34-D34))) -> -0.027083333
B35: 43389 | D35: 0.31666667 | E35: 0.36875 | F35: 0.69444444 | G35: =IF(E35=""," ",IF((F35-E35)<$H$1,F35-E35,IF(K35="",F35-E35-$G$1,F35-E35-K35))) -> 0.30486111 | H35: =IF(AND(C35="x",E35=""),($A$1-RECAP!$U$4),IF(G35=" "," ",(G35-D35))) -> -0.011805556 | I35: =SUM(H25:H35) -> 0.011805556
B36: 43390 | D36: 0.31666667 | E36: 0.36388889 | F36: 0.69583333 | G36: =IF(E36=""," ",IF((F36-E36)<$H$1,F36-E36,IF(K36="",F36-E36-$G$1,F36-E36-K36))) -> 0.31111111 | H36: =IF(AND(C36="x",E36=""),($A$1-RECAP!$U$4),IF(G36=" "," ",(G36-D36))) -> -0.0055555556
B37: 43391 | D37: 0.31666667 | E37: 0.35833333 | F37: 0.70694444 | G37: =IF(E37=""," ",IF((F37-E37)<$H$1,F37-E37,IF(K37="",F37-E37-$G$1,F37-E37-K37))) -> 0.32777778 | H37: =IF(AND(C37="x",E37=""),($A$1-RECAP!$U$4),IF(G37=" "," ",(G37-D37))) -> 0.011111111
B38: 43392 | D38: 0.31666667 | E38: 0.35833333 | F38: 0.69166667 | G38: =IF(E38=""," ",IF((F38-E38)<$H$1,F38-E38,IF(K38="",F38-E38-$G$1,F38-E38-K38))) -> 0.3125 | H38: =IF(AND(C38="x",E38=""),($A$1-RECAP!$U$4),IF(G38=" "," ",(G38-D38))) -> -0.0041666667
B39: 43393 | D39: 0.31666667 | E39: 0.37708333 | F39: 0.69513889 | G39: =IF(E39=""," ",IF((F39-E39)<$H$1,F39-E39,IF(K39="",F39-E39-$G$1,F39-E39-K39))) -> 0.29722222 | H39: =IF(AND(C39="x",E39=""),($A$1-RECAP!$U$4),IF(G39=" "," ",(G39-D39))) -> -0.019444444
B40: 43396 | D40: 0.31666667 | E40: 0.36527778 | F40: 0.69166667 | G40: =IF(E40=""," ",IF((F40-E40)<$H$1,F40-E40,IF(K40="",F40-E40-$G$1,F40-E40-K40))) -> 0.30555556 | H40: =IF(AND(C40="x",E40=""),($A$1-RECAP!$U$4),IF(G40=" "," ",(G40-D40))) -> -0.011111111
B41: 43397 | D41: 0.31666667 | E41: 0.35763889 | F41: 0.70347222 | G41: =IF(E41=""," ",IF((F41-E41)<$H$1,F41-E41,IF(K41="",F41-E41-$G$1,F41-E41-K41))) -> 0.325 | H41: =IF(AND(C41="x",E41=""),($A$1-RECAP!$U$4),IF(G41=" "," ",(G41-D41))) -> 0.0083333333
B42: 43398 | D42: 0.31666667 | E42: 0.36597222 | F42: 0.69652778 | G42: =IF(E42=""," ",IF((F42-E42)<$H$1,F42-E42,IF(K42="",F42-E42-$G$1,F42-E42-K42))) -> 0.30972222 | H42: =IF(AND(C42="x",E42=""),($A$1-RECAP!$U$4),IF(G42=" "," ",(G42-D42))) -> -0.0069444444
B43: 43399 | D43: 0.31666667 | E43: 0.35416667 | F43: 0.71041667 | G43: =IF(E43=""," ",IF((F43-E43)<$H$1,F43-E43,IF(K43="",F43-E43-$G$1,F43-E43-K43))) -> 0.33541667 | H43: =IF(AND(C43="x",E43=""),($A$1-RECAP!$U$4),IF(G43=" "," ",(G43-D43))) -> 0.01875
B44: 43400 | D44: 0.31666667 | E44: 0.35902778 | F44: 0.69513889 | G44: =IF(E44=""," ",IF((F44-E44)<$H$1,F44-E44,IF(K44="",F44-E44-$G$1,F44-E44-K44))) -> 0.31527778 | H44: =IF(AND(C44="x",E44=""),($A$1-RECAP!$U$4),IF(G44=" "," ",(G44-D44))) -> -0.0013888889
B45: 43403 | D45: 0 | H45: =IF(AND(C45="x",E45=""),($A$1-RECAP!$U$4),IF(G45=" "," ",(G45-D45))) -> 0 | I45: =SUM(H36:H44) -> -0.010416667
B46: 43404 | C46: x | D46: 0 | G46: =IF(E46=""," ",IF((F46-E46)<$H$1,F46-E46,IF(K46="",F46-E46-$G$1,F46-E46-K46))) | H46: 0 | J46: 36099
B47: 43405 | D47: 0 | G47: =IF(E47=""," ",IF((F47-E47)<$H$1,F47-E47,IF(K47="",F47-E47-$G$1,F47-E47-K47))) | H47: =IF(AND(C47="x",E47=""),($A$1-RECAP!$U$4),IF(G47=" "," ",(G47-D47)))
B48: 43406 | D48: 0 | G48: =IF(E48=""," ",IF((F48-E48)<$H$1,F48-E48,IF(K48="",F48-E48-$G$1,F48-E48-K48))) | H48: =IF(AND(C48="x",E48=""),($A$1-RECAP!$U$4),IF(G48=" "," ",(G48-D48))) | J48: =SUM(H46:H67)+J27 -> 0.023611111
B49: 43407 | D49: 0 | G49: =IF(E49=""," ",IF((F49-E49)<$H$1,F49-E49,IF(K49="",F49-E49-$G$1,F49-E49-K49))) | H49: =IF(AND(C49="x",E49=""),($A$1-RECAP!$U$4),IF(G49=" "," ",(G49-D49)))
B50: 43410 | D50: 0 | G50: =IF(E50=""," ",IF((F50-E50)<$H$1,F50-E50,IF(K50="",F50-E50-$G$1,F50-E50-K50))) | H50: =IF(AND(C50="x",E50=""),($A$1-RECAP!$U$4),IF(G50=" "," ",(G50-D50)))
B51: 43411 | D51: 0.31666667 | E51: 0.36041667 | F51: 0.69236111 | G51: =IF(E51=""," ",IF((F51-E51)<$H$1,F51-E51,IF(K51="",F51-E51-$G$1,F51-E51-K51))) -> 0.31111111 | H51: =IF(AND(C51="x",E51=""),($A$1-RECAP!$U$4),IF(G51=" "," ",(G51-D51))) -> -0.0055555556
B52: 43412 | D52: 0.31666667 | E52: 0.35902778 | F52: 0.69305556 | G52: =IF(E52=""," ",IF((F52-E52)<$H$1,F52-E52,IF(K52="",F52-E52-$G$1,F52-E52-K52))) -> 0.31319444 | H52: =IF(AND(C52="x",E52=""),($A$1-RECAP!$U$4),IF(G52=" "," ",(G52-D52))) -> -0.0034722222
B53: 43413 | D53: 0.2125 | E53: 0.49722222 | F53: 0.70972222 | G53: =IF(E53=""," ",IF((F53-E53)<$H$1,F53-E53,IF(K53="",F53-E53-$G$1,F53-E53-K53))) -> 0.2125 | H53: =IF(AND(C53="x",E53=""),($A$1-RECAP!$U$4),IF(G53=" "," ",(G53-D53))) -> 2.7755576e-17
B54: 43414 | C54: x | D54: 0 | G54: =IF(E54=""," ",IF((F54-E54)<$H$1,F54-E54,IF(K54="",F54-E54-$G$1,F54-E54-K54))) | H54: =IF(AND(C54="x",E54=""),($A$1-RECAP!$U$4),IF(G54=" "," ",(G54-D54))) -> 0
B55: 43417 | D55: 0.31666667 | G55: =IF(E55=""," ",IF((F55-E55)<$H$1,F55-E55,IF(K55="",F55-E55-$G$1,F55-E55-K55))) | H55: =IF(AND(C55="x",E55=""),($A$1-RECAP!$U$4),IF(G55=" "," ",(G55-D55)))
B56: 43418 | D56: 0.31666667 | G56: =IF(E56=""," ",IF((F56-E56)<$H$1,F56-E56,IF(K56="",F56-E56-$G$1,F56-E56-K56))) | H56: =IF(AND(C56="x",E56=""),($A$1-RECAP!$U$4),IF(G56=" "," ",(G56-D56))) | I56: =SUM(H46:H56) -> -0.0090277778
B57: 43419 | D57: 0.31666667 | G57: =IF(E57=""," ",IF((F57-E57)<$H$1,F57-E57,IF(K57="",F57-E57-$G$1,F57-E57-K57))) | H57: =IF(AND(C57="x",E57=""),($A$1-RECAP!$U$4),IF(G57=" "," ",(G57-D57)))
B58: 43420 | D58: 0.31666667 | G58: =IF(E58=""," ",IF((F58-E58)<$H$1,F58-E58,IF(K58="",F58-E58-$G$1,F58-E58-K58))) | H58: =IF(AND(C58="x",E58=""),($A$1-RECAP!$U$4),IF(G58=" "," ",(G58-D58)))
B59: 43421 | D59: 0.31666667 | G59: =IF(E59=""," ",IF((F59-E59)<$H$1,F59-E59,IF(K59="",F59-E59-$G$1,F59-E59-K59))) | H59: =IF(AND(C59="x",E59=""),($A$1-RECAP!$U$4),IF(G59=" "," ",(G59-D59)))
B60: 43424 | D60: 0.31666667 | G60: =IF(E60=""," ",IF((F60-E60)<$H$1,F60-E60,IF(K60="",F60-E60-$G$1,F60-E60-K60))) | H60: =IF(AND(C60="x",E60=""),($A$1-RECAP!$U$4),IF(G60=" "," ",(G60-D60)))
B61: 43425 | D61: 0.31666667 | G61: =IF(E61=""," ",IF((F61-E61)<$H$1,F61-E61,IF(K61="",F61-E61-$G$1,F61-E61-K61))) | H61: =IF(AND(C61="x",E61=""),($A$1-RECAP!$U$4),IF(G61=" "," ",(G61-D61)))
B62: 43426 | D62: 0.31666667 | G62: =IF(E62=""," ",IF((F62-E62)<$H$1,F62-E62,IF(K62="",F62-E62-$G$1,F62-E62-K62))) | H62: =IF(AND(C62="x",E62=""),($A$1-RECAP!$U$4),IF(G62=" "," ",(G62-D62)))
B63: 43427 | D63: 0.31666667 | G63: =IF(E63=""," ",IF((F63-E63)<$H$1,F63-E63,IF(K63="",F63-E63-$G$1,F63-E63-K63))) | H63: =IF(AND(C63="x",E63=""),($A$1-RECAP!$U$4),IF(G63=" "," ",(G63-D63)))
B64: 43428 | D64: 0.31666667 | G64: =IF(E64=""," ",IF((F64-E64)<$H$1,F64-E64,IF(K64="",F64-E64-$G$1,F64-E64-K64))) | H64: =IF(AND(C64="x",E64=""),($A$1-RECAP!$U$4),IF(G64=" "," ",(G64-D64)))
B65: 43431 | D65: 0.31666667 | G65: =IF(E65=""," ",IF((F65-E65)<$H$1,F65-E65,IF(K65="",F65-E65-$G$1,F65-E65-K65))) | H65: =IF(AND(C65="x",E65=""),($A$1-RECAP!$U$4),IF(G65=" "," ",(G65-D65)))
B66: 43432 | D66: 0.31666667 | G66: =IF(E66=""," ",IF((F66-E66)<$H$1,F66-E66,IF(K66="",F66-E66-$G$1,F66-E66-K66))) | H66: =IF(AND(C66="x",E66=""),($A$1-RECAP!$U$4),IF(G66=" "," ",(G66-D66)))
B67: 43433 | D67: 0.31666667 | G67: =IF(E67=""," ",IF((F67-E67)<$H$1,F67-E67,IF(K67="",F67-E67-$G$1,F67-E67-K67))) | H67: =IF(AND(C67="x",E67=""),($A$1-RECAP!$U$4),IF(G67=" "," ",(G67-D67))) | I67: =SUM(H57:H67) -> 0

Sheet C
A1: =RECAP!R7 -> 0.15833333 | B1: Travailleur : | D1: C | F1: Pause : | G1: 0.020833333 | H1: 0.25 | I1: Nbre de jours feriés pour la période concernée | J1: =COUNTA(C3:C67) -> 4 | K1: SI((D3-C3)<$F$1;" ";D3-C3-$E$1) | L1: 19 | N1: =IF(L1=19,J1*RECAP!R7,IF(L1=30,J1*RECAP!R6,IF(L1=30.24,J1*RECAP!R5,IF(L1=38,J1*RECAP!R4,"ERREUR")))) -> 0.63333333 | O1: =N1/24 -> 0.026388889
B2: Date | C2: Jours feriés | D2: Temps théorique | E2: IN | F2: OUT | G2: Temps presté | H2: Solde journalier | I2: Heures boni/mali cumulées | J2: Heures boni/mali par mois | K2: DA = Horaire autorisé | N2: pointage manquant | Q2: G = garde
B3: 43343 | D3: 0 | G3: =IF(E3=""," ",IF((F3-E3)<$H$1,F3-E3,IF(K3="",F3-E3-$G$1,F3-E3-K3))) | H3: =IF(AND(C3="x",E3=""),($A$1-RECAP!$U$7),IF(G3=" "," ",(G3-D3))) | J3: 43343
B4: 43344 | D4: 0 | G4: =IF(E4=""," ",IF((F4-E4)<$H$1,F4-E4,IF(K4="",F4-E4-$G$1,F4-E4-K4))) | H4: =IF(AND(C4="x",E4=""),($A$1-RECAP!$U$7),IF(G4=" "," ",(G4-D4)))
B5: 43347 | D5: 0 | G5: =IF(E5=""," ",IF((F5-E5)<$H$1,F5-E5,IF(K5="",F5-E5-$G$1,F5-E5-K5))) | H5: =IF(AND(C5="x",E5=""),($A$1-RECAP!$U$7),IF(G5=" "," ",(G5-D5))) | J5: =SUM(H3:H24) -> 0.23611111
B6: 43348 | D6: 0 | G6: =IF(E6=""," ",IF((F6-E6)<$H$1,F6-E6,IF(K6="",F6-E6-$G$1,F6-E6-K6))) | H6: =IF(AND(C6="x",E6=""),($A$1-RECAP!$U$7),IF(G6=" "," ",(G6-D6))) | L6: =IF(L1=38,J48+(RECAP!S4*-1*J1),IF(L1=30.24,J48+(RECAP!S5*-1*J1),IF(L1=30,J48+(RECAP!S6*-1*J1),IF(L1=19,J48+(RECAP!S7*-1*J1),"ERREUR")))) -> -0.14305556
B7: 43349 | D7: 0.16666667 | E7: 0.375 | F7: 0.55694444 | G7: =IF(E7=""," ",IF((F7-E7)<$H$1,F7-E7,IF(K7="",F7-E7-$G$1,F7-E7-K7))) -> 0.18194444 | H7: =IF(AND(C7="x",E7=""),($A$1-RECAP!$U$7),IF(G7=" "," ",(G7-D7))) -> 0.015277778
B8: 43350 | D8: 0.13541667 | E8: 0.57430556 | F8: 0.7125 | G8: =IF(E8=""," ",IF((F8-E8)<$H$1,F8-E8,IF(K8="",F8-E8-$G$1,F8-E8-K8))) -> 0.13819444 | H8: =IF(AND(C8="x",E8=""),($A$1-RECAP!$U$7),IF(G8=" "," ",(G8-D8))) -> 0.0027777778
B9: 43351 | D9: 0.31666667 | E9: 0.375 | F9: 0.70972222 | G9: =IF(E9=""," ",IF((F9-E9)<$H$1,F9-E9,IF(K9="",F9-E9-$G$1,F9-E9-K9))) -> 0.31388889 | H9: =IF(AND(C9="x",E9=""),($A$1-RECAP!$U$7),IF(G9=" "," ",(G9-D9))) -> -0.0027777778
B10: 43354 | D10: 0 | G10: =IF(E10=""," ",IF((F10-E10)<$H$1,F10-E10,IF(K10="",F10-E10-$G$1,F10-E10-K10))) | H10: =IF(AND(C10="x",E10=""),($A$1-RECAP!$U$7),IF(G10=" "," ",(G10-D10)))
B11: 43355 | D11: 0 | G11: =IF(E11=""," ",IF((F11-E11)<$H$1,F11-E11,IF(K11="",F11-E11-$G$1,F11-E11-K11))) | H11: =IF(AND(C11="x",E11=""),($A$1-RECAP!$U$7),IF(G11=" "," ",(G11-D11)))
B12: 43356 | D12: 0.16666667 | E12: 0.375 | F12: 0.54861111 | G12: =IF(E12=""," ",IF((F12-E12)<$H$1,F12-E12,IF(K12="",F12-E12-$G$1,F12-E12-K12))) -> 0.17361111 | H12: =IF(AND(C12="x",E12=""),($A$1-RECAP!$U$7),IF(G12=" "," ",(G12-D12))) -> 0.0069444444
B13: 43357 | D13: 0.31666667 | E13: 0.39027778 | F13: 0.71111111 | G13: =IF(E13=""," ",IF((F13-E13)<$H$1,F13-E13,IF(K13="",F13-E13-$G$1,F13-E13-K13))) -> 0.3 | H13: =IF(AND(C13="x",E13=""),($A$1-RECAP!$U$7),IF(G13=" "," ",(G13-D13))) -> -0.016666667 | I13: =SUM(H3:H13) -> 0.0055555556
B14: 43358 | D14: 0.31666667 | E14: 0.375 | F14: 0.71041667 | G14: =IF(E14=""," ",IF((F14-E14)<$H$1,F14-E14,IF(K14="",F14-E14-$G$1,F14-E14-K14))) -> 0.31458333 | H14: =IF(AND(C14="x",E14=""),($A$1-RECAP!$U$7),IF(G14=" "," ",(G14-D14))) -> -0.0020833333
B15: 43361 | D15: 0 | G15: =IF(E15=""," ",IF((F15-E15)<$H$1,F15-E15,IF(K15="",F15-E15-$G$1,F15-E15-K15))) | H15: =IF(AND(C15="x",E15=""),($A$1-RECAP!$U$7),IF(G15=" "," ",(G15-D15)))
B16: 43362 | E16: 0.54166667 | F16: 0.62013889 | G16: =IF(E16=""," ",IF((F16-E16)<$H$1,F16-E16,IF(K16="",F16-E16-$G$1,F16-E16-K16))) -> 0.078472222 | H16: =IF(AND(C16="x",E16=""),($A$1-RECAP!$U$7),IF(G16=" "," ",(G16-D16))) -> 0.078472222
B17: 43363 | D17: 0 | G17: =IF(E17=""," ",IF((F17-E17)<$H$1,F17-E17,IF(K17="",F17-E17-$G$1,F17-E17-K17))) | H17: =IF(AND(C17="x",E17=""),($A$1-RECAP!$U$7),IF(G17=" "," ",(G17-D17)))
B18: 43364 | D18: 0.31666667 | E18: 0.37708333 | F18: 0.7125 | G18: =IF(E18=""," ",IF((F18-E18)<$H$1,F18-E18,IF(K18="",F18-E18-$G$1,F18-E18-K18))) -> 0.31458333 | H18: =IF(AND(C18="x",E18=""),($A$1-RECAP!$U$7),IF(G18=" "," ",(G18-D18))) -> -0.0020833333
B19: 43365 | D19: 0.31666667 | E19: 0.375 | F19: 0.70902778 | G19: =IF(E19=""," ",IF((F19-E19)<$H$1,F19-E19,IF(K19="",F19-E19-$G$1,F19-E19-K19))) -> 0.31319444 | H19: =IF(AND(C19="x",E19=""),($A$1-RECAP!$U$7),IF(G19=" "," ",(G19-D19))) -> -0.0034722222
B20: 43368 | D20: 0 | G20: =IF(E20=""," ",IF((F20-E20)<$H$1,F20-E20,IF(K20="",F20-E20-$G$1,F20-E20-K20))) | H20: =IF(AND(C20="x",E20=""),($A$1-RECAP!$U$7),IF(G20=" "," ",(G20-D20)))
B21: 43369 | C21: x | D21: 0 | G21: =IF(E21=""," ",IF((F21-E21)<$H$1,F21-E21,IF(K21="",F21-E21-$G$1,F21-E21-K21))) | H21: 0.15833333
B22: 43370 | D22: 0.16666667 | E22: 0.375 | F22: 0.54305556 | G22: =IF(E22=""," ",IF((F22-E22)<$H$1,F22-E22,IF(K22="",F22-E22-$G$1,F22-E22-K22))) -> 0.16805556 | H22: =IF(AND(C22="x",E22=""),($A$1-RECAP!$U$7),IF(G22=" "," ",(G22-D22))) -> 0.0013888889
B23: 43371 | D23: 0.31666667 | E23: 0.375 | F23: 0.7125 | G23: =IF(E23=""," ",IF((F23-E23)<$H$1,F23-E23,IF(K23="",F23-E23-$G$1,F23-E23-K23))) -> 0.31666667 | H23: =IF(AND(C23="x",E23=""),($A$1-RECAP!$U$7),IF(G23=" "," ",(G23-D23))) -> 5.5511151e-17
B24: 43372 | D24: 0.31666667 | E24: 0.375 | F24: 0.7125 | G24: =IF(E24=""," ",IF((F24-E24)<$H$1,F24-E24,IF(K24="",F24-E24-$G$1,F24-E24-K24))) -> 0.31666667 | H24: =IF(AND(C24="x",E24=""),($A$1-RECAP!$U$7),IF(G24=" "," ",(G24-D24))) -> 5.5511151e-17 | I24: =SUM(H14:H24) -> 0.23055556
B25: 43375 | D25: 0 | G25: =IF(E25=""," ",IF((F25-E25)<$H$1,F25-E25,IF(K25="",F25-E25-$G$1,F25-E25-K25))) | H25: 0.3125 | J25: 43373
B26: 43376 | D26: 0 | G26: =IF(E26=""," ",IF((F26-E26)<$H$1,F26-E26,IF(K26="",F26-E26-$G$1,F26-E26-K26))) | H26: =IF(AND(C26="x",E26=""),($A$1-RECAP!$U$7),IF(G26=" "," ",(G26-D26)))
B27: 43377 | D27: 0 | G27: =IF(E27=""," ",IF((F27-E27)<$H$1,F27-E27,IF(K27="",F27-E27-$G$1,F27-E27-K27))) | H27: =IF(AND(C27="x",E27=""),($A$1-RECAP!$U$7),IF(G27=" "," ",(G27-D27))) | J27: =SUM(H25:H45)+J5 -> 0.65763889
B28: 43378 | D28: 0.31666667 | E28: 0.37986111 | F28: 0.70833333 | G28: =IF(E28=""," ",IF((F28-E28)<$H$1,F28-E28,IF(K28="",F28-E28-$G$1,F28-E28-K28))) -> 0.30763889 | H28: =IF(AND(C28="x",E28=""),($A$1-RECAP!$U$7),IF(G28=" "," ",(G28-D28))) -> -0.0090277778
B29: 43379 | D29: 0.31666667 | E29: 0.375 | F29: 0.7125 | G29: =IF(E29=""," ",IF((F29-E29)<$H$1,F29-E29,IF(K29="",F29-E29-$G$1,F29-E29-K29))) -> 0.31666667 | H29: =IF(AND(C29="x",E29=""),($A$1-RECAP!$U$7),IF(G29=" "," ",(G29-D29))) -> 5.5511151e-17
B30: 43382 | D30: 0 | E30: 0.375 | F30: 0.6875 | G30: =IF(E30=""," ",IF((F30-E30)<$H$1,F30-E30,IF(K30="",F30-E30-$G$1,F30-E30-K30))) -> 0.29166667 | H30: =IF(AND(C30="x",E30=""),($A$1-RECAP!$U$7),IF(G30=" "," ",(G30-D30))) -> 0.29166667
B31: 43383 | D31: 0 | G31: =IF(E31=""," ",IF((F31-E31)<$H$1,F31-E31,IF(K31="",F31-E31-$G$1,F31-E31-K31))) | H31: =IF(AND(C31="x",E31=""),($A$1-RECAP!$U$7),IF(G31=" "," ",(G31-D31)))
B32: 43384 | C32: x | D32: 0 | G32: =IF(E32=""," ",IF((F32-E32)<$H$1,F32-E32,IF(K32="",F32-E32-$G$1,F32-E32-K32))) | H32: =IF(AND(C32="x",E32=""),($A$1-RECAP!$U$7),IF(G32=" "," ",(G32-D32)))-L32 -> -0.15833333
B33: 43385 | D33: 0.31666667 | E33: 0.375 | F33: 0.66666667 | G33: =IF(E33=""," ",IF((F33-E33)<$H$1,F33-E33,IF(K33="",F33-E33-$G$1,F33-E33-K33))) -> 0.27083333 | H33: =IF(AND(C33="x",E33=""),($A$1-RECAP!$U$7),IF(G33=" "," ",(G33-D33)))+L33 -> -0.045833333
B34: 43386 | D34: 0.31666667 | E34: 0.375 | F34: 0.7125 | G34: =IF(E34=""," ",IF((F34-E34)<$H$1,F34-E34,IF(K34="",F34-E34-$G$1,F34-E34-K34))) -> 0.31666667 | H34: =IF(AND(C34="x",E34=""),($A$1-RECAP!$U$7),IF(G34=" "," ",(G34-D34))) -> 5.5511151e-17
B35: 43389 | D35: 0 | E35: 0.375 | F35: 0.58333333 | G35: =IF(E35=""," ",IF((F35-E35)<$H$1,F35-E35,IF(K35="",F35-E35-$G$1,F35-E35-K35))) -> 0.20833333 | H35: =IF(AND(C35="x",E35=""),($A$1-RECAP!$U$7),IF(G35=" "," ",(G35-D35))) -> 0.20833333 | I35: =SUM(H25:H35) -> 0.59930556
B36: 43390 | D36: 0 | E36: 0.48611111 | F36: 0.70833333 | G36: =IF(E36=""," ",IF((F36-E36)<$H$1,F36-E36,IF(K36="",F36-E36-$G$1,F36-E36-K36))) -> 0.22222222 | H36: =IF(AND(C36="x",E36=""),($A$1-RECAP!$U$7),IF(G36=" "," ",(G36-D36))) -> 0.22222222
B37: 43391 | C37: x | D37: 0 | G37: =IF(E37=""," ",IF((F37-E37)<$H$1,F37-E37,IF(K37="",F37-E37-$G$1,F37-E37-K37))) | H37: =IF(AND(C37="x",E37=""),($A$1-RECAP!$U$7),IF(G37=" "," ",(G37-D37)))-L37 -> -0.15833333
B38: 43392 | D38: 0.31666667 | E38: 0.375 | F38: 0.70833333 | G38: =IF(E38=""," ",IF((F38-E38)<$H$1,F38-E38,IF(K38="",F38-E38-$G$1,F38-E38-K38))) -> 0.3125 | H38: =IF(AND(C38="x",E38=""),($A$1-RECAP!$U$7),IF(G38=" "," ",(G38-D38))) -> -0.0041666667
B39: 43393 | D39: 0.31666667 | E39: 0.4 | F39: 0.71111111 | G39: =IF(E39=""," ",IF((F39-E39)<$H$1,F39-E39,IF(K39="",F39-E39-$G$1,F39-E39-K39))) -> 0.29027778 | H39: =IF(AND(C39="x",E39=""),($A$1-RECAP!$U$7),IF(G39=" "," ",(G39-D39))) -> -0.026388889
B40: 43396 | D40: 0 | G40: =IF(E40=""," ",IF((F40-E40)<$H$1,F40-E40,IF(K40="",F40-E40-$G$1,F40-E40-K40))) | H40: =IF(AND(C40="x",E40=""),($A$1-RECAP!$U$7),IF(G40=" "," ",(G40-D40)))
B41: 43397 | D41: 0 | G41: =IF(E41=""," ",IF((F41-E41)<$H$1,F41-E41,IF(K41="",F41-E41-$G$1,F41-E41-K41))) | H41: =IF(AND(C41="x",E41=""),($A$1-RECAP!$U$7),IF(G41=" "," ",(G41-D41)))
B42: 43398 | C42: x | D42: 0 | G42: =IF(E42=""," ",IF((F42-E42)<$H$1,F42-E42,IF(K42="",F42-E42-$G$1,F42-E42-K42))) | H42: =IF(AND(C42="x",E42=""),($A$1-RECAP!$U$7),IF(G42=" "," ",(G42-D42)))-L42 -> -0.15833333
B43: 43399 | D43: 0.31666667 | E43: 0.37986111 | F43: 0.7125 | G43: =IF(E43=""," ",IF((F43-E43)<$H$1,F43-E43,IF(K43="",F43-E43-$G$1,F43-E43-K43))) -> 0.31180556 | H43: =IF(AND(C43="x",E43=""),($A$1-RECAP!$U$7),IF(G43=" "," ",(G43-D43))) -> -0.0048611111
B44: 43400 | D44: 0.31666667 | E44: 0.37708333 | F44: 0.66666667 | G44: =IF(E44=""," ",IF((F44-E44)<$H$1,F44-E44,IF(K44="",F44-E44-$G$1,F44-E44-K44))) -> 0.26875 | H44: =IF(AND(C44="x",E44=""),($A$1-RECAP!$U$7),IF(G44=" "," ",(G44-D44))) -> -0.047916667
B45: 43403 | D45: 0 | G45: =IF(E45=""," ",IF((F45-E45)<$H$1,F45-E45,IF(K45="",F45-E45-$G$1,F45-E45-K45))) | H45: =IF(AND(C45="x",E45=""),($A$1-RECAP!$U$7),IF(G45=" "," ",(G45-D45))) | I45: =SUM(H36:H45) -> -0.17777778
B46: 43404 | D46: 0 | G46: =IF(E46=""," ",IF((F46-E46)<$H$1,F46-E46,IF(K46="",F46-E46-$G$1,F46-E46-K46))) | J46: 36099
B47: 43405 | D47: 0 | G47: =IF(E47=""," ",IF((F47-E47)<$H$1,F47-E47,IF(K47="",F47-E47-$G$1,F47-E47-K47))) | H47: =IF(AND(C47="x",E47=""),($A$1-RECAP!$U$7),IF(G47=" "," ",(G47-D47)))
B48: 43406 | D48: 0.31666667 | G48: =IF(E48=""," ",IF((F48-E48)<$H$1,F48-E48,IF(K48="",F48-E48-$G$1,F48-E48-K48))) | H48: =IF(AND(C48="x",E48=""),($A$1-RECAP!$U$7),IF(G48=" "," ",(G48-D48))) | J48: =SUM(H46:H67)+J27 -> 0.49027778
B49: 43407 | D49: 0.31666667 | E49: 0.375 | F49: 0.525 | G49: =IF(E49=""," ",IF((F49-E49)<$H$1,F49-E49,IF(K49="",F49-E49-$G$1,F49-E49-K49))) -> 0.15 | H49: =IF(AND(C49="x",E49=""),($A$1-RECAP!$U$7),IF(G49=" "," ",(G49-D49))) -> -0.16666667
B50: 43410 | D50: 0 | G50: =IF(E50=""," ",IF((F50-E50)<$H$1,F50-E50,IF(K50="",F50-E50-$G$1,F50-E50-K50))) | H50: =IF(AND(C50="x",E50=""),($A$1-RECAP!$U$7),IF(G50=" "," ",(G50-D50)))
B51: 43411 | D51: 0 | G51: =IF(E51=""," ",IF((F51-E51)<$H$1,F51-E51,IF(K51="",F51-E51-$G$1,F51-E51-K51))) | H51: =IF(AND(C51="x",E51=""),($A$1-RECAP!$U$7),IF(G51=" "," ",(G51-D51)))
B52: 43412 | D52: 0.16666667 | E52: 0.375 | F52: 0.54305556 | G52: =IF(E52=""," ",IF((F52-E52)<$H$1,F52-E52,IF(K52="",F52-E52-$G$1,F52-E52-K52))) -> 0.16805556 | H52: =IF(AND(C52="x",E52=""),($A$1-RECAP!$U$7),IF(G52=" "," ",(G52-D52))) -> 0.0013888889
B53: 43413 | D53: 0.31666667 | E53: 0.375 | F53: 0.71041667 | G53: =IF(E53=""," ",IF((F53-E53)<$H$1,F53-E53,IF(K53="",F53-E53-$G$1,F53-E53-K53))) -> 0.31458333 | H53: =IF(AND(C53="x",E53=""),($A$1-RECAP!$U$7),IF(G53=" "," ",(G53-D53))) -> -0.0020833333
B54: 43414 | D54: 0 | G54: =IF(E54=""," ",IF((F54-E54)<$H$1,F54-E54,IF(K54="",F54-E54-$G$1,F54-E54-K54))) | H54: =IF(AND(C54="x",E54=""),($A$1-RECAP!$U$7),IF(G54=" "," ",(G54-D54)))
B55: 43417 | D55: 0 | G55: =IF(E55=""," ",IF((F55-E55)<$H$1,F55-E55,IF(K55="",F55-E55-$G$1,F55-E55-K55))) | H55: =IF(AND(C55="x",E55=""),($A$1-RECAP!$U$7),IF(G55=" "," ",(G55-D55)))
B56: 43418 | D56: 0 | G56: =IF(E56=""," ",IF((F56-E56)<$H$1,F56-E56,IF(K56="",F56-E56-$G$1,F56-E56-K56))) | H56: =IF(AND(C56="x",E56=""),($A$1-RECAP!$U$7),IF(G56=" "," ",(G56-D56))) | I56: =SUM(H46:H56) -> -0.16736111
B57: 43419 | D57: 0.16666667 | G57: =IF(E57=""," ",IF((F57-E57)<$H$1,F57-E57,IF(K57="",F57-E57-$G$1,F57-E57-K57))) | H57: =IF(AND(C57="x",E57=""),($A$1-RECAP!$U$7),IF(G57=" "," ",(G57-D57)))
B58: 43420 | D58: 0.31666667 | G58: =IF(E58=""," ",IF((F58-E58)<$H$1,F58-E58,IF(K58="",F58-E58-$G$1,F58-E58-K58))) | H58: =IF(AND(C58="x",E58=""),($A$1-RECAP!$U$7),IF(G58=" "," ",(G58-D58)))
B59: 43421 | D59: 0.31666667 | G59: =IF(E59=""," ",IF((F59-E59)<$H$1,F59-E59,IF(K59="",F59-E59-$G$1,F59-E59-K59))) | H59: =IF(AND(C59="x",E59=""),($A$1-RECAP!$U$7),IF(G59=" "," ",(G59-D59)))
B60: 43424 | D60: 0 | G60: =IF(E60=""," ",IF((F60-E60)<$H$1,F60-E60,IF(K60="",F60-E60-$G$1,F60-E60-K60))) | H60: =IF(AND(C60="x",E60=""),($A$1-RECAP!$U$7),IF(G60=" "," ",(G60-D60)))
B61: 43425 | D61: 0 | G61: =IF(E61=""," ",IF((F61-E61)<$H$1,F61-E61,IF(K61="",F61-E61-$G$1,F61-E61-K61))) | H61: =IF(AND(C61="x",E61=""),($A$1-RECAP!$U$7),IF(G61=" "," ",(G61-D61)))
B62: 43426 | D62: 0.16666667 | G62: =IF(E62=""," ",IF((F62-E62)<$H$1,F62-E62,IF(K62="",F62-E62-$G$1,F62-E62-K62))) | H62: =IF(AND(C62="x",E62=""),($A$1-RECAP!$U$7),IF(G62=" "," ",(G62-D62)))
B63: 43427 | D63: 0.31666667 | G63: =IF(E63=""," ",IF((F63-E63)<$H$1,F63-E63,IF(K63="",F63-E63-$G$1,F63-E63-K63))) | H63: =IF(AND(C63="x",E63=""),($A$1-RECAP!$U$7),IF(G63=" "," ",(G63-D63)))
B64: 43428 | D64: 0.31666667 | G64: =IF(E64=""," ",IF((F64-E64)<$H$1,F64-E64,IF(K64="",F64-E64-$G$1,F64-E64-K64))) | H64: =IF(AND(C64="x",E64=""),($A$1-RECAP!$U$7),IF(G64=" "," ",(G64-D64)))
B65: 43431 | D65: 0 | G65: =IF(E65=""," ",IF((F65-E65)<$H$1,F65-E65,IF(K65="",F65-E65-$G$1,F65-E65-K65))) | H65: =IF(AND(C65="x",E65=""),($A$1-RECAP!$U$7),IF(G65=" "," ",(G65-D65)))
B66: 43432 | D66: 0 | G66: =IF(E66=""," ",IF((F66-E66)<$H$1,F66-E66,IF(K66="",F66-E66-$G$1,F66-E66-K66))) | H66: =IF(AND(C66="x",E66=""),($A$1-RECAP!$U$7),IF(G66=" "," ",(G66-D66)))
B67: 43433 | D67: 0.16666667 | G67: =IF(E67=""," ",IF((F67-E67)<$H$1,F67-E67,IF(K67="",F67-E67-$G$1,F67-E67-K67))) | H67: =IF(AND(C67="x",E67=""),($A$1-RECAP!$U$7),IF(G67=" "," ",(G67-D67))) | I67: =SUM(H57:H67) -> 0

Sheet D
A1: =RECAP!R5 -> 0.252 | B1: Travailleur : | D1: D | F1: Pause : | G1: 0.020833333 | H1: 0.25 | I1: Nbre de jours feriés pour la période concernée | J1: =COUNTA(C3:C67) -> 3 | K1: SI((D3-C3)<$F$1;" ";D3-C3-$E$1) | L1: 30.24 | N1: =IF(L1=19,J1*RECAP!R7,IF(L1=30,J1*RECAP!R6,IF(L1=30.24,J1*RECAP!R5,IF(L1=38,J1*RECAP!R4,"ERREUR")))) -> 0.756 | O1: =N1/24 -> 0.0315
B2: Date | C2: Jours feriés | D2: Temps théorique | E2: IN | F2: OUT | G2: Temps presté | H2: Solde journalier | I2: Heures boni/mali cumulées | J2: Heures boni/mali par mois | K2: DA = Horaire autorisé | N2: pointage manquant | Q2: G = garde
B3: 43343 | D3: 0.31666667 | E3: 0.35416667 | F3: 0.7125 | G3: =IF(E3=""," ",IF((F3-E3)<$H$1,F3-E3,IF(K3="",F3-E3-$G$1,F3-E3-K3))) -> 0.3375 | H3: =IF(AND(C3="x",E3=""),($A$1-RECAP!$U$5),IF(G3=" "," ",(G3-D3))) -> 0.020833333 | J3: 43343
B4: 43344 | D4: 0.31666667 | E4: 0.35416667 | F4: 0.7 | G4: =IF(E4=""," ",IF((F4-E4)<$H$1,F4-E4,IF(K4="",F4-E4-$G$1,F4-E4-K4))) -> 0.325 | H4: =IF(AND(C4="x",E4=""),($A$1-RECAP!$U$5),IF(G4=" "," ",(G4-D4))) -> 0.0083333333
B5: 43347 | D5: 0.31666667 | E5: 0.35416667 | F5: 0.68958333 | G5: =IF(E5=""," ",IF((F5-E5)<$H$1,F5-E5,IF(K5="",F5-E5-$G$1,F5-E5-K5))) -> 0.31458333 | H5: =IF(AND(C5="x",E5=""),($A$1-RECAP!$U$5),IF(G5=" "," ",(G5-D5))) -> -0.0020833333 | J5: =SUM(H3:H24) -> 0.20902778
B6: 43348 | D6: 0.31666667 | E6: 0.35416667 | F6: 0.7125 | G6: =IF(E6=""," ",IF((F6-E6)<$H$1,F6-E6,IF(K6="",F6-E6-$G$1,F6-E6-K6))) -> 0.3375 | H6: =IF(AND(C6="x",E6=""),($A$1-RECAP!$U$5),IF(G6=" "," ",(G6-D6))) -> 0.020833333 | L6: =IF(L1=38,J48+(RECAP!S4*-1*J1),IF(L1=30.24,J48+(RECAP!S5*-1*J1),IF(L1=30,J48+(RECAP!S6*-1*J1),IF(L1=19,J48+(RECAP!S7*-1*J1),"ERREUR")))) -> 0.075694444
B7: 43349 | D7: 0.31666667 | E7: 0.35416667 | F7: 0.70972222 | G7: =IF(E7=""," ",IF((F7-E7)<$H$1,F7-E7,IF(K7="",F7-E7-$G$1,F7-E7-K7))) -> 0.33472222 | H7: =IF(AND(C7="x",E7=""),($A$1-RECAP!$U$5),IF(G7=" "," ",(G7-D7))) -> 0.018055556
B8: 43350 | D8: 0.31666667 | E8: 0.35416667 | F8: 0.69166667 | G8: =IF(E8=""," ",IF((F8-E8)<$H$1,F8-E8,IF(K8="",F8-E8-$G$1,F8-E8-K8))) -> 0.31666667 | H8: =IF(AND(C8="x",E8=""),($A$1-RECAP!$U$5),IF(G8=" "," ",(G8-D8))) -> 1.110223e-16
B9: 43351 | D9: 0 | G9: =IF(E9=""," ",IF((F9-E9)<$H$1,F9-E9,IF(K9="",F9-E9-$G$1,F9-E9-K9))) | H9: =IF(AND(C9="x",E9=""),($A$1-RECAP!$U$5),IF(G9=" "," ",(G9-D9)))
B10: 43354 | D10: 0.31666667 | E10: 0.35416667 | F10: 0.69375 | G10: =IF(E10=""," ",IF((F10-E10)<$H$1,F10-E10,IF(K10="",F10-E10-$G$1,F10-E10-K10))) -> 0.31875 | H10: =IF(AND(C10="x",E10=""),($A$1-RECAP!$U$5),IF(G10=" "," ",(G10-D10))) -> 0.0020833333
B11: 43355 | D11: 0.31666667 | E11: 0.35416667 | F11: 0.69513889 | G11: =IF(E11=""," ",IF((F11-E11)<$H$1,F11-E11,IF(K11="",F11-E11-$G$1,F11-E11-K11))) -> 0.32013889 | H11: =IF(AND(C11="x",E11=""),($A$1-RECAP!$U$5),IF(G11=" "," ",(G11-D11))) -> 0.0034722222
B12: 43356 | D12: 0 | G12: =IF(E12=""," ",IF((F12-E12)<$H$1,F12-E12,IF(K12="",F12-E12-$G$1,F12-E12-K12))) | H12: =IF(AND(C12="x",E12=""),($A$1-RECAP!$U$5),IF(G12=" "," ",(G12-D12)))
B13: 43357 | D13: 0.31666667 | E13: 0.35416667 | F13: 0.70625 | G13: =IF(E13=""," ",IF((F13-E13)<$H$1,F13-E13,IF(K13="",F13-E13-$G$1,F13-E13-K13))) -> 0.33125 | H13: =IF(AND(C13="x",E13=""),($A$1-RECAP!$U$5),IF(G13=" "," ",(G13-D13))) -> 0.014583333 | I13: =SUM(H3:H13) -> 0.086111111
B14: 43358 | D14: 0.31666667 | E14: 0.35416667 | F14: 0.7125 | G14: =IF(E14=""," ",IF((F14-E14)<$H$1,F14-E14,IF(K14="",F14-E14-$G$1,F14-E14-K14))) -> 0.3375 | H14: =IF(AND(C14="x",E14=""),($A$1-RECAP!$U$5),IF(G14=" "," ",(G14-D14))) -> 0.020833333
B15: 43361 | D15: 0.31666667 | E15: 0.35416667 | F15: 0.69236111 | G15: =IF(E15=""," ",IF((F15-E15)<$H$1,F15-E15,IF(K15="",F15-E15-$G$1,F15-E15-K15))) -> 0.31736111 | H15: =IF(AND(C15="x",E15=""),($A$1-RECAP!$U$5),IF(G15=" "," ",(G15-D15))) -> 0.00069444444 | O15: =IF(L1=38,J49+(RECAP!S4*-1*J1),IF(L1=30.24,J49+(RECAP!S5*-1*J1),IF(L1=30,J49+(RECAP!S6*-1*J1),IF(L1=19,J49+(RECAP!S7*-1*J1),"ERREUR")))) -> -0.18958333
B16: 43362 | D16: 0.31666667 | E16: 0.35555556 | F16: 0.69583333 | G16: =IF(E16=""," ",IF((F16-E16)<$H$1,F16-E16,IF(K16="",F16-E16-$G$1,F16-E16-K16))) -> 0.31944444 | H16: =IF(AND(C16="x",E16=""),($A$1-RECAP!$U$5),IF(G16=" "," ",(G16-D16))) -> 0.0027777778
B17: 43363 | D17: 0 | G17: =IF(E17=""," ",IF((F17-E17)<$H$1,F17-E17,IF(K17="",F17-E17-$G$1,F17-E17-K17))) | H17: =IF(AND(C17="x",E17=""),($A$1-RECAP!$U$5),IF(G17=" "," ",(G17-D17)))
B18: 43364 | D18: 0.31666667 | E18: 0.35416667 | F18: 0.7125 | G18: =IF(E18=""," ",IF((F18-E18)<$H$1,F18-E18,IF(K18="",F18-E18-$G$1,F18-E18-K18))) -> 0.3375 | H18: =IF(AND(C18="x",E18=""),($A$1-RECAP!$U$5),IF(G18=" "," ",(G18-D18))) -> 0.020833333
B19: 43365 | D19: 0.31666667 | E19: 0.35416667 | F19: 0.70555556 | G19: =IF(E19=""," ",IF((F19-E19)<$H$1,F19-E19,IF(K19="",F19-E19-$G$1,F19-E19-K19))) -> 0.33055556 | H19: =IF(AND(C19="x",E19=""),($A$1-RECAP!$U$5),IF(G19=" "," ",(G19-D19))) -> 0.013888889
B20: 43368 | D20: 0.31666667 | E20: 0.35416667 | F20: 0.69722222 | G20: =IF(E20=""," ",IF((F20-E20)<$H$1,F20-E20,IF(K20="",F20-E20-$G$1,F20-E20-K20))) -> 0.32222222 | H20: =IF(AND(C20="x",E20=""),($A$1-RECAP!$U$5),IF(G20=" "," ",(G20-D20))) -> 0.0055555556
B21: 43369 | C21: x | D21: 0.31666667 | E21: 0.35416667 | F21: 0.70902778 | G21: =IF(E21=""," ",IF((F21-E21)<$H$1,F21-E21,IF(K21="",F21-E21-$G$1,F21-E21-K21))) -> 0.31319444 | H21: =IF(AND(C21="x",E21=""),($A$1-RECAP!$U$5),IF(G21=" "," ",(G21-D21)))+M21 -> -0.0034722222 | K21: 0.041666667
B22: 43370 | D22: 0 | G22: =IF(E22=""," ",IF((F22-E22)<$H$1,F22-E22,IF(K22="",F22-E22-$G$1,F22-E22-K22))) | H22: =IF(AND(C22="x",E22=""),($A$1-RECAP!$U$5),IF(G22=" "," ",(G22-D22)))
B23: 43371 | D23: 0.31666667 | E23: 0.35416667 | F23: 0.73263889 | G23: =IF(E23=""," ",IF((F23-E23)<$H$1,F23-E23,IF(K23="",F23-E23-$G$1,F23-E23-K23))) -> 0.35763889 | H23: =IF(AND(C23="x",E23=""),($A$1-RECAP!$U$5),IF(G23=" "," ",(G23-D23))) -> 0.040972222
B24: 43372 | D24: 0.31666667 | E24: 0.35416667 | F24: 0.7125 | G24: =IF(E24=""," ",IF((F24-E24)<$H$1,F24-E24,IF(K24="",F24-E24-$G$1,F24-E24-K24))) -> 0.3375 | H24: =IF(AND(C24="x",E24=""),($A$1-RECAP!$U$5),IF(G24=" "," ",(G24-D24))) -> 0.020833333 | I24: =SUM(H14:H24) -> 0.12291667
B25: 43375 | D25: 0.31666667 | E25: 0.35416667 | F25: 0.69861111 | G25: =IF(E25=""," ",IF((F25-E25)<$H$1,F25-E25,IF(K25="",F25-E25-$G$1,F25-E25-K25))) -> 0.32361111 | H25: =IF(AND(C25="x",E25=""),($A$1-RECAP!$U$5),IF(G25=" "," ",(G25-D25))) -> 0.0069444444 | J25: 43373
B26: 43376 | D26: 0.31666667 | E26: 0.35416667 | F26: 0.69513889 | G26: =IF(E26=""," ",IF((F26-E26)<$H$1,F26-E26,IF(K26="",F26-E26-$G$1,F26-E26-K26))) -> 0.32013889 | H26: =IF(AND(C26="x",E26=""),($A$1-RECAP!$U$5),IF(G26=" "," ",(G26-D26))) -> 0.0034722222
B27: 43377 | D27: 0.31666667 | E27: 0.35416667 | F27: 0.69166667 | G27: =IF(E27=""," ",IF((F27-E27)<$H$1,F27-E27,IF(K27="",F27-E27-$G$1,F27-E27-K27))) -> 0.31666667 | H27: =IF(AND(C27="x",E27=""),($A$1-RECAP!$U$5),IF(G27=" "," ",(G27-D27))) -> 1.110223e-16 | J27: =SUM(H25:H45)+J5 -> 0.20625
B28: 43378 | D28: 0.31666667 | E28: 0.35416667 | F28: 0.69861111 | G28: =IF(E28=""," ",IF((F28-E28)<$H$1,F28-E28,IF(K28="",F28-E28-$G$1,F28-E28-K28))) -> 0.32361111 | H28: =IF(AND(C28="x",E28=""),($A$1-RECAP!$U$5),IF(G28=" "," ",(G28-D28))) -> 0.0069444444
B29: 43379 | D29: 0.31666667 | E29: 0.35416667 | F29: 0.69513889 | G29: =IF(E29=""," ",IF((F29-E29)<$H$1,F29-E29,IF(K29="",F29-E29-$G$1,F29-E29-K29))) -> 0.32013889 | H29: =IF(AND(C29="x",E29=""),($A$1-RECAP!$U$5),IF(G29=" "," ",(G29-D29))) -> 0.0034722222
B30: 43382 | D30: 0.31666667 | E30: 0.35416667 | F30: 0.69444444 | G30: =IF(E30=""," ",IF((F30-E30)<$H$1,F30-E30,IF(K30="",F30-E30-$G$1,F30-E30-K30))) -> 0.31944444 | H30: =IF(AND(C30="x",E30=""),($A$1-RECAP!$U$5),IF(G30=" "," ",(G30-D30))) -> 0.0027777778
B31: 43383 | D31: 0.31666667 | E31: 0.35416667 | F31: 0.70416667 | G31: =IF(E31=""," ",IF((F31-E31)<$H$1,F31-E31,IF(K31="",F31-E31-$G$1,F31-E31-K31))) -> 0.32916667 | H31: =IF(AND(C31="x",E31=""),($A$1-RECAP!$U$5),IF(G31=" "," ",(G31-D31))) -> 0.0125
B32: 43384 | D32: 0.31666667 | E32: 0.35416667 | F32: 0.69166667 | G32: =IF(E32=""," ",IF((F32-E32)<$H$1,F32-E32,IF(K32="",F32-E32-$G$1,F32-E32-K32))) -> 0.31666667 | H32: =IF(AND(C32="x",E32=""),($A$1-RECAP!$U$5),IF(G32=" "," ",(G32-D32))) -> -2.220446e-16
B33: 43385 | D33: 0.31666667 | E33: 0.35763889 | F33: 0.69513889 | G33: =IF(E33=""," ",IF((F33-E33)<$H$1,F33-E33,IF(K33="",F33-E33-$G$1,F33-E33-K33))) -> 0.31666667 | H33: =IF(AND(C33="x",E33=""),($A$1-RECAP!$U$5),IF(G33=" "," ",(G33-D33))) -> -3.3306691e-16
B34: 43386 | D34: 0.31666667 | E34: 0.35833333 | F34: 0.71180556 | G34: =IF(E34=""," ",IF((F34-E34)<$H$1,F34-E34,IF(K34="",F34-E34-$G$1,F34-E34-K34))) -> 0.33263889 | H34: =IF(AND(C34="x",E34=""),($A$1-RECAP!$U$5),IF(G34=" "," ",(G34-D34))) -> 0.015972222
B35: 43389 | D35: 0.31666667 | E35: 0.35416667 | F35: 0.70625 | G35: =IF(E35=""," ",IF((F35-E35)<$H$1,F35-E35,IF(K35="",F35-E35-$G$1,F35-E35-K35))) -> 0.33125 | H35: =IF(AND(C35="x",E35=""),($A$1-RECAP!$U$5),IF(G35=" "," ",(G35-D35))) -> 0.014583333 | I35: =SUM(H25:H35) -> 0.066666667
B36: 43390 | D36: 0.31666667 | E36: 0.35416667 | F36: 0.69513889 | G36: =IF(E36=""," ",IF((F36-E36)<$H$1,F36-E36,IF(K36="",F36-E36-$G$1,F36-E36-K36))) -> 0.32013889 | H36: =IF(AND(C36="x",E36=""),($A$1-RECAP!$U$5),IF(G36=" "," ",(G36-D36))) -> 0.0034722222
B37: 43391 | D37: 0.31666667 | E37: 0.35416667 | F37: 0.69166667 | G37: =IF(E37=""," ",IF((F37-E37)<$H$1,F37-E37,IF(K37="",F37-E37-$G$1,F37-E37-K37))) -> 0.31666667 | H37: =IF(AND(C37="x",E37=""),($A$1-RECAP!$U$5),IF(G37=" "," ",(G37-D37))) -> -2.220446e-16
B38: 43392 | D38: 0.31666667 | E38: 0.35416667 | F38: 0.70694444 | G38: =IF(E38=""," ",IF((F38-E38)<$H$1,F38-E38,IF(K38="",F38-E38-$G$1,F38-E38-K38))) -> 0.29027778 | H38: =IF(AND(C38="x",E38=""),($A$1-RECAP!$U$5),IF(G38=" "," ",(G38-D38))) -> -0.026388889 | K38: 0.0625
B39: 43393 | D39: 0.31666667 | E39: 0.35416667 | F39: 0.71111111 | G39: =IF(E39=""," ",IF((F39-E39)<$H$1,F39-E39,IF(K39="",F39-E39-$G$1,F39-E39-K39))) -> 0.33611111 | H39: =IF(AND(C39="x",E39=""),($A$1-RECAP!$U$5),IF(G39=" "," ",(G39-D39))) -> 0.019444444
B40: 43396 | D40: 0.31666667 | E40: 0.35416667 | F40: 0.69236111 | G40: =IF(E40=""," ",IF((F40-E40)<$H$1,F40-E40,IF(K40="",F40-E40-$G$1,F40-E40-K40))) -> 0.31736111 | H40: =IF(AND(C40="x",E40=""),($A$1-RECAP!$U$5),IF(G40=" "," ",(G40-D40))) -> 0.00069444444
B41: 43397 | D41: 0.31666667 | E41: 0.35416667 | F41: 0.68819444 | G41: =IF(E41=""," ",IF((F41-E41)<$H$1,F41-E41,IF(K41="",F41-E41-$G$1,F41-E41-K41))) -> 0.31319444 | H41: =IF(AND(C41="x",E41=""),($A$1-RECAP!$U$5),IF(G41=" "," ",(G41-D41))) -> -0.0034722222
B42: 43398 | D42: 0.31666667 | E42: 0.35416667 | F42: 0.69861111 | G42: =IF(E42=""," ",IF((F42-E42)<$H$1,F42-E42,IF(K42="",F42-E42-$G$1,F42-E42-K42))) -> 0.32361111 | H42: =IF(AND(C42="x",E42=""),($A$1-RECAP!$U$5),IF(G42=" "," ",(G42-D42))) -> 0.0069444444
B43: 43399 | D43: 0.31666667 | E43: 0.35486111 | F43: 0.65972222 | G43: =IF(E43=""," ",IF((F43-E43)<$H$1,F43-E43,IF(K43="",F43-E43-$G$1,F43-E43-K43))) -> 0.28402778 | H43: =IF(AND(C43="x",E43=""),($A$1-RECAP!$U$5),IF(G43=" "," ",(G43-D43))) -> -0.032638889
B44: 43400 | D44: 0.31666667 | E44: 0.35902778 | F44: 0.69375 | G44: =IF(E44=""," ",IF((F44-E44)<$H$1,F44-E44,IF(K44="",F44-E44-$G$1,F44-E44-K44))) -> 0.31388889 | H44: =IF(AND(C44="x",E44=""),($A$1-RECAP!$U$5),IF(G44=" "," ",(G44-D44))) -> -0.0027777778
B45: 43403 | D45: 0.31666667 | E45: 0.35694444 | F45: 0.65972222 | G45: =IF(E45=""," ",IF((F45-E45)<$H$1,F45-E45,IF(K45="",F45-E45-$G$1,F45-E45-K45))) -> 0.28194444 | H45: =IF(AND(C45="x",E45=""),($A$1-RECAP!$U$5),IF(G45=" "," ",(G45-D45))) -> -0.034722222 | I45: =SUM(H36:H45) -> -0.069444444
B46: 43404 | C46: x | D46: 0.31666667 | G46: =IF(E46=""," ",IF((F46-E46)<$H$1,F46-E46,IF(K46="",F46-E46-$G$1,F46-E46-K46))) | H46: 0 | J46: 36099
B47: 43405 | D47: 0.31666667 | E47: 0.35972222 | F47: 0.70972222 | G47: =IF(E47=""," ",IF((F47-E47)<$H$1,F47-E47,IF(K47="",F47-E47-$G$1,F47-E47-K47))) -> 0.32916667 | H47: =IF(AND(C47="x",E47=""),($A$1-RECAP!$U$5),IF(G47=" "," ",(G47-D47))) -> 0.0125
B48: 43406 | D48: 0.31666667 | E48: 0.3625 | F48: 0.70902778 | G48: =IF(E48=""," ",IF((F48-E48)<$H$1,F48-E48,IF(K48="",F48-E48-$G$1,F48-E48-K48))) -> 0.32569444 | H48: =IF(AND(C48="x",E48=""),($A$1-RECAP!$U$5),IF(G48=" "," ",(G48-D48))) -> 0.0090277778 | J48: =SUM(H46:H67)+J27 -> 0.26527778
B49: 43407 | D49: 0.31666667 | E49: 0.36319444 | F49: 0.71041667 | G49: =IF(E49=""," ",IF((F49-E49)<$H$1,F49-E49,IF(K49="",F49-E49-$G$1,F49-E49-K49))) -> 0.32638889 | H49: =IF(AND(C49="x",E49=""),($A$1-RECAP!$U$5),IF(G49=" "," ",(G49-D49))) -> 0.0097222222
B50: 43410 | D50: 0.31666667 | E50: 0.35416667 | F50: 0.7125 | G50: =IF(E50=""," ",IF((F50-E50)<$H$1,F50-E50,IF(K50="",F50-E50-$G$1,F50-E50-K50))) -> 0.3375 | H50: =IF(AND(C50="x",E50=""),($A$1-RECAP!$U$5),IF(G50=" "," ",(G50-D50))) -> 0.020833333
B51: 43411 | D51: 0.31666667 | E51: 0.35416667 | F51: 0.69652778 | G51: =IF(E51=""," ",IF((F51-E51)<$H$1,F51-E51,IF(K51="",F51-E51-$G$1,F51-E51-K51))) -> 0.32152778 | H51: =IF(AND(C51="x",E51=""),($A$1-RECAP!$U$5),IF(G51=" "," ",(G51-D51))) -> 0.0048611111
B52: 43412 | D52: 0 | G52: =IF(E52=""," ",IF((F52-E52)<$H$1,F52-E52,IF(K52="",F52-E52-$G$1,F52-E52-K52))) | H52: =IF(AND(C52="x",E52=""),($A$1-RECAP!$U$5),IF(G52=" "," ",(G52-D52)))
B53: 43413 | D53: 0.31666667 | E53: 0.35416667 | F53: 0.69375 | G53: =IF(E53=""," ",IF((F53-E53)<$H$1,F53-E53,IF(K53="",F53-E53-$G$1,F53-E53-K53))) -> 0.31875 | H53: =IF(AND(C53="x",E53=""),($A$1-RECAP!$U$5),IF(G53=" "," ",(G53-D53))) -> 0.0020833333
B54: 43414 | C54: x | D54: 0.31666667 | G54: =IF(E54=""," ",IF((F54-E54)<$H$1,F54-E54,IF(K54="",F54-E54-$G$1,F54-E54-K54))) | H54: 0
B55: 43417 | D55: 0.31666667 | G55: =IF(E55=""," ",IF((F55-E55)<$H$1,F55-E55,IF(K55="",F55-E55-$G$1,F55-E55-K55))) | H55: =IF(AND(C55="x",E55=""),($A$1-RECAP!$U$5),IF(G55=" "," ",(G55-D55)))
B56: 43418 | D56: 0.31666667 | G56: =IF(E56=""," ",IF((F56-E56)<$H$1,F56-E56,IF(K56="",F56-E56-$G$1,F56-E56-K56))) | H56: =IF(AND(C56="x",E56=""),($A$1-RECAP!$U$5),IF(G56=" "," ",(G56-D56))) | I56: =SUM(H46:H56) -> 0.059027778
B57: 43419 | D57: 0.31666667 | G57: =IF(E57=""," ",IF((F57-E57)<$H$1,F57-E57,IF(K57="",F57-E57-$G$1,F57-E57-K57))) | H57: =IF(AND(C57="x",E57=""),($A$1-RECAP!$U$5),IF(G57=" "," ",(G57-D57)))
B58: 43420 | D58: 0.31666667 | G58: =IF(E58=""," ",IF((F58-E58)<$H$1,F58-E58,IF(K58="",F58-E58-$G$1,F58-E58-K58))) | H58: =IF(AND(C58="x",E58=""),($A$1-RECAP!$U$5),IF(G58=" "," ",(G58-D58)))
B59: 43421 | D59: 0.31666667 | G59: =IF(E59=""," ",IF((F59-E59)<$H$1,F59-E59,IF(K59="",F59-E59-$G$1,F59-E59-K59))) | H59: =IF(AND(C59="x",E59=""),($A$1-RECAP!$U$5),IF(G59=" "," ",(G59-D59)))
B60: 43424 | D60: 0.31666667 | G60: =IF(E60=""," ",IF((F60-E60)<$H$1,F60-E60,IF(K60="",F60-E60-$G$1,F60-E60-K60))) | H60: =IF(AND(C60="x",E60=""),($A$1-RECAP!$U$5),IF(G60=" "," ",(G60-D60)))
B61: 43425 | D61: 0.31666667 | G61: =IF(E61=""," ",IF((F61-E61)<$H$1,F61-E61,IF(K61="",F61-E61-$G$1,F61-E61-K61))) | H61: =IF(AND(C61="x",E61=""),($A$1-RECAP!$U$5),IF(G61=" "," ",(G61-D61)))
B62: 43426 | D62: 0.31666667 | G62: =IF(E62=""," ",IF((F62-E62)<$H$1,F62-E62,IF(K62="",F62-E62-$G$1,F62-E62-K62))) | H62: =IF(AND(C62="x",E62=""),($A$1-RECAP!$U$5),IF(G62=" "," ",(G62-D62)))
B63: 43427 | D63: 0.31666667 | G63: =IF(E63=""," ",IF((F63-E63)<$H$1,F63-E63,IF(K63="",F63-E63-$G$1,F63-E63-K63))) | H63: =IF(AND(C63="x",E63=""),($A$1-RECAP!$U$5),IF(G63=" "," ",(G63-D63)))
B64: 43428 | D64: 0.31666667 | G64: =IF(E64=""," ",IF((F64-E64)<$H$1,F64-E64,IF(K64="",F64-E64-$G$1,F64-E64-K64))) | H64: =IF(AND(C64="x",E64=""),($A$1-RECAP!$U$5),IF(G64=" "," ",(G64-D64)))
B65: 43431 | D65: 0.31666667 | G65: =IF(E65=""," ",IF((F65-E65)<$H$1,F65-E65,IF(K65="",F65-E65-$G$1,F65-E65-K65))) | H65: =IF(AND(C65="x",E65=""),($A$1-RECAP!$U$5),IF(G65=" "," ",(G65-D65)))
B66: 43432 | D66: 0.31666667 | G66: =IF(E66=""," ",IF((F66-E66)<$H$1,F66-E66,IF(K66="",F66-E66-$G$1,F66-E66-K66))) | H66: =IF(AND(C66="x",E66=""),($A$1-RECAP!$U$5),IF(G66=" "," ",(G66-D66)))
B67: 43433 | D67: 0.31666667 | G67: =IF(E67=""," ",IF((F67-E67)<$H$1,F67-E67,IF(K67="",F67-E67-$G$1,F67-E67-K67))) | H67: =IF(AND(C67="x",E67=""),($A$1-RECAP!$U$5),IF(G67=" "," ",(G67-D67))) | I67: =SUM(H57:H67) -> 0

Sheet E
A1: =RECAP!R4 -> 0.31666667 | B1: Travailleur : | D1: E | F1: Pause : | G1: 0.020833333 | H1: 0.25 | I1: Nbre de jours feriés pour la période concernée | J1: =COUNTA(C3:C67) -> 3 | K1: SI((D3-C3)<$F$1;" ";D3-C3-$E$1) | L1: 38 | N1: =IF(L1=19,J1*RECAP!R7,IF(L1=30,J1*RECAP!R6,IF(L1=30.24,J1*RECAP!R5,IF(L1=38,J1*RECAP!R4,"ERREUR")))) -> 0.95 | O1: =N1/24 -> 0.039583333
B2: Date | C2: Jours feriés | D2: Temps théorique | E2: IN | F2: OUT | G2: Temps presté | H2: Solde journalier | I2: Heures boni/mali cumulées | J2: Heures boni/mali par mois | K2: DA = Horaire autorisé | N2: pointage manquant | Q2: G = garde
B3: 43343 | D3: 0.31666667 | E3: 0.35416667 | F3: 0.69166667 | G3: =IF(E3=""," ",IF((F3-E3)<$H$1,F3-E3,IF(K3="",F3-E3-$G$1,F3-E3-K3))) -> 0.31666667 | H3: =IF(AND(C3="x",E3=""),($A$1-RECAP!$U$4),IF(G3=" "," ",(G3-D3))) -> 1.110223e-16 | J3: 43343
B4: 43344 | D4: 0.31666667 | E4: 0.35416667 | F4: 0.70486111 | G4: =IF(E4=""," ",IF((F4-E4)<$H$1,F4-E4,IF(K4="",F4-E4-$G$1,F4-E4-K4))) -> 0.32986111 | H4: =IF(AND(C4="x",E4=""),($A$1-RECAP!$U$4),IF(G4=" "," ",(G4-D4))) -> 0.013194444
B5: 43347 | D5: 0 | G5: =IF(E5=""," ",IF((F5-E5)<$H$1,F5-E5,IF(K5="",F5-E5-$G$1,F5-E5-K5))) | H5: =IF(AND(C5="x",E5=""),($A$1-RECAP!$U$4),IF(G5=" "," ",(G5-D5))) | J5: =SUM(H3:H24) -> 0.088888889
B6: 43348 | D6: 0 | G6: =IF(E6=""," ",IF((F6-E6)<$H$1,F6-E6,IF(K6="",F6-E6-$G$1,F6-E6-K6))) | H6: =IF(AND(C6="x",E6=""),($A$1-RECAP!$U$4),IF(G6=" "," ",(G6-D6))) | L6: =IF(L1=38,J48+(RECAP!S4*-1*J1),IF(L1=30.24,J48+(RECAP!S5*-1*J1),IF(L1=30,J48+(RECAP!S6*-1*J1),IF(L1=19,J48+(RECAP!S7*-1*J1),"ERREUR")))) -> 0.044444444
B7: 43349 | D7: 0 | G7: =IF(E7=""," ",IF((F7-E7)<$H$1,F7-E7,IF(K7="",F7-E7-$G$1,F7-E7-K7))) | H7: =IF(AND(C7="x",E7=""),($A$1-RECAP!$U$4),IF(G7=" "," ",(G7-D7)))
B8: 43350 | D8: 0 | G8: =IF(E8=""," ",IF((F8-E8)<$H$1,F8-E8,IF(K8="",F8-E8-$G$1,F8-E8-K8))) | H8: =IF(AND(C8="x",E8=""),($A$1-RECAP!$U$4),IF(G8=" "," ",(G8-D8)))
B9: 43351 | D9: 0 | G9: =IF(E9=""," ",IF((F9-E9)<$H$1,F9-E9,IF(K9="",F9-E9-$G$1,F9-E9-K9))) | H9: =IF(AND(C9="x",E9=""),($A$1-RECAP!$U$4),IF(G9=" "," ",(G9-D9)))
B10: 43354 | D10: 0 | G10: =IF(E10=""," ",IF((F10-E10)<$H$1,F10-E10,IF(K10="",F10-E10-$G$1,F10-E10-K10))) | H10: =IF(AND(C10="x",E10=""),($A$1-RECAP!$U$4),IF(G10=" "," ",(G10-D10)))
B11: 43355 | D11: 0 | G11: =IF(E11=""," ",IF((F11-E11)<$H$1,F11-E11,IF(K11="",F11-E11-$G$1,F11-E11-K11))) | H11: =IF(AND(C11="x",E11=""),($A$1-RECAP!$U$4),IF(G11=" "," ",(G11-D11)))
B12: 43356 | D12: 0 | G12: =IF(E12=""," ",IF((F12-E12)<$H$1,F12-E12,IF(K12="",F12-E12-$G$1,F12-E12-K12))) | H12: =IF(AND(C12="x",E12=""),($A$1-RECAP!$U$4),IF(G12=" "," ",(G12-D12)))
B13: 43357 | D13: 0 | G13: =IF(E13=""," ",IF((F13-E13)<$H$1,F13-E13,IF(K13="",F13-E13-$G$1,F13-E13-K13))) | H13: =IF(AND(C13="x",E13=""),($A$1-RECAP!$U$4),IF(G13=" "," ",(G13-D13))) | I13: =SUM(H3:H13) -> 0.013194444
B14: 43358 | D14: 0 | G14: =IF(E14=""," ",IF((F14-E14)<$H$1,F14-E14,IF(K14="",F14-E14-$G$1,F14-E14-K14))) | H14: =IF(AND(C14="x",E14=""),($A$1-RECAP!$U$4),IF(G14=" "," ",(G14-D14)))
B15: 43361 | D15: 0.31666667 | E15: 0.36319444 | F15: 0.69513889 | G15: =IF(E15=""," ",IF((F15-E15)<$H$1,F15-E15,IF(K15="",F15-E15-$G$1,F15-E15-K15))) -> 0.31111111 | H15: =IF(AND(C15="x",E15=""),($A$1-RECAP!$U$4),IF(G15=" "," ",(G15-D15))) -> -0.0055555556
B16: 43362 | D16: 0.31666667 | E16: 0.35486111 | F16: 0.70069444 | G16: =IF(E16=""," ",IF((F16-E16)<$H$1,F16-E16,IF(K16="",F16-E16-$G$1,F16-E16-K16))) -> 0.325 | H16: =IF(AND(C16="x",E16=""),($A$1-RECAP!$U$4),IF(G16=" "," ",(G16-D16))) -> 0.0083333333
B17: 43363 | D17: 0.31666667 | E17: 0.35416667 | F17: 0.69930556 | G17: =IF(E17=""," ",IF((F17-E17)<$H$1,F17-E17,IF(K17="",F17-E17-$G$1,F17-E17-K17))) -> 0.32430556 | H17: =IF(AND(C17="x",E17=""),($A$1-RECAP!$U$4),IF(G17=" "," ",(G17-D17))) -> 0.0076388889
B18: 43364 | D18: 0.31666667 | E18: 0.36319444 | F18: 0.69930556 | G18: =IF(E18=""," ",IF((F18-E18)<$H$1,F18-E18,IF(K18="",F18-E18-$G$1,F18-E18-K18))) -> 0.31527778 | H18: =IF(AND(C18="x",E18=""),($A$1-RECAP!$U$4),IF(G18=" "," ",(G18-D18))) -> -0.0013888889
B19: 43365 | D19: 0.31666667 | E19: 0.36875 | F19: 0.70555556 | G19: =IF(E19=""," ",IF((F19-E19)<$H$1,F19-E19,IF(K19="",F19-E19-$G$1,F19-E19-K19))) -> 0.31597222 | H19: =IF(AND(C19="x",E19=""),($A$1-RECAP!$U$4),IF(G19=" "," ",(G19-D19))) -> -0.00069444444
B20: 43368 | D20: 0.31666667 | E20: 0.35416667 | F20: 0.70902778 | G20: =IF(E20=""," ",IF((F20-E20)<$H$1,F20-E20,IF(K20="",F20-E20-$G$1,F20-E20-K20))) -> 0.33402778 | H20: =IF(AND(C20="x",E20=""),($A$1-RECAP!$U$4),IF(G20=" "," ",(G20-D20))) -> 0.017361111
B21: 43369 | C21: x | D21: 0.31666667 | E21: 0.35416667 | F21: 0.7125 | G21: =IF(E21=""," ",IF((F21-E21)<$H$1,F21-E21,IF(K21="",F21-E21-$G$1,F21-E21-K21))) -> 0.3375 | H21: =IF(AND(C21="x",E21=""),($A$1-RECAP!$U$4),IF(G21=" "," ",(G21-D21)))+M21 -> 0.020833333
B22: 43370 | D22: 0.31666667 | E22: 0.35416667 | F22: 0.69652778 | G22: =IF(E22=""," ",IF((F22-E22)<$H$1,F22-E22,IF(K22="",F22-E22-$G$1,F22-E22-K22))) -> 0.32152778 | H22: =IF(AND(C22="x",E22=""),($A$1-RECAP!$U$4),IF(G22=" "," ",(G22-D22))) -> 0.0048611111
B23: 43371 | D23: 0.31666667 | E23: 0.35416667 | F23: 0.69791667 | G23: =IF(E23=""," ",IF((F23-E23)<$H$1,F23-E23,IF(K23="",F23-E23-$G$1,F23-E23-K23))) -> 0.32291667 | H23: =IF(AND(C23="x",E23=""),($A$1-RECAP!$U$4),IF(G23=" "," ",(G23-D23))) -> 0.00625
B24: 43372 | D24: 0.31666667 | E24: 0.35625 | F24: 0.71180556 | G24: =IF(E24=""," ",IF((F24-E24)<$H$1,F24-E24,IF(K24="",F24-E24-$G$1,F24-E24-K24))) -> 0.33472222 | H24: =IF(AND(C24="x",E24=""),($A$1-RECAP!$U$4),IF(G24=" "," ",(G24-D24))) -> 0.018055556 | I24: =SUM(H14:H24) -> 0.075694444
B25: 43375 | D25: 0.31666667 | E25: 0.3625 | F25: 0.70277778 | G25: =IF(E25=""," ",IF((F25-E25)<$H$1,F25-E25,IF(K25="",F25-E25-$G$1,F25-E25-K25))) -> 0.31944444 | H25: =IF(AND(C25="x",E25=""),($A$1-RECAP!$U$4),IF(G25=" "," ",(G25-D25))) -> 0.0027777778 | J25: 43373
B26: 43376 | D26: 0.31666667 | E26: 0.375 | F26: 0.7 | G26: =IF(E26=""," ",IF((F26-E26)<$H$1,F26-E26,IF(K26="",F26-E26-$G$1,F26-E26-K26))) -> 0.30416667 | H26: =IF(AND(C26="x",E26=""),($A$1-RECAP!$U$4),IF(G26=" "," ",(G26-D26))) -> -0.0125
B27: 43377 | D27: 0.31666667 | E27: 0.375 | F27: 0.7125 | G27: =IF(E27=""," ",IF((F27-E27)<$H$1,F27-E27,IF(K27="",F27-E27-$G$1,F27-E27-K27))) -> 0.31666667 | H27: =IF(AND(C27="x",E27=""),($A$1-RECAP!$U$4),IF(G27=" "," ",(G27-D27))) -> -2.7755576e-16 | J27: =SUM(H25:H45)+J5 -> 0.16041667
B28: 43378 | D28: 0.31666667 | E28: 0.35416667 | F28: 0.70972222 | G28: =IF(E28=""," ",IF((F28-E28)<$H$1,F28-E28,IF(K28="",F28-E28-$G$1,F28-E28-K28))) -> 0.33472222 | H28: =IF(AND(C28="x",E28=""),($A$1-RECAP!$U$4),IF(G28=" "," ",(G28-D28))) -> 0.018055556
B29: 43379 | D29: 0.31666667 | E29: 0.375 | F29: 0.7125 | G29: =IF(E29=""," ",IF((F29-E29)<$H$1,F29-E29,IF(K29="",F29-E29-$G$1,F29-E29-K29))) -> 0.31666667 | H29: =IF(AND(C29="x",E29=""),($A$1-RECAP!$U$4),IF(G29=" "," ",(G29-D29))) -> -2.7755576e-16
B30: 43382 | D30: 0.31666667 | E30: 0.36180556 | F30: 0.69791667 | G30: =IF(E30=""," ",IF((F30-E30)<$H$1,F30-E30,IF(K30="",F30-E30-$G$1,F30-E30-K30))) -> 0.31527778 | H30: =IF(AND(C30="x",E30=""),($A$1-RECAP!$U$4),IF(G30=" "," ",(G30-D30))) -> -0.0013888889
B31: 43383 | D31: 0.31666667 | E31: 0.35763889 | F31: 0.70277778 | G31: =IF(E31=""," ",IF((F31-E31)<$H$1,F31-E31,IF(K31="",F31-E31-$G$1,F31-E31-K31))) -> 0.32430556 | H31: =IF(AND(C31="x",E31=""),($A$1-RECAP!$U$4),IF(G31=" "," ",(G31-D31))) -> 0.0076388889
B32: 43384 | D32: 0.31666667 | E32: 0.35486111 | F32: 0.70138889 | G32: =IF(E32=""," ",IF((F32-E32)<$H$1,F32-E32,IF(K32="",F32-E32-$G$1,F32-E32-K32))) -> 0.32569444 | H32: =IF(AND(C32="x",E32=""),($A$1-RECAP!$U$4),IF(G32=" "," ",(G32-D32))) -> 0.0090277778
B33: 43385 | D33: 0.31666667 | E33: 0.35555556 | F33: 0.69236111 | G33: =IF(E33=""," ",IF((F33-E33)<$H$1,F33-E33,IF(K33="",F33-E33-$G$1,F33-E33-K33))) -> 0.31597222 | H33: =IF(AND(C33="x",E33=""),($A$1-RECAP!$U$4),IF(G33=" "," ",(G33-D33))) -> -0.00069444444
B34: 43386 | D34: 0.31666667 | E34: 0.35416667 | F34: 0.69166667 | G34: =IF(E34=""," ",IF((F34-E34)<$H$1,F34-E34,IF(K34="",F34-E34-$G$1,F34-E34-K34))) -> 0.31666667 | H34: =IF(AND(C34="x",E34=""),($A$1-RECAP!$U$4),IF(G34=" "," ",(G34-D34))) -> -2.220446e-16
B35: 43389 | D35: 0.31666667 | E35: 0.35902778 | F35: 0.69444444 | G35: =IF(E35=""," ",IF((F35-E35)<$H$1,F35-E35,IF(K35="",F35-E35-$G$1,F35-E35-K35))) -> 0.31458333 | H35: =IF(AND(C35="x",E35=""),($A$1-RECAP!$U$4),IF(G35=" "," ",(G35-D35))) -> -0.0020833333 | I35: =SUM(H25:H35) -> 0.020833333
B36: 43390 | D36: 0.31666667 | E36: 0.35972222 | F36: 0.70555556 | G36: =IF(E36=""," ",IF((F36-E36)<$H$1,F36-E36,IF(K36="",F36-E36-$G$1,F36-E36-K36))) -> 0.325 | H36: =IF(AND(C36="x",E36=""),($A$1-RECAP!$U$4),IF(G36=" "," ",(G36-D36))) -> 0.0083333333
B37: 43391 | D37: 0.31666667 | E37: 0.36111111 | F37: 0.69375 | G37: =IF(E37=""," ",IF((F37-E37)<$H$1,F37-E37,IF(K37="",F37-E37-$G$1,F37-E37-K37))) -> 0.31180556 | H37: =IF(AND(C37="x",E37=""),($A$1-RECAP!$U$4),IF(G37=" "," ",(G37-D37))) -> -0.0048611111
B38: 43392 | D38: 0.31666667 | E38: 0.35416667 | F38: 0.71041667 | G38: =IF(E38=""," ",IF((F38-E38)<$H$1,F38-E38,IF(K38="",F38-E38-$G$1,F38-E38-K38))) -> 0.33541667 | H38: =IF(AND(C38="x",E38=""),($A$1-RECAP!$U$4),IF(G38=" "," ",(G38-D38))) -> 0.01875
B39: 43393 | D39: 0.31666667 | E39: 0.35416667 | F39: 0.69166667 | G39: =IF(E39=""," ",IF((F39-E39)<$H$1,F39-E39,IF(K39="",F39-E39-$G$1,F39-E39-K39))) -> 0.31666667 | H39: =IF(AND(C39="x",E39=""),($A$1-RECAP!$U$4),IF(G39=" "," ",(G39-D39))) -> -2.220446e-16
B40: 43396 | D40: 0.31666667 | E40: 0.35416667 | F40: 0.69305556 | G40: =IF(E40=""," ",IF((F40-E40)<$H$1,F40-E40,IF(K40="",F40-E40-$G$1,F40-E40-K40))) -> 0.31805556 | H40: =IF(AND(C40="x",E40=""),($A$1-RECAP!$U$4),IF(G40=" "," ",(G40-D40))) -> 0.0013888889
B41: 43397 | D41: 0.31666667 | E41: 0.35416667 | F41: 0.69583333 | G41: =IF(E41=""," ",IF((F41-E41)<$H$1,F41-E41,IF(K41="",F41-E41-$G$1,F41-E41-K41))) -> 0.32083333 | H41: =IF(AND(C41="x",E41=""),($A$1-RECAP!$U$4),IF(G41=" "," ",(G41-D41))) -> 0.0041666667
B42: 43398 | D42: 0.31666667 | E42: 0.35416667 | F42: 0.69444444 | G42: =IF(E42=""," ",IF((F42-E42)<$H$1,F42-E42,IF(K42="",F42-E42-$G$1,F42-E42-K42))) -> 0.31944444 | H42: =IF(AND(C42="x",E42=""),($A$1-RECAP!$U$4),IF(G42=" "," ",(G42-D42))) -> 0.0027777778
B43: 43399 | D43: 0.31666667 | E43: 0.35416667 | F43: 0.69305556 | G43: =IF(E43=""," ",IF((F43-E43)<$H$1,F43-E43,IF(K43="",F43-E43-$G$1,F43-E43-K43))) -> 0.31805556 | H43: =IF(AND(C43="x",E43=""),($A$1-RECAP!$U$4),IF(G43=" "," ",(G43-D43))) -> 0.0013888889
B44: 43400 | D44: 0.31666667 | E44: 0.35416667 | F44: 0.69444444 | G44: =IF(E44=""," ",IF((F44-E44)<$H$1,F44-E44,IF(K44="",F44-E44-$G$1,F44-E44-K44))) -> 0.31944444 | H44: =IF(AND(C44="x",E44=""),($A$1-RECAP!$U$4),IF(G44=" "," ",(G44-D44))) -> 0.0027777778
B45: 43403 | D45: 0.31666667 | E45: 0.35416667 | F45: 0.70763889 | G45: =IF(E45=""," ",IF((F45-E45)<$H$1,F45-E45,IF(K45="",F45-E45-$G$1,F45-E45-K45))) -> 0.33263889 | H45: =IF(AND(C45="x",E45=""),($A$1-RECAP!$U$4),IF(G45=" "," ",(G45-D45))) -> 0.015972222 | I45: =SUM(H36:H45) -> 0.050694444
B46: 43404 | C46: x | D46: 0 | G46: =IF(E46=""," ",IF((F46-E46)<$H$1,F46-E46,IF(K46="",F46-E46-$G$1,F46-E46-K46))) | H46: =IF(AND(C46="x",E46=""),($A$1-RECAP!$U$4),IF(G46=" "," ",(G46-D46))) -> 0 | J46: 36099
B47: 43405 | D47: 0.31666667 | E47: 0.35416667 | F47: 0.7125 | G47: =IF(E47=""," ",IF((F47-E47)<$H$1,F47-E47,IF(K47="",F47-E47-$G$1,F47-E47-K47))) -> 0.3375 | H47: =IF(AND(C47="x",E47=""),($A$1-RECAP!$U$4),IF(G47=" "," ",(G47-D47))) -> 0.020833333
B48: 43406 | D48: 0.31666667 | E48: 0.35416667 | F48: 0.69375 | G48: =IF(E48=""," ",IF((F48-E48)<$H$1,F48-E48,IF(K48="",F48-E48-$G$1,F48-E48-K48))) -> 0.31875 | H48: =IF(AND(C48="x",E48=""),($A$1-RECAP!$U$4),IF(G48=" "," ",(G48-D48))) -> 0.0020833333 | J48: =SUM(H46:H67)+J27 -> 0.044444444
B49: 43407 | D49: 0.31666667 | E49: 0.35416667 | F49: 0.70694444 | G49: =IF(E49=""," ",IF((F49-E49)<$H$1,F49-E49,IF(K49="",F49-E49-$G$1,F49-E49-K49))) -> 0.33194444 | H49: =IF(AND(C49="x",E49=""),($A$1-RECAP!$U$4),IF(G49=" "," ",(G49-D49))) -> 0.015277778
B50: 43410 | D50: 0.31666667 | E50: 0.35416667 | F50: 0.52777778 | G50: =IF(E50=""," ",IF((F50-E50)<$H$1,F50-E50,IF(K50="",F50-E50-$G$1,F50-E50-K50))) -> 0.17361111 | H50: =IF(AND(C50="x",E50=""),($A$1-RECAP!$U$4),IF(G50=" "," ",(G50-D50))) -> -0.14305556
B51: 43411 | D51: 0.31666667 | E51: 0.36180556 | F51: 0.69236111 | G51: =IF(E51=""," ",IF((F51-E51)<$H$1,F51-E51,IF(K51="",F51-E51-$G$1,F51-E51-K51))) -> 0.30972222 | H51: =IF(AND(C51="x",E51=""),($A$1-RECAP!$U$4),IF(G51=" "," ",(G51-D51))) -> -0.0069444444
B52: 43412 | D52: 0.31666667 | E52: 0.35416667 | F52: 0.69166667 | G52: =IF(E52=""," ",IF((F52-E52)<$H$1,F52-E52,IF(K52="",F52-E52-$G$1,F52-E52-K52))) -> 0.31666667 | H52: =IF(AND(C52="x",E52=""),($A$1-RECAP!$U$4),IF(G52=" "," ",(G52-D52))) -> -2.220446e-16
B53: 43413 | D53: 0.31666667 | E53: 0.36041667 | F53: 0.69375 | G53: =IF(E53=""," ",IF((F53-E53)<$H$1,F53-E53,IF(K53="",F53-E53-$G$1,F53-E53-K53))) -> 0.3125 | H53: =IF(AND(C53="x",E53=""),($A$1-RECAP!$U$4),IF(G53=" "," ",(G53-D53))) -> -0.0041666667
B54: 43414 | C54: x | D54: 0 | G54: =IF(E54=""," ",IF((F54-E54)<$H$1,F54-E54,IF(K54="",F54-E54-$G$1,F54-E54-K54))) | H54: =IF(AND(C54="x",E54=""),($A$1-RECAP!$U$4),IF(G54=" "," ",(G54-D54))) -> 0
B55: 43417 | D55: 0.31666667 | G55: =IF(E55=""," ",IF((F55-E55)<$H$1,F55-E55,IF(K55="",F55-E55-$G$1,F55-E55-K55))) | H55: =IF(AND(C55="x",E55=""),($A$1-RECAP!$U$4),IF(G55=" "," ",(G55-D55)))
B56: 43418 | D56: 0.31666667 | G56: =IF(E56=""," ",IF((F56-E56)<$H$1,F56-E56,IF(K56="",F56-E56-$G$1,F56-E56-K56))) | H56: =IF(AND(C56="x",E56=""),($A$1-RECAP!$U$4),IF(G56=" "," ",(G56-D56))) | I56: =SUM(H46:H56) -> -0.11597222
B57: 43419 | D57: 0.31666667 | G57: =IF(E57=""," ",IF((F57-E57)<$H$1,F57-E57,IF(K57="",F57-E57-$G$1,F57-E57-K57))) | H57: =IF(AND(C57="x",E57=""),($A$1-RECAP!$U$4),IF(G57=" "," ",(G57-D57)))
B58: 43420 | D58: 0.31666667 | G58: =IF(E58=""," ",IF((F58-E58)<$H$1,F58-E58,IF(K58="",F58-E58-$G$1,F58-E58-K58))) | H58: =IF(AND(C58="x",E58=""),($A$1-RECAP!$U$4),IF(G58=" "," ",(G58-D58)))
B59: 43421 | D59: 0.31666667 | G59: =IF(E59=""," ",IF((F59-E59)<$H$1,F59-E59,IF(K59="",F59-E59-$G$1,F59-E59-K59))) | H59: =IF(AND(C59="x",E59=""),($A$1-RECAP!$U$4),IF(G59=" "," ",(G59-D59)))
B60: 43424 | D60: 0.31666667 | G60: =IF(E60=""," ",IF((F60-E60)<$H$1,F60-E60,IF(K60="",F60-E60-$G$1,F60-E60-K60))) | H60: =IF(AND(C60="x",E60=""),($A$1-RECAP!$U$4),IF(G60=" "," ",(G60-D60)))
B61: 43425 | D61: 0.31666667 | G61: =IF(E61=""," ",IF((F61-E61)<$H$1,F61-E61,IF(K61="",F61-E61-$G$1,F61-E61-K61))) | H61: =IF(AND(C61="x",E61=""),($A$1-RECAP!$U$4),IF(G61=" "," ",(G61-D61)))
B62: 43426 | D62: 0.31666667 | G62: =IF(E62=""," ",IF((F62-E62)<$H$1,F62-E62,IF(K62="",F62-E62-$G$1,F62-E62-K62))) | H62: =IF(AND(C62="x",E62=""),($A$1-RECAP!$U$4),IF(G62=" "," ",(G62-D62)))
B63: 43427 | D63: 0.31666667 | G63: =IF(E63=""," ",IF((F63-E63)<$H$1,F63-E63,IF(K63="",F63-E63-$G$1,F63-E63-K63))) | H63: =IF(AND(C63="x",E63=""),($A$1-RECAP!$U$4),IF(G63=" "," ",(G63-D63)))
B64: 43428 | D64: 0.31666667 | G64: =IF(E64=""," ",IF((F64-E64)<$H$1,F64-E64,IF(K64="",F64-E64-$G$1,F64-E64-K64))) | H64: =IF(AND(C64="x",E64=""),($A$1-RECAP!$U$4),IF(G64=" "," ",(G64-D64)))
B65: 43431 | D65: 0.31666667 | G65: =IF(E65=""," ",IF((F65-E65)<$H$1,F65-E65,IF(K65="",F65-E65-$G$1,F65-E65-K65))) | H65: =IF(AND(C65="x",E65=""),($A$1-RECAP!$U$4),IF(G65=" "," ",(G65-D65)))
B66: 43432 | D66: 0.31666667 | G66: =IF(E66=""," ",IF((F66-E66)<$H$1,F66-E66,IF(K66="",F66-E66-$G$1,F66-E66-K66))) | H66: =IF(AND(C66="x",E66=""),($A$1-RECAP!$U$4),IF(G66=" "," ",(G66-D66)))
B67: 43433 | D67: 0.31666667 | G67: =IF(E67=""," ",IF((F67-E67)<$H$1,F67-E67,IF(K67="",F67-E67-$G$1,F67-E67-K67))) | H67: =IF(AND(C67="x",E67=""),($A$1-RECAP!$U$4),IF(G67=" "," ",(G67-D67))) | I67: =SUM(H57:H67) -> 0

Sheet F
A1: =RECAP!R4 -> 0.31666667 | B1: Travailleur : | D1: F | F1: Pause : | G1: 0.020833333 | H1: 0.25 | I1: Nbre de jours feriés pour la période concernée | J1: =COUNTA(C3:C67) -> 3 | K1: SI((D3-C3)<$F$1;" ";D3-C3-$E$1) | L1: 38 | N1: =IF(L1=19,J1*RECAP!R7,IF(L1=30,J1*RECAP!R6,IF(L1=30.24,J1*RECAP!R5,IF(L1=38,J1*RECAP!R4,"ERREUR")))) -> 0.95 | O1: =N1/24 -> 0.039583333
B2: Date | C2: Jours feriés | D2: Temps théorique | E2: IN | F2: OUT | G2: Temps presté | H2: Solde journalier | I2: Heures boni/mali cumulées | J2: Heures boni/mali par mois | K2: DA = Horaire autorisé | N2: pointage manquant | Q2: G = garde
B3: 43343 | D3: 0.31666667 | E3: 0.375 | F3: 0.7125 | G3: =IF(E3=""," ",IF((F3-E3)<$H$1,F3-E3,IF(K3="",F3-E3-$G$1,F3-E3-K3))) -> 0.31666667 | H3: =IF(AND(C3="x",E3=""),($A$1-RECAP!$U$4),IF(G3=" "," ",(G3-D3))) -> 5.5511151e-17 | J3: 43343
B4: 43344 | D4: 0.31666667 | E4: 0.375 | F4: 0.7125 | G4: =IF(E4=""," ",IF((F4-E4)<$H$1,F4-E4,IF(K4="",F4-E4-$G$1,F4-E4-K4))) -> 0.31666667 | H4: =IF(AND(C4="x",E4=""),($A$1-RECAP!$U$4),IF(G4=" "," ",(G4-D4))) -> 5.5511151e-17
B5: 43347 | D5: 0.31666667 | E5: 0.375 | F5: 0.7125 | G5: =IF(E5=""," ",IF((F5-E5)<$H$1,F5-E5,IF(K5="",F5-E5-$G$1,F5-E5-K5))) -> 0.31666667 | H5: =IF(AND(C5="x",E5=""),($A$1-RECAP!$U$4),IF(G5=" "," ",(G5-D5))) -> -2.7755576e-16 | J5: =SUM(H3:H24) -> -0.31666667
B6: 43348 | D6: 0.31666667 | E6: 0.375 | F6: 0.7125 | G6: =IF(E6=""," ",IF((F6-E6)<$H$1,F6-E6,IF(K6="",F6-E6-$G$1,F6-E6-K6))) -> 0.31666667 | H6: =IF(AND(C6="x",E6=""),($A$1-RECAP!$U$4),IF(G6=" "," ",(G6-D6))) -> -2.7755576e-16 | L6: =IF(L1=38,J48+(RECAP!S4*-1*J1),IF(L1=30.24,J48+(RECAP!S5*-1*J1),IF(L1=30,J48+(RECAP!S6*-1*J1),IF(L1=19,J48+(RECAP!S7*-1*J1),"ERREUR")))) -> -0.31666667 | O6: Nbre | P6: x | R6: Total
B7: 43349 | D7: 0.31666667 | E7: 0.375 | F7: 0.7125 | G7: =IF(E7=""," ",IF((F7-E7)<$H$1,F7-E7,IF(K7="",F7-E7-$G$1,F7-E7-K7))) -> 0.31666667 | H7: =IF(AND(C7="x",E7=""),($A$1-RECAP!$U$4),IF(G7=" "," ",(G7-D7))) -> -2.7755576e-16 | O7: =IF(L1=38,RECAP!S4*-1*J1,"ERREUR") -> 0 | P7: =IF(L1=38,RECAP!S4*-1*COUNTA(C3:C67),"ERREUR") -> 0 | R7: =IF(L1=38,J49+(RECAP!S4*-1*J1),"ERREUR") -> 0
B8: 43350 | D8: 0.31666667 | E8: 0.375 | F8: 0.7125 | G8: =IF(E8=""," ",IF((F8-E8)<$H$1,F8-E8,IF(K8="",F8-E8-$G$1,F8-E8-K8))) -> 0.31666667 | H8: =IF(AND(C8="x",E8=""),($A$1-RECAP!$U$4),IF(G8=" "," ",(G8-D8))) -> -2.7755576e-16 | P8: =IF(L1=30.24,RECAP!S5*-1*COUNTA(C3:C67),"ERREUR") -> ERREUR | R8: =IF(L1=30.24,J49+(RECAP!S5*-1*J1),"ERREUR") -> ERREUR
B9: 43351 | D9: 0.31666667 | E9: 0.375 | F9: 0.7125 | G9: =IF(E9=""," ",IF((F9-E9)<$H$1,F9-E9,IF(K9="",F9-E9-$G$1,F9-E9-K9))) -> 0.31666667 | H9: =IF(AND(C9="x",E9=""),($A$1-RECAP!$U$4),IF(G9=" "," ",(G9-D9))) -> -2.7755576e-16 | P9: =IF(L1=30,RECAP!S6*-1*COUNTA(C3:C67),"ERREUR") -> ERREUR | R9: =IF(L1=30,J49+(RECAP!S6*-1*J1),"ERREUR") -> ERREUR
B10: 43354 | D10: 0.31666667 | E10: 0.375 | F10: 0.7125 | G10: =IF(E10=""," ",IF((F10-E10)<$H$1,F10-E10,IF(K10="",F10-E10-$G$1,F10-E10-K10))) -> 0.31666667 | H10: =IF(AND(C10="x",E10=""),($A$1-RECAP!$U$4),IF(G10=" "," ",(G10-D10))) -> -2.7755576e-16 | P10: =IF(L1=19,RECAP!S7*-1*COUNTA(C3:C67),"ERREUR") -> ERREUR | R10: =IF(L1=19,J49+(RECAP!S7*-1*J1),"ERREUR") -> ERREUR
B11: 43355 | D11: 0.31666667 | E11: 0.375 | F11: 0.7125 | G11: =IF(E11=""," ",IF((F11-E11)<$H$1,F11-E11,IF(K11="",F11-E11-$G$1,F11-E11-K11))) -> 0.31666667 | H11: =IF(AND(C11="x",E11=""),($A$1-RECAP!$U$4),IF(G11=" "," ",(G11-D11))) -> -2.7755576e-16
B12: 43356 | D12: 0.31666667 | E12: 0.375 | F12: 0.7125 | G12: =IF(E12=""," ",IF((F12-E12)<$H$1,F12-E12,IF(K12="",F12-E12-$G$1,F12-E12-K12))) -> 0.31666667 | H12: =IF(AND(C12="x",E12=""),($A$1-RECAP!$U$4),IF(G12=" "," ",(G12-D12))) -> -2.7755576e-16
B13: 43357 | D13: 0.31666667 | E13: 0.375 | F13: 0.7125 | G13: =IF(E13=""," ",IF((F13-E13)<$H$1,F13-E13,IF(K13="",F13-E13-$G$1,F13-E13-K13))) -> 0.31666667 | H13: =IF(AND(C13="x",E13=""),($A$1-RECAP!$U$4),IF(G13=" "," ",(G13-D13))) -> -2.7755576e-16 | I13: =SUM(H3:H13) -> -2.3869795e-15
B14: 43358 | D14: 0.31666667 | E14: 0.375 | F14: 0.7125 | G14: =IF(E14=""," ",IF((F14-E14)<$H$1,F14-E14,IF(K14="",F14-E14-$G$1,F14-E14-K14))) -> 0.31666667 | H14: =IF(AND(C14="x",E14=""),($A$1-RECAP!$U$4),IF(G14=" "," ",(G14-D14))) -> -2.7755576e-16
B15: 43361 | D15: 0.31666667 | E15: 0.375 | F15: 0.7125 | G15: =IF(E15=""," ",IF((F15-E15)<$H$1,F15-E15,IF(K15="",F15-E15-$G$1,F15-E15-K15))) -> 0.31666667 | H15: =IF(AND(C15="x",E15=""),($A$1-RECAP!$U$4),IF(G15=" "," ",(G15-D15))) -> -2.7755576e-16
B16: 43362 | D16: 0.31666667 | E16: 0.375 | F16: 0.7125 | G16: =IF(E16=""," ",IF((F16-E16)<$H$1,F16-E16,IF(K16="",F16-E16-$G$1,F16-E16-K16))) -> 0.31666667 | H16: =IF(AND(C16="x",E16=""),($A$1-RECAP!$U$4),IF(G16=" "," ",(G16-D16))) -> -2.7755576e-16
B17: 43363 | D17: 0.31666667 | E17: 0.375 | F17: 0.7125 | G17: =IF(E17=""," ",IF((F17-E17)<$H$1,F17-E17,IF(K17="",F17-E17-$G$1,F17-E17-K17))) -> 0.31666667 | H17: =IF(AND(C17="x",E17=""),($A$1-RECAP!$U$4),IF(G17=" "," ",(G17-D17))) -> -2.7755576e-16
B18: 43364 | D18: 0 | G18: =IF(E18=""," ",IF((F18-E18)<$H$1,F18-E18,IF(K18="",F18-E18-$G$1,F18-E18-K18))) | H18: =IF(AND(C18="x",E18=""),($A$1-RECAP!$U$4),IF(G18=" "," ",(G18-D18)))
B19: 43365 | D19: 0.31666667 | E19: 0.375 | F19: 0.7125 | G19: =IF(E19=""," ",IF((F19-E19)<$H$1,F19-E19,IF(K19="",F19-E19-$G$1,F19-E19-K19))) -> 0.31666667 | H19: =IF(AND(C19="x",E19=""),($A$1-RECAP!$U$4),IF(G19=" "," ",(G19-D19))) -> -2.7755576e-16
B20: 43368 | D20: 0.31666667 | E20: 0.375 | F20: 0.7125 | G20: =IF(E20=""," ",IF((F20-E20)<$H$1,F20-E20,IF(K20="",F20-E20-$G$1,F20-E20-K20))) -> 0.31666667 | H20: =IF(AND(C20="x",E20=""),($A$1-RECAP!$U$4),IF(G20=" "," ",(G20-D20))) -> -2.7755576e-16
B21: 43369 | C21: x | D21: 0.31666667 | E21: 0.375 | F21: 0.7125 | G21: =IF(E21=""," ",IF((F21-E21)<$H$1,F21-E21,IF(K21="",F21-E21-$G$1,F21-E21-K21))) -> 0.31666667 | H21: =IF(AND(C21="x",E21=""),($A$1-RECAP!$U$4),IF(G21=" "," ",(G21-D21)))+M21 -> -2.7755576e-16
B22: 43370 | D22: 0.31666667 | E22: 0.375 | F22: 0.7125 | G22: =IF(E22=""," ",IF((F22-E22)<$H$1,F22-E22,IF(K22="",F22-E22-$G$1,F22-E22-K22))) -> 0.31666667 | H22: =IF(AND(C22="x",E22=""),($A$1-RECAP!$U$4),IF(G22=" "," ",(G22-D22))) -> -2.7755576e-16
B23: 43371 | D23: 0.31666667 | E23: 0.375 | F23: 0.7125 | G23: =IF(E23=""," ",IF((F23-E23)<$H$1,F23-E23,IF(K23="",F23-E23-$G$1,F23-E23-K23))) -> 0.31666667 | H23: =IF(AND(C23="x",E23=""),($A$1-RECAP!$U$4),IF(G23=" "," ",(G23-D23))) -> -2.7755576e-16
B24: 43372 | D24: 0.31666667 | E24: 0 | F24: 0 | G24: =IF(E24=""," ",IF((F24-E24)<$H$1,F24-E24,IF(K24="",F24-E24-$G$1,F24-E24-K24))) -> 0 | H24: =IF(AND(C24="x",E24=""),($A$1-RECAP!$U$4),IF(G24=" "," ",(G24-D24))) -> -0.31666667 | I24: =SUM(H14:H24) -> -0.31666667
B25: 43375 | D25: 0.31666667 | E25: 0.375 | F25: 0.7125 | G25: =IF(E25=""," ",IF((F25-E25)<$H$1,F25-E25,IF(K25="",F25-E25-$G$1,F25-E25-K25))) -> 0.31666667 | H25: =IF(AND(C25="x",E25=""),($A$1-RECAP!$U$4),IF(G25=" "," ",(G25-D25)))+M25 -> -2.7755576e-16 | J25: 43373
B26: 43376 | D26: 0.31666667 | E26: 0.375 | F26: 0.7125 | G26: =IF(E26=""," ",IF((F26-E26)<$H$1,F26-E26,IF(K26="",F26-E26-$G$1,F26-E26-K26))) -> 0.31666667 | H26: =IF(AND(C26="x",E26=""),($A$1-RECAP!$U$4),IF(G26=" "," ",(G26-D26))) -> -2.7755576e-16
B27: 43377 | D27: 0.31666667 | E27: 0.375 | F27: 0.7125 | G27: =IF(E27=""," ",IF((F27-E27)<$H$1,F27-E27,IF(K27="",F27-E27-$G$1,F27-E27-K27))) -> 0.31666667 | H27: =IF(AND(C27="x",E27=""),($A$1-RECAP!$U$4),IF(G27=" "," ",(G27-D27))) -> -2.7755576e-16 | J27: =SUM(H25:H45)+J5 -> -0.31666667
B28: 43378 | D28: 0.31666667 | E28: 0.375 | F28: 0.7125 | G28: =IF(E28=""," ",IF((F28-E28)<$H$1,F28-E28,IF(K28="",F28-E28-$G$1,F28-E28-K28))) -> 0.31666667 | H28: =IF(AND(C28="x",E28=""),($A$1-RECAP!$U$4),IF(G28=" "," ",(G28-D28))) -> -2.7755576e-16
B29: 43379 | D29: 0 | G29: =IF(E29=""," ",IF((F29-E29)<$H$1,F29-E29,IF(K29="",F29-E29-$G$1,F29-E29-K29))) | H29: =IF(AND(C29="x",E29=""),($A$1-RECAP!$U$4),IF(G29=" "," ",(G29-D29)))
B30: 43382 | D30: 0 | G30: =IF(E30=""," ",IF((F30-E30)<$H$1,F30-E30,IF(K30="",F30-E30-$G$1,F30-E30-K30))) | H30: =IF(AND(C30="x",E30=""),($A$1-RECAP!$U$4),IF(G30=" "," ",(G30-D30)))
B31: 43383 | D31: 0.31666667 | E31: 0.375 | F31: 0.7125 | G31: =IF(E31=""," ",IF((F31-E31)<$H$1,F31-E31,IF(K31="",F31-E31-$G$1,F31-E31-K31))) -> 0.31666667 | H31: =IF(AND(C31="x",E31=""),($A$1-RECAP!$U$4),IF(G31=" "," ",(G31-D31))) -> -2.7755576e-16
B32: 43384 | D32: 0.31666667 | E32: 0.375 | F32: 0.7125 | G32: =IF(E32=""," ",IF((F32-E32)<$H$1,F32-E32,IF(K32="",F32-E32-$G$1,F32-E32-K32))) -> 0.31666667 | H32: =IF(AND(C32="x",E32=""),($A$1-RECAP!$U$4),IF(G32=" "," ",(G32-D32))) -> -2.7755576e-16
B33: 43385 | D33: 0.31666667 | E33: 0.375 | F33: 0.7125 | G33: =IF(E33=""," ",IF((F33-E33)<$H$1,F33-E33,IF(K33="",F33-E33-$G$1,F33-E33-K33))) -> 0.31666667 | H33: =IF(AND(C33="x",E33=""),($A$1-RECAP!$U$4),IF(G33=" "," ",(G33-D33))) -> -2.7755576e-16
B34: 43386 | D34: 0.31666667 | E34: 0.375 | F34: 0.7125 | G34: =IF(E34=""," ",IF((F34-E34)<$H$1,F34-E34,IF(K34="",F34-E34-$G$1,F34-E34-K34))) -> 0.31666667 | H34: =IF(AND(C34="x",E34=""),($A$1-RECAP!$U$4),IF(G34=" "," ",(G34-D34))) -> -2.7755576e-16
B35: 43389 | D35: 0.31666667 | E35: 0.375 | F35: 0.7125 | G35: =IF(E35=""," ",IF((F35-E35)<$H$1,F35-E35,IF(K35="",F35-E35-$G$1,F35-E35-K35))) -> 0.31666667 | H35: =IF(AND(C35="x",E35=""),($A$1-RECAP!$U$4),IF(G35=" "," ",(G35-D35))) -> -2.7755576e-16 | I35: =SUM(H25:H35) -> -2.4980018e-15
B36: 43390 | D36: 0.31666667 | E36: 0.375 | F36: 0.7125 | G36: =IF(E36=""," ",IF((F36-E36)<$H$1,F36-E36,IF(K36="",F36-E36-$G$1,F36-E36-K36))) -> 0.31666667 | H36: =IF(AND(C36="x",E36=""),($A$1-RECAP!$U$4),IF(G36=" "," ",(G36-D36))) -> -2.7755576e-16
B37: 43391 | D37: 0.31666667 | E37: 0.375 | F37: 0.7125 | G37: =IF(E37=""," ",IF((F37-E37)<$H$1,F37-E37,IF(K37="",F37-E37-$G$1,F37-E37-K37))) -> 0.31666667 | H37: =IF(AND(C37="x",E37=""),($A$1-RECAP!$U$4),IF(G37=" "," ",(G37-D37))) -> -2.7755576e-16
B38: 43392 | D38: 0.31666667 | E38: 0.375 | F38: 0.7125 | G38: =IF(E38=""," ",IF((F38-E38)<$H$1,F38-E38,IF(K38="",F38-E38-$G$1,F38-E38-K38))) -> 0.31666667 | H38: =IF(AND(C38="x",E38=""),($A$1-RECAP!$U$4),IF(G38=" "," ",(G38-D38))) -> -2.7755576e-16
B39: 43393 | D39: 0.31666667 | E39: 0.375 | F39: 0.7125 | G39: =IF(E39=""," ",IF((F39-E39)<$H$1,F39-E39,IF(K39="",F39-E39-$G$1,F39-E39-K39))) -> 0.31666667 | H39: =IF(AND(C39="x",E39=""),($A$1-RECAP!$U$4),IF(G39=" "," ",(G39-D39))) -> -2.7755576e-16
B40: 43396 | D40: 0.31666667 | E40: 0.375 | F40: 0.7125 | G40: =IF(E40=""," ",IF((F40-E40)<$H$1,F40-E40,IF(K40="",F40-E40-$G$1,F40-E40-K40))) -> 0.31666667 | H40: =IF(AND(C40="x",E40=""),($A$1-RECAP!$U$4),IF(G40=" "," ",(G40-D40))) -> -2.7755576e-16
B41: 43397 | D41: 0 | G41: =IF(E41=""," ",IF((F41-E41)<$H$1,F41-E41,IF(K41="",F41-E41-$G$1,F41-E41-K41))) | H41: =IF(AND(C41="x",E41=""),($A$1-RECAP!$U$4),IF(G41=" "," ",(G41-D41)))
B42: 43398 | D42: 0 | G42: =IF(E42=""," ",IF((F42-E42)<$H$1,F42-E42,IF(K42="",F42-E42-$G$1,F42-E42-K42))) | H42: =IF(AND(C42="x",E42=""),($A$1-RECAP!$U$4),IF(G42=" "," ",(G42-D42)))
B43: 43399 | D43: 0 | G43: =IF(E43=""," ",IF((F43-E43)<$H$1,F43-E43,IF(K43="",F43-E43-$G$1,F43-E43-K43))) | H43: =IF(AND(C43="x",E43=""),($A$1-RECAP!$U$4),IF(G43=" "," ",(G43-D43)))
B44: 43400 | D44: 0 | G44: =IF(E44=""," ",IF((F44-E44)<$H$1,F44-E44,IF(K44="",F44-E44-$G$1,F44-E44-K44))) | H44: =IF(AND(C44="x",E44=""),($A$1-RECAP!$U$4),IF(G44=" "," ",(G44-D44)))
B45: 43403 | D45: 0.31666667 | E45: 0.375 | F45: 0.7125 | G45: =IF(E45=""," ",IF((F45-E45)<$H$1,F45-E45,IF(K45="",F45-E45-$G$1,F45-E45-K45))) -> 0.31666667 | H45: =IF(AND(C45="x",E45=""),($A$1-RECAP!$U$4),IF(G45=" "," ",(G45-D45))) -> -2.7755576e-16 | I45: =SUM(H36:H45) -> -1.6653345e-15
B46: 43404 | C46: x | D46: 0 | G46: =IF(E46=""," ",IF((F46-E46)<$H$1,F46-E46,IF(K46="",F46-E46-$G$1,F46-E46-K46))) | H46: =IF(AND(C46="x",E46=""),($A$1-RECAP!$U$4),IF(G46=" "," ",(G46-D46))) -> 0 | J46: 36099
B47: 43405 | D47: 0.31666667 | E47: 0.375 | F47: 0.7125 | G47: =IF(E47=""," ",IF((F47-E47)<$H$1,F47-E47,IF(K47="",F47-E47-$G$1,F47-E47-K47))) -> 0.31666667 | H47: =IF(AND(C47="x",E47=""),($A$1-RECAP!$U$4),IF(G47=" "," ",(G47-D47))) -> -2.7755576e-16
B48: 43406 | D48: 0.31666667 | E48: 0.375 | F48: 0.7125 | G48: =IF(E48=""," ",IF((F48-E48)<$H$1,F48-E48,IF(K48="",F48-E48-$G$1,F48-E48-K48))) -> 0.31666667 | H48: =IF(AND(C48="x",E48=""),($A$1-RECAP!$U$4),IF(G48=" "," ",(G48-D48))) -> -2.7755576e-16 | J48: =SUM(H46:H67)+J27 -> -0.31666667
B49: 43407 | D49: 0.31666667 | E49: 0.375 | F49: 0.7125 | G49: =IF(E49=""," ",IF((F49-E49)<$H$1,F49-E49,IF(K49="",F49-E49-$G$1,F49-E49-K49))) -> 0.31666667 | H49: =IF(AND(C49="x",E49=""),($A$1-RECAP!$U$4),IF(G49=" "," ",(G49-D49))) -> -2.7755576e-16
B50: 43410 | D50: 0.31666667 | E50: 0.375 | F50: 0.7125 | G50: =IF(E50=""," ",IF((F50-E50)<$H$1,F50-E50,IF(K50="",F50-E50-$G$1,F50-E50-K50))) -> 0.31666667 | H50: =IF(AND(C50="x",E50=""),($A$1-RECAP!$U$4),IF(G50=" "," ",(G50-D50))) -> -2.7755576e-16
B51: 43411 | D51: 0.31666667 | E51: 0.375 | F51: 0.7125 | G51: =IF(E51=""," ",IF((F51-E51)<$H$1,F51-E51,IF(K51="",F51-E51-$G$1,F51-E51-K51))) -> 0.31666667 | H51: =IF(AND(C51="x",E51=""),($A$1-RECAP!$U$4),IF(G51=" "," ",(G51-D51))) -> -2.7755576e-16
B52: 43412 | D52: 0.31666667 | E52: 0.375 | F52: 0.7125 | G52: =IF(E52=""," ",IF((F52-E52)<$H$1,F52-E52,IF(K52="",F52-E52-$G$1,F52-E52-K52))) -> 0.31666667 | H52: =IF(AND(C52="x",E52=""),($A$1-RECAP!$U$4),IF(G52=" "," ",(G52-D52))) -> -2.7755576e-16
B53: 43413 | D53: 0.31666667 | E53: 0.375 | F53: 0.7125 | G53: =IF(E53=""," ",IF((F53-E53)<$H$1,F53-E53,IF(K53="",F53-E53-$G$1,F53-E53-K53))) -> 0.31666667 | H53: =IF(AND(C53="x",E53=""),($A$1-RECAP!$U$4),IF(G53=" "," ",(G53-D53))) -> -2.7755576e-16
B54: 43414 | C54: x | D54: 0 | G54: =IF(E54=""," ",IF((F54-E54)<$H$1,F54-E54,IF(K54="",F54-E54-$G$1,F54-E54-K54))) | H54: =IF(AND(C54="x",E54=""),($A$1-RECAP!$U$4),IF(G54=" "," ",(G54-D54))) -> 0
B55: 43417 | D55: 0.31666667 | G55: =IF(E55=""," ",IF((F55-E55)<$H$1,F55-E55,IF(K55="",F55-E55-$G$1,F55-E55-K55))) | H55: =IF(AND(C55="x",E55=""),($A$1-RECAP!$U$4),IF(G55=" "," ",(G55-D55)))
B56: 43418 | D56: 0.31666667 | G56: =IF(E56=""," ",IF((F56-E56)<$H$1,F56-E56,IF(K56="",F56-E56-$G$1,F56-E56-K56))) | H56: =IF(AND(C56="x",E56=""),($A$1-RECAP!$U$4),IF(G56=" "," ",(G56-D56))) | I56: =SUM(H46:H56) -> -1.9428903e-15
B57: 43419 | D57: 0.31666667 | G57: =IF(E57=""," ",IF((F57-E57)<$H$1,F57-E57,IF(K57="",F57-E57-$G$1,F57-E57-K57))) | H57: =IF(AND(C57="x",E57=""),($A$1-RECAP!$U$4),IF(G57=" "," ",(G57-D57)))
B58: 43420 | D58: 0.31666667 | G58: =IF(E58=""," ",IF((F58-E58)<$H$1,F58-E58,IF(K58="",F58-E58-$G$1,F58-E58-K58))) | H58: =IF(AND(C58="x",E58=""),($A$1-RECAP!$U$4),IF(G58=" "," ",(G58-D58)))
B59: 43421 | D59: 0.31666667 | G59: =IF(E59=""," ",IF((F59-E59)<$H$1,F59-E59,IF(K59="",F59-E59-$G$1,F59-E59-K59))) | H59: =IF(AND(C59="x",E59=""),($A$1-RECAP!$U$4),IF(G59=" "," ",(G59-D59)))
B60: 43424 | D60: 0.31666667 | G60: =IF(E60=""," ",IF((F60-E60)<$H$1,F60-E60,IF(K60="",F60-E60-$G$1,F60-E60-K60))) | H60: =IF(AND(C60="x",E60=""),($A$1-RECAP!$U$4),IF(G60=" "," ",(G60-D60)))
B61: 43425 | D61: 0.31666667 | G61: =IF(E61=""," ",IF((F61-E61)<$H$1,F61-E61,IF(K61="",F61-E61-$G$1,F61-E61-K61))) | H61: =IF(AND(C61="x",E61=""),($A$1-RECAP!$U$4),IF(G61=" "," ",(G61-D61)))
B62: 43426 | D62: 0.31666667 | G62: =IF(E62=""," ",IF((F62-E62)<$H$1,F62-E62,IF(K62="",F62-E62-$G$1,F62-E62-K62))) | H62: =IF(AND(C62="x",E62=""),($A$1-RECAP!$U$4),IF(G62=" "," ",(G62-D62)))
B63: 43427 | D63: 0.31666667 | G63: =IF(E63=""," ",IF((F63-E63)<$H$1,F63-E63,IF(K63="",F63-E63-$G$1,F63-E63-K63))) | H63: =IF(AND(C63="x",E63=""),($A$1-RECAP!$U$4),IF(G63=" "," ",(G63-D63)))
B64: 43428 | D64: 0.31666667 | G64: =IF(E64=""," ",IF((F64-E64)<$H$1,F64-E64,IF(K64="",F64-E64-$G$1,F64-E64-K64))) | H64: =IF(AND(C64="x",E64=""),($A$1-RECAP!$U$4),IF(G64=" "," ",(G64-D64)))
B65: 43431 | D65: 0.31666667 | G65: =IF(E65=""," ",IF((F65-E65)<$H$1,F65-E65,IF(K65="",F65-E65-$G$1,F65-E65-K65))) | H65: =IF(AND(C65="x",E65=""),($A$1-RECAP!$U$4),IF(G65=" "," ",(G65-D65)))
B66: 43432 | D66: 0.31666667 | G66: =IF(E66=""," ",IF((F66-E66)<$H$1,F66-E66,IF(K66="",F66-E66-$G$1,F66-E66-K66))) | H66: =IF(AND(C66="x",E66=""),($A$1-RECAP!$U$4),IF(G66=" "," ",(G66-D66)))
B67: 43433 | D67: 0.31666667 | G67: =IF(E67=""," ",IF((F67-E67)<$H$1,F67-E67,IF(K67="",F67-E67-$G$1,F67-E67-K67))) | H67: =IF(AND(C67="x",E67=""),($A$1-RECAP!$U$4),IF(G67=" "," ",(G67-D67))) | I67: =SUM(H57:H67) -> 0

Sheet G
A1: =RECAP!R4 -> 0.31666667 | B1: Travailleur : | D1: G | F1: Pause : | G1: 0.020833333 | H1: 0.25 | I1: Nbre de jours feriés pour la période concernée | J1: =COUNTA(C3:C67) -> 3 | K1: SI((D3-C3)<$F$1;" ";D3-C3-$E$1) | L1: 38 | N1: =IF(L1=19,J1*RECAP!R7,IF(L1=30,J1*RECAP!R6,IF(L1=30.24,J1*RECAP!R5,IF(L1=38,J1*RECAP!R4,"ERREUR")))) -> 0.95 | O1: =N1/24 -> 0.039583333
B2: Date | C2: Jours feriés | D2: Temps théorique | E2: IN | F2: OUT | G2: Temps presté | H2: Solde journalier | I2: Heures boni/mali cumulées | J2: Heures boni/mali par mois | K2: DA = Horaire autorisé | N2: pointage manquant | Q2: G = garde
B3: 43343 | D3: 0.31666667 | E3: 0.375 | F3: 0.69861111 | G3: =IF(E3=""," ",IF((F3-E3)<$H$1,F3-E3,IF(K3="",F3-E3-$G$1,F3-E3-K3))) -> 0.30277778 | H3: =IF(AND(C3="x",E3=""),($A$1-RECAP!$U$4),IF(G3=" "," ",(G3-D3))) -> -0.013888889 | J3: 43343
B4: 43344 | D4: 0.31666667 | E4: 0.35416667 | F4: 0.70763889 | G4: =IF(E4=""," ",IF((F4-E4)<$H$1,F4-E4,IF(K4="",F4-E4-$G$1,F4-E4-K4))) -> 0.33263889 | H4: =IF(AND(C4="x",E4=""),($A$1-RECAP!$U$4),IF(G4=" "," ",(G4-D4))) -> 0.015972222
B5: 43347 | D5: 0.31666667 | E5: 0.35763889 | F5: 0.69722222 | G5: =IF(E5=""," ",IF((F5-E5)<$H$1,F5-E5,IF(K5="",F5-E5-$G$1,F5-E5-K5))) -> 0.31875 | H5: =IF(AND(C5="x",E5=""),($A$1-RECAP!$U$4),IF(G5=" "," ",(G5-D5))) -> 0.0020833333 | J5: =SUM(H3:H24) -> 0.12152778
B6: 43348 | D6: 0 | G6: =IF(E6=""," ",IF((F6-E6)<$H$1,F6-E6,IF(K6="",F6-E6-$G$1,F6-E6-K6))) | H6: =IF(AND(C6="x",E6=""),($A$1-RECAP!$U$4),IF(G6=" "," ",(G6-D6))) | L6: =IF(L1=38,J48+(RECAP!S4*-1*J1),IF(L1=30.24,J48+(RECAP!S5*-1*J1),IF(L1=30,J48+(RECAP!S6*-1*J1),IF(L1=19,J48+(RECAP!S7*-1*J1),"ERREUR")))) -> 0.12152778
B7: 43349 | D7: 0.31666667 | E7: 0.3875 | F7: 0.70625 | G7: =IF(E7=""," ",IF((F7-E7)<$H$1,F7-E7,IF(K7="",F7-E7-$G$1,F7-E7-K7))) -> 0.29791667 | H7: =IF(AND(C7="x",E7=""),($A$1-RECAP!$U$4),IF(G7=" "," ",(G7-D7))) -> -0.01875
B8: 43350 | D8: 0.31666667 | E8: 0.36527778 | F8: 0.70486111 | G8: =IF(E8=""," ",IF((F8-E8)<$H$1,F8-E8,IF(K8="",F8-E8-$G$1,F8-E8-K8))) -> 0.31875 | H8: =IF(AND(C8="x",E8=""),($A$1-RECAP!$U$4),IF(G8=" "," ",(G8-D8))) -> 0.0020833333
B9: 43351 | D9: 0.31666667 | E9: 0.35416667 | F9: 0.7125 | G9: =IF(E9=""," ",IF((F9-E9)<$H$1,F9-E9,IF(K9="",F9-E9-$G$1,F9-E9-K9))) -> 0.3375 | H9: =IF(AND(C9="x",E9=""),($A$1-RECAP!$U$4),IF(G9=" "," ",(G9-D9))) -> 0.020833333
B10: 43354 | D10: 0.31666667 | E10: 0.35416667 | F10: 0.7 | G10: =IF(E10=""," ",IF((F10-E10)<$H$1,F10-E10,IF(K10="",F10-E10-$G$1,F10-E10-K10))) -> 0.325 | H10: =IF(AND(C10="x",E10=""),($A$1-RECAP!$U$4),IF(G10=" "," ",(G10-D10))) -> 0.0083333333
B11: 43355 | D11: 0.31666667 | E11: 0.36597222 | F11: 0.7125 | G11: =IF(E11=""," ",IF((F11-E11)<$H$1,F11-E11,IF(K11="",F11-E11-$G$1,F11-E11-K11))) -> 0.32569444 | H11: =IF(AND(C11="x",E11=""),($A$1-RECAP!$U$4),IF(G11=" "," ",(G11-D11))) -> 0.0090277778
B12: 43356 | D12: 0.31666667 | E12: 0.36666667 | F12: 0.70694444 | G12: =IF(E12=""," ",IF((F12-E12)<$H$1,F12-E12,IF(K12="",F12-E12-$G$1,F12-E12-K12))) -> 0.31944444 | H12: =IF(AND(C12="x",E12=""),($A$1-RECAP!$U$4),IF(G12=" "," ",(G12-D12))) -> 0.0027777778
B13: 43357 | D13: 0.31666667 | E13: 0.35555556 | F13: 0.70694444 | G13: =IF(E13=""," ",IF((F13-E13)<$H$1,F13-E13,IF(K13="",F13-E13-$G$1,F13-E13-K13))) -> 0.33055556 | H13: =IF(AND(C13="x",E13=""),($A$1-RECAP!$U$4),IF(G13=" "," ",(G13-D13))) -> 0.013888889 | I13: =SUM(H3:H13) -> 0.042361111
B14: 43358 | D14: 0.31666667 | E14: 0.35416667 | F14: 0.7125 | G14: =IF(E14=""," ",IF((F14-E14)<$H$1,F14-E14,IF(K14="",F14-E14-$G$1,F14-E14-K14))) -> 0.3375 | H14: =IF(AND(C14="x",E14=""),($A$1-RECAP!$U$4),IF(G14=" "," ",(G14-D14))) -> 0.020833333
B15: 43361 | D15: 0.31666667 | E15: 0.35416667 | F15: 0.6875 | G15: =IF(E15=""," ",IF((F15-E15)<$H$1,F15-E15,IF(K15="",F15-E15-$G$1,F15-E15-K15))) -> 0.3125 | H15: =IF(AND(C15="x",E15=""),($A$1-RECAP!$U$4),IF(G15=" "," ",(G15-D15))) -> -0.0041666667
B16: 43362 | D16: 0.31666667 | E16: 0.35416667 | F16: 0.70625 | G16: =IF(E16=""," ",IF((F16-E16)<$H$1,F16-E16,IF(K16="",F16-E16-$G$1,F16-E16-K16))) -> 0.33125 | H16: =IF(AND(C16="x",E16=""),($A$1-RECAP!$U$4),IF(G16=" "," ",(G16-D16))) -> 0.014583333
B17: 43363 | D17: 0.31666667 | E17: 0.35833333 | F17: 0.70138889 | G17: =IF(E17=""," ",IF((F17-E17)<$H$1,F17-E17,IF(K17="",F17-E17-$G$1,F17-E17-K17))) -> 0.32222222 | H17: =IF(AND(C17="x",E17=""),($A$1-RECAP!$U$4),IF(G17=" "," ",(G17-D17))) -> 0.0055555556
B18: 43364 | D18: 0.31666667 | E18: 0.36041667 | F18: 0.69097222 | G18: =IF(E18=""," ",IF((F18-E18)<$H$1,F18-E18,IF(K18="",F18-E18-$G$1,F18-E18-K18))) -> 0.30972222 | H18: =IF(AND(C18="x",E18=""),($A$1-RECAP!$U$4),IF(G18=" "," ",(G18-D18))) -> -0.0069444444
B19: 43365 | D19: 0.31666667 | E19: 0.35555556 | F19: 0.69305556 | G19: =IF(E19=""," ",IF((F19-E19)<$H$1,F19-E19,IF(K19="",F19-E19-$G$1,F19-E19-K19))) -> 0.31666667 | H19: =IF(AND(C19="x",E19=""),($A$1-RECAP!$U$4),IF(G19=" "," ",(G19-D19))) -> -3.3306691e-16
B20: 43368 | D20: 0.31666667 | E20: 0.35416667 | F20: 0.69652778 | G20: =IF(E20=""," ",IF((F20-E20)<$H$1,F20-E20,IF(K20="",F20-E20-$G$1,F20-E20-K20))) -> 0.32152778 | H20: =IF(AND(C20="x",E20=""),($A$1-RECAP!$U$4),IF(G20=" "," ",(G20-D20))) -> 0.0048611111
B21: 43369 | C21: x | D21: 0.31666667 | E21: 0.35763889 | F21: 0.69791667 | G21: =IF(E21=""," ",IF((F21-E21)<$H$1,F21-E21,IF(K21="",F21-E21-$G$1,F21-E21-K21))) -> 0.31944444 | H21: =IF(AND(C21="x",E21=""),($A$1-RECAP!$U$4),IF(G21=" "," ",(G21-D21)))+M21 -> 0.0027777778
B22: 43370 | D22: 0.31666667 | E22: 0.35833333 | F22: 0.69861111 | G22: =IF(E22=""," ",IF((F22-E22)<$H$1,F22-E22,IF(K22="",F22-E22-$G$1,F22-E22-K22))) -> 0.31944444 | H22: =IF(AND(C22="x",E22=""),($A$1-RECAP!$U$4),IF(G22=" "," ",(G22-D22))) -> 0.0027777778
B23: 43371 | D23: 0.31666667 | E23: 0.35486111 | F23: 0.7125 | G23: =IF(E23=""," ",IF((F23-E23)<$H$1,F23-E23,IF(K23="",F23-E23-$G$1,F23-E23-K23))) -> 0.33680556 | H23: =IF(AND(C23="x",E23=""),($A$1-RECAP!$U$4),IF(G23=" "," ",(G23-D23))) -> 0.020138889
B24: 43372 | D24: 0.31666667 | E24: 0.35625 | F24: 0.7125 | G24: =IF(E24=""," ",IF((F24-E24)<$H$1,F24-E24,IF(K24="",F24-E24-$G$1,F24-E24-K24))) -> 0.33541667 | H24: =IF(AND(C24="x",E24=""),($A$1-RECAP!$U$4),IF(G24=" "," ",(G24-D24))) -> 0.01875 | I24: =SUM(H14:H24) -> 0.079166667
B25: 43375 | D25: 0 | G25: =IF(E25=""," ",IF((F25-E25)<$H$1,F25-E25,IF(K25="",F25-E25-$G$1,F25-E25-K25))) | H25: =IF(AND(C25="x",E25=""),($A$1-RECAP!$U$4),IF(G25=" "," ",(G25-D25))) | J25: 43373
B26: 43376 | D26: 0 | G26: =IF(E26=""," ",IF((F26-E26)<$H$1,F26-E26,IF(K26="",F26-E26-$G$1,F26-E26-K26))) | H26: =IF(AND(C26="x",E26=""),($A$1-RECAP!$U$4),IF(G26=" "," ",(G26-D26)))
B27: 43377 | D27: 0 | G27: =IF(E27=""," ",IF((F27-E27)<$H$1,F27-E27,IF(K27="",F27-E27-$G$1,F27-E27-K27))) | H27: =IF(AND(C27="x",E27=""),($A$1-RECAP!$U$4),IF(G27=" "," ",(G27-D27))) | J27: =SUM(H25:H45)+J5 -> 0.12152778
B28: 43378 | D28: 0 | G28: =IF(E28=""," ",IF((F28-E28)<$H$1,F28-E28,IF(K28="",F28-E28-$G$1,F28-E28-K28))) | H28: =IF(AND(C28="x",E28=""),($A$1-RECAP!$U$4),IF(G28=" "," ",(G28-D28)))
B29: 43379 | D29: 0 | G29: =IF(E29=""," ",IF((F29-E29)<$H$1,F29-E29,IF(K29="",F29-E29-$G$1,F29-E29-K29))) | H29: =IF(AND(C29="x",E29=""),($A$1-RECAP!$U$4),IF(G29=" "," ",(G29-D29)))
B30: 43382 | D30: 0 | G30: =IF(E30=""," ",IF((F30-E30)<$H$1,F30-E30,IF(K30="",F30-E30-$G$1,F30-E30-K30))) | H30: =IF(AND(C30="x",E30=""),($A$1-RECAP!$U$4),IF(G30=" "," ",(G30-D30)))
B31: 43383 | D31: 0 | G31: =IF(E31=""," ",IF((F31-E31)<$H$1,F31-E31,IF(K31="",F31-E31-$G$1,F31-E31-K31))) | H31: =IF(AND(C31="x",E31=""),($A$1-RECAP!$U$4),IF(G31=" "," ",(G31-D31)))
B32: 43384 | D32: 0 | G32: =IF(E32=""," ",IF((F32-E32)<$H$1,F32-E32,IF(K32="",F32-E32-$G$1,F32-E32-K32))) | H32: =IF(AND(C32="x",E32=""),($A$1-RECAP!$U$4),IF(G32=" "," ",(G32-D32)))
B33: 43385 | D33: 0 | G33: =IF(E33=""," ",IF((F33-E33)<$H$1,F33-E33,IF(K33="",F33-E33-$G$1,F33-E33-K33))) | H33: =IF(AND(C33="x",E33=""),($A$1-RECAP!$U$4),IF(G33=" "," ",(G33-D33)))
B34: 43386 | D34: 0 | G34: =IF(E34=""," ",IF((F34-E34)<$H$1,F34-E34,IF(K34="",F34-E34-$G$1,F34-E34-K34))) | H34: =IF(AND(C34="x",E34=""),($A$1-RECAP!$U$4),IF(G34=" "," ",(G34-D34)))
B35: 43389 | D35: 0 | G35: =IF(E35=""," ",IF((F35-E35)<$H$1,F35-E35,IF(K35="",F35-E35-$G$1,F35-E35-K35))) | H35: =IF(AND(C35="x",E35=""),($A$1-RECAP!$U$4),IF(G35=" "," ",(G35-D35))) | I35: =SUM(H25:H35) -> 0
B36: 43390 | D36: 0 | G36: =IF(E36=""," ",IF((F36-E36)<$H$1,F36-E36,IF(K36="",F36-E36-$G$1,F36-E36-K36))) | H36: =IF(AND(C36="x",E36=""),($A$1-RECAP!$U$4),IF(G36=" "," ",(G36-D36)))
B37: 43391 | D37: 0 | G37: =IF(E37=""," ",IF((F37-E37)<$H$1,F37-E37,IF(K37="",F37-E37-$G$1,F37-E37-K37))) | H37: =IF(AND(C37="x",E37=""),($A$1-RECAP!$U$4),IF(G37=" "," ",(G37-D37)))
B38: 43392 | D38: 0 | G38: =IF(E38=""," ",IF((F38-E38)<$H$1,F38-E38,IF(K38="",F38-E38-$G$1,F38-E38-K38))) | H38: =IF(AND(C38="x",E38=""),($A$1-RECAP!$U$4),IF(G38=" "," ",(G38-D38)))
B39: 43393 | D39: 0 | G39: =IF(E39=""," ",IF((F39-E39)<$H$1,F39-E39,IF(K39="",F39-E39-$G$1,F39-E39-K39))) | H39: =IF(AND(C39="x",E39=""),($A$1-RECAP!$U$4),IF(G39=" "," ",(G39-D39)))
B40: 43396 | D40: 0 | G40: =IF(E40=""," ",IF((F40-E40)<$H$1,F40-E40,IF(K40="",F40-E40-$G$1,F40-E40-K40))) | H40: =IF(AND(C40="x",E40=""),($A$1-RECAP!$U$4),IF(G40=" "," ",(G40-D40)))
B41: 43397 | D41: 0 | G41: =IF(E41=""," ",IF((F41-E41)<$H$1,F41-E41,IF(K41="",F41-E41-$G$1,F41-E41-K41))) | H41: =IF(AND(C41="x",E41=""),($A$1-RECAP!$U$4),IF(G41=" "," ",(G41-D41)))
B42: 43398 | D42: 0 | G42: =IF(E42=""," ",IF((F42-E42)<$H$1,F42-E42,IF(K42="",F42-E42-$G$1,F42-E42-K42))) | H42: =IF(AND(C42="x",E42=""),($A$1-RECAP!$U$4),IF(G42=" "," ",(G42-D42)))
B43: 43399 | D43: 0 | G43: =IF(E43=""," ",IF((F43-E43)<$H$1,F43-E43,IF(K43="",F43-E43-$G$1,F43-E43-K43))) | H43: =IF(AND(C43="x",E43=""),($A$1-RECAP!$U$4),IF(G43=" "," ",(G43-D43)))
B44: 43400 | D44: 0 | G44: =IF(E44=""," ",IF((F44-E44)<$H$1,F44-E44,IF(K44="",F44-E44-$G$1,F44-E44-K44))) | H44: =IF(AND(C44="x",E44=""),($A$1-RECAP!$U$4),IF(G44=" "," ",(G44-D44)))
B45: 43403 | D45: 0 | G45: =IF(E45=""," ",IF((F45-E45)<$H$1,F45-E45,IF(K45="",F45-E45-$G$1,F45-E45-K45))) | H45: =IF(AND(C45="x",E45=""),($A$1-RECAP!$U$4),IF(G45=" "," ",(G45-D45))) | I45: =SUM(H36:H45) -> 0
B46: 43404 | C46: x | D46: 0 | G46: =IF(E46=""," ",IF((F46-E46)<$H$1,F46-E46,IF(K46="",F46-E46-$G$1,F46-E46-K46))) | H46: =IF(AND(C46="x",E46=""),($A$1-RECAP!$U$4),IF(G46=" "," ",(G46-D46))) -> 0 | J46: 36099
B47: 43405 | D47: 0 | G47: =IF(E47=""," ",IF((F47-E47)<$H$1,F47-E47,IF(K47="",F47-E47-$G$1,F47-E47-K47))) | H47: =IF(AND(C47="x",E47=""),($A$1-RECAP!$U$4),IF(G47=" "," ",(G47-D47)))
B48: 43406 | D48: 0 | G48: =IF(E48=""," ",IF((F48-E48)<$H$1,F48-E48,IF(K48="",F48-E48-$G$1,F48-E48-K48))) | H48: =IF(AND(C48="x",E48=""),($A$1-RECAP!$U$4),IF(G48=" "," ",(G48-D48))) | J48: =SUM(H46:H67)+J27 -> 0.12152778
B49: 43407 | D49: 0 | G49: =IF(E49=""," ",IF((F49-E49)<$H$1,F49-E49,IF(K49="",F49-E49-$G$1,F49-E49-K49))) | H49: =IF(AND(C49="x",E49=""),($A$1-RECAP!$U$4),IF(G49=" "," ",(G49-D49)))
B50: 43410 | D50: 0 | G50: =IF(E50=""," ",IF((F50-E50)<$H$1,F50-E50,IF(K50="",F50-E50-$G$1,F50-E50-K50))) | H50: =IF(AND(C50="x",E50=""),($A$1-RECAP!$U$4),IF(G50=" "," ",(G50-D50)))
B51: 43411 | D51: 0 | G51: =IF(E51=""," ",IF((F51-E51)<$H$1,F51-E51,IF(K51="",F51-E51-$G$1,F51-E51-K51))) | H51: =IF(AND(C51="x",E51=""),($A$1-RECAP!$U$4),IF(G51=" "," ",(G51-D51)))
B52: 43412 | D52: 0 | G52: =IF(E52=""," ",IF((F52-E52)<$H$1,F52-E52,IF(K52="",F52-E52-$G$1,F52-E52-K52))) | H52: =IF(AND(C52="x",E52=""),($A$1-RECAP!$U$4),IF(G52=" "," ",(G52-D52)))
B53: 43413 | D53: 0 | G53: =IF(E53=""," ",IF((F53-E53)<$H$1,F53-E53,IF(K53="",F53-E53-$G$1,F53-E53-K53))) | H53: =IF(AND(C53="x",E53=""),($A$1-RECAP!$U$4),IF(G53=" "," ",(G53-D53)))
B54: 43414 | C54: x | D54: 0 | G54: =IF(E54=""," ",IF((F54-E54)<$H$1,F54-E54,IF(K54="",F54-E54-$G$1,F54-E54-K54))) | H54: =IF(AND(C54="x",E54=""),($A$1-RECAP!$U$4),IF(G54=" "," ",(G54-D54))) -> 0
B55: 43417 | D55: 0 | G55: =IF(E55=""," ",IF((F55-E55)<$H$1,F55-E55,IF(K55="",F55-E55-$G$1,F55-E55-K55))) | H55: =IF(AND(C55="x",E55=""),($A$1-RECAP!$U$4),IF(G55=" "," ",(G55-D55)))
B56: 43418 | D56: 0 | G56: =IF(E56=""," ",IF((F56-E56)<$H$1,F56-E56,IF(K56="",F56-E56-$G$1,F56-E56-K56))) | H56: =IF(AND(C56="x",E56=""),($A$1-RECAP!$U$4),IF(G56=" "," ",(G56-D56))) | I56: =SUM(H46:H56) -> 0
B57: 43419 | D57: 0 | G57: =IF(E57=""," ",IF((F57-E57)<$H$1,F57-E57,IF(K57="",F57-E57-$G$1,F57-E57-K57))) | H57: =IF(AND(C57="x",E57=""),($A$1-RECAP!$U$4),IF(G57=" "," ",(G57-D57)))
B58: 43420 | D58: 0 | G58: =IF(E58=""," ",IF((F58-E58)<$H$1,F58-E58,IF(K58="",F58-E58-$G$1,F58-E58-K58))) | H58: =IF(AND(C58="x",E58=""),($A$1-RECAP!$U$4),IF(G58=" "," ",(G58-D58)))
B59: 43421 | D59: 0 | G59: =IF(E59=""," ",IF((F59-E59)<$H$1,F59-E59,IF(K59="",F59-E59-$G$1,F59-E59-K59))) | H59: =IF(AND(C59="x",E59=""),($A$1-RECAP!$U$4),IF(G59=" "," ",(G59-D59)))
B60: 43424 | D60: 0 | G60: =IF(E60=""," ",IF((F60-E60)<$H$1,F60-E60,IF(K60="",F60-E60-$G$1,F60-E60-K60))) | H60: =IF(AND(C60="x",E60=""),($A$1-RECAP!$U$4),IF(G60=" "," ",(G60-D60)))
B61: 43425 | D61: 0 | G61: =IF(E61=""," ",IF((F61-E61)<$H$1,F61-E61,IF(K61="",F61-E61-$G$1,F61-E61-K61))) | H61: =IF(AND(C61="x",E61=""),($A$1-RECAP!$U$4),IF(G61=" "," ",(G61-D61)))
B62: 43426 | D62: 0 | G62: =IF(E62=""," ",IF((F62-E62)<$H$1,F62-E62,IF(K62="",F62-E62-$G$1,F62-E62-K62))) | H62: =IF(AND(C62="x",E62=""),($A$1-RECAP!$U$4),IF(G62=" "," ",(G62-D62)))
B63: 43427 | D63: 0 | G63: =IF(E63=""," ",IF((F63-E63)<$H$1,F63-E63,IF(K63="",F63-E63-$G$1,F63-E63-K63))) | H63: =IF(AND(C63="x",E63=""),($A$1-RECAP!$U$4),IF(G63=" "," ",(G63-D63)))
B64: 43428 | D64: 0 | G64: =IF(E64=""," ",IF((F64-E64)<$H$1,F64-E64,IF(K64="",F64-E64-$G$1,F64-E64-K64))) | H64: =IF(AND(C64="x",E64=""),($A$1-RECAP!$U$4),IF(G64=" "," ",(G64-D64)))
B65: 43431 | D65: 0 | G65: =IF(E65=""," ",IF((F65-E65)<$H$1,F65-E65,IF(K65="",F65-E65-$G$1,F65-E65-K65))) | H65: =IF(AND(C65="x",E65=""),($A$1-RECAP!$U$4),IF(G65=" "," ",(G65-D65)))
B66: 43432 | D66: 0 | G66: =IF(E66=""," ",IF((F66-E66)<$H$1,F66-E66,IF(K66="",F66-E66-$G$1,F66-E66-K66))) | H66: =IF(AND(C66="x",E66=""),($A$1-RECAP!$U$4),IF(G66=" "," ",(G66-D66)))
B67: 43433 | D67: 0 | G67: =IF(E67=""," ",IF((F67-E67)<$H$1,F67-E67,IF(K67="",F67-E67-$G$1,F67-E67-K67))) | H67: =IF(AND(C67="x",E67=""),($A$1-RECAP!$U$4),IF(G67=" "," ",(G67-D67))) | I67: =SUM(H57:H67) -> 0

Sheet H
A1: =RECAP!R4 -> 0.31666667 | B1: Travailleur : | D1: H | F1: Pause : | G1: 0.020833333 | H1: 0.25 | I1: Nbre de jours feriés pour la période concernée | J1: =COUNTA(C3:C67) -> 2 | K1: SI((D3-C3)<$F$1;" ";D3-C3-$E$1) | L1: 38 | N1: =IF(L1=19,J1*RECAP!R7,IF(L1=30,J1*RECAP!R6,IF(L1=30.24,J1*RECAP!R5,IF(L1=38,J1*RECAP!R4,"ERREUR")))) -> 0.63333333 | O1: =N1/24 -> 0.026388889
B2: Date | C2: Jours feriés | D2: Temps théorique | E2: IN | F2: OUT | G2: Temps presté | H2: Solde journalier | I2: Heures boni/mali cumulées | J2: Heures boni/mali par mois | K2: DA = Horaire autorisé | N2: pointage manquant | Q2: G = garde
B3: 43343 | D3: 0.31666667 | E3: 0.35416667 | F3: 0.69166667 | G3: =IF(E3=""," ",IF((F3-E3)<$H$1,F3-E3,IF(K3="",F3-E3-$G$1,F3-E3-K3))) -> 0.31666667 | H3: =IF(AND(C3="x",E3=""),($A$1-RECAP!$U$4),IF(G3=" "," ",(G3-D3))) -> 1.110223e-16 | J3: 43343
B4: 43344 | D4: 0.31666667 | E4: 0.35416667 | F4: 0.68888889 | G4: =IF(E4=""," ",IF((F4-E4)<$H$1,F4-E4,IF(K4="",F4-E4-$G$1,F4-E4-K4))) -> 0.31388889 | H4: =IF(AND(C4="x",E4=""),($A$1-RECAP!$U$4),IF(G4=" "," ",(G4-D4))) -> -0.0027777778
B5: 43347 | D5: 0.31666667 | E5: 0.35416667 | F5: 0.69652778 | G5: =IF(E5=""," ",IF((F5-E5)<$H$1,F5-E5,IF(K5="",F5-E5-$G$1,F5-E5-K5))) -> 0.32152778 | H5: =IF(AND(C5="x",E5=""),($A$1-RECAP!$U$4),IF(G5=" "," ",(G5-D5))) -> 0.0048611111 | J5: =SUM(H3:H24) -> 0.32638889
B6: 43348 | D6: 0.31666667 | E6: 0.35486111 | F6: 0.71041667 | G6: =IF(E6=""," ",IF((F6-E6)<$H$1,F6-E6,IF(K6="",F6-E6-$G$1,F6-E6-K6))) -> 0.33472222 | H6: =IF(AND(C6="x",E6=""),($A$1-RECAP!$U$4),IF(G6=" "," ",(G6-D6))) -> 0.018055556 | L6: =IF(L1=38,J48+(RECAP!S4*-1*J1),IF(L1=30.24,J48+(RECAP!S5*-1*J1),IF(L1=30,J48+(RECAP!S6*-1*J1),IF(L1=19,J48+(RECAP!S7*-1*J1),"ERREUR")))) -> 0.28263889
B7: 43349 | D7: 0.31666667 | E7: 0.35416667 | F7: 0.69166667 | G7: =IF(E7=""," ",IF((F7-E7)<$H$1,F7-E7,IF(K7="",F7-E7-$G$1,F7-E7-K7))) -> 0.31666667 | H7: =IF(AND(C7="x",E7=""),($A$1-RECAP!$U$4),IF(G7=" "," ",(G7-D7))) -> -2.220446e-16
B8: 43350 | D8: 0.31666667 | E8: 0.35416667 | F8: 0.69444444 | G8: =IF(E8=""," ",IF((F8-E8)<$H$1,F8-E8,IF(K8="",F8-E8-$G$1,F8-E8-K8))) -> 0.31944444 | H8: =IF(AND(C8="x",E8=""),($A$1-RECAP!$U$4),IF(G8=" "," ",(G8-D8))) -> 0.0027777778
B9: 43351 | D9: 0.31666667 | E9: 0.35486111 | F9: 0.69236111 | G9: =IF(E9=""," ",IF((F9-E9)<$H$1,F9-E9,IF(K9="",F9-E9-$G$1,F9-E9-K9))) -> 0.31666667 | H9: =IF(AND(C9="x",E9=""),($A$1-RECAP!$U$4),IF(G9=" "," ",(G9-D9))) -> -3.3306691e-16
B10: 43354 | D10: 0.31666667 | E10: 0.35555556 | F10: 0.68888889 | G10: =IF(E10=""," ",IF((F10-E10)<$H$1,F10-E10,IF(K10="",F10-E10-$G$1,F10-E10-K10))) -> 0.3125 | H10: =IF(AND(C10="x",E10=""),($A$1-RECAP!$U$4),IF(G10=" "," ",(G10-D10))) -> -0.0041666667
B11: 43355 | D11: 0.31666667 | E11: 0.35416667 | F11: 0.69027778 | G11: =IF(E11=""," ",IF((F11-E11)<$H$1,F11-E11,IF(K11="",F11-E11-$G$1,F11-E11-K11))) -> 0.31527778 | H11: =IF(AND(C11="x",E11=""),($A$1-RECAP!$U$4),IF(G11=" "," ",(G11-D11))) -> -0.0013888889
B12: 43356 | D12: 0.31666667 | E12: 0.35694444 | F12: 0.69027778 | G12: =IF(E12=""," ",IF((F12-E12)<$H$1,F12-E12,IF(K12="",F12-E12-$G$1,F12-E12-K12))) -> 0.3125 | H12: =IF(AND(C12="x",E12=""),($A$1-RECAP!$U$4),IF(G12=" "," ",(G12-D12))) -> -0.0041666667
B13: 43357 | D13: 0.31666667 | E13: 0.36736111 | F13: 0.69166667 | G13: =IF(E13=""," ",IF((F13-E13)<$H$1,F13-E13,IF(K13="",F13-E13-$G$1,F13-E13-K13))) -> 0.30347222 | H13: =IF(AND(C13="x",E13=""),($A$1-RECAP!$U$4),IF(G13=" "," ",(G13-D13))) -> -0.013194444 | I13: =SUM(H3:H13) -> -2.220446e-15
B14: 43358 | D14: 0.31666667 | E14: 0.35416667 | F14: 0.7125 | G14: =IF(E14=""," ",IF((F14-E14)<$H$1,F14-E14,IF(K14="",F14-E14-$G$1,F14-E14-K14))) -> 0.3375 | H14: =IF(AND(C14="x",E14=""),($A$1-RECAP!$U$4),IF(G14=" "," ",(G14-D14))) -> 0.020833333
B15: 43361 | D15: 0.31666667 | E15: 0.35416667 | F15: 0.69375 | G15: =IF(E15=""," ",IF((F15-E15)<$H$1,F15-E15,IF(K15="",F15-E15-$G$1,F15-E15-K15))) -> 0.31875 | H15: =IF(AND(C15="x",E15=""),($A$1-RECAP!$U$4),IF(G15=" "," ",(G15-D15))) -> 0.0020833333
B16: 43362 | D16: 0.31666667 | E16: 0.36111111 | F16: 0.69444444 | G16: =IF(E16=""," ",IF((F16-E16)<$H$1,F16-E16,IF(K16="",F16-E16-$G$1,F16-E16-K16))) -> 0.3125 | H16: =IF(AND(C16="x",E16=""),($A$1-RECAP!$U$4),IF(G16=" "," ",(G16-D16))) -> -0.0041666667
B17: 43363 | D17: 0.31666667 | E17: 0.35763889 | F17: 0.68958333 | G17: =IF(E17=""," ",IF((F17-E17)<$H$1,F17-E17,IF(K17="",F17-E17-$G$1,F17-E17-K17))) -> 0.31111111 | H17: =IF(AND(C17="x",E17=""),($A$1-RECAP!$U$4),IF(G17=" "," ",(G17-D17))) -> -0.0055555556
B18: 43364 | D18: 0.31666667 | E18: 0.35486111 | F18: 0.68888889 | G18: =IF(E18=""," ",IF((F18-E18)<$H$1,F18-E18,IF(K18="",F18-E18-$G$1,F18-E18-K18))) -> 0.31319444 | H18: =IF(AND(C18="x",E18=""),($A$1-RECAP!$U$4),IF(G18=" "," ",(G18-D18))) -> -0.0034722222
B19: 43365 | D19: 0.16666667 | E19: 0.35416667 | F19: 0.52083333 | G19: =IF(E19=""," ",IF((F19-E19)<$H$1,F19-E19,IF(K19="",F19-E19-$G$1,F19-E19-K19))) -> 0.16666667 | H19: =IF(AND(C19="x",E19=""),($A$1-RECAP!$U$4),IF(G19=" "," ",(G19-D19))) -> 2.7755576e-17
B20: 43368 | D20: 0.31666667 | E20: 0.35416667 | F20: 0.44444444 | G20: =IF(E20=""," ",IF((F20-E20)<$H$1,F20-E20,IF(K20="",F20-E20-$G$1,F20-E20-K20))) -> 0.090277778 | H20: 0.31666667
B21: 43369 | D21: 0 | G21: =IF(E21=""," ",IF((F21-E21)<$H$1,F21-E21,IF(K21="",F21-E21-$G$1,F21-E21-K21))) | H21: =IF(AND(C21="x",E21=""),($A$1-RECAP!$U$4),IF(G21=" "," ",(G21-D21)))
B22: 43370 | D22: 0 | G22: =IF(E22=""," ",IF((F22-E22)<$H$1,F22-E22,IF(K22="",F22-E22-$G$1,F22-E22-K22))) | H22: =IF(AND(C22="x",E22=""),($A$1-RECAP!$U$4),IF(G22=" "," ",(G22-D22)))
B23: 43371 | D23: 0 | G23: =IF(E23=""," ",IF((F23-E23)<$H$1,F23-E23,IF(K23="",F23-E23-$G$1,F23-E23-K23))) | H23: =IF(AND(C23="x",E23=""),($A$1-RECAP!$U$4),IF(G23=" "," ",(G23-D23)))
B24: 43372 | D24: 0 | G24: =IF(E24=""," ",IF((F24-E24)<$H$1,F24-E24,IF(K24="",F24-E24-$G$1,F24-E24-K24))) | H24: =IF(AND(C24="x",E24=""),($A$1-RECAP!$U$4),IF(G24=" "," ",(G24-D24))) | I24: =SUM(H14:H24) -> 0.32638889
B25: 43375 | D25: 0 | G25: =IF(E25=""," ",IF((F25-E25)<$H$1,F25-E25,IF(K25="",F25-E25-$G$1,F25-E25-K25))) | H25: =IF(AND(C25="x",E25=""),($A$1-RECAP!$U$4),IF(G25=" "," ",(G25-D25))) | J25: 43373
B26: 43376 | D26: 0 | G26: =IF(E26=""," ",IF((F26-E26)<$H$1,F26-E26,IF(K26="",F26-E26-$G$1,F26-E26-K26))) | H26: =IF(AND(C26="x",E26=""),($A$1-RECAP!$U$4),IF(G26=" "," ",(G26-D26)))
B27: 43377 | D27: 0 | G27: =IF(E27=""," ",IF((F27-E27)<$H$1,F27-E27,IF(K27="",F27-E27-$G$1,F27-E27-K27))) | H27: =IF(AND(C27="x",E27=""),($A$1-RECAP!$U$4),IF(G27=" "," ",(G27-D27))) | J27: =SUM(H25:H45)+J5 -> 0.30555556
B28: 43378 | D28: 0 | G28: =IF(E28=""," ",IF((F28-E28)<$H$1,F28-E28,IF(K28="",F28-E28-$G$1,F28-E28-K28))) | H28: =IF(AND(C28="x",E28=""),($A$1-RECAP!$U$4),IF(G28=" "," ",(G28-D28)))
B29: 43379 | D29: 0 | G29: =IF(E29=""," ",IF((F29-E29)<$H$1,F29-E29,IF(K29="",F29-E29-$G$1,F29-E29-K29))) | H29: =IF(AND(C29="x",E29=""),($A$1-RECAP!$U$4),IF(G29=" "," ",(G29-D29)))
B30: 43382 | D30: 0 | G30: =IF(E30=""," ",IF((F30-E30)<$H$1,F30-E30,IF(K30="",F30-E30-$G$1,F30-E30-K30))) | H30: =IF(AND(C30="x",E30=""),($A$1-RECAP!$U$4),IF(G30=" "," ",(G30-D30)))
B31: 43383 | D31: 0 | G31: =IF(E31=""," ",IF((F31-E31)<$H$1,F31-E31,IF(K31="",F31-E31-$G$1,F31-E31-K31))) | H31: =IF(AND(C31="x",E31=""),($A$1-RECAP!$U$4),IF(G31=" "," ",(G31-D31)))
B32: 43384 | D32: 0 | G32: =IF(E32=""," ",IF((F32-E32)<$H$1,F32-E32,IF(K32="",F32-E32-$G$1,F32-E32-K32))) | H32: =IF(AND(C32="x",E32=""),($A$1-RECAP!$U$4),IF(G32=" "," ",(G32-D32)))
B33: 43385 | D33: 0 | G33: =IF(E33=""," ",IF((F33-E33)<$H$1,F33-E33,IF(K33="",F33-E33-$G$1,F33-E33-K33))) | H33: =IF(AND(C33="x",E33=""),($A$1-RECAP!$U$4),IF(G33=" "," ",(G33-D33)))
B34: 43386 | D34: 0 | G34: =IF(E34=""," ",IF((F34-E34)<$H$1,F34-E34,IF(K34="",F34-E34-$G$1,F34-E34-K34))) | H34: =IF(AND(C34="x",E34=""),($A$1-RECAP!$U$4),IF(G34=" "," ",(G34-D34)))
B35: 43389 | D35: 0.31666667 | E35: 0.35486111 | F35: 0.69166667 | G35: =IF(E35=""," ",IF((F35-E35)<$H$1,F35-E35,IF(K35="",F35-E35-$G$1,F35-E35-K35))) -> 0.31597222 | H35: =IF(AND(C35="x",E35=""),($A$1-RECAP!$U$4),IF(G35=" "," ",(G35-D35))) -> -0.00069444444 | I35: =SUM(H25:H35) -> -0.00069444444
B36: 43390 | D36: 0.31666667 | E36: 0.35486111 | F36: 0.69027778 | G36: =IF(E36=""," ",IF((F36-E36)<$H$1,F36-E36,IF(K36="",F36-E36-$G$1,F36-E36-K36))) -> 0.31458333 | H36: =IF(AND(C36="x",E36=""),($A$1-RECAP!$U$4),IF(G36=" "," ",(G36-D36))) -> -0.0020833333
B37: 43391 | D37: 0.31666667 | E37: 0.35416667 | F37: 0.68402778 | G37: =IF(E37=""," ",IF((F37-E37)<$H$1,F37-E37,IF(K37="",F37-E37-$G$1,F37-E37-K37))) -> 0.30902778 | H37: =IF(AND(C37="x",E37=""),($A$1-RECAP!$U$4),IF(G37=" "," ",(G37-D37))) -> -0.0076388889
B38: 43392 | D38: 0.31666667 | E38: 0.35416667 | F38: 0.69583333 | G38: =IF(E38=""," ",IF((F38-E38)<$H$1,F38-E38,IF(K38="",F38-E38-$G$1,F38-E38-K38))) -> 0.32083333 | H38: =IF(AND(C38="x",E38=""),($A$1-RECAP!$U$4),IF(G38=" "," ",(G38-D38))) -> 0.0041666667
B39: 43393 | D39: 0.31666667 | E39: 0.36180556 | F39: 0.6875 | G39: =IF(E39=""," ",IF((F39-E39)<$H$1,F39-E39,IF(K39="",F39-E39-$G$1,F39-E39-K39))) -> 0.30486111 | H39: =IF(AND(C39="x",E39=""),($A$1-RECAP!$U$4),IF(G39=" "," ",(G39-D39))) -> -0.011805556
B40: 43396 | D40: 0.31666667 | E40: 0.35416667 | F40: 0.68958333 | G40: =IF(E40=""," ",IF((F40-E40)<$H$1,F40-E40,IF(K40="",F40-E40-$G$1,F40-E40-K40))) -> 0.31458333 | H40: =IF(AND(C40="x",E40=""),($A$1-RECAP!$U$4),IF(G40=" "," ",(G40-D40))) -> -0.0020833333
B41: 43397 | D41: 0.31666667 | E41: 0.3625 | F41: 0.69722222 | G41: =IF(E41=""," ",IF((F41-E41)<$H$1,F41-E41,IF(K41="",F41-E41-$G$1,F41-E41-K41))) -> 0.31388889 | H41: =IF(AND(C41="x",E41=""),($A$1-RECAP!$U$4),IF(G41=" "," ",(G41-D41))) -> -0.0027777778
B42: 43398 | D42: 0.31666667 | E42: 0.35416667 | F42: 0.69583333 | G42: =IF(E42=""," ",IF((F42-E42)<$H$1,F42-E42,IF(K42="",F42-E42-$G$1,F42-E42-K42))) -> 0.32083333 | H42: =IF(AND(C42="x",E42=""),($A$1-RECAP!$U$4),IF(G42=" "," ",(G42-D42))) -> 0.0041666667
B43: 43399 | D43: 0.31666667 | E43: 0.35416667 | F43: 0.69097222 | G43: =IF(E43=""," ",IF((F43-E43)<$H$1,F43-E43,IF(K43="",F43-E43-$G$1,F43-E43-K43))) -> 0.31597222 | H43: =IF(AND(C43="x",E43=""),($A$1-RECAP!$U$4),IF(G43=" "," ",(G43-D43))) -> -0.00069444444
B44: 43400 | D44: 0.31666667 | E44: 0.35555556 | F44: 0.69166667 | G44: =IF(E44=""," ",IF((F44-E44)<$H$1,F44-E44,IF(K44="",F44-E44-$G$1,F44-E44-K44))) -> 0.31527778 | H44: =IF(AND(C44="x",E44=""),($A$1-RECAP!$U$4),IF(G44=" "," ",(G44-D44))) -> -0.0013888889
B45: 43403 | D45: 0 | G45: =IF(E45=""," ",IF((F45-E45)<$H$1,F45-E45,IF(K45="",F45-E45-$G$1,F45-E45-K45))) | H45: =IF(AND(C45="x",E45=""),($A$1-RECAP!$U$4),IF(G45=" "," ",(G45-D45))) | I45: =SUM(H36:H45) -> -0.020138889
B46: 43404 | C46: x | D46: 0 | G46: =IF(E46=""," ",IF((F46-E46)<$H$1,F46-E46,IF(K46="",F46-E46-$G$1,F46-E46-K46))) | H46: =IF(AND(C46="x",E46=""),($A$1-RECAP!$U$4),IF(G46=" "," ",(G46-D46))) -> 0 | J46: 36099
B47: 43405 | D47: 0.31666667 | E47: 0.35416667 | F47: 0.68888889 | G47: =IF(E47=""," ",IF((F47-E47)<$H$1,F47-E47,IF(K47="",F47-E47-$G$1,F47-E47-K47))) -> 0.31388889 | H47: =IF(AND(C47="x",E47=""),($A$1-RECAP!$U$4),IF(G47=" "," ",(G47-D47))) -> -0.0027777778
B48: 43406 | D48: 0.31666667 | E48: 0.35555556 | F48: 0.69236111 | G48: =IF(E48=""," ",IF((F48-E48)<$H$1,F48-E48,IF(K48="",F48-E48-$G$1,F48-E48-K48))) -> 0.31597222 | H48: =IF(AND(C48="x",E48=""),($A$1-RECAP!$U$4),IF(G48=" "," ",(G48-D48))) -> -0.00069444444 | J48: =SUM(H46:H67)+J27 -> 0.28263889
B49: 43407 | D49: 0.31666667 | E49: 0.35486111 | F49: 0.69513889 | G49: =IF(E49=""," ",IF((F49-E49)<$H$1,F49-E49,IF(K49="",F49-E49-$G$1,F49-E49-K49))) -> 0.31944444 | H49: =IF(AND(C49="x",E49=""),($A$1-RECAP!$U$4),IF(G49=" "," ",(G49-D49))) -> 0.0027777778
B50: 43410 | D50: 0.31666667 | E50: 0.35416667 | F50: 0.69513889 | G50: =IF(E50=""," ",IF((F50-E50)<$H$1,F50-E50,IF(K50="",F50-E50-$G$1,F50-E50-K50))) -> 0.32013889 | H50: =IF(AND(C50="x",E50=""),($A$1-RECAP!$U$4),IF(G50=" "," ",(G50-D50))) -> 0.0034722222
B51: 43411 | D51: 0.31666667 | E51: 0.36527778 | F51: 0.68680556 | G51: =IF(E51=""," ",IF((F51-E51)<$H$1,F51-E51,IF(K51="",F51-E51-$G$1,F51-E51-K51))) -> 0.30069444 | H51: =IF(AND(C51="x",E51=""),($A$1-RECAP!$U$4),IF(G51=" "," ",(G51-D51))) -> -0.015972222
B52: 43412 | D52: 0.31666667 | E52: 0.35694444 | F52: 0.68472222 | G52: =IF(E52=""," ",IF((F52-E52)<$H$1,F52-E52,IF(K52="",F52-E52-$G$1,F52-E52-K52))) -> 0.30694444 | H52: =IF(AND(C52="x",E52=""),($A$1-RECAP!$U$4),IF(G52=" "," ",(G52-D52))) -> -0.0097222222
B53: 43413 | D53: 0.31666667 | E53: 0.35416667 | F53: 0.69166667 | G53: =IF(E53=""," ",IF((F53-E53)<$H$1,F53-E53,IF(K53="",F53-E53-$G$1,F53-E53-K53))) -> 0.31666667 | H53: =IF(AND(C53="x",E53=""),($A$1-RECAP!$U$4),IF(G53=" "," ",(G53-D53))) -> -2.220446e-16
B54: 43414 | C54: x | D54: 0 | G54: =IF(E54=""," ",IF((F54-E54)<$H$1,F54-E54,IF(K54="",F54-E54-$G$1,F54-E54-K54))) | H54: =IF(AND(C54="x",E54=""),($A$1-RECAP!$U$4),IF(G54=" "," ",(G54-D54))) -> 0
B55: 43417 | D55: 0.31666667 | G55: =IF(E55=""," ",IF((F55-E55)<$H$1,F55-E55,IF(K55="",F55-E55-$G$1,F55-E55-K55))) | H55: =IF(AND(C55="x",E55=""),($A$1-RECAP!$U$4),IF(G55=" "," ",(G55-D55)))
B56: 43418 | D56: 0.31666667 | G56: =IF(E56=""," ",IF((F56-E56)<$H$1,F56-E56,IF(K56="",F56-E56-$G$1,F56-E56-K56))) | H56: =IF(AND(C56="x",E56=""),($A$1-RECAP!$U$4),IF(G56=" "," ",(G56-D56))) | I56: =SUM(H46:H56) -> -0.022916667
B57: 43419 | D57: 0.31666667 | G57: =IF(E57=""," ",IF((F57-E57)<$H$1,F57-E57,IF(K57="",F57-E57-$G$1,F57-E57-K57))) | H57: =IF(AND(C57="x",E57=""),($A$1-RECAP!$U$4),IF(G57=" "," ",(G57-D57)))
B58: 43420 | D58: 0.31666667 | G58: =IF(E58=""," ",IF((F58-E58)<$H$1,F58-E58,IF(K58="",F58-E58-$G$1,F58-E58-K58))) | H58: =IF(AND(C58="x",E58=""),($A$1-RECAP!$U$4),IF(G58=" "," ",(G58-D58)))
B59: 43421 | D59: 0.31666667 | G59: =IF(E59=""," ",IF((F59-E59)<$H$1,F59-E59,IF(K59="",F59-E59-$G$1,F59-E59-K59))) | H59: =IF(AND(C59="x",E59=""),($A$1-RECAP!$U$4),IF(G59=" "," ",(G59-D59)))
B60: 43424 | D60: 0.31666667 | G60: =IF(E60=""," ",IF((F60-E60)<$H$1,F60-E60,IF(K60="",F60-E60-$G$1,F60-E60-K60))) | H60: =IF(AND(C60="x",E60=""),($A$1-RECAP!$U$4),IF(G60=" "," ",(G60-D60)))
B61: 43425 | D61: 0.31666667 | G61: =IF(E61=""," ",IF((F61-E61)<$H$1,F61-E61,IF(K61="",F61-E61-$G$1,F61-E61-K61))) | H61: =IF(AND(C61="x",E61=""),($A$1-RECAP!$U$4),IF(G61=" "," ",(G61-D61)))
B62: 43426 | D62: 0.31666667 | G62: =IF(E62=""," ",IF((F62-E62)<$H$1,F62-E62,IF(K62="",F62-E62-$G$1,F62-E62-K62))) | H62: =IF(AND(C62="x",E62=""),($A$1-RECAP!$U$4),IF(G62=" "," ",(G62-D62)))
B63: 43427 | D63: 0.31666667 | G63: =IF(E63=""," ",IF((F63-E63)<$H$1,F63-E63,IF(K63="",F63-E63-$G$1,F63-E63-K63))) | H63: =IF(AND(C63="x",E63=""),($A$1-RECAP!$U$4),IF(G63=" "," ",(G63-D63)))
B64: 43428 | D64: 0.31666667 | G64: =IF(E64=""," ",IF((F64-E64)<$H$1,F64-E64,IF(K64="",F64-E64-$G$1,F64-E64-K64))) | H64: =IF(AND(C64="x",E64=""),($A$1-RECAP!$U$4),IF(G64=" "," ",(G64-D64)))
B65: 43431 | D65: 0.31666667 | G65: =IF(E65=""," ",IF((F65-E65)<$H$1,F65-E65,IF(K65="",F65-E65-$G$1,F65-E65-K65))) | H65: =IF(AND(C65="x",E65=""),($A$1-RECAP!$U$4),IF(G65=" "," ",(G65-D65)))
B66: 43432 | D66: 0.31666667 | G66: =IF(E66=""," ",IF((F66-E66)<$H$1,F66-E66,IF(K66="",F66-E66-$G$1,F66-E66-K66))) | H66: =IF(AND(C66="x",E66=""),($A$1-RECAP!$U$4),IF(G66=" "," ",(G66-D66)))
B67: 43433 | D67: 0.31666667 | G67: =IF(E67=""," ",IF((F67-E67)<$H$1,F67-E67,IF(K67="",F67-E67-$G$1,F67-E67-K67))) | H67: =IF(AND(C67="x",E67=""),($A$1-RECAP!$U$4),IF(G67=" "," ",(G67-D67))) | I67: =SUM(H57:H67) -> 0

Sheet I
A1: =RECAP!R4 -> 0.31666667 | B1: Travailleur : | D1: I | F1: Pause : | G1: 0.020833333 | H1: 0.25 | I1: Nbre de jours feriés pour la période concernée | J1: =COUNTA(C3:C67) -> 3 | K1: SI((D3-C3)<$F$1;" ";D3-C3-$E$1) | L1: 38 | N1: =IF(L1=19,J1*RECAP!R7,IF(L1=30,J1*RECAP!R6,IF(L1=30.24,J1*RECAP!R5,IF(L1=38,J1*RECAP!R4,"ERREUR")))) -> 0.95 | O1: =N1/24 -> 0.039583333
B2: Date | C2: Jours feriés | D2: Temps théorique | E2: IN | F2: OUT | G2: Temps presté | H2: Solde journalier | I2: Heures boni/mali cumulées | J2: Heures boni/mali par mois | K2: DA = Horaire autorisé | N2: pointage manquant | Q2: G = garde
B3: 43343 | D3: 0.31666667 | E3: 0.35416667 | F3: 0.69236111 | G3: =IF(E3=""," ",IF((F3-E3)<$H$1,F3-E3,IF(K3="",F3-E3-$G$1,F3-E3-K3))) -> 0.31736111 | H3: =IF(AND(C3="x",E3=""),($A$1-RECAP!$U$4),IF(G3=" "," ",(G3-D3))) -> 0.00069444444 | J3: 43343
B4: 43344 | D4: 0.31666667 | E4: 0.35416667 | F4: 0.70833333 | G4: =IF(E4=""," ",IF((F4-E4)<$H$1,F4-E4,IF(K4="",F4-E4-$G$1,F4-E4-K4))) -> 0.33333333 | H4: =IF(AND(C4="x",E4=""),($A$1-RECAP!$U$4),IF(G4=" "," ",(G4-D4))) -> 0.016666667
B5: 43347 | D5: 0.31666667 | E5: 0.35416667 | F5: 0.70277778 | G5: =IF(E5=""," ",IF((F5-E5)<$H$1,F5-E5,IF(K5="",F5-E5-$G$1,F5-E5-K5))) -> 0.32777778 | H5: =IF(AND(C5="x",E5=""),($A$1-RECAP!$U$4),IF(G5=" "," ",(G5-D5))) -> 0.011111111 | J5: =SUM(H3:H24) -> -0.028472222
B6: 43348 | D6: 0.31666667 | E6: 0.35694444 | F6: 0.70833333 | G6: =IF(E6=""," ",IF((F6-E6)<$H$1,F6-E6,IF(K6="",F6-E6-$G$1,F6-E6-K6))) -> 0.33055556 | H6: =IF(AND(C6="x",E6=""),($A$1-RECAP!$U$4),IF(G6=" "," ",(G6-D6))) -> 0.013888889 | L6: =IF(L1=38,J48+(RECAP!S4*-1*J1),IF(L1=30.24,J48+(RECAP!S5*-1*J1),IF(L1=30,J48+(RECAP!S6*-1*J1),IF(L1=19,J48+(RECAP!S7*-1*J1),"ERREUR")))) -> 0.081944444
B7: 43349 | D7: 0.31666667 | E7: 0.37013889 | F7: 0.70555556 | G7: =IF(E7=""," ",IF((F7-E7)<$H$1,F7-E7,IF(K7="",F7-E7-$G$1,F7-E7-K7))) -> 0.31458333 | H7: =IF(AND(C7="x",E7=""),($A$1-RECAP!$U$4),IF(G7=" "," ",(G7-D7))) -> -0.0020833333
B8: 43350 | D8: 0.31666667 | E8: 0.35416667 | F8: 0.70555556 | G8: =IF(E8=""," ",IF((F8-E8)<$H$1,F8-E8,IF(K8="",F8-E8-$G$1,F8-E8-K8))) -> 0.33055556 | H8: =IF(AND(C8="x",E8=""),($A$1-RECAP!$U$4),IF(G8=" "," ",(G8-D8))) -> 0.013888889
B9: 43351 | D9: 0.31666667 | E9: 0.37222222 | F9: 0.69444444 | G9: =IF(E9=""," ",IF((F9-E9)<$H$1,F9-E9,IF(K9="",F9-E9-$G$1,F9-E9-K9))) -> 0.30138889 | H9: =IF(AND(C9="x",E9=""),($A$1-RECAP!$U$4),IF(G9=" "," ",(G9-D9))) -> -0.015277778
B10: 43354 | D10: 0.31666667 | E10: 0.35902778 | F10: 0.69583333 | G10: =IF(E10=""," ",IF((F10-E10)<$H$1,F10-E10,IF(K10="",F10-E10-$G$1,F10-E10-K10))) -> 0.31597222 | H10: =IF(AND(C10="x",E10=""),($A$1-RECAP!$U$4),IF(G10=" "," ",(G10-D10))) -> -0.00069444444
B11: 43355 | D11: 0.31666667 | E11: 0.35416667 | F11: 0.69236111 | G11: =IF(E11=""," ",IF((F11-E11)<$H$1,F11-E11,IF(K11="",F11-E11-$G$1,F11-E11-K11))) -> 0.31736111 | H11: =IF(AND(C11="x",E11=""),($A$1-RECAP!$U$4),IF(G11=" "," ",(G11-D11))) -> 0.00069444444
B12: 43356 | D12: 0.31666667 | E12: 0.36805556 | F12: 0.71041667 | G12: =IF(E12=""," ",IF((F12-E12)<$H$1,F12-E12,IF(K12="",F12-E12-$G$1,F12-E12-K12))) -> 0.32152778 | H12: =IF(AND(C12="x",E12=""),($A$1-RECAP!$U$4),IF(G12=" "," ",(G12-D12))) -> 0.0048611111
B13: 43357 | D13: 0.31666667 | E13: 0.37569444 | F13: 0.70347222 | G13: =IF(E13=""," ",IF((F13-E13)<$H$1,F13-E13,IF(K13="",F13-E13-$G$1,F13-E13-K13))) -> 0.30694444 | H13: =IF(AND(C13="x",E13=""),($A$1-RECAP!$U$4),IF(G13=" "," ",(G13-D13))) -> -0.0097222222 | I13: =SUM(H3:H13) -> 0.034027778
B14: 43358 | D14: 0 | G14: =IF(E14=""," ",IF((F14-E14)<$H$1,F14-E14,IF(K14="",F14-E14-$G$1,F14-E14-K14))) | H14: =IF(AND(C14="x",E14=""),($A$1-RECAP!$U$4),IF(G14=" "," ",(G14-D14)))
B15: 43361 | D15: 0 | G15: =IF(E15=""," ",IF((F15-E15)<$H$1,F15-E15,IF(K15="",F15-E15-$G$1,F15-E15-K15))) | H15: =IF(AND(C15="x",E15=""),($A$1-RECAP!$U$4),IF(G15=" "," ",(G15-D15))) | O15: =IF(L1=38,J49+(RECAP!S4*-1*J1),IF(L1=30.24,J49+(RECAP!S5*-1*J1),IF(L1=30,J49+(RECAP!S6*-1*J1),IF(L1=19,J49+(RECAP!S7*-1*J1),"ERREUR")))) -> 0
B16: 43362 | D16: 0.31666667 | E16: 0.36875 | F16: 0.70069444 | G16: =IF(E16=""," ",IF((F16-E16)<$H$1,F16-E16,IF(K16="",F16-E16-$G$1,F16-E16-K16))) -> 0.31111111 | H16: =IF(AND(C16="x",E16=""),($A$1-RECAP!$U$4),IF(G16=" "," ",(G16-D16))) -> -0.0055555556
B17: 43363 | D17: 0.31666667 | E17: 0.36388889 | F17: 0.7 | G17: =IF(E17=""," ",IF((F17-E17)<$H$1,F17-E17,IF(K17="",F17-E17-$G$1,F17-E17-K17))) -> 0.31527778 | H17: =IF(AND(C17="x",E17=""),($A$1-RECAP!$U$4),IF(G17=" "," ",(G17-D17))) -> -0.0013888889
B18: 43364 | D18: 0.31666667 | E18: 0.38263889 | F18: 0.69930556 | G18: =IF(E18=""," ",IF((F18-E18)<$H$1,F18-E18,IF(K18="",F18-E18-$G$1,F18-E18-K18))) -> 0.29583333 | H18: =IF(AND(C18="x",E18=""),($A$1-RECAP!$U$4),IF(G18=" "," ",(G18-D18))) -> -0.020833333
B19: 43365 | D19: 0.31666667 | E19: 0.36111111 | F19: 0.70555556 | G19: =IF(E19=""," ",IF((F19-E19)<$H$1,F19-E19,IF(K19="",F19-E19-$G$1,F19-E19-K19))) -> 0.32361111 | H19: =IF(AND(C19="x",E19=""),($A$1-RECAP!$U$4),IF(G19=" "," ",(G19-D19))) -> 0.0069444444
B20: 43368 | D20: 0.31666667 | E20: 0.35833333 | F20: 0.70902778 | G20: =IF(E20=""," ",IF((F20-E20)<$H$1,F20-E20,IF(K20="",F20-E20-$G$1,F20-E20-K20))) -> 0.32986111 | H20: =IF(AND(C20="x",E20=""),($A$1-RECAP!$U$4),IF(G20=" "," ",(G20-D20))) -> 0.013194444
B21: 43369 | C21: x | D21: 0 | G21: =IF(E21=""," ",IF((F21-E21)<$H$1,F21-E21,IF(K21="",F21-E21-$G$1,F21-E21-K21))) | H21: =IF(AND(C21="x",E21=""),($A$1-RECAP!$U$4),IF(G21=" "," ",(G21-D21))) -> 0
B22: 43370 | D22: 0.31666667 | E22: 0.36875 | F22: 0.69652778 | G22: =IF(E22=""," ",IF((F22-E22)<$H$1,F22-E22,IF(K22="",F22-E22-$G$1,F22-E22-K22))) -> 0.30694444 | H22: =IF(AND(C22="x",E22=""),($A$1-RECAP!$U$4),IF(G22=" "," ",(G22-D22))) -> -0.0097222222
B23: 43371 | D23: 0.31666667 | E23: 0.36388889 | F23: 0.7125 | G23: =IF(E23=""," ",IF((F23-E23)<$H$1,F23-E23,IF(K23="",F23-E23-$G$1,F23-E23-K23))) -> 0.30694444 | H23: =IF(AND(C23="x",E23=""),($A$1-RECAP!$U$4),IF(G23=" "," ",(G23-D23))) -> -0.0097222222 | K23: 0.041666667
B24: 43372 | D24: 0.31666667 | E24: 0.36875 | F24: 0.7125 | G24: =IF(E24=""," ",IF((F24-E24)<$H$1,F24-E24,IF(K24="",F24-E24-$G$1,F24-E24-K24))) -> 0.28125 | H24: =IF(AND(C24="x",E24=""),($A$1-RECAP!$U$4),IF(G24=" "," ",(G24-D24))) -> -0.035416667 | I24: =SUM(H14:H24) -> -0.0625 | K24: 0.0625
B25: 43375 | D25: 0.31666667 | E25: 0.36527778 | F25: 0.70277778 | G25: =IF(E25=""," ",IF((F25-E25)<$H$1,F25-E25,IF(K25="",F25-E25-$G$1,F25-E25-K25))) -> 0.31666667 | H25: =IF(AND(C25="x",E25=""),($A$1-RECAP!$U$4),IF(G25=" "," ",(G25-D25))) -> -2.7755576e-16 | J25: 43373
B26: 43376 | D26: 0.31666667 | E26: 0.35416667 | F26: 0.72708333 | G26: =IF(E26=""," ",IF((F26-E26)<$H$1,F26-E26,IF(K26="",F26-E26-$G$1,F26-E26-K26))) -> 0.35208333 | H26: =IF(AND(C26="x",E26=""),($A$1-RECAP!$U$4),IF(G26=" "," ",(G26-D26))) -> 0.035416667
B27: 43377 | D27: 0.31666667 | E27: 0.36944444 | F27: 0.7125 | G27: =IF(E27=""," ",IF((F27-E27)<$H$1,F27-E27,IF(K27="",F27-E27-$G$1,F27-E27-K27))) -> 0.32222222 | H27: =IF(AND(C27="x",E27=""),($A$1-RECAP!$U$4),IF(G27=" "," ",(G27-D27))) -> 0.0055555556 | J27: =SUM(H25:H45)+J5 -> 0.034027778
B28: 43378 | D28: 0.31666667 | E28: 0.375 | F28: 0.70972222 | G28: =IF(E28=""," ",IF((F28-E28)<$H$1,F28-E28,IF(K28="",F28-E28-$G$1,F28-E28-K28))) -> 0.31388889 | H28: =IF(AND(C28="x",E28=""),($A$1-RECAP!$U$4),IF(G28=" "," ",(G28-D28))) -> -0.0027777778
B29: 43379 | D29: 0.31666667 | E29: 0.35416667 | F29: 0.69166667 | G29: =IF(E29=""," ",IF((F29-E29)<$H$1,F29-E29,IF(K29="",F29-E29-$G$1,F29-E29-K29))) -> 0.31666667 | H29: =IF(AND(C29="x",E29=""),($A$1-RECAP!$U$4),IF(G29=" "," ",(G29-D29))) -> -2.220446e-16
B30: 43382 | D30: 0.31666667 | E30: 0.35416667 | F30: 0.70416667 | G30: =IF(E30=""," ",IF((F30-E30)<$H$1,F30-E30,IF(K30="",F30-E30-$G$1,F30-E30-K30))) -> 0.32916667 | H30: =IF(AND(C30="x",E30=""),($A$1-RECAP!$U$4),IF(G30=" "," ",(G30-D30))) -> 0.0125
B31: 43383 | D31: 0.31666667 | E31: 0.35763889 | F31: 0.70625 | G31: =IF(E31=""," ",IF((F31-E31)<$H$1,F31-E31,IF(K31="",F31-E31-$G$1,F31-E31-K31))) -> 0.32777778 | H31: =IF(AND(C31="x",E31=""),($A$1-RECAP!$U$4),IF(G31=" "," ",(G31-D31))) -> 0.011111111
B32: 43384 | D32: 0.31666667 | E32: 0.375 | F32: 0.70069444 | G32: =IF(E32=""," ",IF((F32-E32)<$H$1,F32-E32,IF(K32="",F32-E32-$G$1,F32-E32-K32))) -> 0.30486111 | H32: =IF(AND(C32="x",E32=""),($A$1-RECAP!$U$4),IF(G32=" "," ",(G32-D32))) -> -0.011805556
B33: 43385 | D33: 0.31666667 | E33: 0.37083333 | F33: 0.69305556 | G33: =IF(E33=""," ",IF((F33-E33)<$H$1,F33-E33,IF(K33="",F33-E33-$G$1,F33-E33-K33))) -> 0.30138889 | H33: =IF(AND(C33="x",E33=""),($A$1-RECAP!$U$4),IF(G33=" "," ",(G33-D33))) -> -0.015277778
B34: 43386 | D34: 0.31666667 | E34: 0.375 | F34: 0.7125 | G34: =IF(E34=""," ",IF((F34-E34)<$H$1,F34-E34,IF(K34="",F34-E34-$G$1,F34-E34-K34))) -> 0.31666667 | H34: =IF(AND(C34="x",E34=""),($A$1-RECAP!$U$4),IF(G34=" "," ",(G34-D34))) -> -2.7755576e-16
B35: 43389 | D35: 0.31666667 | E35: 0.35902778 | F35: 0.69444444 | G35: =IF(E35=""," ",IF((F35-E35)<$H$1,F35-E35,IF(K35="",F35-E35-$G$1,F35-E35-K35))) -> 0.31458333 | H35: =IF(AND(C35="x",E35=""),($A$1-RECAP!$U$4),IF(G35=" "," ",(G35-D35))) -> -0.0020833333 | I35: =SUM(H25:H35) -> 0.032638889
B36: 43390 | D36: 0.31666667 | E36: 0.35833333 | F36: 0.7125 | G36: =IF(E36=""," ",IF((F36-E36)<$H$1,F36-E36,IF(K36="",F36-E36-$G$1,F36-E36-K36))) -> 0.33333333 | H36: =IF(AND(C36="x",E36=""),($A$1-RECAP!$U$4),IF(G36=" "," ",(G36-D36))) -> 0.016666667
B37: 43391 | D37: 0.31666667 | E37: 0.375 | F37: 0.70694444 | G37: =IF(E37=""," ",IF((F37-E37)<$H$1,F37-E37,IF(K37="",F37-E37-$G$1,F37-E37-K37))) -> 0.31111111 | H37: =IF(AND(C37="x",E37=""),($A$1-RECAP!$U$4),IF(G37=" "," ",(G37-D37))) -> -0.0055555556
B38: 43392 | D38: 0.31666667 | E38: 0.35416667 | F38: 0.7125 | G38: =IF(E38=""," ",IF((F38-E38)<$H$1,F38-E38,IF(K38="",F38-E38-$G$1,F38-E38-K38))) -> 0.3375 | H38: =IF(AND(C38="x",E38=""),($A$1-RECAP!$U$4),IF(G38=" "," ",(G38-D38))) -> 0.020833333
B39: 43393 | D39: 0.31666667 | E39: 0.35416667 | F39: 0.69166667 | G39: =IF(E39=""," ",IF((F39-E39)<$H$1,F39-E39,IF(K39="",F39-E39-$G$1,F39-E39-K39))) -> 0.31666667 | H39: =IF(AND(C39="x",E39=""),($A$1-RECAP!$U$4),IF(G39=" "," ",(G39-D39))) -> -2.220446e-16
B40: 43396 | D40: 0.31666667 | E40: 0.35694444 | F40: 0.69652778 | G40: =IF(E40=""," ",IF((F40-E40)<$H$1,F40-E40,IF(K40="",F40-E40-$G$1,F40-E40-K40))) -> 0.31875 | H40: =IF(AND(C40="x",E40=""),($A$1-RECAP!$U$4),IF(G40=" "," ",(G40-D40))) -> 0.0020833333
B41: 43397 | D41: 0.31666667 | E41: 0.36388889 | F41: 0.70069444 | G41: =IF(E41=""," ",IF((F41-E41)<$H$1,F41-E41,IF(K41="",F41-E41-$G$1,F41-E41-K41))) -> 0.31597222 | H41: =IF(AND(C41="x",E41=""),($A$1-RECAP!$U$4),IF(G41=" "," ",(G41-D41))) -> -0.00069444444
B42: 43398 | D42: 0.31666667 | E42: 0.35694444 | F42: 0.69722222 | G42: =IF(E42=""," ",IF((F42-E42)<$H$1,F42-E42,IF(K42="",F42-E42-$G$1,F42-E42-K42))) -> 0.31944444 | H42: =IF(AND(C42="x",E42=""),($A$1-RECAP!$U$4),IF(G42=" "," ",(G42-D42))) -> 0.0027777778
B43: 43399 | D43: 0.31666667 | E43: 0.37152778 | F43: 0.69305556 | G43: =IF(E43=""," ",IF((F43-E43)<$H$1,F43-E43,IF(K43="",F43-E43-$G$1,F43-E43-K43))) -> 0.30069444 | H43: =IF(AND(C43="x",E43=""),($A$1-RECAP!$U$4),IF(G43=" "," ",(G43-D43))) -> -0.015972222
B44: 43400 | D44: 0.31666667 | E44: 0.35416667 | F44: 0.70138889 | G44: =IF(E44=""," ",IF((F44-E44)<$H$1,F44-E44,IF(K44="",F44-E44-$G$1,F44-E44-K44))) -> 0.32638889 | H44: =IF(AND(C44="x",E44=""),($A$1-RECAP!$U$4),IF(G44=" "," ",(G44-D44))) -> 0.0097222222
B45: 43403 | D45: 0 | G45: =IF(E45=""," ",IF((F45-E45)<$H$1,F45-E45,IF(K45="",F45-E45-$G$1,F45-E45-K45))) | H45: =IF(AND(C45="x",E45=""),($A$1-RECAP!$U$4),IF(G45=" "," ",(G45-D45))) | I45: =SUM(H36:H45) -> 0.029861111
B46: 43404 | C46: x | D46: 0.31666667 | G46: =IF(E46=""," ",IF((F46-E46)<$H$1,F46-E46,IF(K46="",F46-E46-$G$1,F46-E46-K46))) | H46: =IF(AND(C46="x",E46=""),($A$1-RECAP!$U$4),IF(G46=" "," ",(G46-D46))) -> 0 | J46: 36099
B47: 43405 | D47: 0 | G47: =IF(E47=""," ",IF((F47-E47)<$H$1,F47-E47,IF(K47="",F47-E47-$G$1,F47-E47-K47))) | H47: =IF(AND(C47="x",E47=""),($A$1-RECAP!$U$4),IF(G47=" "," ",(G47-D47)))
B48: 43406 | D48: 0 | G48: =IF(E48=""," ",IF((F48-E48)<$H$1,F48-E48,IF(K48="",F48-E48-$G$1,F48-E48-K48))) | H48: =IF(AND(C48="x",E48=""),($A$1-RECAP!$U$4),IF(G48=" "," ",(G48-D48))) | J48: =SUM(H46:H67)+J27 -> 0.081944444
B49: 43407 | D49: 0.31666667 | E49: 0.35416667 | F49: 0.70694444 | G49: =IF(E49=""," ",IF((F49-E49)<$H$1,F49-E49,IF(K49="",F49-E49-$G$1,F49-E49-K49))) -> 0.33194444 | H49: =IF(AND(C49="x",E49=""),($A$1-RECAP!$U$4),IF(G49=" "," ",(G49-D49))) -> 0.015277778
B50: 43410 | D50: 0.31666667 | E50: 0.35416667 | F50: 0.69791667 | G50: =IF(E50=""," ",IF((F50-E50)<$H$1,F50-E50,IF(K50="",F50-E50-$G$1,F50-E50-K50))) -> 0.32291667 | H50: =IF(AND(C50="x",E50=""),($A$1-RECAP!$U$4),IF(G50=" "," ",(G50-D50))) -> 0.00625
B51: 43411 | D51: 0.31666667 | E51: 0.35625 | F51: 0.69236111 | G51: =IF(E51=""," ",IF((F51-E51)<$H$1,F51-E51,IF(K51="",F51-E51-$G$1,F51-E51-K51))) -> 0.31527778 | H51: =IF(AND(C51="x",E51=""),($A$1-RECAP!$U$4),IF(G51=" "," ",(G51-D51))) -> -0.0013888889
B52: 43412 | D52: 0.31666667 | E52: 0.35486111 | F52: 0.70347222 | G52: =IF(E52=""," ",IF((F52-E52)<$H$1,F52-E52,IF(K52="",F52-E52-$G$1,F52-E52-K52))) -> 0.32777778 | H52: =IF(AND(C52="x",E52=""),($A$1-RECAP!$U$4),IF(G52=" "," ",(G52-D52))) -> 0.011111111
B53: 43413 | D53: 0.31666667 | E53: 0.35625 | F53: 0.71041667 | G53: =IF(E53=""," ",IF((F53-E53)<$H$1,F53-E53,IF(K53="",F53-E53-$G$1,F53-E53-K53))) -> 0.33333333 | H53: =IF(AND(C53="x",E53=""),($A$1-RECAP!$U$4),IF(G53=" "," ",(G53-D53))) -> 0.016666667
B54: 43414 | C54: x | D54: 0.31666667 | G54: =IF(E54=""," ",IF((F54-E54)<$H$1,F54-E54,IF(K54="",F54-E54-$G$1,F54-E54-K54))) | H54: =IF(AND(C54="x",E54=""),($A$1-RECAP!$U$4),IF(G54=" "," ",(G54-D54))) -> 0
B55: 43417 | D55: 0.31666667 | G55: =IF(E55=""," ",IF((F55-E55)<$H$1,F55-E55,IF(K55="",F55-E55-$G$1,F55-E55-K55))) | H55: =IF(AND(C55="x",E55=""),($A$1-RECAP!$U$4),IF(G55=" "," ",(G55-D55)))
B56: 43418 | D56: 0.31666667 | G56: =IF(E56=""," ",IF((F56-E56)<$H$1,F56-E56,IF(K56="",F56-E56-$G$1,F56-E56-K56))) | H56: =IF(AND(C56="x",E56=""),($A$1-RECAP!$U$4),IF(G56=" "," ",(G56-D56))) | I56: =SUM(H46:H56) -> 0.047916667
B57: 43419 | D57: 0.31666667 | G57: =IF(E57=""," ",IF((F57-E57)<$H$1,F57-E57,IF(K57="",F57-E57-$G$1,F57-E57-K57))) | H57: =IF(AND(C57="x",E57=""),($A$1-RECAP!$U$4),IF(G57=" "," ",(G57-D57)))
B58: 43420 | D58: 0.31666667 | G58: =IF(E58=""," ",IF((F58-E58)<$H$1,F58-E58,IF(K58="",F58-E58-$G$1,F58-E58-K58))) | H58: =IF(AND(C58="x",E58=""),($A$1-RECAP!$U$4),IF(G58=" "," ",(G58-D58)))
B59: 43421 | D59: 0.31666667 | G59: =IF(E59=""," ",IF((F59-E59)<$H$1,F59-E59,IF(K59="",F59-E59-$G$1,F59-E59-K59))) | H59: =IF(AND(C59="x",E59=""),($A$1-RECAP!$U$4),IF(G59=" "," ",(G59-D59)))
B60: 43424 | D60: 0.31666667 | G60: =IF(E60=""," ",IF((F60-E60)<$H$1,F60-E60,IF(K60="",F60-E60-$G$1,F60-E60-K60))) | H60: =IF(AND(C60="x",E60=""),($A$1-RECAP!$U$4),IF(G60=" "," ",(G60-D60)))
B61: 43425 | D61: 0.31666667 | G61: =IF(E61=""," ",IF((F61-E61)<$H$1,F61-E61,IF(K61="",F61-E61-$G$1,F61-E61-K61))) | H61: =IF(AND(C61="x",E61=""),($A$1-RECAP!$U$4),IF(G61=" "," ",(G61-D61)))
B62: 43426 | D62: 0.31666667 | G62: =IF(E62=""," ",IF((F62-E62)<$H$1,F62-E62,IF(K62="",F62-E62-$G$1,F62-E62-K62))) | H62: =IF(AND(C62="x",E62=""),($A$1-RECAP!$U$4),IF(G62=" "," ",(G62-D62)))
B63: 43427 | D63: 0.31666667 | G63: =IF(E63=""," ",IF((F63-E63)<$H$1,F63-E63,IF(K63="",F63-E63-$G$1,F63-E63-K63))) | H63: =IF(AND(C63="x",E63=""),($A$1-RECAP!$U$4),IF(G63=" "," ",(G63-D63)))
B64: 43428 | D64: 0.31666667 | G64: =IF(E64=""," ",IF((F64-E64)<$H$1,F64-E64,IF(K64="",F64-E64-$G$1,F64-E64-K64))) | H64: =IF(AND(C64="x",E64=""),($A$1-RECAP!$U$4),IF(G64=" "," ",(G64-D64)))
B65: 43431 | D65: 0.31666667 | G65: =IF(E65=""," ",IF((F65-E65)<$H$1,F65-E65,IF(K65="",F65-E65-$G$1,F65-E65-K65))) | H65: =IF(AND(C65="x",E65=""),($A$1-RECAP!$U$4),IF(G65=" "," ",(G65-D65)))
B66: 43432 | D66: 0.31666667 | G66: =IF(E66=""," ",IF((F66-E66)<$H$1,F66-E66,IF(K66="",F66-E66-$G$1,F66-E66-K66))) | H66: =IF(AND(C66="x",E66=""),($A$1-RECAP!$U$4),IF(G66=" "," ",(G66-D66)))
B67: 43433 | D67: 0.31666667 | G67: =IF(E67=""," ",IF((F67-E67)<$H$1,F67-E67,IF(K67="",F67-E67-$G$1,F67-E67-K67))) | H67: =IF(AND(C67="x",E67=""),($A$1-RECAP!$U$4),IF(G67=" "," ",(G67-D67))) | I67: =SUM(H57:H67) -> 0

Sheet J
A1: =RECAP!R5 -> 0.252 | B1: Travailleur : | D1: J | F1: Pause : | G1: 0.020833333 | H1: 0.25 | I1: Nbre de jours feriés pour la période concernée | J1: =COUNTA(C3:C67) -> 3 | K1: SI((D3-C3)<$F$1;" ";D3-C3-$E$1) | L1: 30.24 | N1: =IF(L1=19,J1*RECAP!R7,IF(L1=30,J1*RECAP!R6,IF(L1=30.24,J1*RECAP!R5,IF(L1=38,J1*RECAP!R4,"ERREUR")))) -> 0.756 | O1: =N1/24 -> 0.0315
B2: Date | C2: Jours feriés | D2: Temps théorique | E2: IN | F2: OUT | G2: Temps presté | H2: Solde journalier | I2: Heures boni/mali cumulées | J2: Heures boni/mali par mois | K2: DA = Horaire autorisé | N2: pointage manquant | Q2: G = garde
B3: 43343 | D3: 0 | G3: =IF(E3=""," ",IF((F3-E3)<$H$1,F3-E3,IF(K3="",F3-E3-$G$1,F3-E3-K3))) | H3: =IF(AND(C3="x",E3=""),($A$1-RECAP!$U$5),IF(G3=" "," ",(G3-D3))) | J3: 43343
B4: 43344 | D4: 0.31666667 | E4: 0.35416667 | F4: 0.7125 | G4: =IF(E4=""," ",IF((F4-E4)<$H$1,F4-E4,IF(K4="",F4-E4-$G$1,F4-E4-K4))) -> 0.3375 | H4: =IF(AND(C4="x",E4=""),($A$1-RECAP!$U$5),IF(G4=" "," ",(G4-D4))) -> 0.020833333 | L4: 0.72430556
B5: 43347 | D5: 0.31666667 | E5: 0.35416667 | F5: 0.68958333 | G5: =IF(E5=""," ",IF((F5-E5)<$H$1,F5-E5,IF(K5="",F5-E5-$G$1,F5-E5-K5))) -> 0.31458333 | H5: =IF(AND(C5="x",E5=""),($A$1-RECAP!$U$5),IF(G5=" "," ",(G5-D5))) -> -0.0020833333 | J5: =SUM(H3:H24) -> 0.14097222
B6: 43348 | D6: 0.31666667 | E6: 0.35972222 | F6: 0.7125 | G6: =IF(E6=""," ",IF((F6-E6)<$H$1,F6-E6,IF(K6="",F6-E6-$G$1,F6-E6-K6))) -> 0.33194444 | H6: =IF(AND(C6="x",E6=""),($A$1-RECAP!$U$5),IF(G6=" "," ",(G6-D6))) -> 0.015277778 | L6: =IF(L1=38,J48+(RECAP!S4*-1*J1),IF(L1=30.24,J48+(RECAP!S5*-1*J1),IF(L1=30,J48+(RECAP!S6*-1*J1),IF(L1=19,J48+(RECAP!S7*-1*J1),"ERREUR")))) -> 0.14375
B7: 43349 | D7: 0.31666667 | E7: 0.35416667 | F7: 0.69305556 | G7: =IF(E7=""," ",IF((F7-E7)<$H$1,F7-E7,IF(K7="",F7-E7-$G$1,F7-E7-K7))) -> 0.31805556 | H7: =IF(AND(C7="x",E7=""),($A$1-RECAP!$U$5),IF(G7=" "," ",(G7-D7))) -> 0.0013888889
B8: 43350 | D8: 0.31666667 | E8: 0.35416667 | F8: 0.69305556 | G8: =IF(E8=""," ",IF((F8-E8)<$H$1,F8-E8,IF(K8="",F8-E8-$G$1,F8-E8-K8))) -> 0.31805556 | H8: =IF(AND(C8="x",E8=""),($A$1-RECAP!$U$5),IF(G8=" "," ",(G8-D8))) -> 0.0013888889
B9: 43351 | D9: 0 | G9: =IF(E9=""," ",IF((F9-E9)<$H$1,F9-E9,IF(K9="",F9-E9-$G$1,F9-E9-K9))) | H9: =IF(AND(C9="x",E9=""),($A$1-RECAP!$U$5),IF(G9=" "," ",(G9-D9)))
B10: 43354 | D10: 0.31666667 | E10: 0.37013889 | F10: 0.69166667 | G10: =IF(E10=""," ",IF((F10-E10)<$H$1,F10-E10,IF(K10="",F10-E10-$G$1,F10-E10-K10))) -> 0.30069444 | H10: =IF(AND(C10="x",E10=""),($A$1-RECAP!$U$5),IF(G10=" "," ",(G10-D10))) -> -0.015972222
B11: 43355 | D11: 0.31666667 | E11: 0.35625 | F11: 0.69236111 | G11: =IF(E11=""," ",IF((F11-E11)<$H$1,F11-E11,IF(K11="",F11-E11-$G$1,F11-E11-K11))) -> 0.31527778 | H11: =IF(AND(C11="x",E11=""),($A$1-RECAP!$U$5),IF(G11=" "," ",(G11-D11))) -> -0.0013888889
B12: 43356 | D12: 0.31666667 | E12: 0.35833333 | F12: 0.69791667 | G12: =IF(E12=""," ",IF((F12-E12)<$H$1,F12-E12,IF(K12="",F12-E12-$G$1,F12-E12-K12))) -> 0.31875 | H12: =IF(AND(C12="x",E12=""),($A$1-RECAP!$U$5),IF(G12=" "," ",(G12-D12))) -> 0.0020833333
B13: 43357 | D13: 0.31666667 | E13: 0.35555556 | F13: 0.7125 | G13: =IF(E13=""," ",IF((F13-E13)<$H$1,F13-E13,IF(K13="",F13-E13-$G$1,F13-E13-K13))) -> 0.33611111 | H13: =IF(AND(C13="x",E13=""),($A$1-RECAP!$U$5),IF(G13=" "," ",(G13-D13))) -> 0.019444444 | I13: =SUM(H3:H13) -> 0.040972222
B14: 43358 | D14: 0 | G14: =IF(E14=""," ",IF((F14-E14)<$H$1,F14-E14,IF(K14="",F14-E14-$G$1,F14-E14-K14))) | H14: =IF(AND(C14="x",E14=""),($A$1-RECAP!$U$5),IF(G14=" "," ",(G14-D14)))
B15: 43361 | D15: 0.31666667 | E15: 0.35625 | F15: 0.7 | G15: =IF(E15=""," ",IF((F15-E15)<$H$1,F15-E15,IF(K15="",F15-E15-$G$1,F15-E15-K15))) -> 0.32291667 | H15: =IF(AND(C15="x",E15=""),($A$1-RECAP!$U$5),IF(G15=" "," ",(G15-D15))) -> 0.00625 | O15: =IF(L1=38,J49+(RECAP!S4*-1*J1),IF(L1=30.24,J49+(RECAP!S5*-1*J1),IF(L1=30,J49+(RECAP!S6*-1*J1),IF(L1=19,J49+(RECAP!S7*-1*J1),"ERREUR")))) -> -0.18958333
B16: 43362 | D16: 0.31666667 | E16: 0.35416667 | F16: 0.70277778 | G16: =IF(E16=""," ",IF((F16-E16)<$H$1,F16-E16,IF(K16="",F16-E16-$G$1,F16-E16-K16))) -> 0.32777778 | H16: =IF(AND(C16="x",E16=""),($A$1-RECAP!$U$5),IF(G16=" "," ",(G16-D16))) -> 0.011111111
B17: 43363 | D17: 0.31666667 | E17: 0.36041667 | F17: 0.7 | G17: =IF(E17=""," ",IF((F17-E17)<$H$1,F17-E17,IF(K17="",F17-E17-$G$1,F17-E17-K17))) -> 0.31875 | H17: =IF(AND(C17="x",E17=""),($A$1-RECAP!$U$5),IF(G17=" "," ",(G17-D17))) -> 0.0020833333
B18: 43364 | D18: 0.31666667 | E18: 0.35416667 | F18: 0.7125 | G18: =IF(E18=""," ",IF((F18-E18)<$H$1,F18-E18,IF(K18="",F18-E18-$G$1,F18-E18-K18))) -> 0.3375 | H18: =IF(AND(C18="x",E18=""),($A$1-RECAP!$U$5),IF(G18=" "," ",(G18-D18))) -> 0.020833333
B19: 43365 | D19: 0 | G19: =IF(E19=""," ",IF((F19-E19)<$H$1,F19-E19,IF(K19="",F19-E19-$G$1,F19-E19-K19))) | H19: =IF(AND(C19="x",E19=""),($A$1-RECAP!$U$5),IF(G19=" "," ",(G19-D19)))
B20: 43368 | D20: 0.31666667 | E20: 0.35416667 | F20: 0.70416667 | G20: =IF(E20=""," ",IF((F20-E20)<$H$1,F20-E20,IF(K20="",F20-E20-$G$1,F20-E20-K20))) -> 0.32916667 | H20: =IF(AND(C20="x",E20=""),($A$1-RECAP!$U$5),IF(G20=" "," ",(G20-D20))) -> 0.0125
B21: 43369 | C21: x | D21: 0.31666667 | E21: 0.35416667 | F21: 0.7125 | G21: =IF(E21=""," ",IF((F21-E21)<$H$1,F21-E21,IF(K21="",F21-E21-$G$1,F21-E21-K21))) -> 0.3375 | H21: =IF(AND(C21="x",E21=""),($A$1-RECAP!$U$5),IF(G21=" "," ",(G21-D21)))+M21 -> 0.020833333
B22: 43370 | D22: 0.31666667 | E22: 0.35555556 | F22: 0.70694444 | G22: =IF(E22=""," ",IF((F22-E22)<$H$1,F22-E22,IF(K22="",F22-E22-$G$1,F22-E22-K22))) -> 0.33055556 | H22: =IF(AND(C22="x",E22=""),($A$1-RECAP!$U$5),IF(G22=" "," ",(G22-D22))) -> 0.013888889
B23: 43371 | D23: 0.31666667 | E23: 0.3625 | F23: 0.7125 | G23: =IF(E23=""," ",IF((F23-E23)<$H$1,F23-E23,IF(K23="",F23-E23-$G$1,F23-E23-K23))) -> 0.32916667 | H23: =IF(AND(C23="x",E23=""),($A$1-RECAP!$U$5),IF(G23=" "," ",(G23-D23))) -> 0.0125
B24: 43372 | D24: 0 | G24: =IF(E24=""," ",IF((F24-E24)<$H$1,F24-E24,IF(K24="",F24-E24-$G$1,F24-E24-K24))) | H24: =IF(AND(C24="x",E24=""),($A$1-RECAP!$U$5),IF(G24=" "," ",(G24-D24))) | I24: =SUM(H14:H24) -> 0.1
B25: 43375 | D25: 0.31666667 | E25: 0.35763889 | F25: 0.69861111 | G25: =IF(E25=""," ",IF((F25-E25)<$H$1,F25-E25,IF(K25="",F25-E25-$G$1,F25-E25-K25))) -> 0.32013889 | H25: =IF(AND(C25="x",E25=""),($A$1-RECAP!$U$5),IF(G25=" "," ",(G25-D25))) -> 0.0034722222 | J25: 43373
B26: 43376 | D26: 0.31666667 | E26: 0.35694444 | F26: 0.69444444 | G26: =IF(E26=""," ",IF((F26-E26)<$H$1,F26-E26,IF(K26="",F26-E26-$G$1,F26-E26-K26))) -> 0.31666667 | H26: =IF(AND(C26="x",E26=""),($A$1-RECAP!$U$5),IF(G26=" "," ",(G26-D26))) -> 1.110223e-16
B27: 43377 | D27: 0.31666667 | E27: 0.35416667 | F27: 0.70694444 | G27: =IF(E27=""," ",IF((F27-E27)<$H$1,F27-E27,IF(K27="",F27-E27-$G$1,F27-E27-K27))) -> 0.33194444 | H27: =IF(AND(C27="x",E27=""),($A$1-RECAP!$U$5),IF(G27=" "," ",(G27-D27))) -> 0.015277778 | J27: =SUM(H25:H45)+J5 -> 0.27430556
B28: 43378 | D28: 0.31666667 | E28: 0.35416667 | F28: 0.69513889 | G28: =IF(E28=""," ",IF((F28-E28)<$H$1,F28-E28,IF(K28="",F28-E28-$G$1,F28-E28-K28))) -> 0.32013889 | H28: =IF(AND(C28="x",E28=""),($A$1-RECAP!$U$5),IF(G28=" "," ",(G28-D28))) -> 0.0034722222
B29: 43379 | D29: 0.31666667 | E29: 0.35416667 | F29: 0.69305556 | G29: =IF(E29=""," ",IF((F29-E29)<$H$1,F29-E29,IF(K29="",F29-E29-$G$1,F29-E29-K29))) -> 0.31805556 | H29: =IF(AND(C29="x",E29=""),($A$1-RECAP!$U$5),IF(G29=" "," ",(G29-D29))) -> 0.0013888889
B30: 43382 | D30: 0.31666667 | E30: 0.35416667 | F30: 0.69583333 | G30: =IF(E30=""," ",IF((F30-E30)<$H$1,F30-E30,IF(K30="",F30-E30-$G$1,F30-E30-K30))) -> 0.32083333 | H30: =IF(AND(C30="x",E30=""),($A$1-RECAP!$U$5),IF(G30=" "," ",(G30-D30))) -> 0.0041666667
B31: 43383 | D31: 0.31666667 | E31: 0.35763889 | F31: 0.69861111 | G31: =IF(E31=""," ",IF((F31-E31)<$H$1,F31-E31,IF(K31="",F31-E31-$G$1,F31-E31-K31))) -> 0.32013889 | H31: =IF(AND(C31="x",E31=""),($A$1-RECAP!$U$5),IF(G31=" "," ",(G31-D31))) -> 0.0034722222
B32: 43384 | D32: 0.31666667 | E32: 0.35416667 | F32: 0.70069444 | G32: =IF(E32=""," ",IF((F32-E32)<$H$1,F32-E32,IF(K32="",F32-E32-$G$1,F32-E32-K32))) -> 0.32569444 | H32: =IF(AND(C32="x",E32=""),($A$1-RECAP!$U$5),IF(G32=" "," ",(G32-D32))) -> 0.0090277778
B33: 43385 | D33: 0.31666667 | E33: 0.35416667 | F33: 0.69444444 | G33: =IF(E33=""," ",IF((F33-E33)<$H$1,F33-E33,IF(K33="",F33-E33-$G$1,F33-E33-K33))) -> 0.31944444 | H33: =IF(AND(C33="x",E33=""),($A$1-RECAP!$U$5),IF(G33=" "," ",(G33-D33))) -> 0.0027777778
B34: 43386 | D34: 0.31666667 | E34: 0.35416667 | F34: 0.69305556 | G34: =IF(E34=""," ",IF((F34-E34)<$H$1,F34-E34,IF(K34="",F34-E34-$G$1,F34-E34-K34))) -> 0.31805556 | H34: =IF(AND(C34="x",E34=""),($A$1-RECAP!$U$5),IF(G34=" "," ",(G34-D34))) -> 0.0013888889
B35: 43389 | D35: 0.31666667 | E35: 0.35902778 | F35: 0.69513889 | G35: =IF(E35=""," ",IF((F35-E35)<$H$1,F35-E35,IF(K35="",F35-E35-$G$1,F35-E35-K35))) -> 0.31527778 | H35: =IF(AND(C35="x",E35=""),($A$1-RECAP!$U$5),IF(G35=" "," ",(G35-D35))) -> -0.0013888889 | I35: =SUM(H25:H35) -> 0.043055556
B36: 43390 | D36: 0.31666667 | E36: 0.35416667 | F36: 0.70694444 | G36: =IF(E36=""," ",IF((F36-E36)<$H$1,F36-E36,IF(K36="",F36-E36-$G$1,F36-E36-K36))) -> 0.33194444 | H36: =IF(AND(C36="x",E36=""),($A$1-RECAP!$U$5),IF(G36=" "," ",(G36-D36))) -> 0.015277778
B37: 43391 | D37: 0.31666667 | E37: 0.35416667 | F37: 0.69861111 | G37: =IF(E37=""," ",IF((F37-E37)<$H$1,F37-E37,IF(K37="",F37-E37-$G$1,F37-E37-K37))) -> 0.32361111 | H37: =IF(AND(C37="x",E37=""),($A$1-RECAP!$U$5),IF(G37=" "," ",(G37-D37))) -> 0.0069444444
B38: 43392 | D38: 0.31666667 | E38: 0.35416667 | F38: 0.70833333 | G38: =IF(E38=""," ",IF((F38-E38)<$H$1,F38-E38,IF(K38="",F38-E38-$G$1,F38-E38-K38))) -> 0.33333333 | H38: =IF(AND(C38="x",E38=""),($A$1-RECAP!$U$5),IF(G38=" "," ",(G38-D38))) -> 0.016666667
B39: 43393 | D39: 0.31666667 | E39: 0.35416667 | F39: 0.70763889 | G39: =IF(E39=""," ",IF((F39-E39)<$H$1,F39-E39,IF(K39="",F39-E39-$G$1,F39-E39-K39))) -> 0.33263889 | H39: =IF(AND(C39="x",E39=""),($A$1-RECAP!$U$5),IF(G39=" "," ",(G39-D39))) -> 0.015972222
B40: 43396 | D40: 0.31666667 | E40: 0.35416667 | F40: 0.69513889 | G40: =IF(E40=""," ",IF((F40-E40)<$H$1,F40-E40,IF(K40="",F40-E40-$G$1,F40-E40-K40))) -> 0.32013889 | H40: =IF(AND(C40="x",E40=""),($A$1-RECAP!$U$5),IF(G40=" "," ",(G40-D40))) -> 0.0034722222
B41: 43397 | D41: 0.31666667 | E41: 0.35763889 | F41: 0.7125 | G41: =IF(E41=""," ",IF((F41-E41)<$H$1,F41-E41,IF(K41="",F41-E41-$G$1,F41-E41-K41))) -> 0.33402778 | H41: =IF(AND(C41="x",E41=""),($A$1-RECAP!$U$5),IF(G41=" "," ",(G41-D41))) -> 0.017361111
B42: 43398 | D42: 0.31666667 | E42: 0.35555556 | F42: 0.70625 | G42: =IF(E42=""," ",IF((F42-E42)<$H$1,F42-E42,IF(K42="",F42-E42-$G$1,F42-E42-K42))) -> 0.32986111 | H42: =IF(AND(C42="x",E42=""),($A$1-RECAP!$U$5),IF(G42=" "," ",(G42-D42))) -> 0.013194444
B43: 43399 | D43: 0.31666667 | E43: 0.36388889 | F43: 0.69166667 | G43: =IF(E43=""," ",IF((F43-E43)<$H$1,F43-E43,IF(K43="",F43-E43-$G$1,F43-E43-K43))) -> 0.30694444 | H43: =IF(AND(C43="x",E43=""),($A$1-RECAP!$U$5),IF(G43=" "," ",(G43-D43))) -> -0.0097222222
B44: 43400 | D44: 0.31666667 | E44: 0.35763889 | F44: 0.69652778 | G44: =IF(E44=""," ",IF((F44-E44)<$H$1,F44-E44,IF(K44="",F44-E44-$G$1,F44-E44-K44))) -> 0.31805556 | H44: =IF(AND(C44="x",E44=""),($A$1-RECAP!$U$5),IF(G44=" "," ",(G44-D44))) -> 0.0013888889
B45: 43403 | D45: 0.31666667 | E45: 0.35972222 | F45: 0.70694444 | G45: =IF(E45=""," ",IF((F45-E45)<$H$1,F45-E45,IF(K45="",F45-E45-$G$1,F45-E45-K45))) -> 0.32638889 | H45: =IF(AND(C45="x",E45=""),($A$1-RECAP!$U$5),IF(G45=" "," ",(G45-D45))) -> 0.0097222222 | I45: =SUM(H36:H45) -> 0.090277778
B46: 43404 | C46: x | D46: 0 | G46: =IF(E46=""," ",IF((F46-E46)<$H$1,F46-E46,IF(K46="",F46-E46-$G$1,F46-E46-K46))) | H46: 0 | J46: 36099
B47: 43405 | D47: 0.31666667 | E47: 0.35416667 | F47: 0.70625 | G47: =IF(E47=""," ",IF((F47-E47)<$H$1,F47-E47,IF(K47="",F47-E47-$G$1,F47-E47-K47))) -> 0.33125 | H47: =IF(AND(C47="x",E47=""),($A$1-RECAP!$U$5),IF(G47=" "," ",(G47-D47))) -> 0.014583333
B48: 43406 | D48: 0.31666667 | E48: 0.35416667 | F48: 0.70902778 | G48: =IF(E48=""," ",IF((F48-E48)<$H$1,F48-E48,IF(K48="",F48-E48-$G$1,F48-E48-K48))) -> 0.33402778 | H48: =IF(AND(C48="x",E48=""),($A$1-RECAP!$U$5),IF(G48=" "," ",(G48-D48))) -> 0.017361111 | J48: =SUM(H46:H67)+J27 -> 0.33333333
B49: 43407 | D49: 0.31666667 | E49: 0.35416667 | F49: 0.69791667 | G49: =IF(E49=""," ",IF((F49-E49)<$H$1,F49-E49,IF(K49="",F49-E49-$G$1,F49-E49-K49))) -> 0.32291667 | H49: =IF(AND(C49="x",E49=""),($A$1-RECAP!$U$5),IF(G49=" "," ",(G49-D49))) -> 0.00625
B50: 43410 | D50: 0.31666667 | E50: 0.35694444 | F50: 0.70416667 | G50: =IF(E50=""," ",IF((F50-E50)<$H$1,F50-E50,IF(K50="",F50-E50-$G$1,F50-E50-K50))) -> 0.32638889 | H50: =IF(AND(C50="x",E50=""),($A$1-RECAP!$U$5),IF(G50=" "," ",(G50-D50))) -> 0.0097222222
B51: 43411 | D51: 0.31666667 | E51: 0.35555556 | F51: 0.69513889 | G51: =IF(E51=""," ",IF((F51-E51)<$H$1,F51-E51,IF(K51="",F51-E51-$G$1,F51-E51-K51))) -> 0.31875 | H51: =IF(AND(C51="x",E51=""),($A$1-RECAP!$U$5),IF(G51=" "," ",(G51-D51))) -> 0.0020833333
B52: 43412 | D52: 0.31666667 | E52: 0.35763889 | F52: 0.69166667 | G52: =IF(E52=""," ",IF((F52-E52)<$H$1,F52-E52,IF(K52="",F52-E52-$G$1,F52-E52-K52))) -> 0.31319444 | H52: =IF(AND(C52="x",E52=""),($A$1-RECAP!$U$5),IF(G52=" "," ",(G52-D52))) -> -0.0034722222
B53: 43413 | D53: 0.31666667 | E53: 0.35416667 | F53: 0.70416667 | G53: =IF(E53=""," ",IF((F53-E53)<$H$1,F53-E53,IF(K53="",F53-E53-$G$1,F53-E53-K53))) -> 0.32916667 | H53: =IF(AND(C53="x",E53=""),($A$1-RECAP!$U$5),IF(G53=" "," ",(G53-D53))) -> 0.0125
B54: 43414 | C54: x | D54: 0 | G54: =IF(E54=""," ",IF((F54-E54)<$H$1,F54-E54,IF(K54="",F54-E54-$G$1,F54-E54-K54))) | H54: 0
B55: 43417 | D55: 0.31666667 | G55: =IF(E55=""," ",IF((F55-E55)<$H$1,F55-E55,IF(K55="",F55-E55-$G$1,F55-E55-K55))) | H55: =IF(AND(C55="x",E55=""),($A$1-RECAP!$U$5),IF(G55=" "," ",(G55-D55)))
B56: 43418 | D56: 0.31666667 | G56: =IF(E56=""," ",IF((F56-E56)<$H$1,F56-E56,IF(K56="",F56-E56-$G$1,F56-E56-K56))) | H56: =IF(AND(C56="x",E56=""),($A$1-RECAP!$U$5),IF(G56=" "," ",(G56-D56))) | I56: =SUM(H46:H56) -> 0.059027778
B57: 43419 | D57: 0.31666667 | G57: =IF(E57=""," ",IF((F57-E57)<$H$1,F57-E57,IF(K57="",F57-E57-$G$1,F57-E57-K57))) | H57: =IF(AND(C57="x",E57=""),($A$1-RECAP!$U$5),IF(G57=" "," ",(G57-D57)))
B58: 43420 | D58: 0.31666667 | G58: =IF(E58=""," ",IF((F58-E58)<$H$1,F58-E58,IF(K58="",F58-E58-$G$1,F58-E58-K58))) | H58: =IF(AND(C58="x",E58=""),($A$1-RECAP!$U$5),IF(G58=" "," ",(G58-D58))) | K58: 0.03125
B59: 43421 | D59: 0.31666667 | G59: =IF(E59=""," ",IF((F59-E59)<$H$1,F59-E59,IF(K59="",F59-E59-$G$1,F59-E59-K59))) | H59: =IF(AND(C59="x",E59=""),($A$1-RECAP!$U$5),IF(G59=" "," ",(G59-D59)))
B60: 43424 | D60: 0.31666667 | G60: =IF(E60=""," ",IF((F60-E60)<$H$1,F60-E60,IF(K60="",F60-E60-$G$1,F60-E60-K60))) | H60: =IF(AND(C60="x",E60=""),($A$1-RECAP!$U$5),IF(G60=" "," ",(G60-D60)))
B61: 43425 | D61: 0.31666667 | G61: =IF(E61=""," ",IF((F61-E61)<$H$1,F61-E61,IF(K61="",F61-E61-$G$1,F61-E61-K61))) | H61: =IF(AND(C61="x",E61=""),($A$1-RECAP!$U$5),IF(G61=" "," ",(G61-D61)))
B62: 43426 | D62: 0.31666667 | G62: =IF(E62=""," ",IF((F62-E62)<$H$1,F62-E62,IF(K62="",F62-E62-$G$1,F62-E62-K62))) | H62: =IF(AND(C62="x",E62=""),($A$1-RECAP!$U$5),IF(G62=" "," ",(G62-D62)))
B63: 43427 | D63: 0.31666667 | G63: =IF(E63=""," ",IF((F63-E63)<$H$1,F63-E63,IF(K63="",F63-E63-$G$1,F63-E63-K63))) | H63: =IF(AND(C63="x",E63=""),($A$1-RECAP!$U$5),IF(G63=" "," ",(G63-D63)))
B64: 43428 | D64: 0.31666667 | G64: =IF(E64=""," ",IF((F64-E64)<$H$1,F64-E64,IF(K64="",F64-E64-$G$1,F64-E64-K64))) | H64: =IF(AND(C64="x",E64=""),($A$1-RECAP!$U$5),IF(G64=" "," ",(G64-D64)))
B65: 43431 | D65: 0.31666667 | G65: =IF(E65=""," ",IF((F65-E65)<$H$1,F65-E65,IF(K65="",F65-E65-$G$1,F65-E65-K65))) | H65: =IF(AND(C65="x",E65=""),($A$1-RECAP!$U$5),IF(G65=" "," ",(G65-D65)))
B66: 43432 | D66: 0.31666667 | G66: =IF(E66=""," ",IF((F66-E66)<$H$1,F66-E66,IF(K66="",F66-E66-$G$1,F66-E66-K66))) | H66: =IF(AND(C66="x",E66=""),($A$1-RECAP!$U$5),IF(G66=" "," ",(G66-D66)))
B67: 43433 | D67: 0.31666667 | G67: =IF(E67=""," ",IF((F67-E67)<$H$1,F67-E67,IF(K67="",F67-E67-$G$1,F67-E67-K67))) | H67: =IF(AND(C67="x",E67=""),($A$1-RECAP!$U$5),IF(G67=" "," ",(G67-D67))) | I67: =SUM(H57:H67) -> 0

Sheet K
A1: =RECAP!R4 -> 0.31666667 | B1: Travailleur : | D1: K | F1: Pause : | G1: 0.020833333 | H1: 0.25 | I1: Nbre de jours feriés pour la période concernée | J1: =COUNTA(C3:C67) -> 0 | K1: SI((D3-C3)<$F$1;" ";D3-C3-$E$1) | L1: 38 | N1: =IF(L1=19,J1*RECAP!R7,IF(L1=30,J1*RECAP!R6,IF(L1=30.24,J1*RECAP!R5,IF(L1=38,J1*RECAP!R4,"ERREUR")))) -> 0 | O1: =N1/24 -> 0
B2: Date | C2: Récup ferié | D2: Temps théorique | E2: IN | F2: OUT | G2: Temps presté | H2: Solde journalier | I2: Heures boni/mali cumulées | J2: Heures boni/mali par mois | K2: DA = Horaire autorisé | N2: pointage manquant | Q2: G = garde
B3: 43343 | D3: 0.3125 | G3: =IF(E3=""," ",IF((F3-E3)<$H$1,F3-E3,IF(K3="",F3-E3-$G$1,F3-E3-K3))) | H3: =IF(AND(C3="x",E3=""),($A$1-RECAP!$U$4),IF(G3=" "," ",(G3-D3))) | J3: 43343
B4: 43344 | D4: 0.3125 | G4: =IF(E4=""," ",IF((F4-E4)<$H$1,F4-E4,IF(K4="",F4-E4-$G$1,F4-E4-K4))) | H4: =IF(AND(C4="x",E4=""),($A$1-RECAP!$U$4),IF(G4=" "," ",(G4-D4)))
B5: 43347 | D5: 0.3125 | G5: =IF(E5=""," ",IF((F5-E5)<$H$1,F5-E5,IF(K5="",F5-E5-$G$1,F5-E5-K5))) | H5: =IF(AND(C5="x",E5=""),($A$1-RECAP!$U$4),IF(G5=" "," ",(G5-D5))) | J5: =SUM(H3:H24) -> 0
B6: 43348 | D6: 0.3125 | G6: =IF(E6=""," ",IF((F6-E6)<$H$1,F6-E6,IF(K6="",F6-E6-$G$1,F6-E6-K6))) | H6: =IF(AND(C6="x",E6=""),($A$1-RECAP!$U$4),IF(G6=" "," ",(G6-D6))) | L6: =IF(L1=38,J48+(RECAP!S4*-1*J1),IF(L1=30.24,J48+(RECAP!S5*-1*J1),IF(L1=30,J48+(RECAP!S6*-1*J1),IF(L1=19,J48+(RECAP!S7*-1*J1),"ERREUR")))) -> 0
B7: 43349 | D7: 0 | G7: =IF(E7=""," ",IF((F7-E7)<$H$1,F7-E7,IF(K7="",F7-E7-$G$1,F7-E7-K7))) | H7: =IF(AND(C7="x",E7=""),($A$1-RECAP!$U$4),IF(G7=" "," ",(G7-D7)))
B8: 43350 | D8: 0.3125 | G8: =IF(E8=""," ",IF((F8-E8)<$H$1,F8-E8,IF(K8="",F8-E8-$G$1,F8-E8-K8))) | H8: =IF(AND(C8="x",E8=""),($A$1-RECAP!$U$4),IF(G8=" "," ",(G8-D8)))
B9: 43351 | D9: 0.3125 | G9: =IF(E9=""," ",IF((F9-E9)<$H$1,F9-E9,IF(K9="",F9-E9-$G$1,F9-E9-K9))) | H9: =IF(AND(C9="x",E9=""),($A$1-RECAP!$U$4),IF(G9=" "," ",(G9-D9)))
B10: 43354 | D10: 0.3125 | G10: =IF(E10=""," ",IF((F10-E10)<$H$1,F10-E10,IF(K10="",F10-E10-$G$1,F10-E10-K10))) | H10: =IF(AND(C10="x",E10=""),($A$1-RECAP!$U$4),IF(G10=" "," ",(G10-D10)))
B11: 43355 | D11: 0.3125 | G11: =IF(E11=""," ",IF((F11-E11)<$H$1,F11-E11,IF(K11="",F11-E11-$G$1,F11-E11-K11))) | H11: =IF(AND(C11="x",E11=""),($A$1-RECAP!$U$4),IF(G11=" "," ",(G11-D11)))
B12: 43356 | D12: 0 | G12: =IF(E12=""," ",IF((F12-E12)<$H$1,F12-E12,IF(K12="",F12-E12-$G$1,F12-E12-K12))) | H12: =IF(AND(C12="x",E12=""),($A$1-RECAP!$U$4),IF(G12=" "," ",(G12-D12)))
B13: 43357 | D13: 0.3125 | G13: =IF(E13=""," ",IF((F13-E13)<$H$1,F13-E13,IF(K13="",F13-E13-$G$1,F13-E13-K13))) | H13: =IF(AND(C13="x",E13=""),($A$1-RECAP!$U$4),IF(G13=" "," ",(G13-D13))) | I13: =SUM(H3:H13) -> 0
B14: 43358 | D14: 0.3125 | G14: =IF(E14=""," ",IF((F14-E14)<$H$1,F14-E14,IF(K14="",F14-E14-$G$1,F14-E14-K14))) | H14: =IF(AND(C14="x",E14=""),($A$1-RECAP!$U$4),IF(G14=" "," ",(G14-D14)))
B15: 43361 | D15: 0.3125 | G15: =IF(E15=""," ",IF((F15-E15)<$H$1,F15-E15,IF(K15="",F15-E15-$G$1,F15-E15-K15))) | H15: =IF(AND(C15="x",E15=""),($A$1-RECAP!$U$4),IF(G15=" "," ",(G15-D15))) | O15: =IF(L1=38,J49+(RECAP!S4*-1*J1),IF(L1=30.24,J49+(RECAP!S5*-1*J1),IF(L1=30,J49+(RECAP!S6*-1*J1),IF(L1=19,J49+(RECAP!S7*-1*J1),"ERREUR")))) -> 0
B16: 43362 | D16: 0.3125 | G16: =IF(E16=""," ",IF((F16-E16)<$H$1,F16-E16,IF(K16="",F16-E16-$G$1,F16-E16-K16))) | H16: =IF(AND(C16="x",E16=""),($A$1-RECAP!$U$4),IF(G16=" "," ",(G16-D16)))
B17: 43363 | D17: 0 | G17: =IF(E17=""," ",IF((F17-E17)<$H$1,F17-E17,IF(K17="",F17-E17-$G$1,F17-E17-K17))) | H17: =IF(AND(C17="x",E17=""),($A$1-RECAP!$U$4),IF(G17=" "," ",(G17-D17)))
B18: 43364 | D18: 0.3125 | G18: =IF(E18=""," ",IF((F18-E18)<$H$1,F18-E18,IF(K18="",F18-E18-$G$1,F18-E18-K18))) | H18: =IF(AND(C18="x",E18=""),($A$1-RECAP!$U$4),IF(G18=" "," ",(G18-D18)))
B19: 43365 | D19: 0.3125 | G19: =IF(E19=""," ",IF((F19-E19)<$H$1,F19-E19,IF(K19="",F19-E19-$G$1,F19-E19-K19))) | H19: =IF(AND(C19="x",E19=""),($A$1-RECAP!$U$4),IF(G19=" "," ",(G19-D19)))
B20: 43368 | D20: 0.3125 | G20: =IF(E20=""," ",IF((F20-E20)<$H$1,F20-E20,IF(K20="",F20-E20-$G$1,F20-E20-K20))) | H20: =IF(AND(C20="x",E20=""),($A$1-RECAP!$U$4),IF(G20=" "," ",(G20-D20)))
B21: 43369 | D21: 0.3125 | G21: =IF(E21=""," ",IF((F21-E21)<$H$1,F21-E21,IF(K21="",F21-E21-$G$1,F21-E21-K21))) | H21: =IF(AND(C21="x",E21=""),($A$1-RECAP!$U$4),IF(G21=" "," ",(G21-D21)))
B22: 43370 | D22: 0 | G22: =IF(E22=""," ",IF((F22-E22)<$H$1,F22-E22,IF(K22="",F22-E22-$G$1,F22-E22-K22))) | H22: =IF(AND(C22="x",E22=""),($A$1-RECAP!$U$4),IF(G22=" "," ",(G22-D22)))
B23: 43371 | D23: 0.3125 | G23: =IF(E23=""," ",IF((F23-E23)<$H$1,F23-E23,IF(K23="",F23-E23-$G$1,F23-E23-K23))) | H23: =IF(AND(C23="x",E23=""),($A$1-RECAP!$U$4),IF(G23=" "," ",(G23-D23)))
B24: 43372 | D24: 0.3125 | G24: =IF(E24=""," ",IF((F24-E24)<$H$1,F24-E24,IF(K24="",F24-E24-$G$1,F24-E24-K24))) | H24: =IF(AND(C24="x",E24=""),($A$1-RECAP!$U$4),IF(G24=" "," ",(G24-D24))) | I24: =SUM(H14:H24) -> 0
B25: 43375 | D25: 0.3125 | G25: =IF(E25=""," ",IF((F25-E25)<$H$1,F25-E25,IF(K25="",F25-E25-$G$1,F25-E25-K25))) | H25: =IF(AND(C25="x",E25=""),($A$1-RECAP!$U$4),IF(G25=" "," ",(G25-D25))) | J25: 43373
B26: 43376 | D26: 0.3125 | G26: =IF(E26=""," ",IF((F26-E26)<$H$1,F26-E26,IF(K26="",F26-E26-$G$1,F26-E26-K26))) | H26: =IF(AND(C26="x",E26=""),($A$1-RECAP!$U$4),IF(G26=" "," ",(G26-D26)))
B27: 43377 | D27: 0 | G27: =IF(E27=""," ",IF((F27-E27)<$H$1,F27-E27,IF(K27="",F27-E27-$G$1,F27-E27-K27))) | H27: =IF(AND(C27="x",E27=""),($A$1-RECAP!$U$4),IF(G27=" "," ",(G27-D27))) | J27: =SUM(H25:H45)+J5 -> 0
B28: 43378 | D28: 0.3125 | G28: =IF(E28=""," ",IF((F28-E28)<$H$1,F28-E28,IF(K28="",F28-E28-$G$1,F28-E28-K28))) | H28: =IF(AND(C28="x",E28=""),($A$1-RECAP!$U$4),IF(G28=" "," ",(G28-D28)))
B29: 43379 | D29: 0.3125 | G29: =IF(E29=""," ",IF((F29-E29)<$H$1,F29-E29,IF(K29="",F29-E29-$G$1,F29-E29-K29))) | H29: =IF(AND(C29="x",E29=""),($A$1-RECAP!$U$4),IF(G29=" "," ",(G29-D29)))
B30: 43382 | D30: 0.3125 | G30: =IF(E30=""," ",IF((F30-E30)<$H$1,F30-E30,IF(K30="",F30-E30-$G$1,F30-E30-K30))) | H30: =IF(AND(C30="x",E30=""),($A$1-RECAP!$U$4),IF(G30=" "," ",(G30-D30)))
B31: 43383 | D31: 0.3125 | G31: =IF(E31=""," ",IF((F31-E31)<$H$1,F31-E31,IF(K31="",F31-E31-$G$1,F31-E31-K31))) | H31: =IF(AND(C31="x",E31=""),($A$1-RECAP!$U$4),IF(G31=" "," ",(G31-D31)))
B32: 43384 | D32: 0 | G32: =IF(E32=""," ",IF((F32-E32)<$H$1,F32-E32,IF(K32="",F32-E32-$G$1,F32-E32-K32))) | H32: =IF(AND(C32="x",E32=""),($A$1-RECAP!$U$4),IF(G32=" "," ",(G32-D32)))
B33: 43385 | D33: 0.3125 | G33: =IF(E33=""," ",IF((F33-E33)<$H$1,F33-E33,IF(K33="",F33-E33-$G$1,F33-E33-K33))) | H33: =IF(AND(C33="x",E33=""),($A$1-RECAP!$U$4),IF(G33=" "," ",(G33-D33)))
B34: 43386 | D34: 0.3125 | G34: =IF(E34=""," ",IF((F34-E34)<$H$1,F34-E34,IF(K34="",F34-E34-$G$1,F34-E34-K34))) | H34: =IF(AND(C34="x",E34=""),($A$1-RECAP!$U$4),IF(G34=" "," ",(G34-D34)))
B35: 43389 | D35: 0.3125 | G35: =IF(E35=""," ",IF((F35-E35)<$H$1,F35-E35,IF(K35="",F35-E35-$G$1,F35-E35-K35))) | H35: =IF(AND(C35="x",E35=""),($A$1-RECAP!$U$4),IF(G35=" "," ",(G35-D35))) | I35: =SUM(H25:H35) -> 0
B36: 43390 | D36: 0.3125 | G36: =IF(E36=""," ",IF((F36-E36)<$H$1,F36-E36,IF(K36="",F36-E36-$G$1,F36-E36-K36))) | H36: =IF(AND(C36="x",E36=""),($A$1-RECAP!$U$4),IF(G36=" "," ",(G36-D36)))
B37: 43391 | D37: 0 | G37: =IF(E37=""," ",IF((F37-E37)<$H$1,F37-E37,IF(K37="",F37-E37-$G$1,F37-E37-K37))) | H37: =IF(AND(C37="x",E37=""),($A$1-RECAP!$U$4),IF(G37=" "," ",(G37-D37)))
B38: 43392 | D38: 0.3125 | G38: =IF(E38=""," ",IF((F38-E38)<$H$1,F38-E38,IF(K38="",F38-E38-$G$1,F38-E38-K38))) | H38: =IF(AND(C38="x",E38=""),($A$1-RECAP!$U$4),IF(G38=" "," ",(G38-D38)))
B39: 43393 | D39: 0.3125 | G39: =IF(E39=""," ",IF((F39-E39)<$H$1,F39-E39,IF(K39="",F39-E39-$G$1,F39-E39-K39))) | H39: =IF(AND(C39="x",E39=""),($A$1-RECAP!$U$4),IF(G39=" "," ",(G39-D39)))
B40: 43396 | D40: 0.3125 | G40: =IF(E40=""," ",IF((F40-E40)<$H$1,F40-E40,IF(K40="",F40-E40-$G$1,F40-E40-K40))) | H40: =IF(AND(C40="x",E40=""),($A$1-RECAP!$U$4),IF(G40=" "," ",(G40-D40)))
B41: 43397 | D41: 0.3125 | G41: =IF(E41=""," ",IF((F41-E41)<$H$1,F41-E41,IF(K41="",F41-E41-$G$1,F41-E41-K41))) | H41: =IF(AND(C41="x",E41=""),($A$1-RECAP!$U$4),IF(G41=" "," ",(G41-D41)))
B42: 43398 | D42: 0 | G42: =IF(E42=""," ",IF((F42-E42)<$H$1,F42-E42,IF(K42="",F42-E42-$G$1,F42-E42-K42))) | H42: =IF(AND(C42="x",E42=""),($A$1-RECAP!$U$4),IF(G42=" "," ",(G42-D42)))
B43: 43399 | D43: 0.3125 | G43: =IF(E43=""," ",IF((F43-E43)<$H$1,F43-E43,IF(K43="",F43-E43-$G$1,F43-E43-K43))) | H43: =IF(AND(C43="x",E43=""),($A$1-RECAP!$U$4),IF(G43=" "," ",(G43-D43)))
B44: 43400 | D44: 0.3125 | G44: =IF(E44=""," ",IF((F44-E44)<$H$1,F44-E44,IF(K44="",F44-E44-$G$1,F44-E44-K44))) | H44: =IF(AND(C44="x",E44=""),($A$1-RECAP!$U$4),IF(G44=" "," ",(G44-D44)))
B45: 43403 | D45: 0.3125 | G45: =IF(E45=""," ",IF((F45-E45)<$H$1,F45-E45,IF(K45="",F45-E45-$G$1,F45-E45-K45))) | H45: =IF(AND(C45="x",E45=""),($A$1-RECAP!$U$4),IF(G45=" "," ",(G45-D45))) | I45: =SUM(H36:H45) -> 0
B46: 43404 | D46: 0.3125 | G46: =IF(E46=""," ",IF((F46-E46)<$H$1,F46-E46,IF(K46="",F46-E46-$G$1,F46-E46-K46))) | H46: =IF(AND(C46="x",E46=""),($A$1-RECAP!$U$4),IF(G46=" "," ",(G46-D46))) | J46: 36099
B47: 43405 | D47: 0 | G47: =IF(E47=""," ",IF((F47-E47)<$H$1,F47-E47,IF(K47="",F47-E47-$G$1,F47-E47-K47))) | H47: =IF(AND(C47="x",E47=""),($A$1-RECAP!$U$4),IF(G47=" "," ",(G47-D47)))
B48: 43406 | D48: 0.3125 | G48: =IF(E48=""," ",IF((F48-E48)<$H$1,F48-E48,IF(K48="",F48-E48-$G$1,F48-E48-K48))) | H48: =IF(AND(C48="x",E48=""),($A$1-RECAP!$U$4),IF(G48=" "," ",(G48-D48))) | J48: =SUM(H46:H67)+J27 -> 0
B49: 43407 | D49: 0.3125 | G49: =IF(E49=""," ",IF((F49-E49)<$H$1,F49-E49,IF(K49="",F49-E49-$G$1,F49-E49-K49))) | H49: =IF(AND(C49="x",E49=""),($A$1-RECAP!$U$4),IF(G49=" "," ",(G49-D49)))
B50: 43410 | D50: 0.3125 | G50: =IF(E50=""," ",IF((F50-E50)<$H$1,F50-E50,IF(K50="",F50-E50-$G$1,F50-E50-K50))) | H50: =IF(AND(C50="x",E50=""),($A$1-RECAP!$U$4),IF(G50=" "," ",(G50-D50)))
B51: 43411 | D51: 0.3125 | G51: =IF(E51=""," ",IF((F51-E51)<$H$1,F51-E51,IF(K51="",F51-E51-$G$1,F51-E51-K51))) | H51: =IF(AND(C51="x",E51=""),($A$1-RECAP!$U$4),IF(G51=" "," ",(G51-D51)))
B52: 43412 | D52: 0 | G52: =IF(E52=""," ",IF((F52-E52)<$H$1,F52-E52,IF(K52="",F52-E52-$G$1,F52-E52-K52))) | H52: =IF(AND(C52="x",E52=""),($A$1-RECAP!$U$4),IF(G52=" "," ",(G52-D52)))
B53: 43413 | D53: 0.3125 | G53: =IF(E53=""," ",IF((F53-E53)<$H$1,F53-E53,IF(K53="",F53-E53-$G$1,F53-E53-K53))) | H53: =IF(AND(C53="x",E53=""),($A$1-RECAP!$U$4),IF(G53=" "," ",(G53-D53)))
B54: 43414 | D54: 0.3125 | G54: =IF(E54=""," ",IF((F54-E54)<$H$1,F54-E54,IF(K54="",F54-E54-$G$1,F54-E54-K54))) | H54: =IF(AND(C54="x",E54=""),($A$1-RECAP!$U$4),IF(G54=" "," ",(G54-D54)))
B55: 43417 | D55: 0.3125 | G55: =IF(E55=""," ",IF((F55-E55)<$H$1,F55-E55,IF(K55="",F55-E55-$G$1,F55-E55-K55))) | H55: =IF(AND(C55="x",E55=""),($A$1-RECAP!$U$4),IF(G55=" "," ",(G55-D55)))
B56: 43418 | D56: 0.3125 | G56: =IF(E56=""," ",IF((F56-E56)<$H$1,F56-E56,IF(K56="",F56-E56-$G$1,F56-E56-K56))) | H56: =IF(AND(C56="x",E56=""),($A$1-RECAP!$U$4),IF(G56=" "," ",(G56-D56))) | I56: =SUM(H46:H56) -> 0
B57: 43419 | D57: 0 | G57: =IF(E57=""," ",IF((F57-E57)<$H$1,F57-E57,IF(K57="",F57-E57-$G$1,F57-E57-K57))) | H57: =IF(AND(C57="x",E57=""),($A$1-RECAP!$U$4),IF(G57=" "," ",(G57-D57)))
B58: 43420 | D58: 0.3125 | G58: =IF(E58=""," ",IF((F58-E58)<$H$1,F58-E58,IF(K58="",F58-E58-$G$1,F58-E58-K58))) | H58: =IF(AND(C58="x",E58=""),($A$1-RECAP!$U$4),IF(G58=" "," ",(G58-D58)))
B59: 43421 | D59: 0.3125 | G59: =IF(E59=""," ",IF((F59-E59)<$H$1,F59-E59,IF(K59="",F59-E59-$G$1,F59-E59-K59))) | H59: =IF(AND(C59="x",E59=""),($A$1-RECAP!$U$4),IF(G59=" "," ",(G59-D59)))
B60: 43424 | D60: 0.3125 | G60: =IF(E60=""," ",IF((F60-E60)<$H$1,F60-E60,IF(K60="",F60-E60-$G$1,F60-E60-K60))) | H60: =IF(AND(C60="x",E60=""),($A$1-RECAP!$U$4),IF(G60=" "," ",(G60-D60)))
B61: 43425 | D61: 0.3125 | G61: =IF(E61=""," ",IF((F61-E61)<$H$1,F61-E61,IF(K61="",F61-E61-$G$1,F61-E61-K61))) | H61: =IF(AND(C61="x",E61=""),($A$1-RECAP!$U$4),IF(G61=" "," ",(G61-D61)))
B62: 43426 | D62: 0 | G62: =IF(E62=""," ",IF((F62-E62)<$H$1,F62-E62,IF(K62="",F62-E62-$G$1,F62-E62-K62))) | H62: =IF(AND(C62="x",E62=""),($A$1-RECAP!$U$4),IF(G62=" "," ",(G62-D62)))
B63: 43427 | D63: 0.3125 | G63: =IF(E63=""," ",IF((F63-E63)<$H$1,F63-E63,IF(K63="",F63-E63-$G$1,F63-E63-K63))) | H63: =IF(AND(C63="x",E63=""),($A$1-RECAP!$U$4),IF(G63=" "," ",(G63-D63)))
B64: 43428 | D64: 0.3125 | G64: =IF(E64=""," ",IF((F64-E64)<$H$1,F64-E64,IF(K64="",F64-E64-$G$1,F64-E64-K64))) | H64: =IF(AND(C64="x",E64=""),($A$1-RECAP!$U$4),IF(G64=" "," ",(G64-D64)))
B65: 43431 | D65: 0.3125 | G65: =IF(E65=""," ",IF((F65-E65)<$H$1,F65-E65,IF(K65="",F65-E65-$G$1,F65-E65-K65))) | H65: =IF(AND(C65="x",E65=""),($A$1-RECAP!$U$4),IF(G65=" "," ",(G65-D65)))
B66: 43432 | D66: 0.3125 | G66: =IF(E66=""," ",IF((F66-E66)<$H$1,F66-E66,IF(K66="",F66-E66-$G$1,F66-E66-K66))) | H66: =IF(AND(C66="x",E66=""),($A$1-RECAP!$U$4),IF(G66=" "," ",(G66-D66)))
B67: 43433 | D67: 0 | G67: =IF(E67=""," ",IF((F67-E67)<$H$1,F67-E67,IF(K67="",F67-E67-$G$1,F67-E67-K67))) | H67: =IF(AND(C67="x",E67=""),($A$1-RECAP!$U$4),IF(G67=" "," ",(G67-D67))) | I67: =SUM(H57:H67) -> 0

Sheet L
A1: =RECAP!R4 -> 0.31666667 | B1: Travailleur : | D1: L | F1: Pause : | G1: 0.020833333 | H1: 0.25 | I1: Nbre de jours feriés pour la période concernée | J1: =COUNTA(C3:C67) -> 0 | K1: SI((D3-C3)<$F$1;" ";D3-C3-$E$1) | L1: 38 | N1: =IF(L1=19,J1*RECAP!R7,IF(L1=30,J1*RECAP!R6,IF(L1=30.24,J1*RECAP!R5,IF(L1=38,J1*RECAP!R4,"ERREUR")))) -> 0 | O1: =N1/24 -> 0
B2: Date | C2: Récup ferié | D2: Temps théorique | E2: IN | F2: OUT | G2: Temps presté | H2: Solde journalier | I2: Heures boni/mali cumulées | J2: Heures boni/mali par mois | K2: DA = Horaire autorisé | N2: pointage manquant | Q2: G = garde
B3: 43343 | D3: 0.3125 | G3: =IF(E3=""," ",IF((F3-E3)<$H$1,F3-E3,IF(K3="",F3-E3-$G$1,F3-E3-K3))) | H3: =IF(AND(C3="x",E3=""),($A$1-RECAP!$U$4),IF(G3=" "," ",(G3-D3))) | J3: 43343
B4: 43344 | D4: 0.3125 | G4: =IF(E4=""," ",IF((F4-E4)<$H$1,F4-E4,IF(K4="",F4-E4-$G$1,F4-E4-K4))) | H4: =IF(AND(C4="x",E4=""),($A$1-RECAP!$U$4),IF(G4=" "," ",(G4-D4)))
B5: 43347 | D5: 0.3125 | G5: =IF(E5=""," ",IF((F5-E5)<$H$1,F5-E5,IF(K5="",F5-E5-$G$1,F5-E5-K5))) | H5: =IF(AND(C5="x",E5=""),($A$1-RECAP!$U$4),IF(G5=" "," ",(G5-D5))) | J5: =SUM(H3:H24) -> 0
B6: 43348 | D6: 0.3125 | G6: =IF(E6=""," ",IF((F6-E6)<$H$1,F6-E6,IF(K6="",F6-E6-$G$1,F6-E6-K6))) | H6: =IF(AND(C6="x",E6=""),($A$1-RECAP!$U$4),IF(G6=" "," ",(G6-D6))) | L6: =IF(L1=38,J48+(RECAP!S4*-1*J1),IF(L1=30.24,J48+(RECAP!S5*-1*J1),IF(L1=30,J48+(RECAP!S6*-1*J1),IF(L1=19,J48+(RECAP!S7*-1*J1),"ERREUR")))) -> 0
B7: 43349 | D7: 0 | G7: =IF(E7=""," ",IF((F7-E7)<$H$1,F7-E7,IF(K7="",F7-E7-$G$1,F7-E7-K7))) | H7: =IF(AND(C7="x",E7=""),($A$1-RECAP!$U$4),IF(G7=" "," ",(G7-D7)))
B8: 43350 | D8: 0.3125 | G8: =IF(E8=""," ",IF((F8-E8)<$H$1,F8-E8,IF(K8="",F8-E8-$G$1,F8-E8-K8))) | H8: =IF(AND(C8="x",E8=""),($A$1-RECAP!$U$4),IF(G8=" "," ",(G8-D8)))
B9: 43351 | D9: 0.3125 | G9: =IF(E9=""," ",IF((F9-E9)<$H$1,F9-E9,IF(K9="",F9-E9-$G$1,F9-E9-K9))) | H9: =IF(AND(C9="x",E9=""),($A$1-RECAP!$U$4),IF(G9=" "," ",(G9-D9)))
B10: 43354 | D10: 0.3125 | G10: =IF(E10=""," ",IF((F10-E10)<$H$1,F10-E10,IF(K10="",F10-E10-$G$1,F10-E10-K10))) | H10: =IF(AND(C10="x",E10=""),($A$1-RECAP!$U$4),IF(G10=" "," ",(G10-D10)))
B11: 43355 | D11: 0.3125 | G11: =IF(E11=""," ",IF((F11-E11)<$H$1,F11-E11,IF(K11="",F11-E11-$G$1,F11-E11-K11))) | H11: =IF(AND(C11="x",E11=""),($A$1-RECAP!$U$4),IF(G11=" "," ",(G11-D11)))
B12: 43356 | D12: 0 | G12: =IF(E12=""," ",IF((F12-E12)<$H$1,F12-E12,IF(K12="",F12-E12-$G$1,F12-E12-K12))) | H12: =IF(AND(C12="x",E12=""),($A$1-RECAP!$U$4),IF(G12=" "," ",(G12-D12)))
B13: 43357 | D13: 0.3125 | G13: =IF(E13=""," ",IF((F13-E13)<$H$1,F13-E13,IF(K13="",F13-E13-$G$1,F13-E13-K13))) | H13: =IF(AND(C13="x",E13=""),($A$1-RECAP!$U$4),IF(G13=" "," ",(G13-D13))) | I13: =SUM(H3:H13) -> 0
B14: 43358 | D14: 0.3125 | G14: =IF(E14=""," ",IF((F14-E14)<$H$1,F14-E14,IF(K14="",F14-E14-$G$1,F14-E14-K14))) | H14: =IF(AND(C14="x",E14=""),($A$1-RECAP!$U$4),IF(G14=" "," ",(G14-D14)))
B15: 43361 | D15: 0.3125 | G15: =IF(E15=""," ",IF((F15-E15)<$H$1,F15-E15,IF(K15="",F15-E15-$G$1,F15-E15-K15))) | H15: =IF(AND(C15="x",E15=""),($A$1-RECAP!$U$4),IF(G15=" "," ",(G15-D15))) | O15: =IF(L1=38,J49+(RECAP!S4*-1*J1),IF(L1=30.24,J49+(RECAP!S5*-1*J1),IF(L1=30,J49+(RECAP!S6*-1*J1),IF(L1=19,J49+(RECAP!S7*-1*J1),"ERREUR")))) -> 0
B16: 43362 | D16: 0.3125 | G16: =IF(E16=""," ",IF((F16-E16)<$H$1,F16-E16,IF(K16="",F16-E16-$G$1,F16-E16-K16))) | H16: =IF(AND(C16="x",E16=""),($A$1-RECAP!$U$4),IF(G16=" "," ",(G16-D16)))
B17: 43363 | D17: 0 | G17: =IF(E17=""," ",IF((F17-E17)<$H$1,F17-E17,IF(K17="",F17-E17-$G$1,F17-E17-K17))) | H17: =IF(AND(C17="x",E17=""),($A$1-RECAP!$U$4),IF(G17=" "," ",(G17-D17)))
B18: 43364 | D18: 0.3125 | G18: =IF(E18=""," ",IF((F18-E18)<$H$1,F18-E18,IF(K18="",F18-E18-$G$1,F18-E18-K18))) | H18: =IF(AND(C18="x",E18=""),($A$1-RECAP!$U$4),IF(G18=" "," ",(G18-D18)))
B19: 43365 | D19: 0.3125 | G19: =IF(E19=""," ",IF((F19-E19)<$H$1,F19-E19,IF(K19="",F19-E19-$G$1,F19-E19-K19))) | H19: =IF(AND(C19="x",E19=""),($A$1-RECAP!$U$4),IF(G19=" "," ",(G19-D19)))
B20: 43368 | D20: 0.3125 | G20: =IF(E20=""," ",IF((F20-E20)<$H$1,F20-E20,IF(K20="",F20-E20-$G$1,F20-E20-K20))) | H20: =IF(AND(C20="x",E20=""),($A$1-RECAP!$U$4),IF(G20=" "," ",(G20-D20)))
B21: 43369 | D21: 0.3125 | G21: =IF(E21=""," ",IF((F21-E21)<$H$1,F21-E21,IF(K21="",F21-E21-$G$1,F21-E21-K21))) | H21: =IF(AND(C21="x",E21=""),($A$1-RECAP!$U$4),IF(G21=" "," ",(G21-D21)))
B22: 43370 | D22: 0 | G22: =IF(E22=""," ",IF((F22-E22)<$H$1,F22-E22,IF(K22="",F22-E22-$G$1,F22-E22-K22))) | H22: =IF(AND(C22="x",E22=""),($A$1-RECAP!$U$4),IF(G22=" "," ",(G22-D22)))
B23: 43371 | D23: 0.3125 | G23: =IF(E23=""," ",IF((F23-E23)<$H$1,F23-E23,IF(K23="",F23-E23-$G$1,F23-E23-K23))) | H23: =IF(AND(C23="x",E23=""),($A$1-RECAP!$U$4),IF(G23=" "," ",(G23-D23)))
B24: 43372 | D24: 0.3125 | G24: =IF(E24=""," ",IF((F24-E24)<$H$1,F24-E24,IF(K24="",F24-E24-$G$1,F24-E24-K24))) | H24: =IF(AND(C24="x",E24=""),($A$1-RECAP!$U$4),IF(G24=" "," ",(G24-D24))) | I24: =SUM(H14:H24) -> 0
B25: 43375 | D25: 0.3125 | G25: =IF(E25=""," ",IF((F25-E25)<$H$1,F25-E25,IF(K25="",F25-E25-$G$1,F25-E25-K25))) | H25: =IF(AND(C25="x",E25=""),($A$1-RECAP!$U$4),IF(G25=" "," ",(G25-D25))) | J25: 43373
B26: 43376 | D26: 0.3125 | G26: =IF(E26=""," ",IF((F26-E26)<$H$1,F26-E26,IF(K26="",F26-E26-$G$1,F26-E26-K26))) | H26: =IF(AND(C26="x",E26=""),($A$1-RECAP!$U$4),IF(G26=" "," ",(G26-D26)))
B27: 43377 | D27: 0 | G27: =IF(E27=""," ",IF((F27-E27)<$H$1,F27-E27,IF(K27="",F27-E27-$G$1,F27-E27-K27))) | H27: =IF(AND(C27="x",E27=""),($A$1-RECAP!$U$4),IF(G27=" "," ",(G27-D27))) | J27: =SUM(H25:H45)+J5 -> 0
B28: 43378 | D28: 0.3125 | G28: =IF(E28=""," ",IF((F28-E28)<$H$1,F28-E28,IF(K28="",F28-E28-$G$1,F28-E28-K28))) | H28: =IF(AND(C28="x",E28=""),($A$1-RECAP!$U$4),IF(G28=" "," ",(G28-D28)))
B29: 43379 | D29: 0.3125 | G29: =IF(E29=""," ",IF((F29-E29)<$H$1,F29-E29,IF(K29="",F29-E29-$G$1,F29-E29-K29))) | H29: =IF(AND(C29="x",E29=""),($A$1-RECAP!$U$4),IF(G29=" "," ",(G29-D29)))
B30: 43382 | D30: 0.3125 | G30: =IF(E30=""," ",IF((F30-E30)<$H$1,F30-E30,IF(K30="",F30-E30-$G$1,F30-E30-K30))) | H30: =IF(AND(C30="x",E30=""),($A$1-RECAP!$U$4),IF(G30=" "," ",(G30-D30)))
B31: 43383 | D31: 0.3125 | G31: =IF(E31=""," ",IF((F31-E31)<$H$1,F31-E31,IF(K31="",F31-E31-$G$1,F31-E31-K31))) | H31: =IF(AND(C31="x",E31=""),($A$1-RECAP!$U$4),IF(G31=" "," ",(G31-D31)))
B32: 43384 | D32: 0 | G32: =IF(E32=""," ",IF((F32-E32)<$H$1,F32-E32,IF(K32="",F32-E32-$G$1,F32-E32-K32))) | H32: =IF(AND(C32="x",E32=""),($A$1-RECAP!$U$4),IF(G32=" "," ",(G32-D32)))
B33: 43385 | D33: 0.3125 | G33: =IF(E33=""," ",IF((F33-E33)<$H$1,F33-E33,IF(K33="",F33-E33-$G$1,F33-E33-K33))) | H33: =IF(AND(C33="x",E33=""),($A$1-RECAP!$U$4),IF(G33=" "," ",(G33-D33)))
B34: 43386 | D34: 0.3125 | G34: =IF(E34=""," ",IF((F34-E34)<$H$1,F34-E34,IF(K34="",F34-E34-$G$1,F34-E34-K34))) | H34: =IF(AND(C34="x",E34=""),($A$1-RECAP!$U$4),IF(G34=" "," ",(G34-D34)))
B35: 43389 | D35: 0.3125 | G35: =IF(E35=""," ",IF((F35-E35)<$H$1,F35-E35,IF(K35="",F35-E35-$G$1,F35-E35-K35))) | H35: =IF(AND(C35="x",E35=""),($A$1-RECAP!$U$4),IF(G35=" "," ",(G35-D35))) | I35: =SUM(H25:H35) -> 0
B36: 43390 | D36: 0.3125 | G36: =IF(E36=""," ",IF((F36-E36)<$H$1,F36-E36,IF(K36="",F36-E36-$G$1,F36-E36-K36))) | H36: =IF(AND(C36="x",E36=""),($A$1-RECAP!$U$4),IF(G36=" "," ",(G36-D36)))
B37: 43391 | D37: 0 | G37: =IF(E37=""," ",IF((F37-E37)<$H$1,F37-E37,IF(K37="",F37-E37-$G$1,F37-E37-K37))) | H37: =IF(AND(C37="x",E37=""),($A$1-RECAP!$U$4),IF(G37=" "," ",(G37-D37)))
B38: 43392 | D38: 0.3125 | G38: =IF(E38=""," ",IF((F38-E38)<$H$1,F38-E38,IF(K38="",F38-E38-$G$1,F38-E38-K38))) | H38: =IF(AND(C38="x",E38=""),($A$1-RECAP!$U$4),IF(G38=" "," ",(G38-D38)))
B39: 43393 | D39: 0.3125 | G39: =IF(E39=""," ",IF((F39-E39)<$H$1,F39-E39,IF(K39="",F39-E39-$G$1,F39-E39-K39))) | H39: =IF(AND(C39="x",E39=""),($A$1-RECAP!$U$4),IF(G39=" "," ",(G39-D39)))
B40: 43396 | D40: 0.3125 | G40: =IF(E40=""," ",IF((F40-E40)<$H$1,F40-E40,IF(K40="",F40-E40-$G$1,F40-E40-K40))) | H40: =IF(AND(C40="x",E40=""),($A$1-RECAP!$U$4),IF(G40=" "," ",(G40-D40)))
B41: 43397 | D41: 0.3125 | G41: =IF(E41=""," ",IF((F41-E41)<$H$1,F41-E41,IF(K41="",F41-E41-$G$1,F41-E41-K41))) | H41: =IF(AND(C41="x",E41=""),($A$1-RECAP!$U$4),IF(G41=" "," ",(G41-D41)))
B42: 43398 | D42: 0 | G42: =IF(E42=""," ",IF((F42-E42)<$H$1,F42-E42,IF(K42="",F42-E42-$G$1,F42-E42-K42))) | H42: =IF(AND(C42="x",E42=""),($A$1-RECAP!$U$4),IF(G42=" "," ",(G42-D42)))
B43: 43399 | D43: 0.3125 | G43: =IF(E43=""," ",IF((F43-E43)<$H$1,F43-E43,IF(K43="",F43-E43-$G$1,F43-E43-K43))) | H43: =IF(AND(C43="x",E43=""),($A$1-RECAP!$U$4),IF(G43=" "," ",(G43-D43)))
B44: 43400 | D44: 0.3125 | G44: =IF(E44=""," ",IF((F44-E44)<$H$1,F44-E44,IF(K44="",F44-E44-$G$1,F44-E44-K44))) | H44: =IF(AND(C44="x",E44=""),($A$1-RECAP!$U$4),IF(G44=" "," ",(G44-D44)))
B45: 43403 | D45: 0.3125 | G45: =IF(E45=""," ",IF((F45-E45)<$H$1,F45-E45,IF(K45="",F45-E45-$G$1,F45-E45-K45))) | H45: =IF(AND(C45="x",E45=""),($A$1-RECAP!$U$4),IF(G45=" "," ",(G45-D45))) | I45: =SUM(H36:H45) -> 0
B46: 43404 | D46: 0.3125 | G46: =IF(E46=""," ",IF((F46-E46)<$H$1,F46-E46,IF(K46="",F46-E46-$G$1,F46-E46-K46))) | H46: =IF(AND(C46="x",E46=""),($A$1-RECAP!$U$4),IF(G46=" "," ",(G46-D46))) | J46: 36099
B47: 43405 | D47: 0 | G47: =IF(E47=""," ",IF((F47-E47)<$H$1,F47-E47,IF(K47="",F47-E47-$G$1,F47-E47-K47))) | H47: =IF(AND(C47="x",E47=""),($A$1-RECAP!$U$4),IF(G47=" "," ",(G47-D47)))
B48: 43406 | D48: 0.3125 | G48: =IF(E48=""," ",IF((F48-E48)<$H$1,F48-E48,IF(K48="",F48-E48-$G$1,F48-E48-K48))) | H48: =IF(AND(C48="x",E48=""),($A$1-RECAP!$U$4),IF(G48=" "," ",(G48-D48))) | J48: =SUM(H46:H67)+J27 -> 0
B49: 43407 | D49: 0.3125 | G49: =IF(E49=""," ",IF((F49-E49)<$H$1,F49-E49,IF(K49="",F49-E49-$G$1,F49-E49-K49))) | H49: =IF(AND(C49="x",E49=""),($A$1-RECAP!$U$4),IF(G49=" "," ",(G49-D49)))
B50: 43410 | D50: 0.3125 | G50: =IF(E50=""," ",IF((F50-E50)<$H$1,F50-E50,IF(K50="",F50-E50-$G$1,F50-E50-K50))) | H50: =IF(AND(C50="x",E50=""),($A$1-RECAP!$U$4),IF(G50=" "," ",(G50-D50)))
B51: 43411 | D51: 0.3125 | G51: =IF(E51=""," ",IF((F51-E51)<$H$1,F51-E51,IF(K51="",F51-E51-$G$1,F51-E51-K51))) | H51: =IF(AND(C51="x",E51=""),($A$1-RECAP!$U$4),IF(G51=" "," ",(G51-D51)))
B52: 43412 | D52: 0 | G52: =IF(E52=""," ",IF((F52-E52)<$H$1,F52-E52,IF(K52="",F52-E52-$G$1,F52-E52-K52))) | H52: =IF(AND(C52="x",E52=""),($A$1-RECAP!$U$4),IF(G52=" "," ",(G52-D52)))
B53: 43413 | D53: 0.3125 | G53: =IF(E53=""," ",IF((F53-E53)<$H$1,F53-E53,IF(K53="",F53-E53-$G$1,F53-E53-K53))) | H53: =IF(AND(C53="x",E53=""),($A$1-RECAP!$U$4),IF(G53=" "," ",(G53-D53)))
B54: 43414 | D54: 0.3125 | G54: =IF(E54=""," ",IF((F54-E54)<$H$1,F54-E54,IF(K54="",F54-E54-$G$1,F54-E54-K54))) | H54: =IF(AND(C54="x",E54=""),($A$1-RECAP!$U$4),IF(G54=" "," ",(G54-D54)))
B55: 43417 | D55: 0.3125 | G55: =IF(E55=""," ",IF((F55-E55)<$H$1,F55-E55,IF(K55="",F55-E55-$G$1,F55-E55-K55))) | H55: =IF(AND(C55="x",E55=""),($A$1-RECAP!$U$4),IF(G55=" "," ",(G55-D55)))
