Workbook

Sheet MW1 TMW
A1: Collagène/Epinéphérine | B1: Collagène/ADP | C1: Diagnostic | D1: offset | F1: 0 | H1: ligne extra
A2: 289 | B2: 223 | C2: MW1 | D2: =IF(TRIM(Tabel1[[#This Row],[Collagène/ADP]])<>"",Tabel1[[#This Row],[Collagène/ADP]]+$F$1,NA()) -> 223 | G2: x | H2: x' | I2: y
A3: 301 | B3: 301 | C3: MW1 | D3: =IF(TRIM(Tabel1[[#This Row],[Collagène/ADP]])<>"",Tabel1[[#This Row],[Collagène/ADP]]+$F$1,NA()) -> 301 | G3: 100 | H3: =+G3+F1 -> 100 | I3: =MEDIAN(Tabel1[Collagène/Epinéphérine]) -> 178
A4: 258 | B4: 218 | C4: MW1 | D4: =IF(TRIM(Tabel1[[#This Row],[Collagène/ADP]])<>"",Tabel1[[#This Row],[Collagène/ADP]]+$F$1,NA()) -> 218 | G4: 300 | H4: =+G4+F2 -> 300 | I4: =+I3 -> 178
A5: 301 | B5: 206 | C5: MW1 | D5: =IF(TRIM(Tabel1[[#This Row],[Collagène/ADP]])<>"",Tabel1[[#This Row],[Collagène/ADP]]+$F$1,NA()) -> 206
A6: 258 | B6: 301 | C6: MW1 | D6: =IF(TRIM(Tabel1[[#This Row],[Collagène/ADP]])<>"",Tabel1[[#This Row],[Collagène/ADP]]+$F$1,NA()) -> 301
A7: 272 | B7: 248 | C7: MW1 | D7: =IF(TRIM(Tabel1[[#This Row],[Collagène/ADP]])<>"",Tabel1[[#This Row],[Collagène/ADP]]+$F$1,NA()) -> 248
A8: 232 | B8: 177 | C8: MW1 | D8: =IF(TRIM(Tabel1[[#This Row],[Collagène/ADP]])<>"",Tabel1[[#This Row],[Collagène/ADP]]+$F$1,NA()) -> 177
A9: 184 | B9: 196 | C9: MW1 | D9: =IF(TRIM(Tabel1[[#This Row],[Collagène/ADP]])<>"",Tabel1[[#This Row],[Collagène/ADP]]+$F$1,NA()) -> 196
A10: 301 | B10: 234 | C10: MW1 | D10: =IF(TRIM(Tabel1[[#This Row],[Collagène/ADP]])<>"",Tabel1[[#This Row],[Collagène/ADP]]+$F$1,NA()) -> 234
A11: 157 | B11: 96 | C11: MW1 | D11: =IF(TRIM(Tabel1[[#This Row],[Collagène/ADP]])<>"",Tabel1[[#This Row],[Collagène/ADP]]+$F$1,NA()) -> 96
A12: 301 | B12: 301 | C12: MW1 | D12: =IF(TRIM(Tabel1[[#This Row],[Collagène/ADP]])<>"",Tabel1[[#This Row],[Collagène/ADP]]+$F$1,NA()) -> 301
A13: 167 | B13: 117 | C13: MW1 | D13: =IF(TRIM(Tabel1[[#This Row],[Collagène/ADP]])<>"",Tabel1[[#This Row],[Collagène/ADP]]+$F$1,NA()) -> 117
A14: 149 | C14: MW1 | D14: =IF(TRIM(Tabel1[[#This Row],[Collagène/ADP]])<>"",Tabel1[[#This Row],[Collagène/ADP]]+$F$1,NA()) -> #N/A
A15: 169 | B15: 132 | C15: MW1 | D15: =IF(TRIM(Tabel1[[#This Row],[Collagène/ADP]])<>"",Tabel1[[#This Row],[Collagène/ADP]]+$F$1,NA()) -> 132
A16: 301 | B16: 301 | C16: MW1 | D16: =IF(TRIM(Tabel1[[#This Row],[Collagène/ADP]])<>"",Tabel1[[#This Row],[Collagène/ADP]]+$F$1,NA()) -> 301
A17: 117 | C17: MW1 | D17: =IF(TRIM(Tabel1[[#This Row],[Collagène/ADP]])<>"",Tabel1[[#This Row],[Collagène/ADP]]+$F$1,NA()) -> #N/A
A18: 168 | B18: 145 | C18: MW1 | D18: =IF(TRIM(Tabel1[[#This Row],[Collagène/ADP]])<>"",Tabel1[[#This Row],[Collagène/ADP]]+$F$1,NA()) -> 145
A19: 156 | B19: 127 | C19: MW1 | D19: =IF(TRIM(Tabel1[[#This Row],[Collagène/ADP]])<>"",Tabel1[[#This Row],[Collagène/ADP]]+$F$1,NA()) -> 127
A20: 171 | B20: 174 | C20: MW1 | D20: =IF(TRIM(Tabel1[[#This Row],[Collagène/ADP]])<>"",Tabel1[[#This Row],[Collagène/ADP]]+$F$1,NA()) -> 174
A21: 190 | B21: 162 | C21: MW1 | D21: =IF(TRIM(Tabel1[[#This Row],[Collagène/ADP]])<>"",Tabel1[[#This Row],[Collagène/ADP]]+$F$1,NA()) -> 162
A22: 245 | B22: 301 | C22: MW1 | D22: =IF(TRIM(Tabel1[[#This Row],[Collagène/ADP]])<>"",Tabel1[[#This Row],[Collagène/ADP]]+$F$1,NA()) -> 301
A23: 284 | B23: 243 | C23: MW1 | D23: =IF(TRIM(Tabel1[[#This Row],[Collagène/ADP]])<>"",Tabel1[[#This Row],[Collagène/ADP]]+$F$1,NA()) -> 243
A24: 181 | B24: 144 | C24: MW1 | D24: =IF(TRIM(Tabel1[[#This Row],[Collagène/ADP]])<>"",Tabel1[[#This Row],[Collagène/ADP]]+$F$1,NA()) -> 144
A25: 115 | C25: MW1 | D25: =IF(TRIM(Tabel1[[#This Row],[Collagène/ADP]])<>"",Tabel1[[#This Row],[Collagène/ADP]]+$F$1,NA()) -> #N/A
A26: 166 | B26: 133 | C26: MW1 | D26: =IF(TRIM(Tabel1[[#This Row],[Collagène/ADP]])<>"",Tabel1[[#This Row],[Collagène/ADP]]+$F$1,NA()) -> 133
A27: 166 | B27: 150 | C27: MW1 | D27: =IF(TRIM(Tabel1[[#This Row],[Collagène/ADP]])<>"",Tabel1[[#This Row],[Collagène/ADP]]+$F$1,NA()) -> 150
A28: 301 | B28: 174 | C28: MW1 | D28: =IF(TRIM(Tabel1[[#This Row],[Collagène/ADP]])<>"",Tabel1[[#This Row],[Collagène/ADP]]+$F$1,NA()) -> 174
A29: 174 | B29: 129 | C29: MW1 | D29: =IF(TRIM(Tabel1[[#This Row],[Collagène/ADP]])<>"",Tabel1[[#This Row],[Collagène/ADP]]+$F$1,NA()) -> 129
A30: 155 | B30: 124 | C30: MW1 | D30: =IF(TRIM(Tabel1[[#This Row],[Collagène/ADP]])<>"",Tabel1[[#This Row],[Collagène/ADP]]+$F$1,NA()) -> 124
A31: 194 | B31: 137 | C31: TMW | D31: =IF(TRIM(Tabel1[[#This Row],[Collagène/ADP]])<>"",Tabel1[[#This Row],[Collagène/ADP]]+$F$1,NA()) -> 137
A32: 220 | B32: 153 | C32: MW1 | D32: =IF(TRIM(Tabel1[[#This Row],[Collagène/ADP]])<>"",Tabel1[[#This Row],[Collagène/ADP]]+$F$1,NA()) -> 153
A33: 178 | B33: 169 | C33: MW1 | D33: =IF(TRIM(Tabel1[[#This Row],[Collagène/ADP]])<>"",Tabel1[[#This Row],[Collagène/ADP]]+$F$1,NA()) -> 169
A34: 191 | B34: 150 | C34: MW1 | D34: =IF(TRIM(Tabel1[[#This Row],[Collagène/ADP]])<>"",Tabel1[[#This Row],[Collagène/ADP]]+$F$1,NA()) -> 150
A35: 213 | B35: 145 | C35: TMW | D35: =IF(TRIM(Tabel1[[#This Row],[Collagène/ADP]])<>"",Tabel1[[#This Row],[Collagène/ADP]]+$F$1,NA()) -> 145
A36: 165 | B36: 155 | C36: TMW | D36: =IF(TRIM(Tabel1[[#This Row],[Collagène/ADP]])<>"",Tabel1[[#This Row],[Collagène/ADP]]+$F$1,NA()) -> 155
A37: 165 | B37: 142 | C37: TMW | D37: =IF(TRIM(Tabel1[[#This Row],[Collagène/ADP]])<>"",Tabel1[[#This Row],[Collagène/ADP]]+$F$1,NA()) -> 142
... A43: 230 | B43: 259 | C43: MW1 | D43: =IF(TRIM(Tabel1[[#This Row],[Collagène/ADP]])<>"",Tabel1[[#This Row],[Collagène/ADP]]+$F$1,NA()) -> 259
A44: 140 | C44: MW1 | D44: =IF(TRIM(Tabel1[[#This Row],[Collagène/ADP]])<>"",Tabel1[[#This Row],[Collagène/ADP]]+$F$1,NA()) -> #N/A
A45: 242 | B45: 204 | C45: TMW | D45: =IF(TRIM(Tabel1[[#This Row],[Collagène/ADP]])<>"",Tabel1[[#This Row],[Collagène/ADP]]+$F$1,NA()) -> 204
A46: 232 | B46: 205 | C46: TMW | D46: =IF(TRIM(Tabel1[[#This Row],[Collagène/ADP]])<>"",Tabel1[[#This Row],[Collagène/ADP]]+$F$1,NA()) -> 205
A47: 229 | B47: 151 | C47: TMW | D47: =IF(TRIM(Tabel1[[#This Row],[Collagène/ADP]])<>"",Tabel1[[#This Row],[Collagène/ADP]]+$F$1,NA()) -> 151
A48: 177 | B48: 185 | C48: MW1 | D48: =IF(TRIM(Tabel1[[#This Row],[Collagène/ADP]])<>"",Tabel1[[#This Row],[Collagène/ADP]]+$F$1,NA()) -> 185
A49: 223 | B49: 124 | C49: MW1 | D49: =IF(TRIM(Tabel1[[#This Row],[Collagène/ADP]])<>"",Tabel1[[#This Row],[Collagène/ADP]]+$F$1,NA()) -> 124
A50: 301 | B50: 148 | C50: MW1 | D50: =IF(TRIM(Tabel1[[#This Row],[Collagène/ADP]])<>"",Tabel1[[#This Row],[Collagène/ADP]]+$F$1,NA()) -> 148
A51: 166 | B51: 133 | C51: MW1 | D51: =IF(TRIM(Tabel1[[#This Row],[Collagène/ADP]])<>"",Tabel1[[#This Row],[Collagène/ADP]]+$F$1,NA()) -> 133
A52: 162 | B52: 142 | C52: MW1 | D52: =IF(TRIM(Tabel1[[#This Row],[Collagène/ADP]])<>"",Tabel1[[#This Row],[Collagène/ADP]]+$F$1,NA()) -> 142
A53: 178 | B53: 138 | C53: TMW | D53: =IF(TRIM(Tabel1[[#This Row],[Collagène/ADP]])<>"",Tabel1[[#This Row],[Collagène/ADP]]+$F$1,NA()) -> 138
A54: 212 | B54: 248 | C54: TMW | D54: =IF(TRIM(Tabel1[[#This Row],[Collagène/ADP]])<>"",Tabel1[[#This Row],[Collagène/ADP]]+$F$1,NA()) -> 248
A55: 228 | B55: 164 | C55: MW1 | D55: =IF(TRIM(Tabel1[[#This Row],[Collagène/ADP]])<>"",Tabel1[[#This Row],[Collagène/ADP]]+$F$1,NA()) -> 164
A56: 179 | B56: 142 | C56: TMW | D56: =IF(TRIM(Tabel1[[#This Row],[Collagène/ADP]])<>"",Tabel1[[#This Row],[Collagène/ADP]]+$F$1,NA()) -> 142
A57: 138 | C57: TMW | D57: =IF(TRIM(Tabel1[[#This Row],[Collagène/ADP]])<>"",Tabel1[[#This Row],[Collagène/ADP]]+$F$1,NA()) -> #N/A
A58: 114 | C58: TMW | D58: =IF(TRIM(Tabel1[[#This Row],[Collagène/ADP]])<>"",Tabel1[[#This Row],[Collagène/ADP]]+$F$1,NA()) -> #N/A
A59: 270 | B59: 130 | C59: TMW | D59: =IF(TRIM(Tabel1[[#This Row],[Collagène/ADP]])<>"",Tabel1[[#This Row],[Collagène/ADP]]+$F$1,NA()) -> 130
A60: 202 | B60: 128 | C60: MW1 | D60: =IF(TRIM(Tabel1[[#This Row],[Collagène/ADP]])<>"",Tabel1[[#This Row],[Collagène/ADP]]+$F$1,NA()) -> 128
A61: 301 | B61: 160 | C61: TMW | D61: =IF(TRIM(Tabel1[[#This Row],[Collagène/ADP]])<>"",Tabel1[[#This Row],[Collagène/ADP]]+$F$1,NA()) -> 160
A62: 168 | B62: 181 | C62: MW1 | D62: =IF(TRIM(Tabel1[[#This Row],[Collagène/ADP]])<>"",Tabel1[[#This Row],[Collagène/ADP]]+$F$1,NA()) -> 181
A63: 117 | C63: TMW | D63: =IF(TRIM(Tabel1[[#This Row],[Collagène/ADP]])<>"",Tabel1[[#This Row],[Collagène/ADP]]+$F$1,NA()) -> #N/A
A64: 219 | B64: 139 | C64: TMW | D64: =IF(TRIM(Tabel1[[#This Row],[Collagène/ADP]])<>"",Tabel1[[#This Row],[Collagène/ADP]]+$F$1,NA()) -> 139
A65: 178 | B65: 146 | C65: MW1 | D65: =IF(TRIM(Tabel1[[#This Row],[Collagène/ADP]])<>"",Tabel1[[#This Row],[Collagène/ADP]]+$F$1,NA()) -> 146
A66: 139 | C66: MW1 | D66: =IF(TRIM(Tabel1[[#This Row],[Collagène/ADP]])<>"",Tabel1[[#This Row],[Collagène/ADP]]+$F$1,NA()) -> #N/A
A67: 264 | B67: 210 | C67: TMW | D67: =IF(TRIM(Tabel1[[#This Row],[Collagène/ADP]])<>"",Tabel1[[#This Row],[Collagène/ADP]]+$F$1,NA()) -> 210
A68: 176 | B68: 132 | C68: MW1 | D68: =IF(TRIM(Tabel1[[#This Row],[Collagène/ADP]])<>"",Tabel1[[#This Row],[Collagène/ADP]]+$F$1,NA()) -> 132
A69: 148 | C69: TMW | D69: =IF(TRIM(Tabel1[[#This Row],[Collagène/ADP]])<>"",Tabel1[[#This Row],[Collagène/ADP]]+$F$1,NA()) -> #N/A
A70: 161 | B70: 123 | C70: TMW | D70: =IF(TRIM(Tabel1[[#This Row],[Collagène/ADP]])<>"",Tabel1[[#This Row],[Collagène/ADP]]+$F$1,NA()) -> 123
A71: 176 | B71: 115 | C71: MW1 | D71: =IF(TRIM(Tabel1[[#This Row],[Collagène/ADP]])<>"",Tabel1[[#This Row],[Collagène/ADP]]+$F$1,NA()) -> 115
A72: 162 | B72: 162 | C72: MW1 | D72: =IF(TRIM(Tabel1[[#This Row],[Collagène/ADP]])<>"",Tabel1[[#This Row],[Collagène/ADP]]+$F$1,NA()) -> 162
A73: 163 | B73: 108 | C73: TMW | D73: =IF(TRIM(Tabel1[[#This Row],[Collagène/ADP]])<>"",Tabel1[[#This Row],[Collagène/ADP]]+$F$1,NA()) -> 108
A74: 192 | B74: 150 | C74: MW1 | D74: =IF(TRIM(Tabel1[[#This Row],[Collagène/ADP]])<>"",Tabel1[[#This Row],[Collagène/ADP]]+$F$1,NA()) -> 150
A75: 178 | B75: 147 | C75: MW1 | D75: =IF(TRIM(Tabel1[[#This Row],[Collagène/ADP]])<>"",Tabel1[[#This Row],[Collagène/ADP]]+$F$1,NA()) -> 147
A76: 125 | C76: MW1 | D76: =IF(TRIM(Tabel1[[#This Row],[Collagène/ADP]])<>"",Tabel1[[#This Row],[Collagène/ADP]]+$F$1,NA()) -> #N/A
A77: 165 | B77: 113 | C77: MW1 | D77: =IF(TRIM(Tabel1[[#This Row],[Collagène/ADP]])<>"",Tabel1[[#This Row],[Collagène/ADP]]+$F$1,NA()) -> 113
A78: 186 | B78: 115 | C78: TMW | D78: =IF(TRIM(Tabel1[[#This Row],[Collagène/ADP]])<>"",Tabel1[[#This Row],[Collagène/ADP]]+$F$1,NA()) -> 115
A79: 112 | C79: MW1 | D79: =IF(TRIM(Tabel1[[#This Row],[Collagène/ADP]])<>"",Tabel1[[#This Row],[Collagène/ADP]]+$F$1,NA()) -> #N/A
A80: 129 | C80: TMW | D80: =IF(TRIM(Tabel1[[#This Row],[Collagène/ADP]])<>"",Tabel1[[#This Row],[Collagène/ADP]]+$F$1,NA()) -> #N/A
A81: 127 | C81: MW1 | D81: =IF(TRIM(Tabel1[[#This Row],[Collagène/ADP]])<>"",Tabel1[[#This Row],[Collagène/ADP]]+$F$1,NA()) -> #N/A
A82: 301 | B82: 191 | C82: MW1 | D82: =IF(TRIM(Tabel1[[#This Row],[Collagène/ADP]])<>"",Tabel1[[#This Row],[Collagène/ADP]]+$F$1,NA()) -> 191

Sheet MW2A
A1: Collagène/Epinéphérine | B1: Collagène/ADP | C1: Diagnostic | D1: offset | F1: 400 | H1: ligne extra
A2: 301 | B2: 301 | C2: MW2A | D2: =IF(TRIM(Tabel2[[#This Row],[Collagène/ADP]])<>"",Tabel2[[#This Row],[Collagène/ADP]]+$F$1,NA()) -> 701 | G2: x | H2: x' | I2: y
A3: 301 | B3: 281 | C3: MW2A | D3: =IF(TRIM(Tabel2[[#This Row],[Collagène/ADP]])<>"",Tabel2[[#This Row],[Collagène/ADP]]+$F$1,NA()) -> 681 | G3: 100 | H3: =+G3+F1 -> 500 | I3: 200
A4: 301 | B4: 301 | C4: MW2A | D4: =IF(TRIM(Tabel2[[#This Row],[Collagène/ADP]])<>"",Tabel2[[#This Row],[Collagène/ADP]]+$F$1,NA()) -> 701 | G4: 300 | H4: =+G4+F2 -> 300 | I4: 200
A5: 301 | B5: 301 | C5: MW2A | D5: =IF(TRIM(Tabel2[[#This Row],[Collagène/ADP]])<>"",Tabel2[[#This Row],[Collagène/ADP]]+$F$1,NA()) -> 701
A6: 301 | B6: 301 | C6: MW2A | D6: =IF(TRIM(Tabel2[[#This Row],[Collagène/ADP]])<>"",Tabel2[[#This Row],[Collagène/ADP]]+$F$1,NA()) -> 701
A7: 215 | B7: 248 | C7: MW2A | D7: =IF(TRIM(Tabel2[[#This Row],[Collagène/ADP]])<>"",Tabel2[[#This Row],[Collagène/ADP]]+$F$1,NA()) -> 648
A8: 301 | B8: 301 | C8: MW2A | D8: =IF(TRIM(Tabel2[[#This Row],[Collagène/ADP]])<>"",Tabel2[[#This Row],[Collagène/ADP]]+$F$1,NA()) -> 701

Sheet MW2B
A1: Collagène/Epinéphérine | B1: Collagène/ADP | C1: Diagnostic | D1: offset | F1: 800 | H1: ligne extra
A2: 301 | B2: 301 | C2: MW2B | D2: =IF(TRIM(Tabel3[[#This Row],[Collagène/ADP]])<>"",Tabel3[[#This Row],[Collagène/ADP]]+$F$1,NA()) -> 1101 | G2: x | H2: x' | I2: y
A3: 168 | B3: 123 | C3: MW2B | D3: =IF(TRIM(Tabel3[[#This Row],[Collagène/ADP]])<>"",Tabel3[[#This Row],[Collagène/ADP]]+$F$1,NA()) -> 923 | G3: 100 | H3: =+G3+F1 -> 900 | I3: 200
A4: 301 | B4: 301 | C4: MW2B | D4: =IF(TRIM(Tabel3[[#This Row],[Collagène/ADP]])<>"",Tabel3[[#This Row],[Collagène/ADP]]+$F$1,NA()) -> 1101 | G4: 300 | H4: =+G4+F2 -> 300 | I4: 200

Sheet MW2M
A1: Collagène/Epinéphérine | B1: Collagène/ADP | C1: Diagnostic | D1: offset | F1: 1200 | H1: ligne extra
A2: 301 | B2: 301 | C2: MW2M | D2: =IF(TRIM(Tabel4[[#This Row],[Collagène/ADP]])<>"",Tabel4[[#This Row],[Collagène/ADP]]+$F$1,NA()) -> 1501 | G2: x | H2: x' | I2: y
A3: 301 | B3: 301 | C3: MW2M | D3: =IF(TRIM(Tabel4[[#This Row],[Collagène/ADP]])<>"",Tabel4[[#This Row],[Collagène/ADP]]+$F$1,NA()) -> 1501 | G3: 100 | H3: =+G3+F1 -> 1300 | I3: 200
G4: 300 | H4: =+G4+F2 -> 300 | I4: 200

Sheet MW2N
A1: Collagène/Epinéphérine | B1: Collagène/ADP | C1: Diagnostic | D1: offset | F1: 1600 | H1: ligne extra
A2: 182 | B2: 179 | C2: MW2N | D2: =IF(TRIM(Tabel5[[#This Row],[Collagène/ADP]])<>"",Tabel5[[#This Row],[Collagène/ADP]]+$F$1,NA()) -> 1779 | G2: x | H2: x' | I2: y
G3: 100 | H3: =+G3+F1 -> 1700 | I3: 200
G4: 300 | H4: =+G4+F2 -> 300 | I4: 200

Sheet MW3
A1: Collagène/Epinéphérine | B1: Collagène/ADP | C1: Diagnostic | D1: offset | F1: 2000 | H1: ligne extra
A2: 301 | B2: 301 | C2: MW3 | D2: =IF(TRIM(Tabel6[[#This Row],[Collagène/ADP]])<>"",Tabel6[[#This Row],[Collagène/ADP]]+$F$1,NA()) -> 2301 | G2: x | H2: x' | I2: y
A3: 301 | B3: 301 | C3: MW3 | D3: =IF(TRIM(Tabel6[[#This Row],[Collagène/ADP]])<>"",Tabel6[[#This Row],[Collagène/ADP]]+$F$1,NA()) -> 2301 | G3: 100 | H3: =+G3+F1 -> 2100 | I3: 200
A4: 301 | B4: 301 | C4: MW3 | D4: =IF(TRIM(Tabel6[[#This Row],[Collagène/ADP]])<>"",Tabel6[[#This Row],[Collagène/ADP]]+$F$1,NA()) -> 2301 | G4: 300 | H4: =+G4+F2 -> 300 | I4: 200
A5: 301 | B5: 301 | C5: MW3 | D5: =IF(TRIM(Tabel6[[#This Row],[Collagène/ADP]])<>"",Tabel6[[#This Row],[Collagène/ADP]]+$F$1,NA()) -> 2301

Sheet MWA
A1: Collagène/Epinéphérine | B1: Collagène/ADP | C1: Diagnostic | D1: offset | F1: 2400 | H1: ligne extra
A2: 155 | B2: 108 | C2: MWA | D2: =IF(TRIM(Tabel7[[#This Row],[Collagène/ADP]])<>"",Tabel7[[#This Row],[Collagène/ADP]]+$F$1,NA()) -> 2508 | G2: x | H2: x' | I2: y
A3: 301 | B3: 301 | C3: MWA | D3: =IF(TRIM(Tabel7[[#This Row],[Collagène/ADP]])<>"",Tabel7[[#This Row],[Collagène/ADP]]+$F$1,NA()) -> 2701 | G3: 100 | H3: =+G3+F1 -> 2500 | I3: 200
A4: 301 | B4: 301 | C4: MWA | D4: =IF(TRIM(Tabel7[[#This Row],[Collagène/ADP]])<>"",Tabel7[[#This Row],[Collagène/ADP]]+$F$1,NA()) -> 2701 | G4: 300 | H4: =+G4+F2 -> 300 | I4: 200
A5: 270 | B5: 301 | C5: MWA | D5: =IF(TRIM(Tabel7[[#This Row],[Collagène/ADP]])<>"",Tabel7[[#This Row],[Collagène/ADP]]+$F$1,NA()) -> 2701
A6: 301 | B6: 301 | C6: MWA | D6: =IF(TRIM(Tabel7[[#This Row],[Collagène/ADP]])<>"",Tabel7[[#This Row],[Collagène/ADP]]+$F$1,NA()) -> 2701
A7: 300 | B7: 178 | C7: MWA | D7: =IF(TRIM(Tabel7[[#This Row],[Collagène/ADP]])<>"",Tabel7[[#This Row],[Collagène/ADP]]+$F$1,NA()) -> 2578

Sheet Graphique
A1: x | B1: y | C1: 400 | F1: les lignes bleu verticales | I1: 2!eme axe
A2: 150 | B2: 100 | C2: =+Tabel1[[#This Row],[Diagnostic]] -> MW1 | F2: =+$C$1*TRUNC(ROW()/2) -> 400 | G2: -100 | I2: x | J2: y
A3: =+A2+$C$1 -> 550 | B3: =+B2 -> 100 | C3: =+MW2A!C2 -> MW2A | F3: =+$C$1*TRUNC(ROW()/2) -> 400 | G3: =IF(F3=F2,IF(G2=-100,500,-100),G2) -> 500 | I3: 0 | J3: 1
A4: =+A3+$C$1 -> 950 | B4: =+B3 -> 100 | C4: =+MW2B!C2 -> MW2B | F4: =+$C$1*TRUNC(ROW()/2) -> 800 | G4: =IF(F4=F3,IF(G3=-100,500,-100),G3) -> 500 | I4: 0 | J4: 300
A5: =+A4+$C$1 -> 1350 | B5: =+B4 -> 100 | C5: =+MW2M!C2 -> MW2M | F5: =+$C$1*TRUNC(ROW()/2) -> 800 | G5: =IF(F5=F4,IF(G4=-100,500,-100),G4) -> -100
A6: =+A5+$C$1 -> 1750 | B6: =+B5 -> 100 | C6: {=+Tabel5[Diagnostic]} -> MW2N | F6: =+$C$1*TRUNC(ROW()/2) -> 1200 | G6: =IF(F6=F5,IF(G5=-100,500,-100),G5) -> -100
A7: =+A6+$C$1 -> 2150 | B7: =+B6 -> 100 | C7: =+'MW3'!C2 -> MW3 | F7: =+$C$1*TRUNC(ROW()/2) -> 1200 | G7: =IF(F7=F6,IF(G6=-100,500,-100),G6) -> 500
A8: =+A7+$C$1 -> 2550 | B8: =+B7 -> 100 | C8: =+MWA!C2 -> MWA | F8: =+$C$1*TRUNC(ROW()/2) -> 1600 | G8: =IF(F8=F7,IF(G7=-100,500,-100),G7) -> 500
F9: =+$C$1*TRUNC(ROW()/2) -> 1600 | G9: =IF(F9=F8,IF(G8=-100,500,-100),G8) -> -100
F10: =+$C$1*TRUNC(ROW()/2) -> 2000 | G10: =IF(F10=F9,IF(G9=-100,500,-100),G9) -> -100
F11: =+$C$1*TRUNC(ROW()/2) -> 2000 | G11: =IF(F11=F10,IF(G10=-100,500,-100),G10) -> 500
F12: =+$C$1*TRUNC(ROW()/2) -> 2400 | G12: =IF(F12=F11,IF(G11=-100,500,-100),G11) -> 500
F13: =+$C$1*TRUNC(ROW()/2) -> 2400 | G13: =IF(F13=F12,IF(G12=-100,500,-100),G12) -> -100
F14: =+$C$1*TRUNC(ROW()/2) -> 2800 | G14: =IF(F14=F13,IF(G13=-100,500,-100),G13) -> -100
F15: =+$C$1*TRUNC(ROW()/2) -> 2800 | G15: =IF(F15=F14,IF(G14=-100,500,-100),G14) -> 500
F16: =+$C$1*TRUNC(ROW()/2) -> 3200 | G16: =IF(F16=F15,IF(G15=-100,500,-100),G15) -> 500
F17: =+$C$1*TRUNC(ROW()/2) -> 3200 | G17: =IF(F17=F16,IF(G16=-100,500,-100),G16) -> -100
