Workbook

Sheet brouillon
C1: stock hall | E1: Stock pièce chaude
A2: Bières | B2: bouteilles par bac | C2: bacs | D2: bouteilles | E2: bacs | F2: bouteilles
A3: bière 1 33cl | B3: 24 | C3: 1 | D3: 2 | E3: 1 | F3: 2
A4: bière 2 25cl | B4: 24 | C4: 2 | D4: 46 | E4: 2 | F4: 22
A5: bière 3 75cl | B5: 12 | C5: 1 | D5: 11 | E5: 5 | F5: 109

Sheet resumé
B1: les subtotals | E1: grand totals
A2: =+brouillon!A2 -> Bières | B2: hall | C2: piece chaude | D2: totals | E2: bacs | F2: bouteilles
A3: =IF(LEN(brouillon!A3)>0,+brouillon!A3,"") -> bière 1 33cl | B3: =IF(brouillon!B3>0,+brouillon!C3+TRUNC((brouillon!D3)/brouillon!$B3)&" Bacs + "&MOD(brouillon!D3,brouillon!$B3)&" bouteilles","-") -> 1 Bacs + 2 bouteilles | C3: =IF(brouillon!D3>0,+brouillon!E3+TRUNC((brouillon!F3)/brouillon!$B3)&" Bacs + "&MOD(brouillon!F3,brouillon!$B3)&" bouteilles","-") -> 1 Bacs + 2 bouteilles | D3: =IF(COUNT(E3:F3),+E3 & " Bacs + " & F3 & " bouteilles","-") -> 2 Bacs + 4 bouteilles | E3: =IF(brouillon!$B3>0,+brouillon!E3+brouillon!C3+TRUNC((brouillon!D3+brouillon!F3)/brouillon!B3),"-") -> 2 | F3: =IF(brouillon!$B3>0,MOD(brouillon!D3+brouillon!F3,brouillon!B3),"-") -> 4
A4: =IF(LEN(brouillon!A4)>0,+brouillon!A4,"") -> bière 2 25cl | B4: =IF(brouillon!B4>0,+brouillon!C4+TRUNC((brouillon!D4)/brouillon!$B4)&" Bacs + "&MOD(brouillon!D4,brouillon!$B4)&" bouteilles","-") -> 3 Bacs + 22 bouteilles | C4: =IF(brouillon!D4>0,+brouillon!E4+TRUNC((brouillon!F4)/brouillon!$B4)&" Bacs + "&MOD(brouillon!F4,brouillon!$B4)&" bouteilles","-") -> 2 Bacs + 22 bouteilles | D4: =IF(COUNT(E4:F4),+E4 & " Bacs + " & F4 & " bouteilles","-") -> 6 Bacs + 20 bouteilles | E4: =IF(brouillon!$B4>0,+brouillon!E4+brouillon!C4+TRUNC((brouillon!D4+brouillon!F4)/brouillon!B4),"-") -> 6 | F4: =IF(brouillon!$B4>0,MOD(brouillon!D4+brouillon!F4,brouillon!B4),"-") -> 20
A5: =IF(LEN(brouillon!A5)>0,+brouillon!A5,"") -> bière 3 75cl | B5: =IF(brouillon!B5>0,+brouillon!C5+TRUNC((brouillon!D5)/brouillon!$B5)&" Bacs + "&MOD(brouillon!D5,brouillon!$B5)&" bouteilles","-") -> 1 Bacs + 11 bouteilles | C5: =IF(brouillon!D5>0,+brouillon!E5+TRUNC((brouillon!F5)/brouillon!$B5)&" Bacs + "&MOD(brouillon!F5,brouillon!$B5)&" bouteilles","-") -> 14 Bacs + 1 bouteilles | D5: =IF(COUNT(E5:F5),+E5 & " Bacs + " & F5 & " bouteilles","-") -> 16 Bacs + 0 bouteilles | E5: =IF(brouillon!$B5>0,+brouillon!E5+brouillon!C5+TRUNC((brouillon!D5+brouillon!F5)/brouillon!B5),"-") -> 16 | F5: =IF(brouillon!$B5>0,MOD(brouillon!D5+brouillon!F5,brouillon!B5),"-") -> 0
A6: =IF(LEN(brouillon!A6)>0,+brouillon!A6,"") | B6: =IF(brouillon!B6>0,+brouillon!C6+TRUNC((brouillon!D6)/brouillon!$B6)&" Bacs + "&MOD(brouillon!D6,brouillon!$B6)&" bouteilles","-") -> - | C6: =IF(brouillon!D6>0,+brouillon!E6+TRUNC((brouillon!F6)/brouillon!$B6)&" Bacs + "&MOD(brouillon!F6,brouillon!$B6)&" bouteilles","-") -> - | D6: =IF(COUNT(E6:F6),+E6 & " Bacs + " & F6 & " bouteilles","-") -> - | E6: =IF(brouillon!$B6>0,+brouillon!E6+brouillon!C6+TRUNC((brouillon!D6+brouillon!F6)/brouillon!B6),"-") -> - | F6: =IF(brouillon!$B6>0,MOD(brouillon!D6+brouillon!F6,brouillon!B6),"-") -> -
A7: =IF(LEN(brouillon!A7)>0,+brouillon!A7,"") | B7: =IF(brouillon!B7>0,+brouillon!C7+TRUNC((brouillon!D7)/brouillon!$B7)&" Bacs + "&MOD(brouillon!D7,brouillon!$B7)&" bouteilles","-") -> - | C7: =IF(brouillon!D7>0,+brouillon!E7+TRUNC((brouillon!F7)/brouillon!$B7)&" Bacs + "&MOD(brouillon!F7,brouillon!$B7)&" bouteilles","-") -> - | D7: =IF(COUNT(E7:F7),+E7 & " Bacs + " & F7 & " bouteilles","-") -> - | E7: =IF(brouillon!$B7>0,+brouillon!E7+brouillon!C7+TRUNC((brouillon!D7+brouillon!F7)/brouillon!B7),"-") -> - | F7: =IF(brouillon!$B7>0,MOD(brouillon!D7+brouillon!F7,brouillon!B7),"-") -> -
A8: =IF(LEN(brouillon!A8)>0,+brouillon!A8,"") | B8: =IF(brouillon!B8>0,+brouillon!C8+TRUNC((brouillon!D8)/brouillon!$B8)&" Bacs + "&MOD(brouillon!D8,brouillon!$B8)&" bouteilles","-") -> - | C8: =IF(brouillon!D8>0,+brouillon!E8+TRUNC((brouillon!F8)/brouillon!$B8)&" Bacs + "&MOD(brouillon!F8,brouillon!$B8)&" bouteilles","-") -> - | D8: =IF(COUNT(E8:F8),+E8 & " Bacs + " & F8 & " bouteilles","-") -> - | E8: =IF(brouillon!$B8>0,+brouillon!E8+brouillon!C8+TRUNC((brouillon!D8+brouillon!F8)/brouillon!B8),"-") -> - | F8: =IF(brouillon!$B8>0,MOD(brouillon!D8+brouillon!F8,brouillon!B8),"-") -> -
A9: =IF(LEN(brouillon!A9)>0,+brouillon!A9,"") | B9: =IF(brouillon!B9>0,+brouillon!C9+TRUNC((brouillon!D9)/brouillon!$B9)&" Bacs + "&MOD(brouillon!D9,brouillon!$B9)&" bouteilles","-") -> - | C9: =IF(brouillon!D9>0,+brouillon!E9+TRUNC((brouillon!F9)/brouillon!$B9)&" Bacs + "&MOD(brouillon!F9,brouillon!$B9)&" bouteilles","-") -> - | D9: =IF(COUNT(E9:F9),+E9 & " Bacs + " & F9 & " bouteilles","-") -> - | E9: =IF(brouillon!$B9>0,+brouillon!E9+brouillon!C9+TRUNC((brouillon!D9+brouillon!F9)/brouillon!B9),"-") -> - | F9: =IF(brouillon!$B9>0,MOD(brouillon!D9+brouillon!F9,brouillon!B9),"-") -> -
A10: =IF(LEN(brouillon!A10)>0,+brouillon!A10,"") | B10: =IF(brouillon!B10>0,+brouillon!C10+TRUNC((brouillon!D10)/brouillon!$B10)&" Bacs + "&MOD(brouillon!D10,brouillon!$B10)&" bouteilles","-") -> - | C10: =IF(brouillon!D10>0,+brouillon!E10+TRUNC((brouillon!F10)/brouillon!$B10)&" Bacs + "&MOD(brouillon!F10,brouillon!$B10)&" bouteilles","-") -> - | D10: =IF(COUNT(E10:F10),+E10 & " Bacs + " & F10 & " bouteilles","-") -> - | E10: =IF(brouillon!$B10>0,+brouillon!E10+brouillon!C10+TRUNC((brouillon!D10+brouillon!F10)/brouillon!B10),"-") -> - | F10: =IF(brouillon!$B10>0,MOD(brouillon!D10+brouillon!F10,brouillon!B10),"-") -> -
A11: =IF(LEN(brouillon!A11)>0,+brouillon!A11,"") | B11: =IF(brouillon!B11>0,+brouillon!C11+TRUNC((brouillon!D11)/brouillon!$B11)&" Bacs + "&MOD(brouillon!D11,brouillon!$B11)&" bouteilles","-") -> - | C11: =IF(brouillon!D11>0,+brouillon!E11+TRUNC((brouillon!F11)/brouillon!$B11)&" Bacs + "&MOD(brouillon!F11,brouillon!$B11)&" bouteilles","-") -> - | D11: =IF(COUNT(E11:F11),+E11 & " Bacs + " & F11 & " bouteilles","-") -> - | E11: =IF(brouillon!$B11>0,+brouillon!E11+brouillon!C11+TRUNC((brouillon!D11+brouillon!F11)/brouillon!B11),"-") -> - | F11: =IF(brouillon!$B11>0,MOD(brouillon!D11+brouillon!F11,brouillon!B11),"-") -> -
A12: =IF(LEN(brouillon!A12)>0,+brouillon!A12,"") | B12: =IF(brouillon!B12>0,+brouillon!C12+TRUNC((brouillon!D12)/brouillon!$B12)&" Bacs + "&MOD(brouillon!D12,brouillon!$B12)&" bouteilles","-") -> - | C12: =IF(brouillon!D12>0,+brouillon!E12+TRUNC((brouillon!F12)/brouillon!$B12)&" Bacs + "&MOD(brouillon!F12,brouillon!$B12)&" bouteilles","-") -> - | D12: =IF(COUNT(E12:F12),+E12 & " Bacs + " & F12 & " bouteilles","-") -> - | E12: =IF(brouillon!$B12>0,+brouillon!E12+brouillon!C12+TRUNC((brouillon!D12+brouillon!F12)/brouillon!B12),"-") -> - | F12: =IF(brouillon!$B12>0,MOD(brouillon!D12+brouillon!F12,brouillon!B12),"-") -> -
A13: =IF(LEN(brouillon!A13)>0,+brouillon!A13,"") | B13: =IF(brouillon!B13>0,+brouillon!C13+TRUNC((brouillon!D13)/brouillon!$B13)&" Bacs + "&MOD(brouillon!D13,brouillon!$B13)&" bouteilles","-") -> - | C13: =IF(brouillon!D13>0,+brouillon!E13+TRUNC((brouillon!F13)/brouillon!$B13)&" Bacs + "&MOD(brouillon!F13,brouillon!$B13)&" bouteilles","-") -> - | D13: =IF(COUNT(E13:F13),+E13 & " Bacs + " & F13 & " bouteilles","-") -> - | E13: =IF(brouillon!$B13>0,+brouillon!E13+brouillon!C13+TRUNC((brouillon!D13+brouillon!F13)/brouillon!B13),"-") -> - | F13: =IF(brouillon!$B13>0,MOD(brouillon!D13+brouillon!F13,brouillon!B13),"-") -> -
A14: =IF(LEN(brouillon!A14)>0,+brouillon!A14,"") | B14: =IF(brouillon!B14>0,+brouillon!C14+TRUNC((brouillon!D14)/brouillon!$B14)&" Bacs + "&MOD(brouillon!D14,brouillon!$B14)&" bouteilles","-") -> - | C14: =IF(brouillon!D14>0,+brouillon!E14+TRUNC((brouillon!F14)/brouillon!$B14)&" Bacs + "&MOD(brouillon!F14,brouillon!$B14)&" bouteilles","-") -> - | D14: =IF(COUNT(E14:F14),+E14 & " Bacs + " & F14 & " bouteilles","-") -> - | E14: =IF(brouillon!$B14>0,+brouillon!E14+brouillon!C14+TRUNC((brouillon!D14+brouillon!F14)/brouillon!B14),"-") -> - | F14: =IF(brouillon!$B14>0,MOD(brouillon!D14+brouillon!F14,brouillon!B14),"-") -> -
... A20: =IF(LEN(brouillon!A20)>0,+brouillon!A20,"") | B20: =IF(brouillon!B20>0,+brouillon!C20+TRUNC((brouillon!D20)/brouillon!$B20)&" Bacs + "&MOD(brouillon!D20,brouillon!$B20)&" bouteilles","-") -> - | C20: =IF(brouillon!D20>0,+brouillon!E20+TRUNC((brouillon!F20)/brouillon!$B20)&" Bacs + "&MOD(brouillon!F20,brouillon!$B20)&" bouteilles","-") -> - | D20: =IF(COUNT(E20:F20),+E20 & " Bacs + " & F20 & " bouteilles","-") -> - | E20: =IF(brouillon!$B20>0,+brouillon!E20+brouillon!C20+TRUNC((brouillon!D20+brouillon!F20)/brouillon!B20),"-") -> - | F20: =IF(brouillon!$B20>0,MOD(brouillon!D20+brouillon!F20,brouillon!B20),"-") -> -
