Workbook

Sheet 1
D3: Feuille de Traçabilité
A7: Date : | B7: =TODAY() -> 44804 | D7: Opérateur : | E7: moi
A8: Nom de la machine : | B8: plan excel | G8: Méthode | H8: 738
A10: Liste : | B10: cf plan de plaque au verso | D10: cf liste ci-dessous
A13: N° | B13: ID | C13: quantité | D13: quantité 1 | E13: quantité 2 | F13: depart | G13: outils | H13: produit final
A14: 1 | B14: bl | C14: NA | D14: =IF(ISNUMBER(SEARCH("bl",B14)),"NA",IF(ISBLANK(C14)," ",IF(C14<21,"0",400/C14))) -> NA | E14: =IF(ISNUMBER(SEARCH("bl",B14)),"NA",IF(ISBLANK(C14)," ",IF(C14<21,"0",20-D14))) -> NA
A15: 2 | B15: 1
A16: 3 | B16: 2
A17: 4 | B17: 3
A18: 5 | B18: 4 | D18: =IF(ISNUMBER(SEARCH("bl",B18)),"NA",IF(ISBLANK(C18)," ",IF(C18<21,"0",400/C18))) | E18: =IF(ISNUMBER(SEARCH("bl",B18)),"NA",IF(ISBLANK(C18)," ",IF(C18<21,"0",20-D18)))
A19: 6 | B19: 5 | D19: =IF(ISNUMBER(SEARCH("bl",B19)),"NA",IF(ISBLANK(C19)," ",IF(C19<21,"0",400/C19))) | E19: =IF(ISNUMBER(SEARCH("bl",B19)),"NA",IF(ISBLANK(C19)," ",IF(C19<21,"0",20-D19)))
A20: 7 | B20: 6 | D20: =IF(ISNUMBER(SEARCH("bl",B20)),"NA",IF(ISBLANK(C20)," ",IF(C20<21,"0",400/C20))) | E20: =IF(ISNUMBER(SEARCH("bl",B20)),"NA",IF(ISBLANK(C20)," ",IF(C20<21,"0",20-D20)))
A21: 8 | B21: 7 | D21: =IF(ISNUMBER(SEARCH("bl",B21)),"NA",IF(ISBLANK(C21)," ",IF(C21<21,"0",400/C21))) | E21: =IF(ISNUMBER(SEARCH("bl",B21)),"NA",IF(ISBLANK(C21)," ",IF(C21<21,"0",20-D21)))
A22: 9 | B22: 8 | D22: =IF(ISNUMBER(SEARCH("bl",B22)),"NA",IF(ISBLANK(C22)," ",IF(C22<21,"0",400/C22))) | E22: =IF(ISNUMBER(SEARCH("bl",B22)),"NA",IF(ISBLANK(C22)," ",IF(C22<21,"0",20-D22)))
A23: 10 | B23: 9 | D23: =IF(ISNUMBER(SEARCH("bl",B23)),"NA",IF(ISBLANK(C23)," ",IF(C23<21,"0",400/C23))) | E23: =IF(ISNUMBER(SEARCH("bl",B23)),"NA",IF(ISBLANK(C23)," ",IF(C23<21,"0",20-D23)))
A24: 11 | B24: 10 | D24: =IF(ISNUMBER(SEARCH("bl",B24)),"NA",IF(ISBLANK(C24)," ",IF(C24<21,"0",400/C24))) | E24: =IF(ISNUMBER(SEARCH("bl",B24)),"NA",IF(ISBLANK(C24)," ",IF(C24<21,"0",20-D24)))
A25: 12 | B25: 11 | D25: =IF(ISNUMBER(SEARCH("bl",B25)),"NA",IF(ISBLANK(C25)," ",IF(C25<21,"0",400/C25))) | E25: =IF(ISNUMBER(SEARCH("bl",B25)),"NA",IF(ISBLANK(C25)," ",IF(C25<21,"0",20-D25)))
A26: 13 | B26: 12 | D26: =IF(ISNUMBER(SEARCH("bl",B26)),"NA",IF(ISBLANK(C26)," ",IF(C26<21,"0",400/C26))) | E26: =IF(ISNUMBER(SEARCH("bl",B26)),"NA",IF(ISBLANK(C26)," ",IF(C26<21,"0",20-D26)))
A27: 14 | B27: 13 | D27: =IF(ISNUMBER(SEARCH("bl",B27)),"NA",IF(ISBLANK(C27)," ",IF(C27<21,"0",400/C27))) | E27: =IF(ISNUMBER(SEARCH("bl",B27)),"NA",IF(ISBLANK(C27)," ",IF(C27<21,"0",20-D27)))
A28: 15 | B28: 14 | D28: =IF(ISNUMBER(SEARCH("bl",B28)),"NA",IF(ISBLANK(C28)," ",IF(C28<21,"0",400/C28))) | E28: =IF(ISNUMBER(SEARCH("bl",B28)),"NA",IF(ISBLANK(C28)," ",IF(C28<21,"0",20-D28)))
A29: 16 | B29: 15 | D29: =IF(ISNUMBER(SEARCH("bl",B29)),"NA",IF(ISBLANK(C29)," ",IF(C29<21,"0",400/C29))) | E29: =IF(ISNUMBER(SEARCH("bl",B29)),"NA",IF(ISBLANK(C29)," ",IF(C29<21,"0",20-D29)))
... A32: 19 | B32: 18 | D32: =IF(ISNUMBER(SEARCH("bl",B32)),"NA",IF(ISBLANK(C32)," ",IF(C32<21,"0",400/C32))) | E32: =IF(ISNUMBER(SEARCH("bl",B32)),"NA",IF(ISBLANK(C32)," ",IF(C32<21,"0",20-D32)))
F36: Poste de travail : | G36: 1
A37: Préparation | B37: n= | C37: =COUNTA(B14:B32)+IF(COUNTA(B14:B32)<17,1,2) -> 21
A38: Technique Manuelle | B38: pour 1 | C38: pour n | F38: Programme:
A39: produit 1 | B39: =B48-B47-SUM(B40:B45) -> 7.25 | C39: =$C$37*B39 -> 152.25 | F39: temps1 | G39: température 1
A40: produit 2 | B40: 2.5 | C40: =$C$37*B40 -> 52.5 | F40: temps2 | G40: température 2 | H40: 4
A41: produit 3 | B41: 1 | C41: =$C$37*B41 -> 21 | F41: temps3 | G41: température 3
A42: produit 4 | B42: 1 | C42: =$C$37*B42 -> 21 | F42: temps4 | G42: température 4
A43: mélanger | F43: temps5 | G43: température 5
A44: produit 5 | B44: 0.25 | C44: =$C$37*B44 -> 5.25 | F44: temps6 | G44: température 6
A45: produit 6 | B45: 8 | C45: =$C$37*B45 -> 168
A46: melange1 | B46: =SUM(B39:B45) -> 20
A47: melange2 | B47: 5
A48: volume final | B48: 25
A50: ref | B50: 124638 | F50: Machine | G50: 1
A52: Date : | B52: 44804 | E52: technique 2 | G52: Programme
A53: Operateur : | B53: =IF(ISBLANK(E7),"",E7) -> moi | D53: n= | E53: 1 | F53: =C37+IF(C37<11,0,1) -> 22 | G53: temps1 | H53: température 1
A54: Poste de travail : | B54: 1 | D54: produit 1 | E54: 2 | F54: =$F$53*E54 -> 44 | G54: temps2 | H54: température 2
A55: Machine : | B55: 1 | D55: produit 2 | E55: 10 | F55: =$F$53*E55 -> 220
A56: ref : | B56: 124638 | E56: 12 | F56: 12

Sheet 2
G2: Plan
B5: 1 | C5: 2 | D5: 3 | E5: 4 | F5: 5 | G5: 6 | H5: 7 | I5: 8 | J5: 9 | K5: 10 | L5: 11 | M5: 12
A6: A | B6: =IFERROR(INDEX('1'!$B$14:$B$110,ROWS($1:1)+(COLUMNS($A:A)-1)*8),"") -> bl | C6: =IFERROR(INDEX('1'!$B$14:$B$110,ROWS($1:1)+(COLUMNS($A:B)-1)*8),"") -> 8 | D6: =IFERROR(INDEX('1'!$B$14:$B$110,ROWS($1:1)+(COLUMNS($A:C)-1)*8),"") -> 16 | E6: =IFERROR(INDEX('1'!$B$14:$B$110,ROWS($1:1)+(COLUMNS($A:D)-1)*8),"") -> pour 1 | F6: =IFERROR(INDEX('1'!$B$14:$B$110,ROWS($1:1)+(COLUMNS($A:E)-1)*8),"") -> 20 | G6: =IFERROR(INDEX('1'!$B$14:$B$110,ROWS($1:1)+(COLUMNS($A:F)-1)*8),"") -> 1 | H6: =IFERROR(INDEX('1'!$B$14:$B$110,ROWS($1:1)+(COLUMNS($A:G)-1)*8),"") -> 0 | I6: =IFERROR(INDEX('1'!$B$14:$B$110,ROWS($1:1)+(COLUMNS($A:H)-1)*8),"") -> 0 | J6: =IFERROR(INDEX('1'!$B$14:$B$110,ROWS($1:1)+(COLUMNS($A:I)-1)*8),"") -> 0 | K6: =IFERROR(INDEX('1'!$B$14:$B$110,ROWS($1:1)+(COLUMNS($A:J)-1)*8),"") -> 0 | L6: =IFERROR(INDEX('1'!$B$14:$B$110,ROWS($1:1)+(COLUMNS($A:K)-1)*8),"") -> 0 | M6: =IFERROR(INDEX('1'!$B$14:$B$110,ROWS($1:1)+(COLUMNS($A:L)-1)*8),"") -> 0
A7: B | B7: =IFERROR(INDEX('1'!$B$14:$B$110,ROWS($1:2)+(COLUMNS($A:A)-1)*8),"") -> 1 | C7: =IFERROR(INDEX('1'!$B$14:$B$110,ROWS($1:2)+(COLUMNS($A:B)-1)*8),"") -> 9 | D7: =IFERROR(INDEX('1'!$B$14:$B$110,ROWS($1:2)+(COLUMNS($A:C)-1)*8),"") -> 17 | E7: =IFERROR(INDEX('1'!$B$14:$B$110,ROWS($1:2)+(COLUMNS($A:D)-1)*8),"") -> 7.25 | F7: =IFERROR(INDEX('1'!$B$14:$B$110,ROWS($1:2)+(COLUMNS($A:E)-1)*8),"") -> 5 | G7: =IFERROR(INDEX('1'!$B$14:$B$110,ROWS($1:2)+(COLUMNS($A:F)-1)*8),"") -> 1 | H7: =IFERROR(INDEX('1'!$B$14:$B$110,ROWS($1:2)+(COLUMNS($A:G)-1)*8),"") -> 0 | I7: =IFERROR(INDEX('1'!$B$14:$B$110,ROWS($1:2)+(COLUMNS($A:H)-1)*8),"") -> 0 | J7: =IFERROR(INDEX('1'!$B$14:$B$110,ROWS($1:2)+(COLUMNS($A:I)-1)*8),"") -> 0 | K7: =IFERROR(INDEX('1'!$B$14:$B$110,ROWS($1:2)+(COLUMNS($A:J)-1)*8),"") -> 0 | L7: =IFERROR(INDEX('1'!$B$14:$B$110,ROWS($1:2)+(COLUMNS($A:K)-1)*8),"") -> 0 | M7: =IFERROR(INDEX('1'!$B$14:$B$110,ROWS($1:2)+(COLUMNS($A:L)-1)*8),"") -> 0
A8: C | B8: =IFERROR(INDEX('1'!$B$14:$B$110,ROWS($1:3)+(COLUMNS($A:A)-1)*8),"") -> 2 | C8: =IFERROR(INDEX('1'!$B$14:$B$110,ROWS($1:3)+(COLUMNS($A:B)-1)*8),"") -> 10 | D8: =IFERROR(INDEX('1'!$B$14:$B$110,ROWS($1:3)+(COLUMNS($A:C)-1)*8),"") -> 18 | E8: =IFERROR(INDEX('1'!$B$14:$B$110,ROWS($1:3)+(COLUMNS($A:D)-1)*8),"") -> 2.5 | F8: =IFERROR(INDEX('1'!$B$14:$B$110,ROWS($1:3)+(COLUMNS($A:E)-1)*8),"") -> 25 | G8: =IFERROR(INDEX('1'!$B$14:$B$110,ROWS($1:3)+(COLUMNS($A:F)-1)*8),"") -> 124638 | H8: =IFERROR(INDEX('1'!$B$14:$B$110,ROWS($1:3)+(COLUMNS($A:G)-1)*8),"") -> 0 | I8: =IFERROR(INDEX('1'!$B$14:$B$110,ROWS($1:3)+(COLUMNS($A:H)-1)*8),"") -> 0 | J8: =IFERROR(INDEX('1'!$B$14:$B$110,ROWS($1:3)+(COLUMNS($A:I)-1)*8),"") -> 0 | K8: =IFERROR(INDEX('1'!$B$14:$B$110,ROWS($1:3)+(COLUMNS($A:J)-1)*8),"") -> 0 | L8: =IFERROR(INDEX('1'!$B$14:$B$110,ROWS($1:3)+(COLUMNS($A:K)-1)*8),"") -> 0 | M8: =IFERROR(INDEX('1'!$B$14:$B$110,ROWS($1:3)+(COLUMNS($A:L)-1)*8),"") -> 0
A9: D | B9: =IFERROR(INDEX('1'!$B$14:$B$110,ROWS($1:4)+(COLUMNS($A:A)-1)*8),"") -> 3 | C9: =IFERROR(INDEX('1'!$B$14:$B$110,ROWS($1:4)+(COLUMNS($A:B)-1)*8),"") -> 11 | D9: =IFERROR(INDEX('1'!$B$14:$B$110,ROWS($1:4)+(COLUMNS($A:C)-1)*8),"") -> 0 | E9: =IFERROR(INDEX('1'!$B$14:$B$110,ROWS($1:4)+(COLUMNS($A:D)-1)*8),"") -> 1 | F9: =IFERROR(INDEX('1'!$B$14:$B$110,ROWS($1:4)+(COLUMNS($A:E)-1)*8),"") -> 0 | G9: =IFERROR(INDEX('1'!$B$14:$B$110,ROWS($1:4)+(COLUMNS($A:F)-1)*8),"") -> 0 | H9: =IFERROR(INDEX('1'!$B$14:$B$110,ROWS($1:4)+(COLUMNS($A:G)-1)*8),"") -> 0 | I9: =IFERROR(INDEX('1'!$B$14:$B$110,ROWS($1:4)+(COLUMNS($A:H)-1)*8),"") -> 0 | J9: =IFERROR(INDEX('1'!$B$14:$B$110,ROWS($1:4)+(COLUMNS($A:I)-1)*8),"") -> 0 | K9: =IFERROR(INDEX('1'!$B$14:$B$110,ROWS($1:4)+(COLUMNS($A:J)-1)*8),"") -> 0 | L9: =IFERROR(INDEX('1'!$B$14:$B$110,ROWS($1:4)+(COLUMNS($A:K)-1)*8),"") -> 0 | M9: =IFERROR(INDEX('1'!$B$14:$B$110,ROWS($1:4)+(COLUMNS($A:L)-1)*8),"") -> 0
A10: E | B10: =IFERROR(INDEX('1'!$B$14:$B$110,ROWS($1:5)+(COLUMNS($A:A)-1)*8),"") -> 4 | C10: =IFERROR(INDEX('1'!$B$14:$B$110,ROWS($1:5)+(COLUMNS($A:B)-1)*8),"") -> 12 | D10: =IFERROR(INDEX('1'!$B$14:$B$110,ROWS($1:5)+(COLUMNS($A:C)-1)*8),"") -> 0 | E10: =IFERROR(INDEX('1'!$B$14:$B$110,ROWS($1:5)+(COLUMNS($A:D)-1)*8),"") -> 1 | F10: =IFERROR(INDEX('1'!$B$14:$B$110,ROWS($1:5)+(COLUMNS($A:E)-1)*8),"") -> 124638 | G10: =IFERROR(INDEX('1'!$B$14:$B$110,ROWS($1:5)+(COLUMNS($A:F)-1)*8),"") -> 0 | H10: =IFERROR(INDEX('1'!$B$14:$B$110,ROWS($1:5)+(COLUMNS($A:G)-1)*8),"") -> 0 | I10: =IFERROR(INDEX('1'!$B$14:$B$110,ROWS($1:5)+(COLUMNS($A:H)-1)*8),"") -> 0 | J10: =IFERROR(INDEX('1'!$B$14:$B$110,ROWS($1:5)+(COLUMNS($A:I)-1)*8),"") -> 0 | K10: =IFERROR(INDEX('1'!$B$14:$B$110,ROWS($1:5)+(COLUMNS($A:J)-1)*8),"") -> 0 | L10: =IFERROR(INDEX('1'!$B$14:$B$110,ROWS($1:5)+(COLUMNS($A:K)-1)*8),"") -> 0 | M10: =IFERROR(INDEX('1'!$B$14:$B$110,ROWS($1:5)+(COLUMNS($A:L)-1)*8),"") -> 0
A11: F | B11: =IFERROR(INDEX('1'!$B$14:$B$110,ROWS($1:6)+(COLUMNS($A:A)-1)*8),"") -> 5 | C11: =IFERROR(INDEX('1'!$B$14:$B$110,ROWS($1:6)+(COLUMNS($A:B)-1)*8),"") -> 13 | D11: =IFERROR(INDEX('1'!$B$14:$B$110,ROWS($1:6)+(COLUMNS($A:C)-1)*8),"") -> 0 | E11: =IFERROR(INDEX('1'!$B$14:$B$110,ROWS($1:6)+(COLUMNS($A:D)-1)*8),"") -> 0 | F11: =IFERROR(INDEX('1'!$B$14:$B$110,ROWS($1:6)+(COLUMNS($A:E)-1)*8),"") -> 0 | G11: =IFERROR(INDEX('1'!$B$14:$B$110,ROWS($1:6)+(COLUMNS($A:F)-1)*8),"") -> 0 | H11: =IFERROR(INDEX('1'!$B$14:$B$110,ROWS($1:6)+(COLUMNS($A:G)-1)*8),"") -> 0 | I11: =IFERROR(INDEX('1'!$B$14:$B$110,ROWS($1:6)+(COLUMNS($A:H)-1)*8),"") -> 0 | J11: =IFERROR(INDEX('1'!$B$14:$B$110,ROWS($1:6)+(COLUMNS($A:I)-1)*8),"") -> 0 | K11: =IFERROR(INDEX('1'!$B$14:$B$110,ROWS($1:6)+(COLUMNS($A:J)-1)*8),"") -> 0 | L11: =IFERROR(INDEX('1'!$B$14:$B$110,ROWS($1:6)+(COLUMNS($A:K)-1)*8),"") -> 0 | M11: =IFERROR(INDEX('1'!$B$14:$B$110,ROWS($1:6)+(COLUMNS($A:L)-1)*8),"") -> 0
A12: G | B12: =IFERROR(INDEX('1'!$B$14:$B$110,ROWS($1:7)+(COLUMNS($A:A)-1)*8),"") -> 6 | C12: =IFERROR(INDEX('1'!$B$14:$B$110,ROWS($1:7)+(COLUMNS($A:B)-1)*8),"") -> 14 | D12: =IFERROR(INDEX('1'!$B$14:$B$110,ROWS($1:7)+(COLUMNS($A:C)-1)*8),"") -> 0 | E12: =IFERROR(INDEX('1'!$B$14:$B$110,ROWS($1:7)+(COLUMNS($A:D)-1)*8),"") -> 0.25 | F12: =IFERROR(INDEX('1'!$B$14:$B$110,ROWS($1:7)+(COLUMNS($A:E)-1)*8),"") -> 44804 | G12: =IFERROR(INDEX('1'!$B$14:$B$110,ROWS($1:7)+(COLUMNS($A:F)-1)*8),"") -> 0 | H12: =IFERROR(INDEX('1'!$B$14:$B$110,ROWS($1:7)+(COLUMNS($A:G)-1)*8),"") -> 0 | I12: =IFERROR(INDEX('1'!$B$14:$B$110,ROWS($1:7)+(COLUMNS($A:H)-1)*8),"") -> 0 | J12: =IFERROR(INDEX('1'!$B$14:$B$110,ROWS($1:7)+(COLUMNS($A:I)-1)*8),"") -> 0 | K12: =IFERROR(INDEX('1'!$B$14:$B$110,ROWS($1:7)+(COLUMNS($A:J)-1)*8),"") -> 0 | L12: =IFERROR(INDEX('1'!$B$14:$B$110,ROWS($1:7)+(COLUMNS($A:K)-1)*8),"") -> 0 | M12: =IFERROR(INDEX('1'!$B$14:$B$110,ROWS($1:7)+(COLUMNS($A:L)-1)*8),"") -> 0
A13: H | B13: =IFERROR(INDEX('1'!$B$14:$B$110,ROWS($1:8)+(COLUMNS($A:A)-1)*8),"") -> 7 | C13: =IFERROR(INDEX('1'!$B$14:$B$110,ROWS($1:8)+(COLUMNS($A:B)-1)*8),"") -> 15 | D13: =IFERROR(INDEX('1'!$B$14:$B$110,ROWS($1:8)+(COLUMNS($A:C)-1)*8),"") -> n= | E13: =IFERROR(INDEX('1'!$B$14:$B$110,ROWS($1:8)+(COLUMNS($A:D)-1)*8),"") -> 8 | F13: =IFERROR(INDEX('1'!$B$14:$B$110,ROWS($1:8)+(COLUMNS($A:E)-1)*8),"") -> moi | G13: =IFERROR(INDEX('1'!$B$14:$B$110,ROWS($1:8)+(COLUMNS($A:F)-1)*8),"") -> 0 | H13: =IFERROR(INDEX('1'!$B$14:$B$110,ROWS($1:8)+(COLUMNS($A:G)-1)*8),"") -> 0 | I13: =IFERROR(INDEX('1'!$B$14:$B$110,ROWS($1:8)+(COLUMNS($A:H)-1)*8),"") -> 0 | J13: =IFERROR(INDEX('1'!$B$14:$B$110,ROWS($1:8)+(COLUMNS($A:I)-1)*8),"") -> 0 | K13: =IFERROR(INDEX('1'!$B$14:$B$110,ROWS($1:8)+(COLUMNS($A:J)-1)*8),"") -> 0 | L13: =IFERROR(INDEX('1'!$B$14:$B$110,ROWS($1:8)+(COLUMNS($A:K)-1)*8),"") -> 0 | M13: =IFERROR(INDEX('1'!$B$14:$B$110,ROWS($1:8)+(COLUMNS($A:L)-1)*8),"") -> 0
A15: Vérification de la plaque | D15: Date : | E15: =TODAY() -> 44804 | G15: Opérateur: | H15: moi | J15: Gel
J16: Robot / Nom du robot:
J17: Nom du fichier :
