Workbook

Sheet Export
A1: SAP code | B1: Web High Definition (jpg 1200x1200px)
A2: 400094827 | B2: 052-w3a67rwh5j-whr.jpg
A3: 400111054 | B3: 081-894xos2p1h-whr.jpg
A4: 400094827 | B4: 055-qrdfth0ink-whr.jpg
A5: 400111054 | B5: 039-7s4n7h8jwp-whr.jpg
A6: 400111054 | B6: 084-mofjpxqhw6-whr.jpg
A7: 400094827 | B7: 033-uqffekwdih-whr.jpg
A8: 400180726 | B8: 197-dtjgxb4lqv-whr.jpg
A9: 400180728 | B9: 230-3dkpj6h5xy-whr.jpg
A10: 400185635 | B10: 219-rq1yrq3bu0-whr.jpg
A11: 400185635 | B11: 216-3a389ja26t-whr.jpg
A12: 400094827 | B12: 058-dblm4wijdh-whr.jpg
... A98: 400094827 | B98: 611-0sdlouyuc6-whr.jpg

Sheet Résultat attendu 
A1: Si on prend exemple avec la donnéé 400094827 en colonne A je souhaiterai obtenir ce résultat
B2: Im 1 | C2: Im2 | D2: Im3 | E2: Im 4 | F2: Im 5 | G2: Im 6 | H2: Im 7
A3: 400094827 | B3: 052-w3a67rwh5j-whr.jpg | C3: 055-qrdfth0ink-whr.jpg | D3: 058-dblm4wijdh-whr.jpg | E3: 058-dblm4wijdh-whr.jpg | F3: 043-fnx4o4v8mt-whr.jpg | G3: 049-gnjk66h6p6-whr.jpg | H3: 046-n44okhg10k-whr.jpg
A6: SAP CODE | B6: ="lm " & COLUMN(A6) -> lm 1 | C6: ="lm " & COLUMN(B6) -> lm 2 | D6: ="lm " & COLUMN(C6) -> lm 3 | E6: ="lm " & COLUMN(D6) -> lm 4 | F6: ="lm " & COLUMN(E6) -> lm 5 | G6: ="lm " & COLUMN(F6) -> lm 6 | H6: ="lm " & COLUMN(G6) -> lm 7 | I6: ="lm " & COLUMN(H6) -> lm 8 | ... N6: ="lm " & COLUMN(M6) -> lm 13
A7: {=_xlfn._xlws.SORT(_xlfn.UNIQUE(Export!A2:A98))} -> 400094826 | B7: {=_xlfn.LET(_xlpm.value,A7,_xlpm.tab,_xlfn._xlws.SORT(_xlfn.UNIQUE(_xlfn._xlws.FILTER(Export!B1:B98,Export!A1:A98=_xlpm.value,"vide"))),_xlpm.tp,TRANSPOSE(_xlpm.tab),_xlpm.tp)} -> 097-esd6ebqwii-whr.jpg | C7: 100-ygtafd7eg6-whr.jpg | D7: 103-nko4perpyl-whr.jpg | E7: 106-2jpunpwj2w-whr.jpg | F7: 112-luvtsh72ea-whr.jpg | G7: 115-54jdjwwkf2-whr.jpg | H7: 118-yr08qjcoy5-whr.jpg | I7: 121-q9p6370c25-whr.jpg | J7: 135-mpovgt5pq6-whr.jpg | K7: 617-nmc7o7pj4s-whr.jpg | L7: 620-hatehp4e6f-whr.jpg
A8: 400094827 | B8: {=_xlfn.LET(_xlpm.value,A8,_xlpm.tab,_xlfn._xlws.SORT(_xlfn.UNIQUE(_xlfn._xlws.FILTER(Export!B2:B99,Export!A2:A99=_xlpm.value,"vide"))),_xlpm.tp,TRANSPOSE(_xlpm.tab),_xlpm.tp)} -> 031-efq5vlu1u7-whr.jpg | C8: 033-uqffekwdih-whr.jpg | D8: 037-tebsfpfdx3-whr.jpg | E8: 043-fnx4o4v8mt-whr.jpg | F8: 046-n44okhg10k-whr.jpg | G8: 049-gnjk66h6p6-whr.jpg | H8: 052-w3a67rwh5j-whr.jpg | I8: 055-qrdfth0ink-whr.jpg | J8: 058-dblm4wijdh-whr.jpg | K8: 611-0sdlouyuc6-whr.jpg | L8: 614-k2emnj7a8t-whr.jpg
A9: 400111054 | B9: {=_xlfn.LET(_xlpm.value,A9,_xlpm.tab,_xlfn._xlws.SORT(_xlfn.UNIQUE(_xlfn._xlws.FILTER(Export!B3:B100,Export!A3:A100=_xlpm.value,"vide"))),_xlpm.tp,TRANSPOSE(_xlpm.tab),_xlpm.tp)} -> 039-7s4n7h8jwp-whr.jpg | C9: 042-3n5rtglf86-whr.jpg | D9: 045-2j81c209i6-whr.jpg | E9: 048-wxnqfmlu48-whr.jpg | F9: 051-1xde9jul9r-whr.jpg | G9: 054-opl11xso2w-whr.jpg | H9: 057-978tyt6bb6-whr.jpg | I9: 060-wt9hh3c721-whr.jpg | J9: 063-nhlt0g9yol-whr.jpg | K9: 063-oefcl1b4gp-whr.jpg | L9: 066-c69upi7ns7-whr.jpg | M9: 066-gfu81erhqh-whr.jpg | N9: 069-s8x01tees3-whr.jpg | O9: 072-qps3t8o5r1-whr.jpg | P9: 075-uriinsvjcv-whr.jpg | Q9: 078-ujkc9bkm7w-whr.jpg | R9: 081-894xos2p1h-whr.jpg | S9: 084-mofjpxqhw6-whr.jpg | T9: 090-llmutsxkfa-whr.jpg | U9: 093-uique9beav-whr.jpg | V9: 132-v5c7ye1soq-whr.jpg
A10: 400111055 | B10: {=_xlfn.LET(_xlpm.value,A10,_xlpm.tab,_xlfn._xlws.SORT(_xlfn.UNIQUE(_xlfn._xlws.FILTER(Export!B4:B101,Export!A4:A101=_xlpm.value,"vide"))),_xlpm.tp,TRANSPOSE(_xlpm.tab),_xlpm.tp)} -> 096-ctb8ayedj3-whr.jpg | C10: 099-6uth326xv4-whr.jpg | D10: 099-kmh4etpfd8-whr.jpg | E10: 102-snb0ib1xy3-whr.jpg | F10: 102-u3uevhw3nt-whr.jpg | G10: 105-o7bom6855b-whr.jpg | H10: 105-wj9c7tf8qf-whr.jpg | I10: 108-2rwgk44nl3-whr.jpg | J10: 108-kb97vrxr4b-whr.jpg | K10: 111-9qjtfycwb5-whr.jpg | L10: 111-ondg96ghvk-whr.jpg | M10: 114-in1o5vqp03-whr.jpg | N10: 114-mx559aphaa-whr.jpg | O10: 117-il5w2i3kh1-whr.jpg | P10: 120-5kf0vtv36j-whr.jpg | Q10: 123-g7nndctihl-whr.jpg | R10: 126-ljb6m0b37d-whr.jpg | S10: 129-987a5e0o2y-whr.jpg | T10: 288-t4fxq4glpb-whr.jpg | U10: 297-n9y76gqskd-whr.jpg
A11: 400180726 | B11: {=_xlfn.LET(_xlpm.value,A11,_xlpm.tab,_xlfn._xlws.SORT(_xlfn.UNIQUE(_xlfn._xlws.FILTER(Export!B5:B102,Export!A5:A102=_xlpm.value,"vide"))),_xlpm.tp,TRANSPOSE(_xlpm.tab),_xlpm.tp)} -> 197-dtjgxb4lqv-whr.jpg | C11: 200-qblutn9gf3-whr.jpg | D11: 203-nl29jcph1w-whr.jpg | E11: 206-ncq1o1lt4s-whr.jpg
A12: 400180727 | B12: {=_xlfn.LET(_xlpm.value,A12,_xlpm.tab,_xlfn._xlws.SORT(_xlfn.UNIQUE(_xlfn._xlws.FILTER(Export!B6:B103,Export!A6:A103=_xlpm.value,"vide"))),_xlpm.tp,TRANSPOSE(_xlpm.tab),_xlpm.tp)} -> 212-tqi7ep6rvk-whr.jpg | C12: 215-dlahobnd6j-whr.jpg | D12: 218-9hg7oy8kai-whr.jpg | E12: 221-q6v40rcyup-whr.jpg
A13: 400180728 | B13: {=_xlfn.LET(_xlpm.value,A13,_xlpm.tab,_xlfn._xlws.SORT(_xlfn.UNIQUE(_xlfn._xlws.FILTER(Export!B7:B104,Export!A7:A104=_xlpm.value,"vide"))),_xlpm.tp,TRANSPOSE(_xlpm.tab),_xlpm.tp)} -> 227-h4kln8kcuy-whr.jpg | C13: 230-3dkpj6h5xy-whr.jpg
A14: 400185635 | B14: {=_xlfn.LET(_xlpm.value,A14,_xlpm.tab,_xlfn._xlws.SORT(_xlfn.UNIQUE(_xlfn._xlws.FILTER(Export!B8:B105,Export!A8:A105=_xlpm.value,"vide"))),_xlpm.tp,TRANSPOSE(_xlpm.tab),_xlpm.tp)} -> 078-w5h0awcvmm-whr.jpg | C14: 081-v9y8ohh60x-whr.jpg | D14: 084-fv11677av0-whr.jpg | E14: 087-bfbht6ifm7-whr.jpg | F14: 216-3a389ja26t-whr.jpg | G14: 219-rq1yrq3bu0-whr.jpg | H14: 547-higsxsv1m2-whr.jpg
A15: 400185645 | B15: {=_xlfn.LET(_xlpm.value,A15,_xlpm.tab,_xlfn._xlws.SORT(_xlfn.UNIQUE(_xlfn._xlws.FILTER(Export!B9:B106,Export!A9:A106=_xlpm.value,"vide"))),_xlpm.tp,TRANSPOSE(_xlpm.tab),_xlpm.tp)} -> 276-xq3kr60vhg-whr.jpg | C15: 279-hehc2jy0fc-whr.jpg | D15: 935-odvauqoh6v-whr.jpg | E15: 938-khraa4rt1b-whr.jpg | F15: 941-hj0s6mac07-whr.jpg
A16: 400185647 | B16: {=_xlfn.LET(_xlpm.value,A16,_xlpm.tab,_xlfn._xlws.SORT(_xlfn.UNIQUE(_xlfn._xlws.FILTER(Export!B10:B107,Export!A10:A107=_xlpm.value,"vide"))),_xlpm.tp,TRANSPOSE(_xlpm.tab),_xlpm.tp)} -> 282-mt6m0kvlek-whr.jpg | C16: 285-j3u4yyciq0-whr.jpg | D16: 947-svpx5vkfu7-whr.jpg | E16: 950-y4vt505clw-whr.jpg | F16: 953-hm7y5u1tvc-whr.jpg
A17: 400185657 | B17: {=_xlfn.LET(_xlpm.value,A17,_xlpm.tab,_xlfn._xlws.SORT(_xlfn.UNIQUE(_xlfn._xlws.FILTER(Export!B11:B108,Export!A11:A108=_xlpm.value,"vide"))),_xlpm.tp,TRANSPOSE(_xlpm.tab),_xlpm.tp)} -> 345-c0x7mlwpls-whr.jpg | C17: 348-957fl6c308-whr.jpg | D17: 679-hwtghnjdq9-whr.jpg | E17: 880-qnyl0yyjnx-whr.jpg | F17: 883-12db4cvbof-whr.jpg | G17: 886-gcegfqg99f-whr.jpg | H17: 889-vwm3kem0ja-whr.jpg
