Workbook

Sheet PM TOOL
A1: ARTICLE STE X | B1: n° Lot STE X | C1: Désignation STE X | D1: Total | E1: gcp moi | F1: gcp lot moi | G1: gcp designationmoi
A2: 570490 | B2: 625428010 | C2: A | D2: 1 | E2: =VLOOKUP(A:A,moi!A:A,1,FALSE) -> 570490 | F2: =VLOOKUP(B:B,moi!A:B,2,FALSE) -> #N/A | G2: =VLOOKUP(C:C,moi!A:D,5,FALSE) -> #N/A
A3: 570491 | B3: R201712 | C3: B | D3: 1 | E3: =VLOOKUP(A:A,moi!A:A,1,FALSE) -> 570491 | F3: =VLOOKUP(B:B,moi!A:B,2,FALSE) -> #N/A | G3: =VLOOKUP(C:C,moi!A:D,5,FALSE) -> #N/A
A4: 566711 | B4: 643481010 | C4: A | D4: 1 | E4: =VLOOKUP(A:A,moi!A:A,1,FALSE) -> 566711 | F4: =VLOOKUP(B:B,moi!A:B,2,FALSE) -> #N/A | G4: =VLOOKUP(C:C,moi!A:D,5,FALSE) -> #N/A
A5: 574991 | B5: 654119010 | C5: B | D5: 1 | E5: =VLOOKUP(A:A,moi!A:A,1,FALSE) -> 574991 | F5: =VLOOKUP(B:B,moi!A:B,2,FALSE) -> #N/A | G5: =VLOOKUP(C:C,moi!A:D,5,FALSE) -> #N/A
A6: 561282 | B6: 670780010 | C6: A | D6: 1 | E6: =VLOOKUP(A:A,moi!A:A,1,FALSE) -> 561282 | F6: =VLOOKUP(B:B,moi!A:B,2,FALSE) -> #N/A | G6: =VLOOKUP(C:C,moi!A:D,5,FALSE) -> #N/A
A7: 561282 | B7: 670780020 | C7: B | D7: 1 | E7: =VLOOKUP(A:A,moi!A:A,1,FALSE) -> 561282 | F7: =VLOOKUP(B:B,moi!A:B,2,FALSE) -> #N/A | G7: =VLOOKUP(C:C,moi!A:D,5,FALSE) -> #N/A
A8: 561304 | B8: 60001 | C8: A | D8: 1 | E8: =VLOOKUP(A:A,moi!A:A,1,FALSE) -> 561304 | F8: =VLOOKUP(B:B,moi!A:B,2,FALSE) -> #N/A | G8: =VLOOKUP(C:C,moi!A:D,5,FALSE) -> #N/A
A9: 561304 | B9: 60002 | C9: B | D9: 1 | E9: =VLOOKUP(A:A,moi!A:A,1,FALSE) -> 561304 | F9: =VLOOKUP(B:B,moi!A:B,2,FALSE) -> #N/A | G9: =VLOOKUP(C:C,moi!A:D,5,FALSE) -> #N/A
A10: 561304 | B10: 60003 | C10: A | D10: 1 | E10: =VLOOKUP(A:A,moi!A:A,1,FALSE) -> 561304 | F10: =VLOOKUP(B:B,moi!A:B,2,FALSE) -> #N/A | G10: =VLOOKUP(C:C,moi!A:D,5,FALSE) -> #N/A
A11: 561305 | B11: 60001 | C11: B | D11: 1 | E11: =VLOOKUP(A:A,moi!A:A,1,FALSE) -> 561305 | F11: =VLOOKUP(B:B,moi!A:B,2,FALSE) -> #N/A | G11: =VLOOKUP(C:C,moi!A:D,5,FALSE) -> #N/A
A12: 570490 | B12: 662099010 | C12: A | D12: 1 | E12: =VLOOKUP(A:A,moi!A:A,1,FALSE) -> 570490 | F12: =VLOOKUP(B:B,moi!A:B,2,FALSE) -> #N/A | G12: =VLOOKUP(C:C,moi!A:D,5,FALSE) -> #N/A
A13: 570490 | B13: 662099020 | C13: B | D13: 1 | E13: =VLOOKUP(A:A,moi!A:A,1,FALSE) -> 570490 | F13: =VLOOKUP(B:B,moi!A:B,2,FALSE) -> #N/A | G13: =VLOOKUP(C:C,moi!A:D,5,FALSE) -> #N/A
A14: 561422 | B14: 678726010 | C14: A | D14: 1 | E14: =VLOOKUP(A:A,moi!A:A,1,FALSE) -> 561422 | F14: =VLOOKUP(B:B,moi!A:B,2,FALSE) -> #N/A | G14: =VLOOKUP(C:C,moi!A:D,5,FALSE) -> #N/A
A15: 566711 | B15: 678726010 | C15: B | D15: 1 | E15: =VLOOKUP(A:A,moi!A:A,1,FALSE) -> 566711 | F15: =VLOOKUP(B:B,moi!A:B,2,FALSE) -> #N/A | G15: =VLOOKUP(C:C,moi!A:D,5,FALSE) -> #N/A
... A163: 552133 | B163: 7728020 | C163: B | D163: 1 | E163: =VLOOKUP(A:A,moi!A:A,1,FALSE) -> 552133 | F163: =VLOOKUP(B:B,moi!A:B,2,FALSE) -> #N/A | G163: =VLOOKUP(C:C,moi!A:D,5,FALSE) -> #N/A
A164: 552133 | B164: 7728010NC | C164: A | D164: 1 | E164: =VLOOKUP(A:A,moi!A:A,1,FALSE) -> 552133 | F164: =VLOOKUP(B:B,moi!A:B,2,FALSE) -> #N/A | G164: =VLOOKUP(C:C,moi!A:D,5,FALSE) -> #N/A
A165: 551914 | B165: 7744010 | C165: B | D165: 1 | E165: =VLOOKUP(A:A,moi!A:A,1,FALSE) -> 551914 | F165: =VLOOKUP(B:B,moi!A:B,2,FALSE) -> #N/A | G165: =VLOOKUP(C:C,moi!A:D,5,FALSE) -> #N/A
A166: 567998 | B166: 7624010 | C166: A | D166: 1 | E166: =VLOOKUP(A:A,moi!A:A,1,FALSE) -> 567998 | F166: =VLOOKUP(B:B,moi!A:B,2,FALSE) -> #N/A | G166: =VLOOKUP(C:C,moi!A:D,5,FALSE) -> #N/A
A167: 567985 | B167: 7649010 | C167: B | D167: 1 | E167: =VLOOKUP(A:A,moi!A:A,1,FALSE) -> 567985 | F167: =VLOOKUP(B:B,moi!A:B,2,FALSE) -> #N/A | G167: =VLOOKUP(C:C,moi!A:D,5,FALSE) -> #N/A
A168: 567985 | B168: 7649020 | C168: A | D168: 1 | E168: =VLOOKUP(A:A,moi!A:A,1,FALSE) -> 567985 | F168: =VLOOKUP(B:B,moi!A:B,2,FALSE) -> #N/A | G168: =VLOOKUP(C:C,moi!A:D,5,FALSE) -> #N/A
A169: 578191 | B169: 7707010 | C169: B | D169: 1 | E169: =VLOOKUP(A:A,moi!A:A,1,FALSE) -> 578191 | F169: =VLOOKUP(B:B,moi!A:B,2,FALSE) -> #N/A | G169: =VLOOKUP(C:C,moi!A:D,5,FALSE) -> #N/A
A170: 552128 | B170: 7711010 | C170: A | D170: 1 | E170: =VLOOKUP(A:A,moi!A:A,1,FALSE) -> 552128 | F170: =VLOOKUP(B:B,moi!A:B,2,FALSE) -> #N/A | G170: =VLOOKUP(C:C,moi!A:D,5,FALSE) -> #N/A
A171: 560631 | B171: 7711020 | C171: B | D171: 1 | E171: =VLOOKUP(A:A,moi!A:A,1,FALSE) -> 560631 | F171: =VLOOKUP(B:B,moi!A:B,2,FALSE) -> #N/A | G171: =VLOOKUP(C:C,moi!A:D,5,FALSE) -> #N/A
A172: 567985 | B172: 7725010 | C172: A | D172: 1 | E172: =VLOOKUP(A:A,moi!A:A,1,FALSE) -> 567985 | F172: =VLOOKUP(B:B,moi!A:B,2,FALSE) -> #N/A | G172: =VLOOKUP(C:C,moi!A:D,5,FALSE) -> #N/A
A173: 567985 | B173: 7725020 | C173: B | D173: 1 | E173: =VLOOKUP(A:A,moi!A:A,1,FALSE) -> 567985 | F173: =VLOOKUP(B:B,moi!A:B,2,FALSE) -> #N/A | G173: =VLOOKUP(C:C,moi!A:D,5,FALSE) -> #N/A
A174: 567985 | B174: 7725030 | C174: A | D174: 1 | E174: =VLOOKUP(A:A,moi!A:A,1,FALSE) -> 567985 | F174: =VLOOKUP(B:B,moi!A:B,2,FALSE) -> #N/A | G174: =VLOOKUP(C:C,moi!A:D,5,FALSE) -> #N/A
A175: 573811 | B175: 7497010 | C175: B | D175: 1 | E175: =VLOOKUP(A:A,moi!A:A,1,FALSE) -> 573811 | F175: =VLOOKUP(B:B,moi!A:B,2,FALSE) -> #N/A | G175: =VLOOKUP(C:C,moi!A:D,5,FALSE) -> #N/A
A176: 567985 | B176: 7610010 | C176: A | D176: 1 | E176: =VLOOKUP(A:A,moi!A:A,1,FALSE) -> 567985 | F176: =VLOOKUP(B:B,moi!A:B,2,FALSE) -> #N/A | G176: =VLOOKUP(C:C,moi!A:D,5,FALSE) -> #N/A
... A220: 567973 | B220: 7895030 | C220: A | D220: 1 | E220: =VLOOKUP(A:A,moi!A:A,1,FALSE) -> 567973 | F220: =VLOOKUP(B:B,moi!A:B,2,FALSE) -> #N/A | G220: =VLOOKUP(C:C,moi!A:D,5,FALSE) -> #N/A
A221: 552133 | B221: 007984010G | C221: B | D221: 1 | E221: =VLOOKUP(A:A,moi!A:A,1,FALSE) -> 552133 | F221: =VLOOKUP(B:B,moi!A:B,2,FALSE) -> #N/A | G221: =VLOOKUP(C:C,moi!A:D,5,FALSE) -> #N/A
A222: 552133 | B222: 8043010 | C222: A | D222: 1 | E222: =VLOOKUP(A:A,moi!A:A,1,FALSE) -> 552133 | F222: =VLOOKUP(B:B,moi!A:B,2,FALSE) -> #N/A | G222: =VLOOKUP(C:C,moi!A:D,5,FALSE) -> #N/A
A223: 573811 | B223: 7966010 | C223: B | D223: 1 | E223: =VLOOKUP(A:A,moi!A:A,1,FALSE) -> 573811 | F223: =VLOOKUP(B:B,moi!A:B,2,FALSE) -> #N/A | G223: =VLOOKUP(C:C,moi!A:D,5,FALSE) -> #N/A
A224: 561261 | B224: 8059010 | C224: A | D224: 1 | E224: =VLOOKUP(A:A,moi!A:A,1,FALSE) -> 561261 | F224: =VLOOKUP(B:B,moi!A:B,2,FALSE) -> #N/A | G224: =VLOOKUP(C:C,moi!A:D,5,FALSE) -> #N/A
A225: 552133 | B225: 7978010 | C225: B | D225: 1 | E225: =VLOOKUP(A:A,moi!A:A,1,FALSE) -> 552133 | F225: =VLOOKUP(B:B,moi!A:B,2,FALSE) -> #N/A | G225: =VLOOKUP(C:C,moi!A:D,5,FALSE) -> #N/A
A226: 567982 | B226: 8027010 | C226: A | D226: 1 | E226: =VLOOKUP(A:A,moi!A:A,1,FALSE) -> 567982 | F226: =VLOOKUP(B:B,moi!A:B,2,FALSE) -> #N/A | G226: =VLOOKUP(C:C,moi!A:D,5,FALSE) -> #N/A
A227: 568002 | B227: 8027020 | C227: B | D227: 1 | E227: =VLOOKUP(A:A,moi!A:A,1,FALSE) -> 568002 | F227: =VLOOKUP(B:B,moi!A:B,2,FALSE) -> #N/A | G227: =VLOOKUP(C:C,moi!A:D,5,FALSE) -> #N/A
A228: 552002 | B228: 8007010 | C228: A | D228: 1 | E228: =VLOOKUP(A:A,moi!A:A,1,FALSE) -> 552002 | F228: =VLOOKUP(B:B,moi!A:B,2,FALSE) -> #N/A | G228: =VLOOKUP(C:C,moi!A:D,5,FALSE) -> #N/A
A229: 567985 | B229: 7900010 | C229: B | D229: 1 | E229: =VLOOKUP(A:A,moi!A:A,1,FALSE) -> 567985 | F229: =VLOOKUP(B:B,moi!A:B,2,FALSE) -> #N/A | G229: =VLOOKUP(C:C,moi!A:D,5,FALSE) -> #N/A
A230: 567985 | B230: 7900020 | C230: A | D230: 1 | E230: =VLOOKUP(A:A,moi!A:A,1,FALSE) -> 567985 | F230: =VLOOKUP(B:B,moi!A:B,2,FALSE) -> #N/A | G230: =VLOOKUP(C:C,moi!A:D,5,FALSE) -> #N/A
...

Sheet moi
A1: Article | B1: Lot | C1: Qté en unité saisie | D1: Désignation article | E1: GCP STE X | F1: LOT STEX | G1: DESIGNATION STE X
A2: 552133 | B2: 8080010 | C2: 1 | D2: A | E2: 552133 | F2: =(TRIM(VLOOKUP(B:B,'PM TOOL'!$A:$B,2,FALSE))) -> #N/A | G2: =VLOOKUP(D:D,'PM TOOL'!A:C,3,FALSE) -> #N/A
A3: 560655 | B3: 8036030 | C3: 1 | D3: B | E3: 560655 | F3: =(TRIM(VLOOKUP(B:B,'PM TOOL'!A:B,2,FALSE))) -> #N/A | G3: =VLOOKUP(D:D,'PM TOOL'!A:C,3,FALSE) -> #N/A
A4: 560655 | B4: 8036010 | C4: 1 | D4: A | E4: 560655 | F4: =(TRIM(VLOOKUP(B:B,'PM TOOL'!A:B,2,FALSE))) -> #N/A | G4: =VLOOKUP(D:D,'PM TOOL'!A:C,3,FALSE) -> #N/A
A5: 560656 | B5: 8036020 | C5: 1 | D5: B | E5: 560656 | F5: =(TRIM(VLOOKUP(B:B,'PM TOOL'!A:B,2,FALSE))) -> #N/A | G5: =VLOOKUP(D:D,'PM TOOL'!A:C,3,FALSE) -> #N/A
A6: 567982 | B6: 8030010 | C6: 1 | D6: A | E6: 567982 | F6: =(TRIM(VLOOKUP(B:B,'PM TOOL'!A:B,2,FALSE))) -> #N/A | G6: =VLOOKUP(D:D,'PM TOOL'!A:C,3,FALSE) -> #N/A
A7: 568002 | B7: 8030020 | C7: 1 | D7: B | E7: 568002 | F7: =(TRIM(VLOOKUP(B:B,'PM TOOL'!A:B,2,FALSE))) -> #N/A | G7: =VLOOKUP(D:D,'PM TOOL'!A:C,3,FALSE) -> #N/A
A8: 552002 | B8: 8007010 | C8: 1 | D8: A | E8: 552002 | F8: =(TRIM(VLOOKUP(B:B,'PM TOOL'!A:B,2,FALSE))) -> #N/A | G8: =VLOOKUP(D:D,'PM TOOL'!A:C,3,FALSE) -> #N/A
A9: 561631 | B9: 8060010 | C9: 1 | D9: B | E9: 561631 | F9: =(TRIM(VLOOKUP(B:B,'PM TOOL'!A:B,2,FALSE))) -> #N/A | G9: =VLOOKUP(D:D,'PM TOOL'!A:C,3,FALSE) -> #N/A
A10: 566711 | B10: 8083010 | C10: 1 | D10: A | E10: 566711 | F10: =(TRIM(VLOOKUP(B:B,'PM TOOL'!A:B,2,FALSE))) -> #N/A | G10: =VLOOKUP(D:D,'PM TOOL'!A:C,3,FALSE) -> #N/A
A11: 567982 | B11: 8027010 | C11: 1 | D11: B | E11: 567982 | F11: =(TRIM(VLOOKUP(B:B,'PM TOOL'!A:B,2,FALSE))) -> #N/A | G11: =VLOOKUP(D:D,'PM TOOL'!A:C,3,FALSE) -> #N/A
A12: 568002 | B12: 8027020 | C12: 1 | D12: A | E12: 568002 | F12: =(TRIM(VLOOKUP(B:B,'PM TOOL'!A:B,2,FALSE))) -> #N/A | G12: =VLOOKUP(D:D,'PM TOOL'!A:C,3,FALSE) -> #N/A
A13: 570491 | B13: R201712 | C13: 1 | D13: B | E13: 570491 | F13: =(TRIM(VLOOKUP(B:B,'PM TOOL'!A:B,2,FALSE))) -> #N/A | G13: =VLOOKUP(D:D,'PM TOOL'!A:C,3,FALSE) -> #N/A
A14: 567973 | B14: 7895010 | C14: 1 | D14: A | E14: 567973 | F14: =(TRIM(VLOOKUP(B:B,'PM TOOL'!A:B,2,FALSE))) -> #N/A | G14: =VLOOKUP(D:D,'PM TOOL'!A:C,3,FALSE) -> #N/A
A15: 567973 | B15: 7895030 | C15: 1 | D15: B | E15: 567973 | F15: =(TRIM(VLOOKUP(B:B,'PM TOOL'!A:B,2,FALSE))) -> #N/A | G15: =VLOOKUP(D:D,'PM TOOL'!A:C,3,FALSE) -> #N/A
A16: 567974 | B16: 7895020 | C16: 1 | D16: A | E16: 567974 | F16: =(TRIM(VLOOKUP(B:B,'PM TOOL'!A:B,2,FALSE))) -> #N/A | G16: =VLOOKUP(D:D,'PM TOOL'!A:C,3,FALSE) -> #N/A
A17: 567985 | B17: 7983010 | C17: 1 | D17: B | E17: 567985 | F17: =(TRIM(VLOOKUP(B:B,'PM TOOL'!A:B,2,FALSE))) -> #N/A | G17: =VLOOKUP(D:D,'PM TOOL'!A:C,3,FALSE) -> #N/A
A18: 567985 | B18: 7900010 | C18: 1 | D18: A | E18: 567985 | F18: =(TRIM(VLOOKUP(B:B,'PM TOOL'!A:B,2,FALSE))) -> #N/A | G18: =VLOOKUP(D:D,'PM TOOL'!A:C,3,FALSE) -> #N/A
A19: 567985 | B19: 7900020 | C19: 1 | D19: B | E19: 567985 | F19: =(TRIM(VLOOKUP(B:B,'PM TOOL'!A:B,2,FALSE))) -> #N/A | G19: =VLOOKUP(D:D,'PM TOOL'!A:C,3,FALSE) -> #N/A
A20: 552133 | B20: 7978010 | C20: 1 | D20: A | E20: 552133 | F20: =(TRIM(VLOOKUP(B:B,'PM TOOL'!A:B,2,FALSE))) -> #N/A | G20: =VLOOKUP(D:D,'PM TOOL'!A:C,3,FALSE) -> #N/A
A21: 561261 | B21: 8059010 | C21: 1 | D21: B | E21: 561261 | F21: =(TRIM(VLOOKUP(B:B,'PM TOOL'!A:B,2,FALSE))) -> #N/A | G21: =VLOOKUP(D:D,'PM TOOL'!A:C,3,FALSE) -> #N/A
A22: 573811 | B22: 7966010 | C22: 1 | D22: A | E22: 573811 | F22: =(TRIM(VLOOKUP(B:B,'PM TOOL'!A:B,2,FALSE))) -> #N/A | G22: =VLOOKUP(D:D,'PM TOOL'!A:C,3,FALSE) -> #N/A
A23: 577804 | B23: 654119010 | C23: 1 | D23: B | E23: #N/A | F23: =(TRIM(VLOOKUP(B:B,'PM TOOL'!A:B,2,FALSE))) -> #N/A | G23: =VLOOKUP(D:D,'PM TOOL'!A:C,3,FALSE) -> #N/A
A24: 567998 | B24: 7965010 | C24: 1 | D24: A | E24: 567998 | F24: =(TRIM(VLOOKUP(B:B,'PM TOOL'!A:B,2,FALSE))) -> #N/A | G24: =VLOOKUP(D:D,'PM TOOL'!A:C,3,FALSE) -> #N/A
A25: 552133 | B25: 8043010 | C25: 1 | D25: B | E25: 552133 | F25: =(TRIM(VLOOKUP(B:B,'PM TOOL'!A:B,2,FALSE))) -> #N/A | G25: =VLOOKUP(D:D,'PM TOOL'!A:C,3,FALSE) -> #N/A
A26: 561242 | B26: 727129010 | C26: 1 | D26: A | E26: 561242 | F26: =(TRIM(VLOOKUP(B:B,'PM TOOL'!A:B,2,FALSE))) -> #N/A | G26: =VLOOKUP(D:D,'PM TOOL'!A:C,3,FALSE) -> #N/A
A27: 561245 | B27: 725147010 | C27: 1 | D27: B | E27: #N/A | F27: =(TRIM(VLOOKUP(B:B,'PM TOOL'!A:B,2,FALSE))) -> #N/A | G27: =VLOOKUP(D:D,'PM TOOL'!A:C,3,FALSE) -> #N/A
A28: 552133 | B28: 7994030 | C28: 1 | D28: A | E28: 552133 | F28: =(TRIM(VLOOKUP(B:B,'PM TOOL'!A:B,2,FALSE))) -> #N/A | G28: =VLOOKUP(D:D,'PM TOOL'!A:C,3,FALSE) -> #N/A
A29: 552133 | B29: 7994020 | C29: 1 | D29: B | E29: 552133 | F29: =(TRIM(VLOOKUP(B:B,'PM TOOL'!A:B,2,FALSE))) -> #N/A | G29: =VLOOKUP(D:D,'PM TOOL'!A:C,3,FALSE) -> #N/A
A30: 552133 | B30: 7994010 | C30: 1 | D30: A | E30: 552133 | F30: =(TRIM(VLOOKUP(B:B,'PM TOOL'!A:B,2,FALSE))) -> #N/A | G30: =VLOOKUP(D:D,'PM TOOL'!A:C,3,FALSE) -> #N/A
A31: 552133 | B31: 7988010 | C31: 1 | D31: B | E31: 552133 | F31: =(TRIM(VLOOKUP(B:B,'PM TOOL'!A:B,2,FALSE))) -> #N/A | G31: =VLOOKUP(D:D,'PM TOOL'!A:C,3,FALSE) -> #N/A
A32: 567985 | B32: 7769010 | C32: 1 | D32: A | E32: 567985 | F32: =(TRIM(VLOOKUP(B:B,'PM TOOL'!A:B,2,FALSE))) -> #N/A | G32: =VLOOKUP(D:D,'PM TOOL'!A:C,3,FALSE) -> #N/A
A33: 552133 | B33: 007984010G | C33: 1 | D33: B | E33: 552133 | F33: =(TRIM(VLOOKUP(B:B,'PM TOOL'!A:B,2,FALSE))) -> #N/A | G33: =VLOOKUP(D:D,'PM TOOL'!A:C,3,FALSE) -> #N/A
A34: 566711 | B34: 7980010 | C34: 1 | D34: A | E34: 566711 | F34: =(TRIM(VLOOKUP(B:B,'PM TOOL'!A:B,2,FALSE))) -> #N/A | G34: =VLOOKUP(D:D,'PM TOOL'!A:C,3,FALSE) -> #N/A
A35: 567973 | B35: 7895030 | C35: 1 | D35: B | E35: 567973 | F35: =(TRIM(VLOOKUP(B:B,'PM TOOL'!A:B,2,FALSE))) -> #N/A | G35: =VLOOKUP(D:D,'PM TOOL'!A:C,3,FALSE) -> #N/A
A36: 567973 | B36: 7895010 | C36: 1 | D36: A | E36: 567973 | F36: =(TRIM(VLOOKUP(B:B,'PM TOOL'!A:B,2,FALSE))) -> #N/A | G36: =VLOOKUP(D:D,'PM TOOL'!A:C,3,FALSE) -> #N/A
A37: 567974 | B37: 7895020 | C37: 1 | D37: B | E37: 567974 | F37: =(TRIM(VLOOKUP(B:B,'PM TOOL'!A:B,2,FALSE))) -> #N/A | G37: =VLOOKUP(D:D,'PM TOOL'!A:C,3,FALSE) -> #N/A
A38: 552171 | B38: 7974010 | C38: 1 | D38: A | E38: 552171 | F38: =(TRIM(VLOOKUP(B:B,'PM TOOL'!A:B,2,FALSE))) -> #N/A | G38: =VLOOKUP(D:D,'PM TOOL'!A:C,3,FALSE) -> #N/A
A39: 567985 | B39: 7983010 | C39: 1 | D39: B | E39: 567985 | F39: =(TRIM(VLOOKUP(B:B,'PM TOOL'!A:B,2,FALSE))) -> #N/A | G39: =VLOOKUP(D:D,'PM TOOL'!A:C,3,FALSE) -> #N/A
A40: 552133 | B40: 7968010 | C40: 1 | D40: A | E40: 552133 | F40: =(TRIM(VLOOKUP(B:B,'PM TOOL'!A:B,2,FALSE))) -> #N/A | G40: =VLOOKUP(D:D,'PM TOOL'!A:C,3,FALSE) -> #N/A
...
