Workbook

Sheet PM TOOL
A1: ARTICLE STE X | B1: n° Lot STE X | C1: Désignation STE X | D1: Total | E1: gcp moi | F1: gcp lot moi | G1: gcp designationmoi
A2: 570490 | B2: 625428010 | C2: A | D2: 1 | E2: =VLOOKUP(A:A,moi!A:A,1,FALSE) -> 570490 | F2: =VLOOKUP(B:B,moi!A:B,2,FALSE) -> #N/A | G2: =VLOOKUP(C:C,moi!A:D,5,FALSE) -> #N/A
A3: 570491 | B3: R201712 | C3: B | D3: 1 | E3: =VLOOKUP(A:A,moi!A:A,1,FALSE) -> 570491 | F3: =VLOOKUP(B:B,moi!A:B,2,FALSE) -> #N/A | G3: =VLOOKUP(C:C,moi!A:D,5,FALSE) -> #N/A
A4: 566711 | B4: 643481010 | C4: A | D4: 1 | E4: =VLOOKUP(A:A,moi!A:A,1,FALSE) -> 566711 | F4: =VLOOKUP(B:B,moi!A:B,2,FALSE) -> #N/A | G4: =VLOOKUP(C:C,moi!A:D,5,FALSE) -> #N/A
A5: 574991 | B5: 654119010 | C5: B | D5: 1 | E5: =VLOOKUP(A:A,moi!A:A,1,FALSE) -> 574991 | F5: =VLOOKUP(B:B,moi!A:B,2,FALSE) -> #N/A | G5: =VLOOKUP(C:C,moi!A:D,5,FALSE) -> #N/A
A6: 561282 | B6: 670780010 | C6: A | D6: 1 | E6: =VLOOKUP(A:A,moi!A:A,1,FALSE) -> 561282 | F6: =VLOOKUP(B:B,moi!A:B,2,FALSE) -> #N/A | G6: =VLOOKUP(C:C,moi!A:D,5,FALSE) -> #N/A
A7: 561282 | B7: 670780020 | C7: B | D7: 1 | E7: =VLOOKUP(A:A,moi!A:A,1,FALSE) -> 561282 | F7: =VLOOKUP(B:B,moi!A:B,2,FALSE) -> #N/A | G7: =VLOOKUP(C:C,moi!A:D,5,FALSE) -> #N/A
A8: 561304 | B8: 60001 | C8: A | D8: 1 | E8: =VLOOKUP(A:A,moi!A:A,1,FALSE) -> 561304 | F8: =VLOOKUP(B:B,moi!A:B,2,FALSE) -> #N/A | G8: =VLOOKUP(C:C,moi!A:D,5,FALSE) -> #N/A
A9: 561304 | B9: 60002 | C9: B | D9: 1 | E9: =VLOOKUP(A:A,moi!A:A,1,FALSE) -> 561304 | F9: =VLOOKUP(B:B,moi!A:B,2,FALSE) -> #N/A | G9: =VLOOKUP(C:C,moi!A:D,5,FALSE) -> #N/A
A10: 561304 | B10: 60003 | C10: A | D10: 1 | E10: =VLOOKUP(A:A,moi!A:A,1,FALSE) -> 561304 | F10: =VLOOKUP(B:B,moi!A:B,2,FALSE) -> #N/A | G10: =VLOOKUP(C:C,moi!A:D,5,FALSE) -> #N/A
A11: 561305 | B11: 60001 | C11: B | D11: 1 | E11: =VLOOKUP(A:A,moi!A:A,1,FALSE) -> 561305 | F11: =VLOOKUP(B:B,moi!A:B,2,FALSE) -> #N/A | G11: =VLOOKUP(C:C,moi!A:D,5,FALSE) -> #N/A
A12: 570490 | B12: 662099010 | C12: A | D12: 1 | E12: =VLOOKUP(A:A,moi!A:A,1,FALSE) -> 570490 | F12: =VLOOKUP(B:B,moi!A:B,2,FALSE) -> #N/A | G12: =VLOOKUP(C:C,moi!A:D,5,FALSE) -> #N/A
A13: 570490 | B13: 662099020 | C13: B | D13: 1 | E13: =VLOOKUP(A:A,moi!A:A,1,FALSE) -> 570490 | F13: =VLOOKUP(B:B,moi!A:B,2,FALSE) -> #N/A | G13: =VLOOKUP(C:C,moi!A:D,5,FALSE) -> #N/A
A14: 561422 | B14: 678726010 | C14: A | D14: 1 | E14: =VLOOKUP(A:A,moi!A:A,1,FALSE) -> 561422 | F14: =VLOOKUP(B:B,moi!A:B,2,FALSE) -> #N/A | G14: =VLOOKUP(C:C,moi!A:D,5,FALSE) -> #N/A
A15: 566711 | B15: 678726010 | C15: B | D15: 1 | E15: =VLOOKUP(A:A,moi!A:A,1,FALSE) -> 566711 | F15: =VLOOKUP(B:B,moi!A:B,2,FALSE) -> #N/A | G15: =VLOOKUP(C:C,moi!A:D,5,FALSE) -> #N/A
... A163: 552133 | B163: 7728020 | C163: B | D163: 1 | E163: =VLOOKUP(A:A,moi!A:A,1,FALSE) -> 552133 | F163: =VLOOKUP(B:B,moi!A:B,2,FALSE) -> #N/A | G163: =VLOOKUP(C:C,moi!A:D,5,FALSE) -> #N/A
A164: 552133 | B164: 7728010NC | C164: A | D164: 1 | E164: =VLOOKUP(A:A,moi!A:A,1,FALSE) -> 552133 | F164: =VLOOKUP(B:B,moi!A:B,2,FALSE) -> #N/A | G164: =VLOOKUP(C:C,moi!A:D,5,FALSE) -> #N/A
A165: 551914 | B165: 7744010 | C165: B | D165: 1 | E165: =VLOOKUP(A:A,moi!A:A,1,FALSE) -> 551914 | F165: =VLOOKUP(B:B,moi!A:B,2,FALSE) -> #N/A | G165: =VLOOKUP(C:C,moi!A:D,5,FALSE) -> #N/A
A166: 567998 | B166: 7624010 | C166: A | D166: 1 | E166: =VLOOKUP(A:A,moi!A:A,1,FALSE) -> 567998 | F166: =VLOOKUP(B:B,moi!A:B,2,FALSE) -> #N/A | G166: =VLOOKUP(C:C,moi!A:D,5,FALSE) -> #N/A
A167: 567985 | B167: 7649010 | C167: B | D167: 1 | E167: =VLOOKUP(A:A,moi!A:A,1,FALSE) -> 567985 | F167: =VLOOKUP(B:B,moi!A:B,2,FALSE) -> #N/A | G167: =VLOOKUP(C:C,moi!A:D,5,FALSE) -> #N/A
A168: 567985 | B168: 7649020 | C168: A | D168: 1 | E168: =VLOOKUP(A:A,moi!A:A,1,FALSE) -> 567985 | F168: =VLOOKUP(B:B,moi!A:B,2,FALSE) -> #N/A | G168: =VLOOKUP(C:C,moi!A:D,5,FALSE) -> #N/A
A169: 578191 | B169: 7707010 | C169: B | D169: 1 | E169: =VLOOKUP(A:A,moi!A:A,1,FALSE) -> 578191 | F169: =VLOOKUP(B:B,moi!A:B,2,FALSE) -> #N/A | G169: =VLOOKUP(C:C,moi!A:D,5,FALSE) -> #N/A
A170: 552128 | B170: 7711010 | C170: A | D170: 1 | E170: =VLOOKUP(A:A,moi!A:A,1,FALSE) -> 552128 | F170: =VLOOKUP(B:B,moi!A:B,2,FALSE) -> #N/A | G170: =VLOOKUP(C:C,moi!A:D,5,FALSE) -> #N/A
A171: 560631 | B171: 7711020 | C171: B | D171: 1 | E171: =VLOOKUP(A:A,moi!A:A,1,FALSE) -> 560631 | F171: =VLOOKUP(B:B,moi!A:B,2,FALSE) -> #N/A | G171: =VLOOKUP(C:C,moi!A:D,5,FALSE) -> #N/A
A172: 567985 | B172: 7725010 | C172: A | D172: 1 | E172: =VLOOKUP(A:A,moi!A:A,1,FALSE) -> 567985 | F172: =VLOOKUP(B:B,moi!A:B,2,FALSE) -> #N/A | G172: =VLOOKUP(C:C,moi!A:D,5,FALSE) -> #N/A
A173: 567985 | B173: 7725020 | C173: B | D173: 1 | E173: =VLOOKUP(A:A,moi!A:A,1,FALSE) -> 567985 | F173: =VLOOKUP(B:B,moi!A:B,2,FALSE) -> #N/A | G173: =VLOOKUP(C:C,moi!A:D,5,FALSE) -> #N/A
A174: 567985 | B174: 7725030 | C174: A | D174: 1 | E174: =VLOOKUP(A:A,moi!A:A,1,FALSE) -> 567985 | F174: =VLOOKUP(B:B,moi!A:B,2,FALSE) -> #N/A | G174: =VLOOKUP(C:C,moi!A:D,5,FALSE) -> #N/A
A175: 573811 | B175: 7497010 | C175: B | D175: 1 | E175: =VLOOKUP(A:A,moi!A:A,1,FALSE) -> 573811 | F175: =VLOOKUP(B:B,moi!A:B,2,FALSE) -> #N/A | G175: =VLOOKUP(C:C,moi!A:D,5,FALSE) -> #N/A
A176: 567985 | B176: 7610010 | C176: A | D176: 1 | E176: =VLOOKUP(A:A,moi!A:A,1,FALSE) -> 567985 | F176: =VLOOKUP(B:B,moi!A:B,2,FALSE) -> #N/A | G176: =VLOOKUP(C:C,moi!A:D,5,FALSE) -> #N/A
... A220: 567973 | B220: 7895030 | C220: A | D220: 1 | E220: =VLOOKUP(A:A,moi!A:A,1,FALSE) -> 567973 | F220: =VLOOKUP(B:B,moi!A:B,2,FALSE) -> #N/A | G220: =VLOOKUP(C:C,moi!A:D,5,FALSE) -> #N/A
A221: 552133 | B221: 007984010G | C221: B | D221: 1 | E221: =VLOOKUP(A:A,moi!A:A,1,FALSE) -> 552133 | F221: =VLOOKUP(B:B,moi!A:B,2,FALSE) -> #N/A | G221: =VLOOKUP(C:C,moi!A:D,5,FALSE) -> #N/A
A222: 552133 | B222: 8043010 | C222: A | D222: 1 | E222: =VLOOKUP(A:A,moi!A:A,1,FALSE) -> 552133 | F222: =VLOOKUP(B:B,moi!A:B,2,FALSE) -> #N/A | G222: =VLOOKUP(C:C,moi!A:D,5,FALSE) -> #N/A
A223: 573811 | B223: 7966010 | C223: B | D223: 1 | E223: =VLOOKUP(A:A,moi!A:A,1,FALSE) -> 573811 | F223: =VLOOKUP(B:B,moi!A:B,2,FALSE) -> #N/A | G223: =VLOOKUP(C:C,moi!A:D,5,FALSE) -> #N/A
A224: 561261 | B224: 8059010 | C224: A | D224: 1 | E224: =VLOOKUP(A:A,moi!A:A,1,FALSE) -> 561261 | F224: =VLOOKUP(B:B,moi!A:B,2,FALSE) -> #N/A | G224: =VLOOKUP(C:C,moi!A:D,5,FALSE) -> #N/A
A225: 552133 | B225: 7978010 | C225: B | D225: 1 | E225: =VLOOKUP(A:A,moi!A:A,1,FALSE) -> 552133 | F225: =VLOOKUP(B:B,moi!A:B,2,FALSE) -> #N/A | G225: =VLOOKUP(C:C,moi!A:D,5,FALSE) -> #N/A
A226: 567982 | B226: 8027010 | C226: A | D226: 1 | E226: =VLOOKUP(A:A,moi!A:A,1,FALSE) -> 567982 | F226: =VLOOKUP(B:B,moi!A:B,2,FALSE) -> #N/A | G226: =VLOOKUP(C:C,moi!A:D,5,FALSE) -> #N/A
A227: 568002 | B227: 8027020 | C227: B | D227: 1 | E227: =VLOOKUP(A:A,moi!A:A,1,FALSE) -> 568002 | F227: =VLOOKUP(B:B,moi!A:B,2,FALSE) -> #N/A | G227: =VLOOKUP(C:C,moi!A:D,5,FALSE) -> #N/A
A228: 552002 | B228: 8007010 | C228: A | D228: 1 | E228: =VLOOKUP(A:A,moi!A:A,1,FALSE) -> 552002 | F228: =VLOOKUP(B:B,moi!A:B,2,FALSE) -> #N/A | G228: =VLOOKUP(C:C,moi!A:D,5,FALSE) -> #N/A
A229: 567985 | B229: 7900010 | C229: B | D229: 1 | E229: =VLOOKUP(A:A,moi!A:A,1,FALSE) -> 567985 | F229: =VLOOKUP(B:B,moi!A:B,2,FALSE) -> #N/A | G229: =VLOOKUP(C:C,moi!A:D,5,FALSE) -> #N/A
A230: 567985 | B230: 7900020 | C230: A | D230: 1 | E230: =VLOOKUP(A:A,moi!A:A,1,FALSE) -> 567985 | F230: =VLOOKUP(B:B,moi!A:B,2,FALSE) -> #N/A | G230: =VLOOKUP(C:C,moi!A:D,5,FALSE) -> #N/A
A231: 573811 | B231: 7685010 | C231: B | D231: 1 | E231: =VLOOKUP(A:A,moi!A:A,1,FALSE) -> 573811 | F231: =VLOOKUP(B:B,moi!A:B,2,FALSE) -> #N/A | G231: =VLOOKUP(C:C,moi!A:D,5,FALSE) -> #N/A
A232: 561631 | B232: 8060010 | C232: A | D232: 1 | E232: =VLOOKUP(A:A,moi!A:A,1,FALSE) -> 561631 | F232: =VLOOKUP(B:B,moi!A:B,2,FALSE) -> #N/A | G232: =VLOOKUP(C:C,moi!A:D,5,FALSE) -> #N/A
A233: 566711 | B233: 8083010 | C233: B | D233: 1 | E233: =VLOOKUP(A:A,moi!A:A,1,FALSE) -> 566711 | F233: =VLOOKUP(B:B,moi!A:B,2,FALSE) -> #N/A | G233: =VLOOKUP(C:C,moi!A:D,5,FALSE) -> #N/A
... A241: 567986 | B241: 20004 | C241: B | D241: 2 | E241: =VLOOKUP(A:A,moi!A:A,1,FALSE) -> 567986 | F241: =VLOOKUP(B:B,moi!A:B,2,FALSE) -> #N/A | G241: =VLOOKUP(C:C,moi!A:D,5,FALSE) -> #N/A
C242: A | E242: =VLOOKUP(A:A,moi!A:A,1,FALSE) -> #N/A | F242: =VLOOKUP(B:B,moi!A:B,2,FALSE) -> #N/A | G242: =VLOOKUP(C:C,moi!A:D,5,FALSE) -> #N/A
C243: B | E243: =VLOOKUP(A:A,moi!A:A,1,FALSE) -> #N/A | F243: =VLOOKUP(B:B,moi!A:B,2,FALSE) -> #N/A | G243: =VLOOKUP(C:C,moi!A:D,5,FALSE) -> #N/A
C244: A | E244: =VLOOKUP(A:A,moi!A:A,1,FALSE) -> #N/A | F244: =VLOOKUP(B:B,moi!A:B,2,FALSE) -> #N/A | G244: =VLOOKUP(C:C,moi!A:D,5,FALSE) -> #N/A
C245: B | E245: =VLOOKUP(A:A,moi!A:A,1,FALSE) -> #N/A | F245: =VLOOKUP(B:B,moi!A:B,2,FALSE) -> #N/A | G245: =VLOOKUP(C:C,moi!A:D,5,FALSE) -> #N/A
C246: A | E246: =VLOOKUP(A:A,moi!A:A,1,FALSE) -> #N/A | F246: =VLOOKUP(B:B,moi!A:B,2,FALSE) -> #N/A | G246: =VLOOKUP(C:C,moi!A:D,5,FALSE) -> #N/A
C247: B | E247: =VLOOKUP(A:A,moi!A:A,1,FALSE) -> #N/A | F247: =VLOOKUP(B:B,moi!A:B,2,FALSE) -> #N/A | G247: =VLOOKUP(C:C,moi!A:D,5,FALSE) -> #N/A
C248: A | E248: =VLOOKUP(A:A,moi!A:A,1,FALSE) -> #N/A | F248: =VLOOKUP(B:B,moi!A:B,2,FALSE) -> #N/A | G248: =VLOOKUP(C:C,moi!A:D,5,FALSE) -> #N/A
C249: B | E249: =VLOOKUP(A:A,moi!A:A,1,FALSE) -> #N/A | F249: =VLOOKUP(B:B,moi!A:B,2,FALSE) -> #N/A | G249: =VLOOKUP(C:C,moi!A:D,5,FALSE) -> #N/A
C250: A | E250: =VLOOKUP(A:A,moi!A:A,1,FALSE) -> #N/A | F250: =VLOOKUP(B:B,moi!A:B,2,FALSE) -> #N/A | G250: =VLOOKUP(C:C,moi!A:D,5,FALSE) -> #N/A
C251: B | E251: =VLOOKUP(A:A,moi!A:A,1,FALSE) -> #N/A | F251: =VLOOKUP(B:B,moi!A:B,2,FALSE) -> #N/A | G251: =VLOOKUP(C:C,moi!A:D,5,FALSE) -> #N/A
C252: A | E252: =VLOOKUP(A:A,moi!A:A,1,FALSE) -> #N/A | F252: =VLOOKUP(B:B,moi!A:B,2,FALSE) -> #N/A | G252: =VLOOKUP(C:C,moi!A:D,5,FALSE) -> #N/A
C253: B | E253: =VLOOKUP(A:A,moi!A:A,1,FALSE) -> #N/A | F253: =VLOOKUP(B:B,moi!A:B,2,FALSE) -> #N/A | G253: =VLOOKUP(C:C,moi!A:D,5,FALSE) -> #N/A
... C431: B | E431: =VLOOKUP(A:A,moi!A:A,1,FALSE) -> #N/A | F431: =VLOOKUP(B:B,moi!A:B,2,FALSE) -> #N/A | G431: =VLOOKUP(C:C,moi!A:D,5,FALSE) -> #N/A
E432: =VLOOKUP(A:A,moi!A:A,1,FALSE) -> #N/A | F432: =VLOOKUP(B:B,moi!A:B,2,FALSE) -> #N/A | G432: =VLOOKUP(C:C,moi!A:D,5,FALSE) -> #N/A
E433: =VLOOKUP(A:A,moi!A:A,1,FALSE) -> #N/A | F433: =VLOOKUP(B:B,moi!A:B,2,FALSE) -> #N/A | G433: =VLOOKUP(C:C,moi!A:D,5,FALSE) -> #N/A
E434: =VLOOKUP(A:A,moi!A:A,1,FALSE) -> #N/A | F434: =VLOOKUP(B:B,moi!A:B,2,FALSE) -> #N/A | G434: =VLOOKUP(C:C,moi!A:D,5,FALSE) -> #N/A
E435: =VLOOKUP(A:A,moi!A:A,1,FALSE) -> #N/A | F435: =VLOOKUP(B:B,moi!A:B,2,FALSE) -> #N/A | G435: =VLOOKUP(C:C,moi!A:D,5,FALSE) -> #N/A
E436: =VLOOKUP(A:A,moi!A:A,1,FALSE) -> #N/A | F436: =VLOOKUP(B:B,moi!A:B,2,FALSE) -> #N/A | G436: =VLOOKUP(C:C,moi!A:D,5,FALSE) -> #N/A
E437: =VLOOKUP(A:A,moi!A:A,1,FALSE) -> #N/A | F437: =VLOOKUP(B:B,moi!A:B,2,FALSE) -> #N/A | G437: =VLOOKUP(C:C,moi!A:D,5,FALSE) -> #N/A
E438: =VLOOKUP(A:A,moi!A:A,1,FALSE) -> #N/A | F438: =VLOOKUP(B:B,moi!A:B,2,FALSE) -> #N/A | G438: =VLOOKUP(C:C,moi!A:D,5,FALSE) -> #N/A
E439: =VLOOKUP(A:A,moi!A:A,1,FALSE) -> #N/A | F439: =VLOOKUP(B:B,moi!A:B,2,FALSE) -> #N/A | G439: =VLOOKUP(C:C,moi!A:D,5,FALSE) -> #N/A
E440: =VLOOKUP(A:A,moi!A:A,1,FALSE) -> #N/A | F440: =VLOOKUP(B:B,moi!A:B,2,FALSE) -> #N/A | G440: =VLOOKUP(C:C,moi!A:D,5,FALSE) -> #N/A
E441: =VLOOKUP(A:A,moi!A:A,1,FALSE) -> #N/A | F441: =VLOOKUP(B:B,moi!A:B,2,FALSE) -> #N/A | G441: =VLOOKUP(C:C,moi!A:D,5,FALSE) -> #N/A
E442: =VLOOKUP(A:A,moi!A:A,1,FALSE) -> #N/A | F442: =VLOOKUP(B:B,moi!A:B,2,FALSE) -> #N/A | G442: =VLOOKUP(C:C,moi!A:D,5,FALSE) -> #N/A
E443: =VLOOKUP(A:A,moi!A:A,1,FALSE) -> #N/A | F443: =VLOOKUP(B:B,moi!A:B,2,FALSE) -> #N/A | G443: =VLOOKUP(C:C,moi!A:D,5,FALSE) -> #N/A
... E1612: =VLOOKUP(A:A,moi!A:A,1,FALSE) -> #N/A | F1612: =VLOOKUP(B:B,moi!A:B,2,FALSE) -> #N/A | G1612: =VLOOKUP(C:C,moi!A:D,5,FALSE) -> #N/A

Sheet moi
A1: Article | B1: Lot | C1: Qté en unité saisie | D1: Désignation article | E1: GCP STE X | F1: LOT STEX | G1: DESIGNATION STE X
A2: 552133 | B2: 8080010 | C2: 1 | D2: A | E2: 552133 | F2: =(TRIM(VLOOKUP(B:B,'PM TOOL'!$A:$B,2,FALSE))) -> #N/A | G2: =VLOOKUP(D:D,'PM TOOL'!A:C,3,FALSE) -> #N/A
A3: 560655 | B3: 8036030 | C3: 1 | D3: B | E3: 560655 | F3: =(TRIM(VLOOKUP(B:B,'PM TOOL'!A:B,2,FALSE))) -> #N/A | G3: =VLOOKUP(D:D,'PM TOOL'!A:C,3,FALSE) -> #N/A
A4: 560655 | B4: 8036010 | C4: 1 | D4: A | E4: 560655 | F4: =(TRIM(VLOOKUP(B:B,'PM TOOL'!A:B,2,FALSE))) -> #N/A | G4: =VLOOKUP(D:D,'PM TOOL'!A:C,3,FALSE) -> #N/A
A5: 560656 | B5: 8036020 | C5: 1 | D5: B | E5: 560656 | F5: =(TRIM(VLOOKUP(B:B,'PM TOOL'!A:B,2,FALSE))) -> #N/A | G5: =VLOOKUP(D:D,'PM TOOL'!A:C,3,FALSE) -> #N/A
A6: 567982 | B6: 8030010 | C6: 1 | D6: A | E6: 567982 | F6: =(TRIM(VLOOKUP(B:B,'PM TOOL'!A:B,2,FALSE))) -> #N/A | G6: =VLOOKUP(D:D,'PM TOOL'!A:C,3,FALSE) -> #N/A
A7: 568002 | B7: 8030020 | C7: 1 | D7: B | E7: 568002 | F7: =(TRIM(VLOOKUP(B:B,'PM TOOL'!A:B,2,FALSE))) -> #N/A | G7: =VLOOKUP(D:D,'PM TOOL'!A:C,3,FALSE) -> #N/A
A8: 552002 | B8: 8007010 | C8: 1 | D8: A | E8: 552002 | F8: =(TRIM(VLOOKUP(B:B,'PM TOOL'!A:B,2,FALSE))) -> #N/A | G8: =VLOOKUP(D:D,'PM TOOL'!A:C,3,FALSE) -> #N/A
A9: 561631 | B9: 8060010 | C9: 1 | D9: B | E9: 561631 | F9: =(TRIM(VLOOKUP(B:B,'PM TOOL'!A:B,2,FALSE))) -> #N/A | G9: =VLOOKUP(D:D,'PM TOOL'!A:C,3,FALSE) -> #N/A
A10: 566711 | B10: 8083010 | C10: 1 | D10: A | E10: 566711 | F10: =(TRIM(VLOOKUP(B:B,'PM TOOL'!A:B,2,FALSE))) -> #N/A | G10: =VLOOKUP(D:D,'PM TOOL'!A:C,3,FALSE) -> #N/A
A11: 567982 | B11: 8027010 | C11: 1 | D11: B | E11: 567982 | F11: =(TRIM(VLOOKUP(B:B,'PM TOOL'!A:B,2,FALSE))) -> #N/A | G11: =VLOOKUP(D:D,'PM TOOL'!A:C,3,FALSE) -> #N/A
A12: 568002 | B12: 8027020 | C12: 1 | D12: A | E12: 568002 | F12: =(TRIM(VLOOKUP(B:B,'PM TOOL'!A:B,2,FALSE))) -> #N/A | G12: =VLOOKUP(D:D,'PM TOOL'!A:C,3,FALSE) -> #N/A
A13: 570491 | B13: R201712 | C13: 1 | D13: B | E13: 570491 | F13: =(TRIM(VLOOKUP(B:B,'PM TOOL'!A:B,2,FALSE))) -> #N/A | G13: =VLOOKUP(D:D,'PM TOOL'!A:C,3,FALSE) -> #N/A
A14: 567973 | B14: 7895010 | C14: 1 | D14: A | E14: 567973 | F14: =(TRIM(VLOOKUP(B:B,'PM TOOL'!A:B,2,FALSE))) -> #N/A | G14: =VLOOKUP(D:D,'PM TOOL'!A:C,3,FALSE) -> #N/A
A15: 567973 | B15: 7895030 | C15: 1 | D15: B | E15: 567973 | F15: =(TRIM(VLOOKUP(B:B,'PM TOOL'!A:B,2,FALSE))) -> #N/A | G15: =VLOOKUP(D:D,'PM TOOL'!A:C,3,FALSE) -> #N/A
A16: 567974 | B16: 7895020 | C16: 1 | D16: A | E16: 567974 | F16: =(TRIM(VLOOKUP(B:B,'PM TOOL'!A:B,2,FALSE))) -> #N/A | G16: =VLOOKUP(D:D,'PM TOOL'!A:C,3,FALSE) -> #N/A
A17: 567985 | B17: 7983010 | C17: 1 | D17: B | E17: 567985 | F17: =(TRIM(VLOOKUP(B:B,'PM TOOL'!A:B,2,FALSE))) -> #N/A | G17: =VLOOKUP(D:D,'PM TOOL'!A:C,3,FALSE) -> #N/A
A18: 567985 | B18: 7900010 | C18: 1 | D18: A | E18: 567985 | F18: =(TRIM(VLOOKUP(B:B,'PM TOOL'!A:B,2,FALSE))) -> #N/A | G18: =VLOOKUP(D:D,'PM TOOL'!A:C,3,FALSE) -> #N/A
A19: 567985 | B19: 7900020 | C19: 1 | D19: B | E19: 567985 | F19: =(TRIM(VLOOKUP(B:B,'PM TOOL'!A:B,2,FALSE))) -> #N/A | G19: =VLOOKUP(D:D,'PM TOOL'!A:C,3,FALSE) -> #N/A
A20: 552133 | B20: 7978010 | C20: 1 | D20: A | E20: 552133 | F20: =(TRIM(VLOOKUP(B:B,'PM TOOL'!A:B,2,FALSE))) -> #N/A | G20: =VLOOKUP(D:D,'PM TOOL'!A:C,3,FALSE) -> #N/A
A21: 561261 | B21: 8059010 | C21: 1 | D21: B | E21: 561261 | F21: =(TRIM(VLOOKUP(B:B,'PM TOOL'!A:B,2,FALSE))) -> #N/A | G21: =VLOOKUP(D:D,'PM TOOL'!A:C,3,FALSE) -> #N/A
A22: 573811 | B22: 7966010 | C22: 1 | D22: A | E22: 573811 | F22: =(TRIM(VLOOKUP(B:B,'PM TOOL'!A:B,2,FALSE))) -> #N/A | G22: =VLOOKUP(D:D,'PM TOOL'!A:C,3,FALSE) -> #N/A
A23: 577804 | B23: 654119010 | C23: 1 | D23: B | E23: #N/A | F23: =(TRIM(VLOOKUP(B:B,'PM TOOL'!A:B,2,FALSE))) -> #N/A | G23: =VLOOKUP(D:D,'PM TOOL'!A:C,3,FALSE) -> #N/A
A24: 567998 | B24: 7965010 | C24: 1 | D24: A | E24: 567998 | F24: =(TRIM(VLOOKUP(B:B,'PM TOOL'!A:B,2,FALSE))) -> #N/A | G24: =VLOOKUP(D:D,'PM TOOL'!A:C,3,FALSE) -> #N/A
A25: 552133 | B25: 8043010 | C25: 1 | D25: B | E25: 552133 | F25: =(TRIM(VLOOKUP(B:B,'PM TOOL'!A:B,2,FALSE))) -> #N/A | G25: =VLOOKUP(D:D,'PM TOOL'!A:C,3,FALSE) -> #N/A
A26: 561242 | B26: 727129010 | C26: 1 | D26: A | E26: 561242 | F26: =(TRIM(VLOOKUP(B:B,'PM TOOL'!A:B,2,FALSE))) -> #N/A | G26: =VLOOKUP(D:D,'PM TOOL'!A:C,3,FALSE) -> #N/A
A27: 561245 | B27: 725147010 | C27: 1 | D27: B | E27: #N/A | F27: =(TRIM(VLOOKUP(B:B,'PM TOOL'!A:B,2,FALSE))) -> #N/A | G27: =VLOOKUP(D:D,'PM TOOL'!A:C,3,FALSE) -> #N/A
A28: 552133 | B28: 7994030 | C28: 1 | D28: A | E28: 552133 | F28: =(TRIM(VLOOKUP(B:B,'PM TOOL'!A:B,2,FALSE))) -> #N/A | G28: =VLOOKUP(D:D,'PM TOOL'!A:C,3,FALSE) -> #N/A
A29: 552133 | B29: 7994020 | C29: 1 | D29: B | E29: 552133 | F29: =(TRIM(VLOOKUP(B:B,'PM TOOL'!A:B,2,FALSE))) -> #N/A | G29: =VLOOKUP(D:D,'PM TOOL'!A:C,3,FALSE) -> #N/A
A30: 552133 | B30: 7994010 | C30: 1 | D30: A | E30: 552133 | F30: =(TRIM(VLOOKUP(B:B,'PM TOOL'!A:B,2,FALSE))) -> #N/A | G30: =VLOOKUP(D:D,'PM TOOL'!A:C,3,FALSE) -> #N/A
A31: 552133 | B31: 7988010 | C31: 1 | D31: B | E31: 552133 | F31: =(TRIM(VLOOKUP(B:B,'PM TOOL'!A:B,2,FALSE))) -> #N/A | G31: =VLOOKUP(D:D,'PM TOOL'!A:C,3,FALSE) -> #N/A
A32: 567985 | B32: 7769010 | C32: 1 | D32: A | E32: 567985 | F32: =(TRIM(VLOOKUP(B:B,'PM TOOL'!A:B,2,FALSE))) -> #N/A | G32: =VLOOKUP(D:D,'PM TOOL'!A:C,3,FALSE) -> #N/A
A33: 552133 | B33: 007984010G | C33: 1 | D33: B | E33: 552133 | F33: =(TRIM(VLOOKUP(B:B,'PM TOOL'!A:B,2,FALSE))) -> #N/A | G33: =VLOOKUP(D:D,'PM TOOL'!A:C,3,FALSE) -> #N/A
A34: 566711 | B34: 7980010 | C34: 1 | D34: A | E34: 566711 | F34: =(TRIM(VLOOKUP(B:B,'PM TOOL'!A:B,2,FALSE))) -> #N/A | G34: =VLOOKUP(D:D,'PM TOOL'!A:C,3,FALSE) -> #N/A
A35: 567973 | B35: 7895030 | C35: 1 | D35: B | E35: 567973 | F35: =(TRIM(VLOOKUP(B:B,'PM TOOL'!A:B,2,FALSE))) -> #N/A | G35: =VLOOKUP(D:D,'PM TOOL'!A:C,3,FALSE) -> #N/A
A36: 567973 | B36: 7895010 | C36: 1 | D36: A | E36: 567973 | F36: =(TRIM(VLOOKUP(B:B,'PM TOOL'!A:B,2,FALSE))) -> #N/A | G36: =VLOOKUP(D:D,'PM TOOL'!A:C,3,FALSE) -> #N/A
A37: 567974 | B37: 7895020 | C37: 1 | D37: B | E37: 567974 | F37: =(TRIM(VLOOKUP(B:B,'PM TOOL'!A:B,2,FALSE))) -> #N/A | G37: =VLOOKUP(D:D,'PM TOOL'!A:C,3,FALSE) -> #N/A
A38: 552171 | B38: 7974010 | C38: 1 | D38: A | E38: 552171 | F38: =(TRIM(VLOOKUP(B:B,'PM TOOL'!A:B,2,FALSE))) -> #N/A | G38: =VLOOKUP(D:D,'PM TOOL'!A:C,3,FALSE) -> #N/A
A39: 567985 | B39: 7983010 | C39: 1 | D39: B | E39: 567985 | F39: =(TRIM(VLOOKUP(B:B,'PM TOOL'!A:B,2,FALSE))) -> #N/A | G39: =VLOOKUP(D:D,'PM TOOL'!A:C,3,FALSE) -> #N/A
A40: 552133 | B40: 7968010 | C40: 1 | D40: A | E40: 552133 | F40: =(TRIM(VLOOKUP(B:B,'PM TOOL'!A:B,2,FALSE))) -> #N/A | G40: =VLOOKUP(D:D,'PM TOOL'!A:C,3,FALSE) -> #N/A
A41: 552133 | B41: 8006010 | C41: 1 | D41: B | E41: 552133 | F41: =(TRIM(VLOOKUP(B:B,'PM TOOL'!A:B,2,FALSE))) -> #N/A | G41: =VLOOKUP(D:D,'PM TOOL'!A:C,3,FALSE) -> #N/A
A42: 567985 | B42: 7735010 | C42: 1 | D42: A | E42: 567985 | F42: =(TRIM(VLOOKUP(B:B,'PM TOOL'!A:B,2,FALSE))) -> #N/A | G42: =VLOOKUP(D:D,'PM TOOL'!A:C,3,FALSE) -> #N/A
A43: 567985 | B43: 7654010 | C43: 1 | D43: B | E43: 567985 | F43: =(TRIM(VLOOKUP(B:B,'PM TOOL'!A:B,2,FALSE))) -> #N/A | G43: =VLOOKUP(D:D,'PM TOOL'!A:C,3,FALSE) -> #N/A
A44: 568019 | B44: 730260010 | C44: 1 | D44: A | E44: 568019 | F44: =(TRIM(VLOOKUP(B:B,'PM TOOL'!A:B,2,FALSE))) -> #N/A | G44: =VLOOKUP(D:D,'PM TOOL'!A:C,3,FALSE) -> #N/A
A45: 568021 | B45: 724464010 | C45: 1 | D45: B | E45: 568021 | F45: =(TRIM(VLOOKUP(B:B,'PM TOOL'!A:B,2,FALSE))) -> #N/A | G45: =VLOOKUP(D:D,'PM TOOL'!A:C,3,FALSE) -> #N/A
... A96: 552133 | B96: 7728020 | C96: 1 | D96: A | E96: 552133 | F96: =(TRIM(VLOOKUP(B:B,'PM TOOL'!A:B,2,FALSE))) -> #N/A | G96: =VLOOKUP(D:D,'PM TOOL'!A:C,3,FALSE) -> #N/A
A97: 552133 | B97: 7728010NC | C97: 1 | D97: B | E97: 552133 | F97: =(TRIM(VLOOKUP(B:B,'PM TOOL'!A:B,2,FALSE))) -> #N/A | G97: =VLOOKUP(D:D,'PM TOOL'!A:C,3,FALSE) -> #N/A
A98: 560631 | B98: 7711020 | C98: 1 | D98: A | E98: 560631 | F98: =(TRIM(VLOOKUP(B:B,'PM TOOL'!A:B,2,FALSE))) -> #N/A | G98: =VLOOKUP(D:D,'PM TOOL'!A:C,3,FALSE) -> #N/A
A99: 567985 | B99: 7649010 | C99: 1 | D99: B | E99: 567985 | F99: =(TRIM(VLOOKUP(B:B,'PM TOOL'!A:B,2,FALSE))) -> #N/A | G99: =VLOOKUP(D:D,'PM TOOL'!A:C,3,FALSE) -> #N/A
A100: 567985 | B100: 7649020 | C100: 1 | D100: A | E100: 567985 | F100: =(TRIM(VLOOKUP(B:B,'PM TOOL'!A:B,2,FALSE))) -> #N/A | G100: =VLOOKUP(D:D,'PM TOOL'!A:C,3,FALSE) -> #N/A
A101: 567998 | B101: 7624010 | C101: 1 | D101: B | E101: 567998 | F101: =(TRIM(VLOOKUP(B:B,'PM TOOL'!A:B,2,FALSE))) -> #N/A | G101: =VLOOKUP(D:D,'PM TOOL'!A:C,3,FALSE) -> #N/A
A102: 573811 | B102: 7685010 | C102: 1 | D102: A | E102: 573811 | F102: =(TRIM(VLOOKUP(B:B,'PM TOOL'!A:B,2,FALSE))) -> #N/A | G102: =VLOOKUP(D:D,'PM TOOL'!A:C,3,FALSE) -> #N/A
A103: 578191 | B103: 7707010 | C103: 1 | D103: B | E103: 578191 | F103: =(TRIM(VLOOKUP(B:B,'PM TOOL'!A:B,2,FALSE))) -> #N/A | G103: =VLOOKUP(D:D,'PM TOOL'!A:C,3,FALSE) -> #N/A
A104: 561242 | B104: 7729010 | C104: 1 | D104: A | E104: 561242 | F104: =(TRIM(VLOOKUP(B:B,'PM TOOL'!A:B,2,FALSE))) -> #N/A | G104: =VLOOKUP(D:D,'PM TOOL'!A:C,3,FALSE) -> #N/A
A105: 552127 | B105: 7686010 | C105: 1 | D105: B | E105: 552127 | F105: =(TRIM(VLOOKUP(B:B,'PM TOOL'!A:B,2,FALSE))) -> #N/A | G105: =VLOOKUP(D:D,'PM TOOL'!A:C,3,FALSE) -> #N/A
A106: 552133 | B106: 7714010 | C106: 1 | D106: A | E106: 552133 | F106: =(TRIM(VLOOKUP(B:B,'PM TOOL'!A:B,2,FALSE))) -> #N/A | G106: =VLOOKUP(D:D,'PM TOOL'!A:C,3,FALSE) -> #N/A
A107: 552133 | B107: 7668010 | C107: 1 | D107: B | E107: 552133 | F107: =(TRIM(VLOOKUP(B:B,'PM TOOL'!A:B,2,FALSE))) -> #N/A | G107: =VLOOKUP(D:D,'PM TOOL'!A:C,3,FALSE) -> #N/A
A108: 552133 | B108: 7626010 | C108: 1 | D108: A | E108: 552133 | F108: =(TRIM(VLOOKUP(B:B,'PM TOOL'!A:B,2,FALSE))) -> #N/A | G108: =VLOOKUP(D:D,'PM TOOL'!A:C,3,FALSE) -> #N/A
A109: 567985 | B109: 7683030 | C109: 1 | D109: B | E109: 567985 | F109: =(TRIM(VLOOKUP(B:B,'PM TOOL'!A:B,2,FALSE))) -> #N/A | G109: =VLOOKUP(D:D,'PM TOOL'!A:C,3,FALSE) -> #N/A
... A112: 567985 | B112: 7683040 | C112: 1 | D112: A | E112: 567985 | F112: =(TRIM(VLOOKUP(B:B,'PM TOOL'!A:B,2,FALSE))) -> #N/A | G112: =VLOOKUP(D:D,'PM TOOL'!A:C,3,FALSE) -> #N/A
A113: 561720 | B113: 739646010 | C113: 1 | D113: B | E113: #N/A | F113: =(TRIM(VLOOKUP(B:B,'PM TOOL'!A:B,2,FALSE))) -> #N/A | G113: =VLOOKUP(D:D,'PM TOOL'!A:C,3,FALSE) -> #N/A
A114: 551914 | B114: 722983010 | C114: 1 | D114: A | E114: 551914 | F114: =(TRIM(VLOOKUP(B:B,'PM TOOL'!A:B,2,FALSE))) -> #N/A | G114: =VLOOKUP(D:D,'PM TOOL'!A:C,3,FALSE) -> #N/A
A115: 567985 | B115: 7698010 | C115: 1 | D115: B | E115: 567985 | F115: =(TRIM(VLOOKUP(B:B,'PM TOOL'!A:B,2,FALSE))) -> #N/A | G115: =VLOOKUP(D:D,'PM TOOL'!A:C,3,FALSE) -> #N/A
A116: 552122 | B116: 733277020 | C116: 1 | D116: A | E116: 552122 | F116: =(TRIM(VLOOKUP(B:B,'PM TOOL'!A:B,2,FALSE))) -> #N/A | G116: =VLOOKUP(D:D,'PM TOOL'!A:C,3,FALSE) -> #N/A
A117: 567982 | B117: 7560010 | C117: 1 | D117: B | E117: 567982 | F117: =(TRIM(VLOOKUP(B:B,'PM TOOL'!A:B,2,FALSE))) -> #N/A | G117: =VLOOKUP(D:D,'PM TOOL'!A:C,3,FALSE) -> #N/A
A118: 567985 | B118: 7674030 | C118: 1 | D118: A | E118: 567985 | F118: =(TRIM(VLOOKUP(B:B,'PM TOOL'!A:B,2,FALSE))) -> #N/A | G118: =VLOOKUP(D:D,'PM TOOL'!A:C,3,FALSE) -> #N/A
A119: 567985 | B119: 7674040 | C119: 1 | D119: B | E119: 567985 | F119: =(TRIM(VLOOKUP(B:B,'PM TOOL'!A:B,2,FALSE))) -> #N/A | G119: =VLOOKUP(D:D,'PM TOOL'!A:C,3,FALSE) -> #N/A
A120: 567985 | B120: 7674010 | C120: 1 | D120: A | E120: 567985 | F120: =(TRIM(VLOOKUP(B:B,'PM TOOL'!A:B,2,FALSE))) -> #N/A | G120: =VLOOKUP(D:D,'PM TOOL'!A:C,3,FALSE) -> #N/A
A121: 567985 | B121: 7674020 | C121: 1 | D121: B | E121: 567985 | F121: =(TRIM(VLOOKUP(B:B,'PM TOOL'!A:B,2,FALSE))) -> #N/A | G121: =VLOOKUP(D:D,'PM TOOL'!A:C,3,FALSE) -> #N/A
A122: 568021 | B122: 726164010 | C122: 1 | D122: A | E122: 568021 | F122: =(TRIM(VLOOKUP(B:B,'PM TOOL'!A:B,2,FALSE))) -> #N/A | G122: =VLOOKUP(D:D,'PM TOOL'!A:C,3,FALSE) -> #N/A
A123: 568021 | B123: 726164010 | C123: 1 | D123: B | E123: 568021 | F123: =(TRIM(VLOOKUP(B:B,'PM TOOL'!A:B,2,FALSE))) -> #N/A | G123: =VLOOKUP(D:D,'PM TOOL'!A:C,3,FALSE) -> #N/A
A124: 552133 | B124: 7633010 | C124: 1 | D124: A | E124: 552133 | F124: =(TRIM(VLOOKUP(B:B,'PM TOOL'!A:B,2,FALSE))) -> #N/A | G124: =VLOOKUP(D:D,'PM TOOL'!A:C,3,FALSE) -> #N/A
A125: 552150 | B125: 7651010 | C125: 1 | D125: B | E125: 552150 | F125: =(TRIM(VLOOKUP(B:B,'PM TOOL'!A:B,2,FALSE))) -> #N/A | G125: =VLOOKUP(D:D,'PM TOOL'!A:C,3,FALSE) -> #N/A
... A130: 552165 | B130: 1 | C130: 1 | D130: A | E130: 552165 | F130: =(TRIM(VLOOKUP(B:B,'PM TOOL'!A:B,2,FALSE))) -> #N/A | G130: =VLOOKUP(D:D,'PM TOOL'!A:C,3,FALSE) -> #N/A
A131: 561253 | B131: 733293010 | C131: 1 | D131: B | E131: #N/A | F131: =(TRIM(VLOOKUP(B:B,'PM TOOL'!A:B,2,FALSE))) -> #N/A | G131: =VLOOKUP(D:D,'PM TOOL'!A:C,3,FALSE) -> #N/A
A132: 567982 | B132: 7628010 | C132: 1 | D132: A | E132: 567982 | F132: =(TRIM(VLOOKUP(B:B,'PM TOOL'!A:B,2,FALSE))) -> #N/A | G132: =VLOOKUP(D:D,'PM TOOL'!A:C,3,FALSE) -> #N/A
A133: 567982 | B133: 7479010 | C133: 1 | D133: B | E133: 567982 | F133: =(TRIM(VLOOKUP(B:B,'PM TOOL'!A:B,2,FALSE))) -> #N/A | G133: =VLOOKUP(D:D,'PM TOOL'!A:C,3,FALSE) -> #N/A
A134: 567982 | B134: 7490010 | C134: 1 | D134: A | E134: 567982 | F134: =(TRIM(VLOOKUP(B:B,'PM TOOL'!A:B,2,FALSE))) -> #N/A | G134: =VLOOKUP(D:D,'PM TOOL'!A:C,3,FALSE) -> #N/A
A135: 567983 | B135: 7490020 | C135: 1 | D135: B | E135: 567983 | F135: =(TRIM(VLOOKUP(B:B,'PM TOOL'!A:B,2,FALSE))) -> #N/A | G135: =VLOOKUP(D:D,'PM TOOL'!A:C,3,FALSE) -> #N/A
A136: 567983 | B136: 7628020 | C136: 1 | D136: A | E136: 567983 | F136: =(TRIM(VLOOKUP(B:B,'PM TOOL'!A:B,2,FALSE))) -> #N/A | G136: =VLOOKUP(D:D,'PM TOOL'!A:C,3,FALSE) -> #N/A
A137: 567985 | B137: 7489040 | C137: 1 | D137: B | E137: 567985 | F137: =(TRIM(VLOOKUP(B:B,'PM TOOL'!A:B,2,FALSE))) -> #N/A | G137: =VLOOKUP(D:D,'PM TOOL'!A:C,3,FALSE) -> #N/A
A138: 567985 | B138: 7489010 | C138: 1 | D138: A | E138: 567985 | F138: =(TRIM(VLOOKUP(B:B,'PM TOOL'!A:B,2,FALSE))) -> #N/A | G138: =VLOOKUP(D:D,'PM TOOL'!A:C,3,FALSE) -> #N/A
A139: 567985 | B139: 7489020 | C139: 1 | D139: B | E139: 567985 | F139: =(TRIM(VLOOKUP(B:B,'PM TOOL'!A:B,2,FALSE))) -> #N/A | G139: =VLOOKUP(D:D,'PM TOOL'!A:C,3,FALSE) -> #N/A
A140: 567985 | B140: 7489030 | C140: 1 | D140: A | E140: 567985 | F140: =(TRIM(VLOOKUP(B:B,'PM TOOL'!A:B,2,FALSE))) -> #N/A | G140: =VLOOKUP(D:D,'PM TOOL'!A:C,3,FALSE) -> #N/A
A141: 568002 | B141: 7479020 | C141: 1 | D141: B | E141: 568002 | F141: =(TRIM(VLOOKUP(B:B,'PM TOOL'!A:B,2,FALSE))) -> #N/A | G141: =VLOOKUP(D:D,'PM TOOL'!A:C,3,FALSE) -> #N/A
A142: 568021 | B142: 7588010 | C142: 1 | D142: A | E142: 568021 | F142: =(TRIM(VLOOKUP(B:B,'PM TOOL'!A:B,2,FALSE))) -> #N/A | G142: =VLOOKUP(D:D,'PM TOOL'!A:C,3,FALSE) -> #N/A
A143: 568022 | B143: 7638010 | C143: 1 | D143: B | E143: 568022 | F143: =(TRIM(VLOOKUP(B:B,'PM TOOL'!A:B,2,FALSE))) -> #N/A | G143: =VLOOKUP(D:D,'PM TOOL'!A:C,3,FALSE) -> #N/A
... A160: 568002 | B160: 7478020 | C160: 1 | D160: A | E160: 568002 | F160: =(TRIM(VLOOKUP(B:B,'PM TOOL'!A:B,2,FALSE))) -> #N/A | G160: =VLOOKUP(D:D,'PM TOOL'!A:C,3,FALSE) -> #N/A
A161: 573390 | B161: 980891010 | C161: 1 | D161: B | E161: #N/A | F161: =(TRIM(VLOOKUP(B:B,'PM TOOL'!A:B,2,FALSE))) -> #N/A | G161: =VLOOKUP(D:D,'PM TOOL'!A:C,3,FALSE) -> #N/A
A162: 573390 | B162: 20001 | C162: 1 | D162: A | E162: #N/A | F162: =(TRIM(VLOOKUP(B:B,'PM TOOL'!A:B,2,FALSE))) -> #N/A | G162: =VLOOKUP(D:D,'PM TOOL'!A:C,3,FALSE) -> #N/A
A163: 567985 | B163: 7430040 | C163: 1 | D163: B | E163: 567985 | F163: =(TRIM(VLOOKUP(B:B,'PM TOOL'!A:B,2,FALSE))) -> #N/A | G163: =VLOOKUP(D:D,'PM TOOL'!A:C,3,FALSE) -> #N/A
A164: 567985 | B164: 7430010 | C164: 1 | D164: A | E164: 567985 | F164: =(TRIM(VLOOKUP(B:B,'PM TOOL'!A:B,2,FALSE))) -> #N/A | G164: =VLOOKUP(D:D,'PM TOOL'!A:C,3,FALSE) -> #N/A
A165: 567985 | B165: 7430050 | C165: 1 | D165: B | E165: 567985 | F165: =(TRIM(VLOOKUP(B:B,'PM TOOL'!A:B,2,FALSE))) -> #N/A | G165: =VLOOKUP(D:D,'PM TOOL'!A:C,3,FALSE) -> #N/A
A166: 567985 | B166: 7430020 | C166: 1 | D166: A | E166: 567985 | F166: =(TRIM(VLOOKUP(B:B,'PM TOOL'!A:B,2,FALSE))) -> #N/A | G166: =VLOOKUP(D:D,'PM TOOL'!A:C,3,FALSE) -> #N/A
A167: 567985 | B167: 7430030 | C167: 1 | D167: B | E167: 567985 | F167: =(TRIM(VLOOKUP(B:B,'PM TOOL'!A:B,2,FALSE))) -> #N/A | G167: =VLOOKUP(D:D,'PM TOOL'!A:C,3,FALSE) -> #N/A
A168: 552133 | B168: 7573010 | C168: 1 | D168: A | E168: 552133 | F168: =(TRIM(VLOOKUP(B:B,'PM TOOL'!A:B,2,FALSE))) -> #N/A | G168: =VLOOKUP(D:D,'PM TOOL'!A:C,3,FALSE) -> #N/A
A169: 552165 | B169: 1 | C169: 1 | D169: B | E169: 552165 | F169: =(TRIM(VLOOKUP(B:B,'PM TOOL'!A:B,2,FALSE))) -> #N/A | G169: =VLOOKUP(D:D,'PM TOOL'!A:C,3,FALSE) -> #N/A
A170: 567973 | B170: 7545030 | C170: 1 | D170: A | E170: 567973 | F170: =(TRIM(VLOOKUP(B:B,'PM TOOL'!A:B,2,FALSE))) -> #N/A | G170: =VLOOKUP(D:D,'PM TOOL'!A:C,3,FALSE) -> #N/A
A171: 567973 | B171: 7545010 | C171: 1 | D171: B | E171: 567973 | F171: =(TRIM(VLOOKUP(B:B,'PM TOOL'!A:B,2,FALSE))) -> #N/A | G171: =VLOOKUP(D:D,'PM TOOL'!A:C,3,FALSE) -> #N/A
A172: 567974 | B172: 7545020 | C172: 1 | D172: A | E172: 567974 | F172: =(TRIM(VLOOKUP(B:B,'PM TOOL'!A:B,2,FALSE))) -> #N/A | G172: =VLOOKUP(D:D,'PM TOOL'!A:C,3,FALSE) -> #N/A
...
