Workbook

Sheet Feuil13
A3: Somme de wop_qaccsais | B3: Étiquettes de colonnes
A4: Étiquettes de lignes | B4: 3 | C4: 5 | D4: 6 | E4: 7 | F4: 8 | G4: 9 | H4: 10 | I4: 11 | J4: 12 | K4: 13 | L4: 14 | M4: 15 | N4: 16 | O4: 17 | P4: 18 | Q4: 19 | R4: 20 | S4: 21 | T4: 22 | U4: 23 | V4: 24 | W4: 25 | X4: 26 | Y4: 27 | Z4: 28 | AA4: 29 | AB4: 34 | AC4: 35 | AD4: 40 | AE4: 42 | AF4: 43 | AG4: 44 | AH4: (vide) | AI4: 38 | AJ4: 37 | AK4: 36 | AL4: Total général
A5: C1004 OUTIL DE FORGE | G5: 1050 | M5: 1470 | AL5: 2520
A6: C1005 Outil de forge | N6: 2000 | R6: 2000 | AL6: 4000
A7: C10-1 OUTIL DE FORGE | N7: 300 | AL7: 300
A8: C1023 OUT DE FORGE | I8: 52 | K8: 52 | AL8: 104
A9: C1024A - OUTIL DE FORGE | E9: 52 | H9: 52 | AL9: 104
A10: C1031 OUTIL DE FORGE | U10: 450 | Y10: 300 | AL10: 750
A11: C1032C - OUTIL DE FORGE Appl+Ebauche | M11: 200 | AL11: 200
A12: C1050B OUTIL DE FORGE | N12: 2140 | AL12: 2140
A13: C1051 OUTIL DE FORGE | M13: 2440 | AL13: 2440
A14: C1063A - OUTIL DE FORGE:Corps Manille DROITE Dia:6 (Axe imperdable) | M14: 3000 | AL14: 3000
A15: C1063B - OUTIL DE FORGE | W15: 3000 | AL15: 3000
A16: C1063C OUTIL DE FORGE Eb+Fin | N16: 50 | AL16: 50
A17: C1063D OUTIL DE FORGE | L17: 300 | AL17: 300
A18: C1064B - OUTIL DE FORGE Finition | N18: 200 | AL18: 200
A19: C1075A OUTIL DE FORGE | R19: 550 | AL19: 550
A20: C1077W2 - OUTIL DE FORGE | AE20: 44000 | AL20: 44000
A21: C107A OUTIL DE FORGE | V21: 1000 | AL21: 1000
A22: C1085A OUTIL DE FORGE | L22: 1050 | N22: 637 | Z22: 1050 | AL22: 2737
A23: C1085B OUTIL DE FORGE | M23: 300 | N23: 250 | P23: 300 | AL23: 850
A24: C1091A OUTIL DE FORGE EBAUCHE | AA24: 200 | AL24: 200
A25: C1091A OUTIL DE FORGE FINITION | AC25: 200 | AL25: 200
A26: C110 - OUTIL DE FORGE Eb+Fin | N26: 3000 | AL26: 3000
A27: C1100B OUTIL DE FORGE | Z27: 500 | AL27: 500
A28: C111 OUTIL DE FORGE | J28: 510 | L28: 3010 | Y28: 500 | AL28: 4020
A29: C1121 OUTIL DE FORGE | AH29: 525 | AL29: 525
A30: C1124 OUTIL DE FORGE | F30: 52 | J30: 52 | AL30: 104
A31: C1132 OUTIL DE FORGE | Q31: 2000 | AL31: 2000
A32: C1140W2 OUTIL DE FORGE | M32: 2100 | AL32: 2100
A33: C1148 OUTIL FORGE | J33: 1000 | AL33: 1000
A34: C1156A OUTIL DE FORGE | T34: 1440 | AL34: 1440
A35: C1156B OUTIL DE FORGE | O35: 1500 | AL35: 1500
A36: C1170A - OUTIL DE FORGE | N36: 1500 | U36: 1500 | AL36: 3000
A37: C1170W2 - OUTIL DE FORGE | P37: 62 | Q37: 62 | AL37: 124
A38: C1176B - OUTIL DE FORGE | L38: 500 | AL38: 500
A39: C118 - OUTIL DE FORGE Eb+Fin | G39: 3000 | Y39: 3000 | AL39: 6000
A40: C1182 OUTIL DE FORGE | S40: 3150 | AL40: 3150
A41: C1197 - OUTIL DE FORGE CORPS MANILLE LONGUE D.4 | O41: 5200 | AL41: 5200
A42: C1198 - OUTIL DE FORGE CORPS MANILLE LONGUE D.5 | J42: 4000 | X42: 4000 | AL42: 8000
...

Sheet Feuil1
A1: wob_codecomposant | B1: wop_dateacc | C1: wop_etatphase | D1: wop_ligneordre | E1: ga_familleniv3 | F1: wop_codearticle | G1: ga_libelle | H1: libcomposant | I1: wop_qaccsais | J1: wop_opecirc | K1: N° Semaine | M1: IMMAT 1 | O1: IMMAT 2 | P1: IMMAT 3 | Q1: IMMAT 4 | R1: IMMAT 5 | S1: IMMAT 6 | T1: IMMAT 7 | X1: 34
A2: 3390150012_04 | B2: 45058 | C2: DEC | D2: 151195 | E2: IND | F2: 3390150012 | G2: EBAUCHE DE DOUBLE ETRIER LEBAUCHE 25803 | H2: C982B OUTIL DE FORGE | I2: 630 | J2: 130 | K2: =_xlfn.ISOWEEKNUM(Tableau_Lancer_la_requête_à_partir_de_CEGID[[#This Row],[wop_dateacc]]) -> 19 | M2: =IF(ISNA(VLOOKUP(Tableau_Lancer_la_requête_à_partir_de_CEGID[[#This Row],[wob_codecomposant]]&" N°1",Feuil2!D:E,2,FALSE)),"",(VLOOKUP(Tableau_Lancer_la_requête_à_partir_de_CEGID[[#This Row],[wob_codecomposant]]&" N°1",Feuil2!D:E,2,FALSE))) -> 012616 | N2: =IF(OR(VLOOKUP(M2,Feuil2!E:F,2,FALSE)>1,VLOOKUP(Feuil1!M2,Feuil2!E:I,4,)+7<Tableau_Lancer_la_requête_à_partir_de_CEGID[[#This Row],[wop_dateacc]]),Feuil1!M2,"") -> 012616 | O2: =IF(ISNA(VLOOKUP(Tableau_Lancer_la_requête_à_partir_de_CEGID[[#This Row],[wob_codecomposant]]&" N°2",Feuil2!D:E,2,FALSE)),"",(VLOOKUP(Tableau_Lancer_la_requête_à_partir_de_CEGID[[#This Row],[wob_codecomposant]]&" N°2",Feuil2!D:E,2,FALSE))) -> 023018 | P2: =IF(ISNA(VLOOKUP(Tableau_Lancer_la_requête_à_partir_de_CEGID[[#This Row],[wob_codecomposant]]&" N°3",Feuil2!D:E,2,FALSE)),"",(VLOOKUP(Tableau_Lancer_la_requête_à_partir_de_CEGID[[#This Row],[wob_codecomposant]]&" N°3",Feuil2!D:E,2,FALSE))) | Q2: =IF(ISNA(VLOOKUP(Tableau_Lancer_la_requête_à_partir_de_CEGID[[#This Row],[wob_codecomposant]]&" N°4",Feuil2!D:E,2,FALSE)),"",(VLOOKUP(Tableau_Lancer_la_requête_à_partir_de_CEGID[[#This Row],[wob_codecomposant]]&" N°4",Feuil2!D:E,2,FALSE))) | R2: =IF(ISNA(VLOOKUP(Tableau_Lancer_la_requête_à_partir_de_CEGID[[#This Row],[wob_codecomposant]]&" N°5",Feuil2!D:E,2,FALSE)),"",(VLOOKUP(Tableau_Lancer_la_requête_à_partir_de_CEGID[[#This Row],[wob_codecomposant]]&" N°5",Feuil2!D:E,2,FALSE))) | S2: =IF(ISNA(VLOOKUP(Tableau_Lancer_la_requête_à_partir_de_CEGID[[#This Row],[wob_codecomposant]]&" N°6",Feuil2!D:E,2,FALSE)),"",(VLOOKUP(Tableau_Lancer_la_requête_à_partir_de_CEGID[[#This Row],[wob_codecomposant]]&" N°16",Feuil2!D:E,2,FALSE))) | T2: =IF(ISNA(VLOOKUP(Tableau_Lancer_la_requête_à_partir_de_CEGID[[#This Row],[wob_codecomposant]]&" N°7",Feuil2!D:E,2,FALSE)),"",(VLOOKUP(Tableau_Lancer_la_requête_à_partir_de_CEGID[[#This Row],[wob_codecomposant]]&" N°7",Feuil2!D:E,2,FALSE))) | U2: =MID(Tableau_Lancer_la_requête_à_partir_de_CEGID[[#This Row],[libcomposant]],1,5) -> C982B | V2: =COUNTIF(U2:U369,-1) -> 0 | X2: 368
A3: 3390150013_04 | B3: 45057 | C3: DEC | D3: 151200 | E3: IND | F3: 3390150013 | G3: EBAUCHE DE VIS A OEIL ART. LEBAUCHE 25802 | H3: C982B OUTIL DE FORGE | I3: 210 | J3: 130 | K3: =_xlfn.ISOWEEKNUM(Tableau_Lancer_la_requête_à_partir_de_CEGID[[#This Row],[wop_dateacc]]) -> 19 | M3: =IF(ISNA(VLOOKUP(Tableau_Lancer_la_requête_à_partir_de_CEGID[[#This Row],[wob_codecomposant]]&" N°1",Feuil2!D:E,2,FALSE)),"",(VLOOKUP(Tableau_Lancer_la_requête_à_partir_de_CEGID[[#This Row],[wob_codecomposant]]&" N°1",Feuil2!D:E,2,FALSE))) -> 012615 | N3: =IF(OR(VLOOKUP(M3,Feuil2!E:F,2,FALSE)>1,VLOOKUP(Feuil1!M3,Feuil2!E:I,4,)+7<Tableau_Lancer_la_requête_à_partir_de_CEGID[[#This Row],[wop_dateacc]]),Feuil1!M3,"") -> 012615 | O3: =IF(ISNA(VLOOKUP(Tableau_Lancer_la_requête_à_partir_de_CEGID[[#This Row],[wob_codecomposant]]&" N°2",Feuil2!D:E,2,FALSE)),"",(VLOOKUP(Tableau_Lancer_la_requête_à_partir_de_CEGID[[#This Row],[wob_codecomposant]]&" N°2",Feuil2!D:E,2,FALSE))) -> 020016 | P3: =IF(ISNA(VLOOKUP(Tableau_Lancer_la_requête_à_partir_de_CEGID[[#This Row],[wob_codecomposant]]&" N°3",Feuil2!D:E,2,FALSE)),"",(VLOOKUP(Tableau_Lancer_la_requête_à_partir_de_CEGID[[#This Row],[wob_codecomposant]]&" N°3",Feuil2!D:E,2,FALSE))) | Q3: =IF(ISNA(VLOOKUP(Tableau_Lancer_la_requête_à_partir_de_CEGID[[#This Row],[wob_codecomposant]]&" N°4",Feuil2!D:E,2,FALSE)),"",(VLOOKUP(Tableau_Lancer_la_requête_à_partir_de_CEGID[[#This Row],[wob_codecomposant]]&" N°4",Feuil2!D:E,2,FALSE))) | R3: =IF(ISNA(VLOOKUP(Tableau_Lancer_la_requête_à_partir_de_CEGID[[#This Row],[wob_codecomposant]]&" N°5",Feuil2!D:E,2,FALSE)),"",(VLOOKUP(Tableau_Lancer_la_requête_à_partir_de_CEGID[[#This Row],[wob_codecomposant]]&" N°5",Feuil2!D:E,2,FALSE))) | S3: =IF(ISNA(VLOOKUP(Tableau_Lancer_la_requête_à_partir_de_CEGID[[#This Row],[wob_codecomposant]]&" N°6",Feuil2!D:E,2,FALSE)),"",(VLOOKUP(Tableau_Lancer_la_requête_à_partir_de_CEGID[[#This Row],[wob_codecomposant]]&" N°16",Feuil2!D:E,2,FALSE))) | T3: =IF(ISNA(VLOOKUP(Tableau_Lancer_la_requête_à_partir_de_CEGID[[#This Row],[wob_codecomposant]]&" N°7",Feuil2!D:E,2,FALSE)),"",(VLOOKUP(Tableau_Lancer_la_requête_à_partir_de_CEGID[[#This Row],[wob_codecomposant]]&" N°7",Feuil2!D:E,2,FALSE))) | U3: =MID(Tableau_Lancer_la_requête_à_partir_de_CEGID[[#This Row],[libcomposant]],1,5) -> C982B | X3: =X1/X2 -> 0.092391304
A4: C1085A | B4: 45019 | C4: DEC | D4: 150948 | E4: IND | F4: 3390150108 | G4: EBAUCHE DE VIS EN TE LEBAUCHE2412501 | H4: C1085A OUTIL DE FORGE | I4: 1050 | J4: 120 | K4: =_xlfn.ISOWEEKNUM(Tableau_Lancer_la_requête_à_partir_de_CEGID[[#This Row],[wop_dateacc]]) -> 14 | M4: =IF(ISNA(VLOOKUP(Tableau_Lancer_la_requête_à_partir_de_CEGID[[#This Row],[wob_codecomposant]]&" N°1",Feuil2!D:E,2,FALSE)),"",(VLOOKUP(Tableau_Lancer_la_requête_à_partir_de_CEGID[[#This Row],[wob_codecomposant]]&" N°1",Feuil2!D:E,2,FALSE))) -> 005116 | N4: =IF(OR(VLOOKUP(M4,Feuil2!E:F,2,FALSE)>1,VLOOKUP(Feuil1!M4,Feuil2!E:I,4,)+7<Tableau_Lancer_la_requête_à_partir_de_CEGID[[#This Row],[wop_dateacc]]),Feuil1!M4,"") -> 005116 | O4: =IF(ISNA(VLOOKUP(Tableau_Lancer_la_requête_à_partir_de_CEGID[[#This Row],[wob_codecomposant]]&" N°2",Feuil2!D:E,2,FALSE)),"",(VLOOKUP(Tableau_Lancer_la_requête_à_partir_de_CEGID[[#This Row],[wob_codecomposant]]&" N°2",Feuil2!D:E,2,FALSE))) -> 029219 | P4: =IF(ISNA(VLOOKUP(Tableau_Lancer_la_requête_à_partir_de_CEGID[[#This Row],[wob_codecomposant]]&" N°3",Feuil2!D:E,2,FALSE)),"",(VLOOKUP(Tableau_Lancer_la_requête_à_partir_de_CEGID[[#This Row],[wob_codecomposant]]&" N°3",Feuil2!D:E,2,FALSE))) -> 029916 | Q4: =IF(ISNA(VLOOKUP(Tableau_Lancer_la_requête_à_partir_de_CEGID[[#This Row],[wob_codecomposant]]&" N°4",Feuil2!D:E,2,FALSE)),"",(VLOOKUP(Tableau_Lancer_la_requête_à_partir_de_CEGID[[#This Row],[wob_codecomposant]]&" N°4",Feuil2!D:E,2,FALSE))) | R4: =IF(ISNA(VLOOKUP(Tableau_Lancer_la_requête_à_partir_de_CEGID[[#This Row],[wob_codecomposant]]&" N°5",Feuil2!D:E,2,FALSE)),"",(VLOOKUP(Tableau_Lancer_la_requête_à_partir_de_CEGID[[#This Row],[wob_codecomposant]]&" N°5",Feuil2!D:E,2,FALSE))) | S4: =IF(ISNA(VLOOKUP(Tableau_Lancer_la_requête_à_partir_de_CEGID[[#This Row],[wob_codecomposant]]&" N°6",Feuil2!D:E,2,FALSE)),"",(VLOOKUP(Tableau_Lancer_la_requête_à_partir_de_CEGID[[#This Row],[wob_codecomposant]]&" N°16",Feuil2!D:E,2,FALSE))) | T4: =IF(ISNA(VLOOKUP(Tableau_Lancer_la_requête_à_partir_de_CEGID[[#This Row],[wob_codecomposant]]&" N°7",Feuil2!D:E,2,FALSE)),"",(VLOOKUP(Tableau_Lancer_la_requête_à_partir_de_CEGID[[#This Row],[wob_codecomposant]]&" N°7",Feuil2!D:E,2,FALSE))) | U4: =MID(Tableau_Lancer_la_requête_à_partir_de_CEGID[[#This Row],[libcomposant]],1,5) -> C1085
A5: C2046 | B5: 44973 | C5: DEC | D5: 151198 | E5: IND | F5: 3390150107 | G5: EBAUCHE DE TOURILLON LEBAUCHE2425201 | H5: C2046 OUTIL DE FORGE | I5: 580 | J5: 130 | K5: =_xlfn.ISOWEEKNUM(Tableau_Lancer_la_requête_à_partir_de_CEGID[[#This Row],[wop_dateacc]]) -> 7 | M5: =IF(ISNA(VLOOKUP(Tableau_Lancer_la_requête_à_partir_de_CEGID[[#This Row],[wob_codecomposant]]&" N°1",Feuil2!D:E,2,FALSE)),"",(VLOOKUP(Tableau_Lancer_la_requête_à_partir_de_CEGID[[#This Row],[wob_codecomposant]]&" N°1",Feuil2!D:E,2,FALSE))) -> 011619 | N5: =IF(OR(VLOOKUP(M5,Feuil2!E:F,2,FALSE)>1,VLOOKUP(Feuil1!M5,Feuil2!E:I,4,)+7<Tableau_Lancer_la_requête_à_partir_de_CEGID[[#This Row],[wop_dateacc]]),Feuil1!M5,"") -> 011619 | O5: =IF(ISNA(VLOOKUP(Tableau_Lancer_la_requête_à_partir_de_CEGID[[#This Row],[wob_codecomposant]]&" N°2",Feuil2!D:E,2,FALSE)),"",(VLOOKUP(Tableau_Lancer_la_requête_à_partir_de_CEGID[[#This Row],[wob_codecomposant]]&" N°2",Feuil2!D:E,2,FALSE))) -> 024416 | P5: =IF(ISNA(VLOOKUP(Tableau_Lancer_la_requête_à_partir_de_CEGID[[#This Row],[wob_codecomposant]]&" N°3",Feuil2!D:E,2,FALSE)),"",(VLOOKUP(Tableau_Lancer_la_requête_à_partir_de_CEGID[[#This Row],[wob_codecomposant]]&" N°3",Feuil2!D:E,2,FALSE))) | Q5: =IF(ISNA(VLOOKUP(Tableau_Lancer_la_requête_à_partir_de_CEGID[[#This Row],[wob_codecomposant]]&" N°4",Feuil2!D:E,2,FALSE)),"",(VLOOKUP(Tableau_Lancer_la_requête_à_partir_de_CEGID[[#This Row],[wob_codecomposant]]&" N°4",Feuil2!D:E,2,FALSE))) | R5: =IF(ISNA(VLOOKUP(Tableau_Lancer_la_requête_à_partir_de_CEGID[[#This Row],[wob_codecomposant]]&" N°5",Feuil2!D:E,2,FALSE)),"",(VLOOKUP(Tableau_Lancer_la_requête_à_partir_de_CEGID[[#This Row],[wob_codecomposant]]&" N°5",Feuil2!D:E,2,FALSE))) | S5: =IF(ISNA(VLOOKUP(Tableau_Lancer_la_requête_à_partir_de_CEGID[[#This Row],[wob_codecomposant]]&" N°6",Feuil2!D:E,2,FALSE)),"",(VLOOKUP(Tableau_Lancer_la_requête_à_partir_de_CEGID[[#This Row],[wob_codecomposant]]&" N°16",Feuil2!D:E,2,FALSE))) | T5: =IF(ISNA(VLOOKUP(Tableau_Lancer_la_requête_à_partir_de_CEGID[[#This Row],[wob_codecomposant]]&" N°7",Feuil2!D:E,2,FALSE)),"",(VLOOKUP(Tableau_Lancer_la_requête_à_partir_de_CEGID[[#This Row],[wob_codecomposant]]&" N°7",Feuil2!D:E,2,FALSE))) | U5: =MID(Tableau_Lancer_la_requête_à_partir_de_CEGID[[#This Row],[libcomposant]],1,5) -> C2046
A6: 1250160003_04 | B6: 44869 | C6: DEC | D6: 149061 | E6: IND | F6: 1250160003 | G6: BOUCLE D'ACCROCHAGE 90008441 | H6: C77A OUTIL FORGE plaquettes classique | I6: 2100 | J6: 130 | K6: =_xlfn.ISOWEEKNUM(Tableau_Lancer_la_requête_à_partir_de_CEGID[[#This Row],[wop_dateacc]]) -> 44 | M6: =IF(ISNA(VLOOKUP(Tableau_Lancer_la_requête_à_partir_de_CEGID[[#This Row],[wob_codecomposant]]&" N°1",Feuil2!D:E,2,FALSE)),"",(VLOOKUP(Tableau_Lancer_la_requête_à_partir_de_CEGID[[#This Row],[wob_codecomposant]]&" N°1",Feuil2!D:E,2,FALSE))) -> 010418 | N6: =IF(OR(VLOOKUP(M6,Feuil2!E:F,2,FALSE)>1,VLOOKUP(Feuil1!M6,Feuil2!E:I,4,)+7<Tableau_Lancer_la_requête_à_partir_de_CEGID[[#This Row],[wop_dateacc]]),Feuil1!M6,"") -> 010418 | O6: =IF(ISNA(VLOOKUP(Tableau_Lancer_la_requête_à_partir_de_CEGID[[#This Row],[wob_codecomposant]]&" N°2",Feuil2!D:E,2,FALSE)),"",(VLOOKUP(Tableau_Lancer_la_requête_à_partir_de_CEGID[[#This Row],[wob_codecomposant]]&" N°2",Feuil2!D:E,2,FALSE))) -> 012921 | P6: =IF(ISNA(VLOOKUP(Tableau_Lancer_la_requête_à_partir_de_CEGID[[#This Row],[wob_codecomposant]]&" N°3",Feuil2!D:E,2,FALSE)),"",(VLOOKUP(Tableau_Lancer_la_requête_à_partir_de_CEGID[[#This Row],[wob_codecomposant]]&" N°3",Feuil2!D:E,2,FALSE))) -> 016821 | Q6: =IF(ISNA(VLOOKUP(Tableau_Lancer_la_requête_à_partir_de_CEGID[[#This Row],[wob_codecomposant]]&" N°4",Feuil2!D:E,2,FALSE)),"",(VLOOKUP(Tableau_Lancer_la_requête_à_partir_de_CEGID[[#This Row],[wob_codecomposant]]&" N°4",Feuil2!D:E,2,FALSE))) | R6: =IF(ISNA(VLOOKUP(Tableau_Lancer_la_requête_à_partir_de_CEGID[[#This Row],[wob_codecomposant]]&" N°5",Feuil2!D:E,2,FALSE)),"",(VLOOKUP(Tableau_Lancer_la_requête_à_partir_de_CEGID[[#This Row],[wob_codecomposant]]&" N°5",Feuil2!D:E,2,FALSE))) | S6: =IF(ISNA(VLOOKUP(Tableau_Lancer_la_requête_à_partir_de_CEGID[[#This Row],[wob_codecomposant]]&" N°6",Feuil2!D:E,2,FALSE)),"",(VLOOKUP(Tableau_Lancer_la_requête_à_partir_de_CEGID[[#This Row],[wob_codecomposant]]&" N°16",Feuil2!D:E,2,FALSE))) | T6: =IF(ISNA(VLOOKUP(Tableau_Lancer_la_requête_à_partir_de_CEGID[[#This Row],[wob_codecomposant]]&" N°7",Feuil2!D:E,2,FALSE)),"",(VLOOKUP(Tableau_Lancer_la_requête_à_partir_de_CEGID[[#This Row],[wob_codecomposant]]&" N°7",Feuil2!D:E,2,FALSE))) | U6: =MID(Tableau_Lancer_la_requête_à_partir_de_CEGID[[#This Row],[libcomposant]],1,5) -> C77A
B7: 44862 | C7: DEC | D7: 149061 | E7: IND | F7: 1250160003 | G7: BOUCLE D'ACCROCHAGE 90008441 | I7: 2100 | J7: 120 | K7: =_xlfn.ISOWEEKNUM(Tableau_Lancer_la_requête_à_partir_de_CEGID[[#This Row],[wop_dateacc]]) -> 43 | M7: =IF(ISNA(VLOOKUP(Tableau_Lancer_la_requête_à_partir_de_CEGID[[#This Row],[wob_codecomposant]]&" N°1",Feuil2!D:E,2,FALSE)),"",(VLOOKUP(Tableau_Lancer_la_requête_à_partir_de_CEGID[[#This Row],[wob_codecomposant]]&" N°1",Feuil2!D:E,2,FALSE))) | N7: =IF(OR(VLOOKUP(M7,Feuil2!E:F,2,FALSE)>1,VLOOKUP(Feuil1!M7,Feuil2!E:I,4,)+7<Tableau_Lancer_la_requête_à_partir_de_CEGID[[#This Row],[wop_dateacc]]),Feuil1!M7,"") -> #N/A | O7: =IF(ISNA(VLOOKUP(Tableau_Lancer_la_requête_à_partir_de_CEGID[[#This Row],[wob_codecomposant]]&" N°2",Feuil2!D:E,2,FALSE)),"",(VLOOKUP(Tableau_Lancer_la_requête_à_partir_de_CEGID[[#This Row],[wob_codecomposant]]&" N°2",Feuil2!D:E,2,FALSE))) | P7: =IF(ISNA(VLOOKUP(Tableau_Lancer_la_requête_à_partir_de_CEGID[[#This Row],[wob_codecomposant]]&" N°3",Feuil2!D:E,2,FALSE)),"",(VLOOKUP(Tableau_Lancer_la_requête_à_partir_de_CEGID[[#This Row],[wob_codecomposant]]&" N°3",Feuil2!D:E,2,FALSE))) | Q7: =IF(ISNA(VLOOKUP(Tableau_Lancer_la_requête_à_partir_de_CEGID[[#This Row],[wob_codecomposant]]&" N°4",Feuil2!D:E,2,FALSE)),"",(VLOOKUP(Tableau_Lancer_la_requête_à_partir_de_CEGID[[#This Row],[wob_codecomposant]]&" N°4",Feuil2!D:E,2,FALSE))) | R7: =IF(ISNA(VLOOKUP(Tableau_Lancer_la_requête_à_partir_de_CEGID[[#This Row],[wob_codecomposant]]&" N°5",Feuil2!D:E,2,FALSE)),"",(VLOOKUP(Tableau_Lancer_la_requête_à_partir_de_CEGID[[#This Row],[wob_codecomposant]]&" N°5",Feuil2!D:E,2,FALSE))) | S7: =IF(ISNA(VLOOKUP(Tableau_Lancer_la_requête_à_partir_de_CEGID[[#This Row],[wob_codecomposant]]&" N°6",Feuil2!D:E,2,FALSE)),"",(VLOOKUP(Tableau_Lancer_la_requête_à_partir_de_CEGID[[#This Row],[wob_codecomposant]]&" N°16",Feuil2!D:E,2,FALSE))) | T7: =IF(ISNA(VLOOKUP(Tableau_Lancer_la_requête_à_partir_de_CEGID[[#This Row],[wob_codecomposant]]&" N°7",Feuil2!D:E,2,FALSE)),"",(VLOOKUP(Tableau_Lancer_la_requête_à_partir_de_CEGID[[#This Row],[wob_codecomposant]]&" N°7",Feuil2!D:E,2,FALSE))) | U7: =MID(Tableau_Lancer_la_requête_à_partir_de_CEGID[[#This Row],[libcomposant]],1,5)
A8: C987A | B8: 44855 | C8: LAN | D8: 125494 | E8: IND | F8: 6780070030 | G8: VERROU DE SECURITE K 196 | H8: OUTIL DE FORGE | I8: 500 | J8: 120 | K8: =_xlfn.ISOWEEKNUM(Tableau_Lancer_la_requête_à_partir_de_CEGID[[#This Row],[wop_dateacc]]) -> 42 | M8: =IF(ISNA(VLOOKUP(Tableau_Lancer_la_requête_à_partir_de_CEGID[[#This Row],[wob_codecomposant]]&" N°1",Feuil2!D:E,2,FALSE)),"",(VLOOKUP(Tableau_Lancer_la_requête_à_partir_de_CEGID[[#This Row],[wob_codecomposant]]&" N°1",Feuil2!D:E,2,FALSE))) -> 016119 | N8: =IF(OR(VLOOKUP(M8,Feuil2!E:F,2,FALSE)>1,VLOOKUP(Feuil1!M8,Feuil2!E:I,4,)+7<Tableau_Lancer_la_requête_à_partir_de_CEGID[[#This Row],[wop_dateacc]]),Feuil1!M8,"") -> 016119 | O8: =IF(ISNA(VLOOKUP(Tableau_Lancer_la_requête_à_partir_de_CEGID[[#This Row],[wob_codecomposant]]&" N°2",Feuil2!D:E,2,FALSE)),"",(VLOOKUP(Tableau_Lancer_la_requête_à_partir_de_CEGID[[#This Row],[wob_codecomposant]]&" N°2",Feuil2!D:E,2,FALSE))) | P8: =IF(ISNA(VLOOKUP(Tableau_Lancer_la_requête_à_partir_de_CEGID[[#This Row],[wob_codecomposant]]&" N°3",Feuil2!D:E,2,FALSE)),"",(VLOOKUP(Tableau_Lancer_la_requête_à_partir_de_CEGID[[#This Row],[wob_codecomposant]]&" N°3",Feuil2!D:E,2,FALSE))) | Q8: =IF(ISNA(VLOOKUP(Tableau_Lancer_la_requête_à_partir_de_CEGID[[#This Row],[wob_codecomposant]]&" N°4",Feuil2!D:E,2,FALSE)),"",(VLOOKUP(Tableau_Lancer_la_requête_à_partir_de_CEGID[[#This Row],[wob_codecomposant]]&" N°4",Feuil2!D:E,2,FALSE))) | R8: =IF(ISNA(VLOOKUP(Tableau_Lancer_la_requête_à_partir_de_CEGID[[#This Row],[wob_codecomposant]]&" N°5",Feuil2!D:E,2,FALSE)),"",(VLOOKUP(Tableau_Lancer_la_requête_à_partir_de_CEGID[[#This Row],[wob_codecomposant]]&" N°5",Feuil2!D:E,2,FALSE))) | S8: =IF(ISNA(VLOOKUP(Tableau_Lancer_la_requête_à_partir_de_CEGID[[#This Row],[wob_codecomposant]]&" N°6",Feuil2!D:E,2,FALSE)),"",(VLOOKUP(Tableau_Lancer_la_requête_à_partir_de_CEGID[[#This Row],[wob_codecomposant]]&" N°16",Feuil2!D:E,2,FALSE))) | T8: =IF(ISNA(VLOOKUP(Tableau_Lancer_la_requête_à_partir_de_CEGID[[#This Row],[wob_codecomposant]]&" N°7",Feuil2!D:E,2,FALSE)),"",(VLOOKUP(Tableau_Lancer_la_requête_à_partir_de_CEGID[[#This Row],[wob_codecomposant]]&" N°7",Feuil2!D:E,2,FALSE))) | U8: =MID(Tableau_Lancer_la_requête_à_partir_de_CEGID[[#This Row],[libcomposant]],1,5) -> OUTIL
A9: 1255140003_04 | B9: 44851 | C9: DEC | D9: 147989 | E9: IND | F9: 1255140003 | G9: ROHLING STUD 150 364-11 | H9: C1077W2 - OUTIL DE FORGE | I9: 44000 | J9: 120 | K9: =_xlfn.ISOWEEKNUM(Tableau_Lancer_la_requête_à_partir_de_CEGID[[#This Row],[wop_dateacc]]) -> 42 | M9: =IF(ISNA(VLOOKUP(Tableau_Lancer_la_requête_à_partir_de_CEGID[[#This Row],[wob_codecomposant]]&" N°1",Feuil2!D:E,2,FALSE)),"",(VLOOKUP(Tableau_Lancer_la_requête_à_partir_de_CEGID[[#This Row],[wob_codecomposant]]&" N°1",Feuil2!D:E,2,FALSE))) -> 004119 | N9: =IF(OR(VLOOKUP(M9,Feuil2!E:F,2,FALSE)>1,VLOOKUP(Feuil1!M9,Feuil2!E:I,4,)+7<Tableau_Lancer_la_requête_à_partir_de_CEGID[[#This Row],[wop_dateacc]]),Feuil1!M9,"") -> 004119 | O9: =IF(ISNA(VLOOKUP(Tableau_Lancer_la_requête_à_partir_de_CEGID[[#This Row],[wob_codecomposant]]&" N°2",Feuil2!D:E,2,FALSE)),"",(VLOOKUP(Tableau_Lancer_la_requête_à_partir_de_CEGID[[#This Row],[wob_codecomposant]]&" N°2",Feuil2!D:E,2,FALSE))) -> 007719 | P9: =IF(ISNA(VLOOKUP(Tableau_Lancer_la_requête_à_partir_de_CEGID[[#This Row],[wob_codecomposant]]&" N°3",Feuil2!D:E,2,FALSE)),"",(VLOOKUP(Tableau_Lancer_la_requête_à_partir_de_CEGID[[#This Row],[wob_codecomposant]]&" N°3",Feuil2!D:E,2,FALSE))) -> 015615 | Q9: =IF(ISNA(VLOOKUP(Tableau_Lancer_la_requête_à_partir_de_CEGID[[#This Row],[wob_codecomposant]]&" N°4",Feuil2!D:E,2,FALSE)),"",(VLOOKUP(Tableau_Lancer_la_requête_à_partir_de_CEGID[[#This Row],[wob_codecomposant]]&" N°4",Feuil2!D:E,2,FALSE))) -> 015721 | R9: =IF(ISNA(VLOOKUP(Tableau_Lancer_la_requête_à_partir_de_CEGID[[#This Row],[wob_codecomposant]]&" N°5",Feuil2!D:E,2,FALSE)),"",(VLOOKUP(Tableau_Lancer_la_requête_à_partir_de_CEGID[[#This Row],[wob_codecomposant]]&" N°5",Feuil2!D:E,2,FALSE))) -> 022516 | S9: =IF(ISNA(VLOOKUP(Tableau_Lancer_la_requête_à_partir_de_CEGID[[#This Row],[wob_codecomposant]]&" N°6",Feuil2!D:E,2,FALSE)),"",(VLOOKUP(Tableau_Lancer_la_requête_à_partir_de_CEGID[[#This Row],[wob_codecomposant]]&" N°16",Feuil2!D:E,2,FALSE))) | T9: =IF(ISNA(VLOOKUP(Tableau_Lancer_la_requête_à_partir_de_CEGID[[#This Row],[wob_codecomposant]]&" N°7",Feuil2!D:E,2,FALSE)),"",(VLOOKUP(Tableau_Lancer_la_requête_à_partir_de_CEGID[[#This Row],[wob_codecomposant]]&" N°7",Feuil2!D:E,2,FALSE))) | U9: =MID(Tableau_Lancer_la_requête_à_partir_de_CEGID[[#This Row],[libcomposant]],1,5) -> C1077
A10: 9907123081_04 | B10: 44851 | C10: DEC | D10: 138664 | E10: ACC | F10: 9907123081 | G10: CORPS SERRE CABLE Ø8MM | H10: C125 OUTIL DE FORGE | I10: 20 | J10: 120 | K10: =_xlfn.ISOWEEKNUM(Tableau_Lancer_la_requête_à_partir_de_CEGID[[#This Row],[wop_dateacc]]) -> 42 | M10: =IF(ISNA(VLOOKUP(Tableau_Lancer_la_requête_à_partir_de_CEGID[[#This Row],[wob_codecomposant]]&" N°1",Feuil2!D:E,2,FALSE)),"",(VLOOKUP(Tableau_Lancer_la_requête_à_partir_de_CEGID[[#This Row],[wob_codecomposant]]&" N°1",Feuil2!D:E,2,FALSE))) -> 019316 | N10: =IF(OR(VLOOKUP(M10,Feuil2!E:F,2,FALSE)>1,VLOOKUP(Feuil1!M10,Feuil2!E:I,4,)+7<Tableau_Lancer_la_requête_à_partir_de_CEGID[[#This Row],[wop_dateacc]]),Feuil1!M10,"") -> 019316 | O10: =IF(ISNA(VLOOKUP(Tableau_Lancer_la_requête_à_partir_de_CEGID[[#This Row],[wob_codecomposant]]&" N°2",Feuil2!D:E,2,FALSE)),"",(VLOOKUP(Tableau_Lancer_la_requête_à_partir_de_CEGID[[#This Row],[wob_codecomposant]]&" N°2",Feuil2!D:E,2,FALSE))) | P10: =IF(ISNA(VLOOKUP(Tableau_Lancer_la_requête_à_partir_de_CEGID[[#This Row],[wob_codecomposant]]&" N°3",Feuil2!D:E,2,FALSE)),"",(VLOOKUP(Tableau_Lancer_la_requête_à_partir_de_CEGID[[#This Row],[wob_codecomposant]]&" N°3",Feuil2!D:E,2,FALSE))) | Q10: =IF(ISNA(VLOOKUP(Tableau_Lancer_la_requête_à_partir_de_CEGID[[#This Row],[wob_codecomposant]]&" N°4",Feuil2!D:E,2,FALSE)),"",(VLOOKUP(Tableau_Lancer_la_requête_à_partir_de_CEGID[[#This Row],[wob_codecomposant]]&" N°4",Feuil2!D:E,2,FALSE))) | R10: =IF(ISNA(VLOOKUP(Tableau_Lancer_la_requête_à_partir_de_CEGID[[#This Row],[wob_codecomposant]]&" N°5",Feuil2!D:E,2,FALSE)),"",(VLOOKUP(Tableau_Lancer_la_requête_à_partir_de_CEGID[[#This Row],[wob_codecomposant]]&" N°5",Feuil2!D:E,2,FALSE))) | S10: =IF(ISNA(VLOOKUP(Tableau_Lancer_la_requête_à_partir_de_CEGID[[#This Row],[wob_codecomposant]]&" N°6",Feuil2!D:E,2,FALSE)),"",(VLOOKUP(Tableau_Lancer_la_requête_à_partir_de_CEGID[[#This Row],[wob_codecomposant]]&" N°16",Feuil2!D:E,2,FALSE))) | T10: =IF(ISNA(VLOOKUP(Tableau_Lancer_la_requête_à_partir_de_CEGID[[#This Row],[wob_codecomposant]]&" N°7",Feuil2!D:E,2,FALSE)),"",(VLOOKUP(Tableau_Lancer_la_requête_à_partir_de_CEGID[[#This Row],[wob_codecomposant]]&" N°7",Feuil2!D:E,2,FALSE))) | U10: =MID(Tableau_Lancer_la_requête_à_partir_de_CEGID[[#This Row],[libcomposant]],1,5) -> C125
A11: 1357150001_24 | B11: 44838 | C11: DEC | D11: 151688 | E11: IND | F11: 1357150101 | G11: TETE DE PIOLET 100102 | H11: C180Pan - OUTIL DE FORGE panne | I11: 1900 | J11: 210 | K11: =_xlfn.ISOWEEKNUM(Tableau_Lancer_la_requête_à_partir_de_CEGID[[#This Row],[wop_dateacc]]) -> 40 | M11: =IF(ISNA(VLOOKUP(Tableau_Lancer_la_requête_à_partir_de_CEGID[[#This Row],[wob_codecomposant]]&" N°1",Feuil2!D:E,2,FALSE)),"",(VLOOKUP(Tableau_Lancer_la_requête_à_partir_de_CEGID[[#This Row],[wob_codecomposant]]&" N°1",Feuil2!D:E,2,FALSE))) -> 004318 | N11: =IF(OR(VLOOKUP(M11,Feuil2!E:F,2,FALSE)>1,VLOOKUP(Feuil1!M11,Feuil2!E:I,4,)+7<Tableau_Lancer_la_requête_à_partir_de_CEGID[[#This Row],[wop_dateacc]]),Feuil1!M11,"") -> 004318 | O11: =IF(ISNA(VLOOKUP(Tableau_Lancer_la_requête_à_partir_de_CEGID[[#This Row],[wob_codecomposant]]&" N°2",Feuil2!D:E,2,FALSE)),"",(VLOOKUP(Tableau_Lancer_la_requête_à_partir_de_CEGID[[#This Row],[wob_codecomposant]]&" N°2",Feuil2!D:E,2,FALSE))) | P11: =IF(ISNA(VLOOKUP(Tableau_Lancer_la_requête_à_partir_de_CEGID[[#This Row],[wob_codecomposant]]&" N°3",Feuil2!D:E,2,FALSE)),"",(VLOOKUP(Tableau_Lancer_la_requête_à_partir_de_CEGID[[#This Row],[wob_codecomposant]]&" N°3",Feuil2!D:E,2,FALSE))) | Q11: =IF(ISNA(VLOOKUP(Tableau_Lancer_la_requête_à_partir_de_CEGID[[#This Row],[wob_codecomposant]]&" N°4",Feuil2!D:E,2,FALSE)),"",(VLOOKUP(Tableau_Lancer_la_requête_à_partir_de_CEGID[[#This Row],[wob_codecomposant]]&" N°4",Feuil2!D:E,2,FALSE))) | R11: =IF(ISNA(VLOOKUP(Tableau_Lancer_la_requête_à_partir_de_CEGID[[#This Row],[wob_codecomposant]]&" N°5",Feuil2!D:E,2,FALSE)),"",(VLOOKUP(Tableau_Lancer_la_requête_à_partir_de_CEGID[[#This Row],[wob_codecomposant]]&" N°5",Feuil2!D:E,2,FALSE))) | S11: =IF(ISNA(VLOOKUP(Tableau_Lancer_la_requête_à_partir_de_CEGID[[#This Row],[wob_codecomposant]]&" N°6",Feuil2!D:E,2,FALSE)),"",(VLOOKUP(Tableau_Lancer_la_requête_à_partir_de_CEGID[[#This Row],[wob_codecomposant]]&" N°16",Feuil2!D:E,2,FALSE))) | T11: =IF(ISNA(VLOOKUP(Tableau_Lancer_la_requête_à_partir_de_CEGID[[#This Row],[wob_codecomposant]]&" N°7",Feuil2!D:E,2,FALSE)),"",(VLOOKUP(Tableau_Lancer_la_requête_à_partir_de_CEGID[[#This Row],[wob_codecomposant]]&" N°7",Feuil2!D:E,2,FALSE))) | U11: =MID(Tableau_Lancer_la_requête_à_partir_de_CEGID[[#This Row],[libcomposant]],1,5) -> C180P
A12: C428 | B12: 44826 | C12: DEC | D12: 154842 | E12: ACC | F12: 9901124341 | G12: CORPS MAN. RAPIDE o8MM | H12: C428 - OUTIL DE FORGE | I12: 2500 | J12: 120 | K12: =_xlfn.ISOWEEKNUM(Tableau_Lancer_la_requête_à_partir_de_CEGID[[#This Row],[wop_dateacc]]) -> 38 | M12: =IF(ISNA(VLOOKUP(Tableau_Lancer_la_requête_à_partir_de_CEGID[[#This Row],[wob_codecomposant]]&" N°1",Feuil2!D:E,2,FALSE)),"",(VLOOKUP(Tableau_Lancer_la_requête_à_partir_de_CEGID[[#This Row],[wob_codecomposant]]&" N°1",Feuil2!D:E,2,FALSE))) -> 014821 | N12: =IF(OR(VLOOKUP(M12,Feuil2!E:F,2,FALSE)>1,VLOOKUP(Feuil1!M12,Feuil2!E:I,4,)+7<Tableau_Lancer_la_requête_à_partir_de_CEGID[[#This Row],[wop_dateacc]]),Feuil1!M12,"") -> 014821 | O12: =IF(ISNA(VLOOKUP(Tableau_Lancer_la_requête_à_partir_de_CEGID[[#This Row],[wob_codecomposant]]&" N°2",Feuil2!D:E,2,FALSE)),"",(VLOOKUP(Tableau_Lancer_la_requête_à_partir_de_CEGID[[#This Row],[wob_codecomposant]]&" N°2",Feuil2!D:E,2,FALSE))) | P12: =IF(ISNA(VLOOKUP(Tableau_Lancer_la_requête_à_partir_de_CEGID[[#This Row],[wob_codecomposant]]&" N°3",Feuil2!D:E,2,FALSE)),"",(VLOOKUP(Tableau_Lancer_la_requête_à_partir_de_CEGID[[#This Row],[wob_codecomposant]]&" N°3",Feuil2!D:E,2,FALSE))) | Q12: =IF(ISNA(VLOOKUP(Tableau_Lancer_la_requête_à_partir_de_CEGID[[#This Row],[wob_codecomposant]]&" N°4",Feuil2!D:E,2,FALSE)),"",(VLOOKUP(Tableau_Lancer_la_requête_à_partir_de_CEGID[[#This Row],[wob_codecomposant]]&" N°4",Feuil2!D:E,2,FALSE))) | R12: =IF(ISNA(VLOOKUP(Tableau_Lancer_la_requête_à_partir_de_CEGID[[#This Row],[wob_codecomposant]]&" N°5",Feuil2!D:E,2,FALSE)),"",(VLOOKUP(Tableau_Lancer_la_requête_à_partir_de_CEGID[[#This Row],[wob_codecomposant]]&" N°5",Feuil2!D:E,2,FALSE))) | S12: =IF(ISNA(VLOOKUP(Tableau_Lancer_la_requête_à_partir_de_CEGID[[#This Row],[wob_codecomposant]]&" N°6",Feuil2!D:E,2,FALSE)),"",(VLOOKUP(Tableau_Lancer_la_requête_à_partir_de_CEGID[[#This Row],[wob_codecomposant]]&" N°16",Feuil2!D:E,2,FALSE))) | T12: =IF(ISNA(VLOOKUP(Tableau_Lancer_la_requête_à_partir_de_CEGID[[#This Row],[wob_codecomposant]]&" N°7",Feuil2!D:E,2,FALSE)),"",(VLOOKUP(Tableau_Lancer_la_requête_à_partir_de_CEGID[[#This Row],[wob_codecomposant]]&" N°7",Feuil2!D:E,2,FALSE))) | U12: =MID(Tableau_Lancer_la_requête_à_partir_de_CEGID[[#This Row],[libcomposant]],1,5) -> C428
A13: 1357150001_14 | B13: 44819 | C13: DEC | D13: 151688 | E13: IND | F13: 1357150101 | G13: TETE DE PIOLET 100102 | H13: C180Fin - OUTIL DE FORGE FINITION | I13: 1900 | J13: 170 | K13: =_xlfn.ISOWEEKNUM(Tableau_Lancer_la_requête_à_partir_de_CEGID[[#This Row],[wop_dateacc]]) -> 37 | M13: =IF(ISNA(VLOOKUP(Tableau_Lancer_la_requête_à_partir_de_CEGID[[#This Row],[wob_codecomposant]]&" N°1",Feuil2!D:E,2,FALSE)),"",(VLOOKUP(Tableau_Lancer_la_requête_à_partir_de_CEGID[[#This Row],[wob_codecomposant]]&" N°1",Feuil2!D:E,2,FALSE))) -> 003918 | N13: =IF(OR(VLOOKUP(M13,Feuil2!E:F,2,FALSE)>1,VLOOKUP(Feuil1!M13,Feuil2!E:I,4,)+7<Tableau_Lancer_la_requête_à_partir_de_CEGID[[#This Row],[wop_dateacc]]),Feuil1!M13,"") -> 003918 | O13: =IF(ISNA(VLOOKUP(Tableau_Lancer_la_requête_à_partir_de_CEGID[[#This Row],[wob_codecomposant]]&" N°2",Feuil2!D:E,2,FALSE)),"",(VLOOKUP(Tableau_Lancer_la_requête_à_partir_de_CEGID[[#This Row],[wob_codecomposant]]&" N°2",Feuil2!D:E,2,FALSE))) | P13: =IF(ISNA(VLOOKUP(Tableau_Lancer_la_requête_à_partir_de_CEGID[[#This Row],[wob_codecomposant]]&" N°3",Feuil2!D:E,2,FALSE)),"",(VLOOKUP(Tableau_Lancer_la_requête_à_partir_de_CEGID[[#This Row],[wob_codecomposant]]&" N°3",Feuil2!D:E,2,FALSE))) | Q13: =IF(ISNA(VLOOKUP(Tableau_Lancer_la_requête_à_partir_de_CEGID[[#This Row],[wob_codecomposant]]&" N°4",Feuil2!D:E,2,FALSE)),"",(VLOOKUP(Tableau_Lancer_la_requête_à_partir_de_CEGID[[#This Row],[wob_codecomposant]]&" N°4",Feuil2!D:E,2,FALSE))) | R13: =IF(ISNA(VLOOKUP(Tableau_Lancer_la_requête_à_partir_de_CEGID[[#This Row],[wob_codecomposant]]&" N°5",Feuil2!D:E,2,FALSE)),"",(VLOOKUP(Tableau_Lancer_la_requête_à_partir_de_CEGID[[#This Row],[wob_codecomposant]]&" N°5",Feuil2!D:E,2,FALSE))) | S13: =IF(ISNA(VLOOKUP(Tableau_Lancer_la_requête_à_partir_de_CEGID[[#This Row],[wob_codecomposant]]&" N°6",Feuil2!D:E,2,FALSE)),"",(VLOOKUP(Tableau_Lancer_la_requête_à_partir_de_CEGID[[#This Row],[wob_codecomposant]]&" N°16",Feuil2!D:E,2,FALSE))) | T13: =IF(ISNA(VLOOKUP(Tableau_Lancer_la_requête_à_partir_de_CEGID[[#This Row],[wob_codecomposant]]&" N°7",Feuil2!D:E,2,FALSE)),"",(VLOOKUP(Tableau_Lancer_la_requête_à_partir_de_CEGID[[#This Row],[wob_codecomposant]]&" N°7",Feuil2!D:E,2,FALSE))) | U13: =MID(Tableau_Lancer_la_requête_à_partir_de_CEGID[[#This Row],[libcomposant]],1,5) -> C180F
A14: 1357150001_04 | B14: 44811 | C14: DEC | D14: 151688 | E14: IND | F14: 1357150101 | G14: TETE DE PIOLET 100102 | H14: C180EB - OUTIL DE FORGE EBAUCHE | I14: 1900 | J14: 150 | K14: =_xlfn.ISOWEEKNUM(Tableau_Lancer_la_requête_à_partir_de_CEGID[[#This Row],[wop_dateacc]]) -> 36 | M14: =IF(ISNA(VLOOKUP(Tableau_Lancer_la_requête_à_partir_de_CEGID[[#This Row],[wob_codecomposant]]&" N°1",Feuil2!D:E,2,FALSE)),"",(VLOOKUP(Tableau_Lancer_la_requête_à_partir_de_CEGID[[#This Row],[wob_codecomposant]]&" N°1",Feuil2!D:E,2,FALSE))) -> 003818 | N14: =IF(OR(VLOOKUP(M14,Feuil2!E:F,2,FALSE)>1,VLOOKUP(Feuil1!M14,Feuil2!E:I,4,)+7<Tableau_Lancer_la_requête_à_partir_de_CEGID[[#This Row],[wop_dateacc]]),Feuil1!M14,"") -> 003818 | O14: =IF(ISNA(VLOOKUP(Tableau_Lancer_la_requête_à_partir_de_CEGID[[#This Row],[wob_codecomposant]]&" N°2",Feuil2!D:E,2,FALSE)),"",(VLOOKUP(Tableau_Lancer_la_requête_à_partir_de_CEGID[[#This Row],[wob_codecomposant]]&" N°2",Feuil2!D:E,2,FALSE))) | P14: =IF(ISNA(VLOOKUP(Tableau_Lancer_la_requête_à_partir_de_CEGID[[#This Row],[wob_codecomposant]]&" N°3",Feuil2!D:E,2,FALSE)),"",(VLOOKUP(Tableau_Lancer_la_requête_à_partir_de_CEGID[[#This Row],[wob_codecomposant]]&" N°3",Feuil2!D:E,2,FALSE))) | Q14: =IF(ISNA(VLOOKUP(Tableau_Lancer_la_requête_à_partir_de_CEGID[[#This Row],[wob_codecomposant]]&" N°4",Feuil2!D:E,2,FALSE)),"",(VLOOKUP(Tableau_Lancer_la_requête_à_partir_de_CEGID[[#This Row],[wob_codecomposant]]&" N°4",Feuil2!D:E,2,FALSE))) | R14: =IF(ISNA(VLOOKUP(Tableau_Lancer_la_requête_à_partir_de_CEGID[[#This Row],[wob_codecomposant]]&" N°5",Feuil2!D:E,2,FALSE)),"",(VLOOKUP(Tableau_Lancer_la_requête_à_partir_de_CEGID[[#This Row],[wob_codecomposant]]&" N°5",Feuil2!D:E,2,FALSE))) | S14: =IF(ISNA(VLOOKUP(Tableau_Lancer_la_requête_à_partir_de_CEGID[[#This Row],[wob_codecomposant]]&" N°6",Feuil2!D:E,2,FALSE)),"",(VLOOKUP(Tableau_Lancer_la_requête_à_partir_de_CEGID[[#This Row],[wob_codecomposant]]&" N°16",Feuil2!D:E,2,FALSE))) | T14: =IF(ISNA(VLOOKUP(Tableau_Lancer_la_requête_à_partir_de_CEGID[[#This Row],[wob_codecomposant]]&" N°7",Feuil2!D:E,2,FALSE)),"",(VLOOKUP(Tableau_Lancer_la_requête_à_partir_de_CEGID[[#This Row],[wob_codecomposant]]&" N°7",Feuil2!D:E,2,FALSE))) | U14: =MID(Tableau_Lancer_la_requête_à_partir_de_CEGID[[#This Row],[libcomposant]],1,5) -> C180E
A15: C1091AFIN | B15: 44803 | C15: DEC | D15: 151133 | E15: ACC | F15: 9906126131A | G15: PIECE CAVALIERE pour DIAM. 13 mm | H15: C1091A OUTIL DE FORGE FINITION | I15: 200 | J15: 150 | K15: =_xlfn.ISOWEEKNUM(Tableau_Lancer_la_requête_à_partir_de_CEGID[[#This Row],[wop_dateacc]]) -> 35 | M15: =IF(ISNA(VLOOKUP(Tableau_Lancer_la_requête_à_partir_de_CEGID[[#This Row],[wob_codecomposant]]&" N°1",Feuil2!D:E,2,FALSE)),"",(VLOOKUP(Tableau_Lancer_la_requête_à_partir_de_CEGID[[#This Row],[wob_codecomposant]]&" N°1",Feuil2!D:E,2,FALSE))) | N15: =IF(OR(VLOOKUP(M15,Feuil2!E:F,2,FALSE)>1,VLOOKUP(Feuil1!M15,Feuil2!E:I,4,)+7<Tableau_Lancer_la_requête_à_partir_de_CEGID[[#This Row],[wop_dateacc]]),Feuil1!M15,"") -> #N/A | O15: =IF(ISNA(VLOOKUP(Tableau_Lancer_la_requête_à_partir_de_CEGID[[#This Row],[wob_codecomposant]]&" N°2",Feuil2!D:E,2,FALSE)),"",(VLOOKUP(Tableau_Lancer_la_requête_à_partir_de_CEGID[[#This Row],[wob_codecomposant]]&" N°2",Feuil2!D:E,2,FALSE))) | P15: =IF(ISNA(VLOOKUP(Tableau_Lancer_la_requête_à_partir_de_CEGID[[#This Row],[wob_codecomposant]]&" N°3",Feuil2!D:E,2,FALSE)),"",(VLOOKUP(Tableau_Lancer_la_requête_à_partir_de_CEGID[[#This Row],[wob_codecomposant]]&" N°3",Feuil2!D:E,2,FALSE))) | Q15: =IF(ISNA(VLOOKUP(Tableau_Lancer_la_requête_à_partir_de_CEGID[[#This Row],[wob_codecomposant]]&" N°4",Feuil2!D:E,2,FALSE)),"",(VLOOKUP(Tableau_Lancer_la_requête_à_partir_de_CEGID[[#This Row],[wob_codecomposant]]&" N°4",Feuil2!D:E,2,FALSE))) | R15: =IF(ISNA(VLOOKUP(Tableau_Lancer_la_requête_à_partir_de_CEGID[[#This Row],[wob_codecomposant]]&" N°5",Feuil2!D:E,2,FALSE)),"",(VLOOKUP(Tableau_Lancer_la_requête_à_partir_de_CEGID[[#This Row],[wob_codecomposant]]&" N°5",Feuil2!D:E,2,FALSE))) | S15: =IF(ISNA(VLOOKUP(Tableau_Lancer_la_requête_à_partir_de_CEGID[[#This Row],[wob_codecomposant]]&" N°6",Feuil2!D:E,2,FALSE)),"",(VLOOKUP(Tableau_Lancer_la_requête_à_partir_de_CEGID[[#This Row],[wob_codecomposant]]&" N°16",Feuil2!D:E,2,FALSE))) | T15: =IF(ISNA(VLOOKUP(Tableau_Lancer_la_requête_à_partir_de_CEGID[[#This Row],[wob_codecomposant]]&" N°7",Feuil2!D:E,2,FALSE)),"",(VLOOKUP(Tableau_Lancer_la_requête_à_partir_de_CEGID[[#This Row],[wob_codecomposant]]&" N°7",Feuil2!D:E,2,FALSE))) | U15: =MID(Tableau_Lancer_la_requête_à_partir_de_CEGID[[#This Row],[libcomposant]],1,5) -> C1091
A16: C626 | B16: 44803 | C16: DEC | D16: 151144 | E16: ACC | F16: 9912124712 | G16: BRAS BRUT T1 MOUSQUETON DRISSE | H16: C626 - OUTIL DE FORGE | I16: 6000 | J16: 150 | K16: =_xlfn.ISOWEEKNUM(Tableau_Lancer_la_requête_à_partir_de_CEGID[[#This Row],[wop_dateacc]]) -> 35 | M16: =IF(ISNA(VLOOKUP(Tableau_Lancer_la_requête_à_partir_de_CEGID[[#This Row],[wob_codecomposant]]&" N°1",Feuil2!D:E,2,FALSE)),"",(VLOOKUP(Tableau_Lancer_la_requête_à_partir_de_CEGID[[#This Row],[wob_codecomposant]]&" N°1",Feuil2!D:E,2,FALSE))) -> 014619 | N16: =IF(OR(VLOOKUP(M16,Feuil2!E:F,2,FALSE)>1,VLOOKUP(Feuil1!M16,Feuil2!E:I,4,)+7<Tableau_Lancer_la_requête_à_partir_de_CEGID[[#This Row],[wop_dateacc]]),Feuil1!M16,"") -> 014619 | O16: =IF(ISNA(VLOOKUP(Tableau_Lancer_la_requête_à_partir_de_CEGID[[#This Row],[wob_codecomposant]]&" N°2",Feuil2!D:E,2,FALSE)),"",(VLOOKUP(Tableau_Lancer_la_requête_à_partir_de_CEGID[[#This Row],[wob_codecomposant]]&" N°2",Feuil2!D:E,2,FALSE))) -> 019221 | P16: =IF(ISNA(VLOOKUP(Tableau_Lancer_la_requête_à_partir_de_CEGID[[#This Row],[wob_codecomposant]]&" N°3",Feuil2!D:E,2,FALSE)),"",(VLOOKUP(Tableau_Lancer_la_requête_à_partir_de_CEGID[[#This Row],[wob_codecomposant]]&" N°3",Feuil2!D:E,2,FALSE))) -> 026619 | Q16: =IF(ISNA(VLOOKUP(Tableau_Lancer_la_requête_à_partir_de_CEGID[[#This Row],[wob_codecomposant]]&" N°4",Feuil2!D:E,2,FALSE)),"",(VLOOKUP(Tableau_Lancer_la_requête_à_partir_de_CEGID[[#This Row],[wob_codecomposant]]&" N°4",Feuil2!D:E,2,FALSE))) -> 026719 | R16: =IF(ISNA(VLOOKUP(Tableau_Lancer_la_requête_à_partir_de_CEGID[[#This Row],[wob_codecomposant]]&" N°5",Feuil2!D:E,2,FALSE)),"",(VLOOKUP(Tableau_Lancer_la_requête_à_partir_de_CEGID[[#This Row],[wob_codecomposant]]&" N°5",Feuil2!D:E,2,FALSE))) | S16: =IF(ISNA(VLOOKUP(Tableau_Lancer_la_requête_à_partir_de_CEGID[[#This Row],[wob_codecomposant]]&" N°6",Feuil2!D:E,2,FALSE)),"",(VLOOKUP(Tableau_Lancer_la_requête_à_partir_de_CEGID[[#This Row],[wob_codecomposant]]&" N°16",Feuil2!D:E,2,FALSE))) | T16: =IF(ISNA(VLOOKUP(Tableau_Lancer_la_requête_à_partir_de_CEGID[[#This Row],[wob_codecomposant]]&" N°7",Feuil2!D:E,2,FALSE)),"",(VLOOKUP(Tableau_Lancer_la_requête_à_partir_de_CEGID[[#This Row],[wob_codecomposant]]&" N°7",Feuil2!D:E,2,FALSE))) | U16: =MID(Tableau_Lancer_la_requête_à_partir_de_CEGID[[#This Row],[libcomposant]],1,5) -> C626
A17: C800 | B17: 44803 | C17: DEC | D17: 153474 | E17: ACC | F17: 9916125042 | G17: ETRIER CADENE ARTICULEE o6MM | H17: C800 OUTIL DE FORGE | I17: 400 | J17: 120 | K17: =_xlfn.ISOWEEKNUM(Tableau_Lancer_la_requête_à_partir_de_CEGID[[#This Row],[wop_dateacc]]) -> 35 | M17: =IF(ISNA(VLOOKUP(Tableau_Lancer_la_requête_à_partir_de_CEGID[[#This Row],[wob_codecomposant]]&" N°1",Feuil2!D:E,2,FALSE)),"",(VLOOKUP(Tableau_Lancer_la_requête_à_partir_de_CEGID[[#This Row],[wob_codecomposant]]&" N°1",Feuil2!D:E,2,FALSE))) -> 016516 | N17: =IF(OR(VLOOKUP(M17,Feuil2!E:F,2,FALSE)>1,VLOOKUP(Feuil1!M17,Feuil2!E:I,4,)+7<Tableau_Lancer_la_requête_à_partir_de_CEGID[[#This Row],[wop_dateacc]]),Feuil1!M17,"") -> 016516 | O17: =IF(ISNA(VLOOKUP(Tableau_Lancer_la_requête_à_partir_de_CEGID[[#This Row],[wob_codecomposant]]&" N°2",Feuil2!D:E,2,FALSE)),"",(VLOOKUP(Tableau_Lancer_la_requête_à_partir_de_CEGID[[#This Row],[wob_codecomposant]]&" N°2",Feuil2!D:E,2,FALSE))) | P17: =IF(ISNA(VLOOKUP(Tableau_Lancer_la_requête_à_partir_de_CEGID[[#This Row],[wob_codecomposant]]&" N°3",Feuil2!D:E,2,FALSE)),"",(VLOOKUP(Tableau_Lancer_la_requête_à_partir_de_CEGID[[#This Row],[wob_codecomposant]]&" N°3",Feuil2!D:E,2,FALSE))) | Q17: =IF(ISNA(VLOOKUP(Tableau_Lancer_la_requête_à_partir_de_CEGID[[#This Row],[wob_codecomposant]]&" N°4",Feuil2!D:E,2,FALSE)),"",(VLOOKUP(Tableau_Lancer_la_requête_à_partir_de_CEGID[[#This Row],[wob_codecomposant]]&" N°4",Feuil2!D:E,2,FALSE))) | R17: =IF(ISNA(VLOOKUP(Tableau_Lancer_la_requête_à_partir_de_CEGID[[#This Row],[wob_codecomposant]]&" N°5",Feuil2!D:E,2,FALSE)),"",(VLOOKUP(Tableau_Lancer_la_requête_à_partir_de_CEGID[[#This Row],[wob_codecomposant]]&" N°5",Feuil2!D:E,2,FALSE))) | S17: =IF(ISNA(VLOOKUP(Tableau_Lancer_la_requête_à_partir_de_CEGID[[#This Row],[wob_codecomposant]]&" N°6",Feuil2!D:E,2,FALSE)),"",(VLOOKUP(Tableau_Lancer_la_requête_à_partir_de_CEGID[[#This Row],[wob_codecomposant]]&" N°16",Feuil2!D:E,2,FALSE))) | T17: =IF(ISNA(VLOOKUP(Tableau_Lancer_la_requête_à_partir_de_CEGID[[#This Row],[wob_codecomposant]]&" N°7",Feuil2!D:E,2,FALSE)),"",(VLOOKUP(Tableau_Lancer_la_requête_à_partir_de_CEGID[[#This Row],[wob_codecomposant]]&" N°7",Feuil2!D:E,2,FALSE))) | U17: =MID(Tableau_Lancer_la_requête_à_partir_de_CEGID[[#This Row],[libcomposant]],1,5) -> C800
A18: C1991 | B18: 44803 | C18: DEC | D18: 149697 | E18: IND | F18: 3025010012 | G18: MANCHE TABLE THIERS | H18: C1991 OUTIL DE FORGE | I18: 1030 | J18: 120 | K18: =_xlfn.ISOWEEKNUM(Tableau_Lancer_la_requête_à_partir_de_CEGID[[#This Row],[wop_dateacc]]) -> 35 | M18: =IF(ISNA(VLOOKUP(Tableau_Lancer_la_requête_à_partir_de_CEGID[[#This Row],[wob_codecomposant]]&" N°1",Feuil2!D:E,2,FALSE)),"",(VLOOKUP(Tableau_Lancer_la_requête_à_partir_de_CEGID[[#This Row],[wob_codecomposant]]&" N°1",Feuil2!D:E,2,FALSE))) -> 005118 | N18: =IF(OR(VLOOKUP(M18,Feuil2!E:F,2,FALSE)>1,VLOOKUP(Feuil1!M18,Feuil2!E:I,4,)+7<Tableau_Lancer_la_requête_à_partir_de_CEGID[[#This Row],[wop_dateacc]]),Feuil1!M18,"") -> 005118 | O18: =IF(ISNA(VLOOKUP(Tableau_Lancer_la_requête_à_partir_de_CEGID[[#This Row],[wob_codecomposant]]&" N°2",Feuil2!D:E,2,FALSE)),"",(VLOOKUP(Tableau_Lancer_la_requête_à_partir_de_CEGID[[#This Row],[wob_codecomposant]]&" N°2",Feuil2!D:E,2,FALSE))) -> 021519 | P18: =IF(ISNA(VLOOKUP(Tableau_Lancer_la_requête_à_partir_de_CEGID[[#This Row],[wob_codecomposant]]&" N°3",Feuil2!D:E,2,FALSE)),"",(VLOOKUP(Tableau_Lancer_la_requête_à_partir_de_CEGID[[#This Row],[wob_codecomposant]]&" N°3",Feuil2!D:E,2,FALSE))) | Q18: =IF(ISNA(VLOOKUP(Tableau_Lancer_la_requête_à_partir_de_CEGID[[#This Row],[wob_codecomposant]]&" N°4",Feuil2!D:E,2,FALSE)),"",(VLOOKUP(Tableau_Lancer_la_requête_à_partir_de_CEGID[[#This Row],[wob_codecomposant]]&" N°4",Feuil2!D:E,2,FALSE))) | R18: =IF(ISNA(VLOOKUP(Tableau_Lancer_la_requête_à_partir_de_CEGID[[#This Row],[wob_codecomposant]]&" N°5",Feuil2!D:E,2,FALSE)),"",(VLOOKUP(Tableau_Lancer_la_requête_à_partir_de_CEGID[[#This Row],[wob_codecomposant]]&" N°5",Feuil2!D:E,2,FALSE))) | S18: =IF(ISNA(VLOOKUP(Tableau_Lancer_la_requête_à_partir_de_CEGID[[#This Row],[wob_codecomposant]]&" N°6",Feuil2!D:E,2,FALSE)),"",(VLOOKUP(Tableau_Lancer_la_requête_à_partir_de_CEGID[[#This Row],[wob_codecomposant]]&" N°16",Feuil2!D:E,2,FALSE))) | T18: =IF(ISNA(VLOOKUP(Tableau_Lancer_la_requête_à_partir_de_CEGID[[#This Row],[wob_codecomposant]]&" N°7",Feuil2!D:E,2,FALSE)),"",(VLOOKUP(Tableau_Lancer_la_requête_à_partir_de_CEGID[[#This Row],[wob_codecomposant]]&" N°7",Feuil2!D:E,2,FALSE))) | U18: =MID(Tableau_Lancer_la_requête_à_partir_de_CEGID[[#This Row],[libcomposant]],1,5) -> C1991
A19: C718 | B19: 44802 | C19: DEC | D19: 150657 | E19: IND | F19: 3390150106 | G19: EBAUCHE DE VIS N°LEBAUCHE 2270402 | H19: C718 OUTIL DE FORGE | I19: 1100 | J19: 120 | K19: =_xlfn.ISOWEEKNUM(Tableau_Lancer_la_requête_à_partir_de_CEGID[[#This Row],[wop_dateacc]]) -> 35 | M19: =IF(ISNA(VLOOKUP(Tableau_Lancer_la_requête_à_partir_de_CEGID[[#This Row],[wob_codecomposant]]&" N°1",Feuil2!D:E,2,FALSE)),"",(VLOOKUP(Tableau_Lancer_la_requête_à_partir_de_CEGID[[#This Row],[wob_codecomposant]]&" N°1",Feuil2!D:E,2,FALSE))) -> 016517 | N19: =IF(OR(VLOOKUP(M19,Feuil2!E:F,2,FALSE)>1,VLOOKUP(Feuil1!M19,Feuil2!E:I,4,)+7<Tableau_Lancer_la_requête_à_partir_de_CEGID[[#This Row],[wop_dateacc]]),Feuil1!M19,"") -> 016517 | O19: =IF(ISNA(VLOOKUP(Tableau_Lancer_la_requête_à_partir_de_CEGID[[#This Row],[wob_codecomposant]]&" N°2",Feuil2!D:E,2,FALSE)),"",(VLOOKUP(Tableau_Lancer_la_requête_à_partir_de_CEGID[[#This Row],[wob_codecomposant]]&" N°2",Feuil2!D:E,2,FALSE))) -> 020322 | P19: =IF(ISNA(VLOOKUP(Tableau_Lancer_la_requête_à_partir_de_CEGID[[#This Row],[wob_codecomposant]]&" N°3",Feuil2!D:E,2,FALSE)),"",(VLOOKUP(Tableau_Lancer_la_requête_à_partir_de_CEGID[[#This Row],[wob_codecomposant]]&" N°3",Feuil2!D:E,2,FALSE))) -> 023419 | Q19: =IF(ISNA(VLOOKUP(Tableau_Lancer_la_requête_à_partir_de_CEGID[[#This Row],[wob_codecomposant]]&" N°4",Feuil2!D:E,2,FALSE)),"",(VLOOKUP(Tableau_Lancer_la_requête_à_partir_de_CEGID[[#This Row],[wob_codecomposant]]&" N°4",Feuil2!D:E,2,FALSE))) | R19: =IF(ISNA(VLOOKUP(Tableau_Lancer_la_requête_à_partir_de_CEGID[[#This Row],[wob_codecomposant]]&" N°5",Feuil2!D:E,2,FALSE)),"",(VLOOKUP(Tableau_Lancer_la_requête_à_partir_de_CEGID[[#This Row],[wob_codecomposant]]&" N°5",Feuil2!D:E,2,FALSE))) | S19: =IF(ISNA(VLOOKUP(Tableau_Lancer_la_requête_à_partir_de_CEGID[[#This Row],[wob_codecomposant]]&" N°6",Feuil2!D:E,2,FALSE)),"",(VLOOKUP(Tableau_Lancer_la_requête_à_partir_de_CEGID[[#This Row],[wob_codecomposant]]&" N°16",Feuil2!D:E,2,FALSE))) | T19: =IF(ISNA(VLOOKUP(Tableau_Lancer_la_requête_à_partir_de_CEGID[[#This Row],[wob_codecomposant]]&" N°7",Feuil2!D:E,2,FALSE)),"",(VLOOKUP(Tableau_Lancer_la_requête_à_partir_de_CEGID[[#This Row],[wob_codecomposant]]&" N°7",Feuil2!D:E,2,FALSE))) | U19: =MID(Tableau_Lancer_la_requête_à_partir_de_CEGID[[#This Row],[libcomposant]],1,5) -> C718
... A53: C884 | B53: 44740 | C53: DEC | D53: 153314 | E53: IND | F53: 1060110023 | G53: CORPS D'ETRIER EFA 2343 O | H53: C884 - OUTIL FORGE | I53: 2100 | J53: 120 | K53: =_xlfn.ISOWEEKNUM(Tableau_Lancer_la_requête_à_partir_de_CEGID[[#This Row],[wop_dateacc]]) -> 26 | M53: =IF(ISNA(VLOOKUP(Tableau_Lancer_la_requête_à_partir_de_CEGID[[#This Row],[wob_codecomposant]]&" N°1",Feuil2!D:E,2,FALSE)),"",(VLOOKUP(Tableau_Lancer_la_requête_à_partir_de_CEGID[[#This Row],[wob_codecomposant]]&" N°1",Feuil2!D:E,2,FALSE))) -> 004621 | N53: =IF(OR(VLOOKUP(M53,Feuil2!E:F,2,FALSE)>1,VLOOKUP(Feuil1!M53,Feuil2!E:I,4,)+7<Tableau_Lancer_la_requête_à_partir_de_CEGID[[#This Row],[wop_dateacc]]),Feuil1!M53,"") -> 004621 | O53: =IF(ISNA(VLOOKUP(Tableau_Lancer_la_requête_à_partir_de_CEGID[[#This Row],[wob_codecomposant]]&" N°2",Feuil2!D:E,2,FALSE)),"",(VLOOKUP(Tableau_Lancer_la_requête_à_partir_de_CEGID[[#This Row],[wob_codecomposant]]&" N°2",Feuil2!D:E,2,FALSE))) -> 004818 | P53: =IF(ISNA(VLOOKUP(Tableau_Lancer_la_requête_à_partir_de_CEGID[[#This Row],[wob_codecomposant]]&" N°3",Feuil2!D:E,2,FALSE)),"",(VLOOKUP(Tableau_Lancer_la_requête_à_partir_de_CEGID[[#This Row],[wob_codecomposant]]&" N°3",Feuil2!D:E,2,FALSE))) -> 014021 | Q53: =IF(ISNA(VLOOKUP(Tableau_Lancer_la_requête_à_partir_de_CEGID[[#This Row],[wob_codecomposant]]&" N°4",Feuil2!D:E,2,FALSE)),"",(VLOOKUP(Tableau_Lancer_la_requête_à_partir_de_CEGID[[#This Row],[wob_codecomposant]]&" N°4",Feuil2!D:E,2,FALSE))) | R53: =IF(ISNA(VLOOKUP(Tableau_Lancer_la_requête_à_partir_de_CEGID[[#This Row],[wob_codecomposant]]&" N°5",Feuil2!D:E,2,FALSE)),"",(VLOOKUP(Tableau_Lancer_la_requête_à_partir_de_CEGID[[#This Row],[wob_codecomposant]]&" N°5",Feuil2!D:E,2,FALSE))) | S53: =IF(ISNA(VLOOKUP(Tableau_Lancer_la_requête_à_partir_de_CEGID[[#This Row],[wob_codecomposant]]&" N°6",Feuil2!D:E,2,FALSE)),"",(VLOOKUP(Tableau_Lancer_la_requête_à_partir_de_CEGID[[#This Row],[wob_codecomposant]]&" N°16",Feuil2!D:E,2,FALSE))) | T53: =IF(ISNA(VLOOKUP(Tableau_Lancer_la_requête_à_partir_de_CEGID[[#This Row],[wob_codecomposant]]&" N°7",Feuil2!D:E,2,FALSE)),"",(VLOOKUP(Tableau_Lancer_la_requête_à_partir_de_CEGID[[#This Row],[wob_codecomposant]]&" N°7",Feuil2!D:E,2,FALSE))) | U53: =MID(Tableau_Lancer_la_requête_à_partir_de_CEGID[[#This Row],[libcomposant]],1,5) -> C884
B54: 44740 | C54: DEC | D54: 152623 | E54: ACC | F54: 9901122111A | G54: CORPS MAN. LONGUE o4MM LIBRE | I54: 2000 | J54: 130 | K54: =_xlfn.ISOWEEKNUM(Tableau_Lancer_la_requête_à_partir_de_CEGID[[#This Row],[wop_dateacc]]) -> 26 | M54: =IF(ISNA(VLOOKUP(Tableau_Lancer_la_requête_à_partir_de_CEGID[[#This Row],[wob_codecomposant]]&" N°1",Feuil2!D:E,2,FALSE)),"",(VLOOKUP(Tableau_Lancer_la_requête_à_partir_de_CEGID[[#This Row],[wob_codecomposant]]&" N°1",Feuil2!D:E,2,FALSE))) | N54: =IF(OR(VLOOKUP(M54,Feuil2!E:F,2,FALSE)>1,VLOOKUP(Feuil1!M54,Feuil2!E:I,4,)+7<Tableau_Lancer_la_requête_à_partir_de_CEGID[[#This Row],[wop_dateacc]]),Feuil1!M54,"") -> #N/A | O54: =IF(ISNA(VLOOKUP(Tableau_Lancer_la_requête_à_partir_de_CEGID[[#This Row],[wob_codecomposant]]&" N°2",Feuil2!D:E,2,FALSE)),"",(VLOOKUP(Tableau_Lancer_la_requête_à_partir_de_CEGID[[#This Row],[wob_codecomposant]]&" N°2",Feuil2!D:E,2,FALSE))) | P54: =IF(ISNA(VLOOKUP(Tableau_Lancer_la_requête_à_partir_de_CEGID[[#This Row],[wob_codecomposant]]&" N°3",Feuil2!D:E,2,FALSE)),"",(VLOOKUP(Tableau_Lancer_la_requête_à_partir_de_CEGID[[#This Row],[wob_codecomposant]]&" N°3",Feuil2!D:E,2,FALSE))) | Q54: =IF(ISNA(VLOOKUP(Tableau_Lancer_la_requête_à_partir_de_CEGID[[#This Row],[wob_codecomposant]]&" N°4",Feuil2!D:E,2,FALSE)),"",(VLOOKUP(Tableau_Lancer_la_requête_à_partir_de_CEGID[[#This Row],[wob_codecomposant]]&" N°4",Feuil2!D:E,2,FALSE))) | R54: =IF(ISNA(VLOOKUP(Tableau_Lancer_la_requête_à_partir_de_CEGID[[#This Row],[wob_codecomposant]]&" N°5",Feuil2!D:E,2,FALSE)),"",(VLOOKUP(Tableau_Lancer_la_requête_à_partir_de_CEGID[[#This Row],[wob_codecomposant]]&" N°5",Feuil2!D:E,2,FALSE))) | S54: =IF(ISNA(VLOOKUP(Tableau_Lancer_la_requête_à_partir_de_CEGID[[#This Row],[wob_codecomposant]]&" N°6",Feuil2!D:E,2,FALSE)),"",(VLOOKUP(Tableau_Lancer_la_requête_à_partir_de_CEGID[[#This Row],[wob_codecomposant]]&" N°16",Feuil2!D:E,2,FALSE))) | T54: =IF(ISNA(VLOOKUP(Tableau_Lancer_la_requête_à_partir_de_CEGID[[#This Row],[wob_codecomposant]]&" N°7",Feuil2!D:E,2,FALSE)),"",(VLOOKUP(Tableau_Lancer_la_requête_à_partir_de_CEGID[[#This Row],[wob_codecomposant]]&" N°7",Feuil2!D:E,2,FALSE))) | U54: =MID(Tableau_Lancer_la_requête_à_partir_de_CEGID[[#This Row],[libcomposant]],1,5)
A55: 9906126841_04 | B55: 44739 | C55: DEC | D55: 154834 | E55: ACC | F55: 9906126841PILON | G55: EMBASE DE CADENE SIMPLE Ø6MM 316L PILON | H55: C494 OUTIL DE FORGE PILON | I55: 7500 | J55: 120 | K55: =_xlfn.ISOWEEKNUM(Tableau_Lancer_la_requête_à_partir_de_CEGID[[#This Row],[wop_dateacc]]) -> 26 | M55: =IF(ISNA(VLOOKUP(Tableau_Lancer_la_requête_à_partir_de_CEGID[[#This Row],[wob_codecomposant]]&" N°1",Feuil2!D:E,2,FALSE)),"",(VLOOKUP(Tableau_Lancer_la_requête_à_partir_de_CEGID[[#This Row],[wob_codecomposant]]&" N°1",Feuil2!D:E,2,FALSE))) -> 002121 | N55: =IF(OR(VLOOKUP(M55,Feuil2!E:F,2,FALSE)>1,VLOOKUP(Feuil1!M55,Feuil2!E:I,4,)+7<Tableau_Lancer_la_requête_à_partir_de_CEGID[[#This Row],[wop_dateacc]]),Feuil1!M55,"") -> 002121 | O55: =IF(ISNA(VLOOKUP(Tableau_Lancer_la_requête_à_partir_de_CEGID[[#This Row],[wob_codecomposant]]&" N°2",Feuil2!D:E,2,FALSE)),"",(VLOOKUP(Tableau_Lancer_la_requête_à_partir_de_CEGID[[#This Row],[wob_codecomposant]]&" N°2",Feuil2!D:E,2,FALSE))) -> 008821 | P55: =IF(ISNA(VLOOKUP(Tableau_Lancer_la_requête_à_partir_de_CEGID[[#This Row],[wob_codecomposant]]&" N°3",Feuil2!D:E,2,FALSE)),"",(VLOOKUP(Tableau_Lancer_la_requête_à_partir_de_CEGID[[#This Row],[wob_codecomposant]]&" N°3",Feuil2!D:E,2,FALSE))) -> 014919 | Q55: =IF(ISNA(VLOOKUP(Tableau_Lancer_la_requête_à_partir_de_CEGID[[#This Row],[wob_codecomposant]]&" N°4",Feuil2!D:E,2,FALSE)),"",(VLOOKUP(Tableau_Lancer_la_requête_à_partir_de_CEGID[[#This Row],[wob_codecomposant]]&" N°4",Feuil2!D:E,2,FALSE))) -> 019822 | R55: =IF(ISNA(VLOOKUP(Tableau_Lancer_la_requête_à_partir_de_CEGID[[#This Row],[wob_codecomposant]]&" N°5",Feuil2!D:E,2,FALSE)),"",(VLOOKUP(Tableau_Lancer_la_requête_à_partir_de_CEGID[[#This Row],[wob_codecomposant]]&" N°5",Feuil2!D:E,2,FALSE))) -> 023919 | S55: =IF(ISNA(VLOOKUP(Tableau_Lancer_la_requête_à_partir_de_CEGID[[#This Row],[wob_codecomposant]]&" N°6",Feuil2!D:E,2,FALSE)),"",(VLOOKUP(Tableau_Lancer_la_requête_à_partir_de_CEGID[[#This Row],[wob_codecomposant]]&" N°16",Feuil2!D:E,2,FALSE))) | T55: =IF(ISNA(VLOOKUP(Tableau_Lancer_la_requête_à_partir_de_CEGID[[#This Row],[wob_codecomposant]]&" N°7",Feuil2!D:E,2,FALSE)),"",(VLOOKUP(Tableau_Lancer_la_requête_à_partir_de_CEGID[[#This Row],[wob_codecomposant]]&" N°7",Feuil2!D:E,2,FALSE))) | U55: =MID(Tableau_Lancer_la_requête_à_partir_de_CEGID[[#This Row],[libcomposant]],1,5) -> C494
A56: C1198 | B56: 44739 | C56: DEC | D56: 154859 | E56: ACC | F56: 9212 | G56: Etrier plat pour sangle - Dia 5 mm - Entraxe: 65 mm | H56: C1198 - OUTIL DE FORGE CORPS MANILLE LONGUE D.5 | I56: 4000 | J56: 130 | K56: =_xlfn.ISOWEEKNUM(Tableau_Lancer_la_requête_à_partir_de_CEGID[[#This Row],[wop_dateacc]]) -> 26 | M56: =IF(ISNA(VLOOKUP(Tableau_Lancer_la_requête_à_partir_de_CEGID[[#This Row],[wob_codecomposant]]&" N°1",Feuil2!D:E,2,FALSE)),"",(VLOOKUP(Tableau_Lancer_la_requête_à_partir_de_CEGID[[#This Row],[wob_codecomposant]]&" N°1",Feuil2!D:E,2,FALSE))) -> 000321 | N56: =IF(OR(VLOOKUP(M56,Feuil2!E:F,2,FALSE)>1,VLOOKUP(Feuil1!M56,Feuil2!E:I,4,)+7<Tableau_Lancer_la_requête_à_partir_de_CEGID[[#This Row],[wop_dateacc]]),Feuil1!M56,"") -> 000321 | O56: =IF(ISNA(VLOOKUP(Tableau_Lancer_la_requête_à_partir_de_CEGID[[#This Row],[wob_codecomposant]]&" N°2",Feuil2!D:E,2,FALSE)),"",(VLOOKUP(Tableau_Lancer_la_requête_à_partir_de_CEGID[[#This Row],[wob_codecomposant]]&" N°2",Feuil2!D:E,2,FALSE))) -> 020819 | P56: =IF(ISNA(VLOOKUP(Tableau_Lancer_la_requête_à_partir_de_CEGID[[#This Row],[wob_codecomposant]]&" N°3",Feuil2!D:E,2,FALSE)),"",(VLOOKUP(Tableau_Lancer_la_requête_à_partir_de_CEGID[[#This Row],[wob_codecomposant]]&" N°3",Feuil2!D:E,2,FALSE))) -> 023622 | Q56: =IF(ISNA(VLOOKUP(Tableau_Lancer_la_requête_à_partir_de_CEGID[[#This Row],[wob_codecomposant]]&" N°4",Feuil2!D:E,2,FALSE)),"",(VLOOKUP(Tableau_Lancer_la_requête_à_partir_de_CEGID[[#This Row],[wob_codecomposant]]&" N°4",Feuil2!D:E,2,FALSE))) | R56: =IF(ISNA(VLOOKUP(Tableau_Lancer_la_requête_à_partir_de_CEGID[[#This Row],[wob_codecomposant]]&" N°5",Feuil2!D:E,2,FALSE)),"",(VLOOKUP(Tableau_Lancer_la_requête_à_partir_de_CEGID[[#This Row],[wob_codecomposant]]&" N°5",Feuil2!D:E,2,FALSE))) | S56: =IF(ISNA(VLOOKUP(Tableau_Lancer_la_requête_à_partir_de_CEGID[[#This Row],[wob_codecomposant]]&" N°6",Feuil2!D:E,2,FALSE)),"",(VLOOKUP(Tableau_Lancer_la_requête_à_partir_de_CEGID[[#This Row],[wob_codecomposant]]&" N°16",Feuil2!D:E,2,FALSE))) | T56: =IF(ISNA(VLOOKUP(Tableau_Lancer_la_requête_à_partir_de_CEGID[[#This Row],[wob_codecomposant]]&" N°7",Feuil2!D:E,2,FALSE)),"",(VLOOKUP(Tableau_Lancer_la_requête_à_partir_de_CEGID[[#This Row],[wob_codecomposant]]&" N°7",Feuil2!D:E,2,FALSE))) | U56: =MID(Tableau_Lancer_la_requête_à_partir_de_CEGID[[#This Row],[libcomposant]],1,5) -> C1198
A57: C736 | B57: 44736 | C57: DEC | D57: 154844 | E57: ACC | F57: 9901124421A | G57: CORPS MAN. LYRE o5MM IMPER. | H57: C736 - OUTIL DE FORGE | I57: 2500 | J57: 120 | K57: =_xlfn.ISOWEEKNUM(Tableau_Lancer_la_requête_à_partir_de_CEGID[[#This Row],[wop_dateacc]]) -> 25 | M57: =IF(ISNA(VLOOKUP(Tableau_Lancer_la_requête_à_partir_de_CEGID[[#This Row],[wob_codecomposant]]&" N°1",Feuil2!D:E,2,FALSE)),"",(VLOOKUP(Tableau_Lancer_la_requête_à_partir_de_CEGID[[#This Row],[wob_codecomposant]]&" N°1",Feuil2!D:E,2,FALSE))) -> 003319 | N57: =IF(OR(VLOOKUP(M57,Feuil2!E:F,2,FALSE)>1,VLOOKUP(Feuil1!M57,Feuil2!E:I,4,)+7<Tableau_Lancer_la_requête_à_partir_de_CEGID[[#This Row],[wop_dateacc]]),Feuil1!M57,"") -> 003319 | O57: =IF(ISNA(VLOOKUP(Tableau_Lancer_la_requête_à_partir_de_CEGID[[#This Row],[wob_codecomposant]]&" N°2",Feuil2!D:E,2,FALSE)),"",(VLOOKUP(Tableau_Lancer_la_requête_à_partir_de_CEGID[[#This Row],[wob_codecomposant]]&" N°2",Feuil2!D:E,2,FALSE))) -> 019018 | P57: =IF(ISNA(VLOOKUP(Tableau_Lancer_la_requête_à_partir_de_CEGID[[#This Row],[wob_codecomposant]]&" N°3",Feuil2!D:E,2,FALSE)),"",(VLOOKUP(Tableau_Lancer_la_requête_à_partir_de_CEGID[[#This Row],[wob_codecomposant]]&" N°3",Feuil2!D:E,2,FALSE))) | Q57: =IF(ISNA(VLOOKUP(Tableau_Lancer_la_requête_à_partir_de_CEGID[[#This Row],[wob_codecomposant]]&" N°4",Feuil2!D:E,2,FALSE)),"",(VLOOKUP(Tableau_Lancer_la_requête_à_partir_de_CEGID[[#This Row],[wob_codecomposant]]&" N°4",Feuil2!D:E,2,FALSE))) | R57: =IF(ISNA(VLOOKUP(Tableau_Lancer_la_requête_à_partir_de_CEGID[[#This Row],[wob_codecomposant]]&" N°5",Feuil2!D:E,2,FALSE)),"",(VLOOKUP(Tableau_Lancer_la_requête_à_partir_de_CEGID[[#This Row],[wob_codecomposant]]&" N°5",Feuil2!D:E,2,FALSE))) | S57: =IF(ISNA(VLOOKUP(Tableau_Lancer_la_requête_à_partir_de_CEGID[[#This Row],[wob_codecomposant]]&" N°6",Feuil2!D:E,2,FALSE)),"",(VLOOKUP(Tableau_Lancer_la_requête_à_partir_de_CEGID[[#This Row],[wob_codecomposant]]&" N°16",Feuil2!D:E,2,FALSE))) | T57: =IF(ISNA(VLOOKUP(Tableau_Lancer_la_requête_à_partir_de_CEGID[[#This Row],[wob_codecomposant]]&" N°7",Feuil2!D:E,2,FALSE)),"",(VLOOKUP(Tableau_Lancer_la_requête_à_partir_de_CEGID[[#This Row],[wob_codecomposant]]&" N°7",Feuil2!D:E,2,FALSE))) | U57: =MID(Tableau_Lancer_la_requête_à_partir_de_CEGID[[#This Row],[libcomposant]],1,5) -> C736
A58: C1063B | B58: 44736 | C58: DEC | D58: 153443 | E58: ACC | F58: 9901124021A | G58: CORPS MAN. DROITE Ø5MM IMPER. | H58: C1063B - OUTIL DE FORGE | I58: 3000 | J58: 120 | K58: =_xlfn.ISOWEEKNUM(Tableau_Lancer_la_requête_à_partir_de_CEGID[[#This Row],[wop_dateacc]]) -> 25 | M58: =IF(ISNA(VLOOKUP(Tableau_Lancer_la_requête_à_partir_de_CEGID[[#This Row],[wob_codecomposant]]&" N°1",Feuil2!D:E,2,FALSE)),"",(VLOOKUP(Tableau_Lancer_la_requête_à_partir_de_CEGID[[#This Row],[wob_codecomposant]]&" N°1",Feuil2!D:E,2,FALSE))) -> 025316 | N58: =IF(OR(VLOOKUP(M58,Feuil2!E:F,2,FALSE)>1,VLOOKUP(Feuil1!M58,Feuil2!E:I,4,)+7<Tableau_Lancer_la_requête_à_partir_de_CEGID[[#This Row],[wop_dateacc]]),Feuil1!M58,"") -> 025316 | O58: =IF(ISNA(VLOOKUP(Tableau_Lancer_la_requête_à_partir_de_CEGID[[#This Row],[wob_codecomposant]]&" N°2",Feuil2!D:E,2,FALSE)),"",(VLOOKUP(Tableau_Lancer_la_requête_à_partir_de_CEGID[[#This Row],[wob_codecomposant]]&" N°2",Feuil2!D:E,2,FALSE))) -> 034416 | P58: =IF(ISNA(VLOOKUP(Tableau_Lancer_la_requête_à_partir_de_CEGID[[#This Row],[wob_codecomposant]]&" N°3",Feuil2!D:E,2,FALSE)),"",(VLOOKUP(Tableau_Lancer_la_requête_à_partir_de_CEGID[[#This Row],[wob_codecomposant]]&" N°3",Feuil2!D:E,2,FALSE))) | Q58: =IF(ISNA(VLOOKUP(Tableau_Lancer_la_requête_à_partir_de_CEGID[[#This Row],[wob_codecomposant]]&" N°4",Feuil2!D:E,2,FALSE)),"",(VLOOKUP(Tableau_Lancer_la_requête_à_partir_de_CEGID[[#This Row],[wob_codecomposant]]&" N°4",Feuil2!D:E,2,FALSE))) | R58: =IF(ISNA(VLOOKUP(Tableau_Lancer_la_requête_à_partir_de_CEGID[[#This Row],[wob_codecomposant]]&" N°5",Feuil2!D:E,2,FALSE)),"",(VLOOKUP(Tableau_Lancer_la_requête_à_partir_de_CEGID[[#This Row],[wob_codecomposant]]&" N°5",Feuil2!D:E,2,FALSE))) | S58: =IF(ISNA(VLOOKUP(Tableau_Lancer_la_requête_à_partir_de_CEGID[[#This Row],[wob_codecomposant]]&" N°6",Feuil2!D:E,2,FALSE)),"",(VLOOKUP(Tableau_Lancer_la_requête_à_partir_de_CEGID[[#This Row],[wob_codecomposant]]&" N°16",Feuil2!D:E,2,FALSE))) | T58: =IF(ISNA(VLOOKUP(Tableau_Lancer_la_requête_à_partir_de_CEGID[[#This Row],[wob_codecomposant]]&" N°7",Feuil2!D:E,2,FALSE)),"",(VLOOKUP(Tableau_Lancer_la_requête_à_partir_de_CEGID[[#This Row],[wob_codecomposant]]&" N°7",Feuil2!D:E,2,FALSE))) | U58: =MID(Tableau_Lancer_la_requête_à_partir_de_CEGID[[#This Row],[libcomposant]],1,5) -> C1063
