Workbook

Sheet Feuil13
A3: Somme de wop_qaccsais | B3: Étiquettes de colonnes
A4: Étiquettes de lignes | B4: 3 | C4: 5 | D4: 6 | E4: 7 | F4: 8 | G4: 9 | H4: 10 | I4: 11 | J4: 12 | K4: 13 | L4: 14 | M4: 15 | N4: 16 | O4: 17 | P4: 18 | Q4: 19 | R4: 20 | S4: 21 | T4: 22 | U4: 23 | V4: 24 | W4: 25 | X4: 26 | Y4: 27 | Z4: 28 | AA4: 29 | AB4: 34 | AC4: 35 | AD4: 40 | AE4: 42 | AF4: 43 | AG4: 44 | AH4: (vide) | AI4: 38 | AJ4: 37 | AK4: 36 | AL4: Total général
A5: C1004 OUTIL DE FORGE | G5: 1050 | M5: 1470 | AL5: 2520
A6: C1005 Outil de forge | N6: 2000 | R6: 2000 | AL6: 4000
A7: C10-1 OUTIL DE FORGE | N7: 300 | AL7: 300
A8: C1023 OUT DE FORGE | I8: 52 | K8: 52 | AL8: 104
A9: C1024A - OUTIL DE FORGE | E9: 52 | H9: 52 | AL9: 104
A10: C1031 OUTIL DE FORGE | U10: 450 | Y10: 300 | AL10: 750
A11: C1032C - OUTIL DE FORGE Appl+Ebauche | M11: 200 | AL11: 200
A12: C1050B OUTIL DE FORGE | N12: 2140 | AL12: 2140
A13: C1051 OUTIL DE FORGE | M13: 2440 | AL13: 2440
A14: C1063A - OUTIL DE FORGE:Corps Manille DROITE Dia:6 (Axe imperdable) | M14: 3000 | AL14: 3000
A15: C1063B - OUTIL DE FORGE | W15: 3000 | AL15: 3000
A16: C1063C OUTIL DE FORGE Eb+Fin | N16: 50 | AL16: 50
A17: C1063D OUTIL DE FORGE | L17: 300 | AL17: 300
A18: C1064B - OUTIL DE FORGE Finition | N18: 200 | AL18: 200
A19: C1075A OUTIL DE FORGE | R19: 550 | AL19: 550
A20: C1077W2 - OUTIL DE FORGE | AE20: 44000 | AL20: 44000
A21: C107A OUTIL DE FORGE | V21: 1000 | AL21: 1000
A22: C1085A OUTIL DE FORGE | L22: 1050 | N22: 637 | Z22: 1050 | AL22: 2737
A23: C1085B OUTIL DE FORGE | M23: 300 | N23: 250 | P23: 300 | AL23: 850
A24: C1091A OUTIL DE FORGE EBAUCHE | AA24: 200 | AL24: 200
A25: C1091A OUTIL DE FORGE FINITION | AC25: 200 | AL25: 200
A26: C110 - OUTIL DE FORGE Eb+Fin | N26: 3000 | AL26: 3000
A27: C1100B OUTIL DE FORGE | Z27: 500 | AL27: 500
A28: C111 OUTIL DE FORGE | J28: 510 | L28: 3010 | Y28: 500 | AL28: 4020
A29: C1121 OUTIL DE FORGE | AH29: 525 | AL29: 525
A30: C1124 OUTIL DE FORGE | F30: 52 | J30: 52 | AL30: 104
A31: C1132 OUTIL DE FORGE | Q31: 2000 | AL31: 2000
A32: C1140W2 OUTIL DE FORGE | M32: 2100 | AL32: 2100
A33: C1148 OUTIL FORGE | J33: 1000 | AL33: 1000
A34: C1156A OUTIL DE FORGE | T34: 1440 | AL34: 1440
A35: C1156B OUTIL DE FORGE | O35: 1500 | AL35: 1500
A36: C1170A - OUTIL DE FORGE | N36: 1500 | U36: 1500 | AL36: 3000
A37: C1170W2 - OUTIL DE FORGE | P37: 62 | Q37: 62 | AL37: 124
A38: C1176B - OUTIL DE FORGE | L38: 500 | AL38: 500
A39: C118 - OUTIL DE FORGE Eb+Fin | G39: 3000 | Y39: 3000 | AL39: 6000
A40: C1182 OUTIL DE FORGE | S40: 3150 | AL40: 3150
A41: C1197 - OUTIL DE FORGE CORPS MANILLE LONGUE D.4 | O41: 5200 | AL41: 5200
A42: C1198 - OUTIL DE FORGE CORPS MANILLE LONGUE D.5 | J42: 4000 | X42: 4000 | AL42: 8000
A43: C1200 OUTIL DE FORGE | P43: 1000 | AL43: 1000
A44: C1219 OUTIL DE FORGE | K44: 2010 | P44: 2000 | AL44: 4010
A45: C1223 OUTIL FORGE plaquettes classique | L45: 1540 | P45: 1500 | Y45: 1500 | AL45: 4540
A46: C123 OUTIL DE FORGE | N46: 1000 | AL46: 1000
A47: C1233 - OUTIL DE FORGE | P47: 750 | Y47: 750 | AL47: 1500
A48: C125 OUTIL DE FORGE | AE48: 20 | AL48: 20
A49: C1254 OUTIL DE FORGE | L49: 10000 | M49: 10000 | AL49: 20000
A50: C1259 OUTIL DE FORGE Ebauche | W50: 1000 | AL50: 1000
A51: C1259 OUTIL DE FORGE Finition | X51: 1000 | AL51: 1000
A52: C1263 OUTIL DE FORGE | S52: 6000 | AL52: 6000
A53: C1280 OUTIL DE FORGE Finition | H53: 1010 | AH53: 1011 | AL53: 2021
A54: C1315 OUTIL DE FORGE | L54: 15000 | M54: 15090 | AL54: 30090
A55: C1367 - OUTIL DE FORGE | L55: 2000 | AL55: 2000
A56: C1389 - OUTIL DE FORGE | E56: 1100 | S56: 1100 | AL56: 2200
A57: C1396 OUTIL DE FORGE | D57: 525 | AL57: 525
A58: C1397W2 OUTIL DE FORGE | I58: 500 | M58: 500 | AL58: 1000
A59: C1399W2 OUTIL DE FORGE | I59: 1000 | AL59: 1000
A60: C1400 OUTIL DE FORGE Ebauche | M60: 1000 | AL60: 1000
A61: C1400 OUTIL DE FORGE Finition | N61: 1000 | AL61: 1000
A62: C1400w2 OUTIL DE FORGE | L62: 1000 | AL62: 1000
A63: C1402W2 OUTIL DE FORGE | L63: 1000 | AL63: 1000
A64: C1405 - OUTIL DE FORGE | T64: 1000 | AL64: 1000
A65: C1407 OUTIL DE FORGE | M65: 2500 | R65: 2500 | AL65: 5000
A66: C1409 OUTIL DE FORGE | U66: 1000 | AL66: 1000
A67: C1416 OUTIL DE FORGE (PLAQUETTES 66*29) | Q67: 500 | AL67: 500
A68: C1418 OUTIL DE FORGE | G68: 150 | AL68: 150
A69: C1422 OUTIL DE FORGE | V69: 750 | AL69: 750
A70: C1426 OUTIL DE FORGE | G70: 200 | AL70: 200
A71: C1437W2 OUTIL DE FORGE | F71: 1000 | AL71: 1000
A72: C1438W2 OUTIL DE FORGE | Q72: 1000 | AL72: 1000
A73: C1449w2 OUTIL DE FORGE | L73: 570 | AL73: 570
A74: C1451W2 - OUTIL DE FORGE | M74: 500 | AL74: 500
A75: C1485 OUTIL DE FORGE | L75: 2010 | AL75: 2010
A76: C1557 OUTIL DE FORGE | P76: 1000 | AL76: 1000
A77: C1619 OUTIL DE FORGE | P77: 500 | AL77: 500
A78: C1630 OUTIL DE FORGE | R78: 440 | AL78: 440
A79: C1631 OUTIL DE FORGE | S79: 500 | AL79: 500
A80: C1663 OUTIL DE FORGE manille d24 | J80: 108 | AL80: 108
A81: C175 OUTIL DE FORGE | N81: 3000 | Q81: 3000 | V81: 3000 | AL81: 9000
A82: C180EB - OUTIL DE FORGE EBAUCHE | AK82: 1900 | AL82: 1900
A83: C180Fin - OUTIL DE FORGE FINITION | AJ83: 1900 | AL83: 1900
A84: C180Pan - OUTIL DE FORGE panne | AD84: 1900 | AL84: 1900
A85: C182 - OUTIL DE FORGE | L85: 3000 | AL85: 3000
A86: C1826 OUTIL DE FORGE | N86: 4000 | V86: 4000 | AL86: 8000
A87: C183 OUTIL DE FORGE | J87: 5000 | AL87: 5000
A88: C184 - OUTIL DE FORGE | F88: 4000 | M88: 4000 | AL88: 8000
A89: C185 - OUTIL DE FORGE | R89: 500 | W89: 2500 | AL89: 3000
A90: C188B OUTIL DE FORGE | W90: 300 | AL90: 300
A91: C1988 OUTIL DE FORGE | O91: 1030 | AL91: 1030
A92: C1990 OUTIL DE FORGE | L92: 1060 | Q92: 1030 | Z92: 1030 | AL92: 3120
A93: C1991 OUTIL DE FORGE | H93: 1030 | T93: 1030 | AC93: 1030 | AL93: 3090
A94: C1992 OUTIL DE FORGE | Q94: 1030 | AL94: 1030
A95: C201 - OUTIL DE FORGE | M95: 2010 | AL95: 2010
A96: C204 OUTIL DE FORGE | O96: 1500 | AL96: 1500
A97: C2045 OUTIL DE FORGE | O97: 5250 | AL97: 5250
A98: C2046 OUTIL DE FORGE | E98: 580 | O98: 580 | AL98: 1160
A99: C205 OUTIL DE FORGE | L99: 2000 | AL99: 2000
A100: C2051 OUTIL DE FORGE | G100: 540 | AL100: 540
A101: C2054 OUTIL DE FORGE EB | Z101: 250 | AL101: 250
A102: C2054 OUTIL DE FORGE FIN | AB102: 250 | AL102: 250
...

Sheet Feuil1
A1: wob_codecomposant | B1: wop_dateacc | C1: wop_etatphase | D1: wop_ligneordre | E1: ga_familleniv3 | F1: wop_codearticle | G1: ga_libelle | H1: libcomposant | I1: wop_qaccsais | J1: wop_opecirc | K1: N° Semaine | M1: IMMAT 1 | O1: IMMAT 2 | P1: IMMAT 3 | Q1: IMMAT 4 | R1: IMMAT 5 | S1: IMMAT 6 | T1: IMMAT 7 | X1: 34
A2: 3390150012_04 | B2: 45058 | C2: DEC | D2: 151195 | E2: IND | F2: 3390150012 | G2: EBAUCHE DE DOUBLE ETRIER LEBAUCHE 25803 | H2: C982B OUTIL DE FORGE | I2: 630 | J2: 130 | K2: =_xlfn.ISOWEEKNUM(Tableau_Lancer_la_requête_à_partir_de_CEGID[[#This Row],[wop_dateacc]]) -> 19 | M2: =IF(ISNA(VLOOKUP(Tableau_Lancer_la_requête_à_partir_de_CEGID[[#This Row],[wob_codecomposant]]&" N°1",Feuil2!D:E,2,FALSE)),"",(VLOOKUP(Tableau_Lancer_la_requête_à_partir_de_CEGID[[#This Row],[wob_codecomposant]]&" N°1",Feuil2!D:E,2,FALSE))) -> 012616 | N2: =IF(OR(VLOOKUP(M2,Feuil2!E:F,2,FALSE)>1,VLOOKUP(Feuil1!M2,Feuil2!E:I,4,)+7<Tableau_Lancer_la_requête_à_partir_de_CEGID[[#This Row],[wop_dateacc]]),Feuil1!M2,"") -> 012616 | O2: =IF(ISNA(VLOOKUP(Tableau_Lancer_la_requête_à_partir_de_CEGID[[#This Row],[wob_codecomposant]]&" N°2",Feuil2!D:E,2,FALSE)),"",(VLOOKUP(Tableau_Lancer_la_requête_à_partir_de_CEGID[[#This Row],[wob_codecomposant]]&" N°2",Feuil2!D:E,2,FALSE))) -> 023018 | P2: =IF(ISNA(VLOOKUP(Tableau_Lancer_la_requête_à_partir_de_CEGID[[#This Row],[wob_codecomposant]]&" N°3",Feuil2!D:E,2,FALSE)),"",(VLOOKUP(Tableau_Lancer_la_requête_à_partir_de_CEGID[[#This Row],[wob_codecomposant]]&" N°3",Feuil2!D:E,2,FALSE))) | Q2: =IF(ISNA(VLOOKUP(Tableau_Lancer_la_requête_à_partir_de_CEGID[[#This Row],[wob_codecomposant]]&" N°4",Feuil2!D:E,2,FALSE)),"",(VLOOKUP(Tableau_Lancer_la_requête_à_partir_de_CEGID[[#This Row],[wob_codecomposant]]&" N°4",Feuil2!D:E,2,FALSE))) | R2: =IF(ISNA(VLOOKUP(Tableau_Lancer_la_requête_à_partir_de_CEGID[[#This Row],[wob_codecomposant]]&" N°5",Feuil2!D:E,2,FALSE)),"",(VLOOKUP(Tableau_Lancer_la_requête_à_partir_de_CEGID[[#This Row],[wob_codecomposant]]&" N°5",Feuil2!D:E,2,FALSE))) | S2: =IF(ISNA(VLOOKUP(Tableau_Lancer_la_requête_à_partir_de_CEGID[[#This Row],[wob_codecomposant]]&" N°6",Feuil2!D:E,2,FALSE)),"",(VLOOKUP(Tableau_Lancer_la_requête_à_partir_de_CEGID[[#This Row],[wob_codecomposant]]&" N°16",Feuil2!D:E,2,FALSE))) | T2: =IF(ISNA(VLOOKUP(Tableau_Lancer_la_requête_à_partir_de_CEGID[[#This Row],[wob_codecomposant]]&" N°7",Feuil2!D:E,2,FALSE)),"",(VLOOKUP(Tableau_Lancer_la_requête_à_partir_de_CEGID[[#This Row],[wob_codecomposant]]&" N°7",Feuil2!D:E,2,FALSE))) | U2: =MID(Tableau_Lancer_la_requête_à_partir_de_CEGID[[#This Row],[libcomposant]],1,5) -> C982B | V2: =COUNTIF(U2:U369,-1) -> 0 | X2: 368
A3: 3390150013_04 | B3: 45057 | C3: DEC | D3: 151200 | E3: IND | F3: 3390150013 | G3: EBAUCHE DE VIS A OEIL ART. LEBAUCHE 25802 | H3: C982B OUTIL DE FORGE | I3: 210 | J3: 130 | K3: =_xlfn.ISOWEEKNUM(Tableau_Lancer_la_requête_à_partir_de_CEGID[[#This Row],[wop_dateacc]]) -> 19 | M3: =IF(ISNA(VLOOKUP(Tableau_Lancer_la_requête_à_partir_de_CEGID[[#This Row],[wob_codecomposant]]&" N°1",Feuil2!D:E,2,FALSE)),"",(VLOOKUP(Tableau_Lancer_la_requête_à_partir_de_CEGID[[#This Row],[wob_codecomposant]]&" N°1",Feuil2!D:E,2,FALSE))) -> 012615 | N3: =IF(OR(VLOOKUP(M3,Feuil2!E:F,2,FALSE)>1,VLOOKUP(Feuil1!M3,Feuil2!E:I,4,)+7<Tableau_Lancer_la_requête_à_partir_de_CEGID[[#This Row],[wop_dateacc]]),Feuil1!M3,"") -> 012615 | O3: =IF(ISNA(VLOOKUP(Tableau_Lancer_la_requête_à_partir_de_CEGID[[#This Row],[wob_codecomposant]]&" N°2",Feuil2!D:E,2,FALSE)),"",(VLOOKUP(Tableau_Lancer_la_requête_à_partir_de_CEGID[[#This Row],[wob_codecomposant]]&" N°2",Feuil2!D:E,2,FALSE))) -> 020016 | P3: =IF(ISNA(VLOOKUP(Tableau_Lancer_la_requête_à_partir_de_CEGID[[#This Row],[wob_codecomposant]]&" N°3",Feuil2!D:E,2,FALSE)),"",(VLOOKUP(Tableau_Lancer_la_requête_à_partir_de_CEGID[[#This Row],[wob_codecomposant]]&" N°3",Feuil2!D:E,2,FALSE))) | Q3: =IF(ISNA(VLOOKUP(Tableau_Lancer_la_requête_à_partir_de_CEGID[[#This Row],[wob_codecomposant]]&" N°4",Feuil2!D:E,2,FALSE)),"",(VLOOKUP(Tableau_Lancer_la_requête_à_partir_de_CEGID[[#This Row],[wob_codecomposant]]&" N°4",Feuil2!D:E,2,FALSE))) | R3: =IF(ISNA(VLOOKUP(Tableau_Lancer_la_requête_à_partir_de_CEGID[[#This Row],[wob_codecomposant]]&" N°5",Feuil2!D:E,2,FALSE)),"",(VLOOKUP(Tableau_Lancer_la_requête_à_partir_de_CEGID[[#This Row],[wob_codecomposant]]&" N°5",Feuil2!D:E,2,FALSE))) | S3: =IF(ISNA(VLOOKUP(Tableau_Lancer_la_requête_à_partir_de_CEGID[[#This Row],[wob_codecomposant]]&" N°6",Feuil2!D:E,2,FALSE)),"",(VLOOKUP(Tableau_Lancer_la_requête_à_partir_de_CEGID[[#This Row],[wob_codecomposant]]&" N°16",Feuil2!D:E,2,FALSE))) | T3: =IF(ISNA(VLOOKUP(Tableau_Lancer_la_requête_à_partir_de_CEGID[[#This Row],[wob_codecomposant]]&" N°7",Feuil2!D:E,2,FALSE)),"",(VLOOKUP(Tableau_Lancer_la_requête_à_partir_de_CEGID[[#This Row],[wob_codecomposant]]&" N°7",Feuil2!D:E,2,FALSE))) | U3: =MID(Tableau_Lancer_la_requête_à_partir_de_CEGID[[#This Row],[libcomposant]],1,5) -> C982B | X3: =X1/X2 -> 0.092391304
A4: C1085A | B4: 45019 | C4: DEC | D4: 150948 | E4: IND | F4: 3390150108 | G4: EBAUCHE DE VIS EN TE LEBAUCHE2412501 | H4: C1085A OUTIL DE FORGE | I4: 1050 | J4: 120 | K4: =_xlfn.ISOWEEKNUM(Tableau_Lancer_la_requête_à_partir_de_CEGID[[#This Row],[wop_dateacc]]) -> 14 | M4: =IF(ISNA(VLOOKUP(Tableau_Lancer_la_requête_à_partir_de_CEGID[[#This Row],[wob_codecomposant]]&" N°1",Feuil2!D:E,2,FALSE)),"",(VLOOKUP(Tableau_Lancer_la_requête_à_partir_de_CEGID[[#This Row],[wob_codecomposant]]&" N°1",Feuil2!D:E,2,FALSE))) -> 005116 | N4: =IF(OR(VLOOKUP(M4,Feuil2!E:F,2,FALSE)>1,VLOOKUP(Feuil1!M4,Feuil2!E:I,4,)+7<Tableau_Lancer_la_requête_à_partir_de_CEGID[[#This Row],[wop_dateacc]]),Feuil1!M4,"") -> 005116 | O4: =IF(ISNA(VLOOKUP(Tableau_Lancer_la_requête_à_partir_de_CEGID[[#This Row],[wob_codecomposant]]&" N°2",Feuil2!D:E,2,FALSE)),"",(VLOOKUP(Tableau_Lancer_la_requête_à_partir_de_CEGID[[#This Row],[wob_codecomposant]]&" N°2",Feuil2!D:E,2,FALSE))) -> 029219 | P4: =IF(ISNA(VLOOKUP(Tableau_Lancer_la_requête_à_partir_de_CEGID[[#This Row],[wob_codecomposant]]&" N°3",Feuil2!D:E,2,FALSE)),"",(VLOOKUP(Tableau_Lancer_la_requête_à_partir_de_CEGID[[#This Row],[wob_codecomposant]]&" N°3",Feuil2!D:E,2,FALSE))) -> 029916 | Q4: =IF(ISNA(VLOOKUP(Tableau_Lancer_la_requête_à_partir_de_CEGID[[#This Row],[wob_codecomposant]]&" N°4",Feuil2!D:E,2,FALSE)),"",(VLOOKUP(Tableau_Lancer_la_requête_à_partir_de_CEGID[[#This Row],[wob_codecomposant]]&" N°4",Feuil2!D:E,2,FALSE))) | R4: =IF(ISNA(VLOOKUP(Tableau_Lancer_la_requête_à_partir_de_CEGID[[#This Row],[wob_codecomposant]]&" N°5",Feuil2!D:E,2,FALSE)),"",(VLOOKUP(Tableau_Lancer_la_requête_à_partir_de_CEGID[[#This Row],[wob_codecomposant]]&" N°5",Feuil2!D:E,2,FALSE))) | S4: =IF(ISNA(VLOOKUP(Tableau_Lancer_la_requête_à_partir_de_CEGID[[#This Row],[wob_codecomposant]]&" N°6",Feuil2!D:E,2,FALSE)),"",(VLOOKUP(Tableau_Lancer_la_requête_à_partir_de_CEGID[[#This Row],[wob_codecomposant]]&" N°16",Feuil2!D:E,2,FALSE))) | T4: =IF(ISNA(VLOOKUP(Tableau_Lancer_la_requête_à_partir_de_CEGID[[#This Row],[wob_codecomposant]]&" N°7",Feuil2!D:E,2,FALSE)),"",(VLOOKUP(Tableau_Lancer_la_requête_à_partir_de_CEGID[[#This Row],[wob_codecomposant]]&" N°7",Feuil2!D:E,2,FALSE))) | U4: =MID(Tableau_Lancer_la_requête_à_partir_de_CEGID[[#This Row],[libcomposant]],1,5) -> C1085
A5: C2046 | B5: 44973 | C5: DEC | D5: 151198 | E5: IND | F5: 3390150107 | G5: EBAUCHE DE TOURILLON LEBAUCHE2425201 | H5: C2046 OUTIL DE FORGE | I5: 580 | J5: 130 | K5: =_xlfn.ISOWEEKNUM(Tableau_Lancer_la_requête_à_partir_de_CEGID[[#This Row],[wop_dateacc]]) -> 7 | M5: =IF(ISNA(VLOOKUP(Tableau_Lancer_la_requête_à_partir_de_CEGID[[#This Row],[wob_codecomposant]]&" N°1",Feuil2!D:E,2,FALSE)),"",(VLOOKUP(Tableau_Lancer_la_requête_à_partir_de_CEGID[[#This Row],[wob_codecomposant]]&" N°1",Feuil2!D:E,2,FALSE))) -> 011619 | N5: =IF(OR(VLOOKUP(M5,Feuil2!E:F,2,FALSE)>1,VLOOKUP(Feuil1!M5,Feuil2!E:I,4,)+7<Tableau_Lancer_la_requête_à_partir_de_CEGID[[#This Row],[wop_dateacc]]),Feuil1!M5,"") -> 011619 | O5: =IF(ISNA(VLOOKUP(Tableau_Lancer_la_requête_à_partir_de_CEGID[[#This Row],[wob_codecomposant]]&" N°2",Feuil2!D:E,2,FALSE)),"",(VLOOKUP(Tableau_Lancer_la_requête_à_partir_de_CEGID[[#This Row],[wob_codecomposant]]&" N°2",Feuil2!D:E,2,FALSE))) -> 024416 | P5: =IF(ISNA(VLOOKUP(Tableau_Lancer_la_requête_à_partir_de_CEGID[[#This Row],[wob_codecomposant]]&" N°3",Feuil2!D:E,2,FALSE)),"",(VLOOKUP(Tableau_Lancer_la_requête_à_partir_de_CEGID[[#This Row],[wob_codecomposant]]&" N°3",Feuil2!D:E,2,FALSE))) | Q5: =IF(ISNA(VLOOKUP(Tableau_Lancer_la_requête_à_partir_de_CEGID[[#This Row],[wob_codecomposant]]&" N°4",Feuil2!D:E,2,FALSE)),"",(VLOOKUP(Tableau_Lancer_la_requête_à_partir_de_CEGID[[#This Row],[wob_codecomposant]]&" N°4",Feuil2!D:E,2,FALSE))) | R5: =IF(ISNA(VLOOKUP(Tableau_Lancer_la_requête_à_partir_de_CEGID[[#This Row],[wob_codecomposant]]&" N°5",Feuil2!D:E,2,FALSE)),"",(VLOOKUP(Tableau_Lancer_la_requête_à_partir_de_CEGID[[#This Row],[wob_codecomposant]]&" N°5",Feuil2!D:E,2,FALSE))) | S5: =IF(ISNA(VLOOKUP(Tableau_Lancer_la_requête_à_partir_de_CEGID[[#This Row],[wob_codecomposant]]&" N°6",Feuil2!D:E,2,FALSE)),"",(VLOOKUP(Tableau_Lancer_la_requête_à_partir_de_CEGID[[#This Row],[wob_codecomposant]]&" N°16",Feuil2!D:E,2,FALSE))) | T5: =IF(ISNA(VLOOKUP(Tableau_Lancer_la_requête_à_partir_de_CEGID[[#This Row],[wob_codecomposant]]&" N°7",Feuil2!D:E,2,FALSE)),"",(VLOOKUP(Tableau_Lancer_la_requête_à_partir_de_CEGID[[#This Row],[wob_codecomposant]]&" N°7",Feuil2!D:E,2,FALSE))) | U5: =MID(Tableau_Lancer_la_requête_à_partir_de_CEGID[[#This Row],[libcomposant]],1,5) -> C2046
A6: 1250160003_04 | B6: 44869 | C6: DEC | D6: 149061 | E6: IND | F6: 1250160003 | G6: BOUCLE D'ACCROCHAGE 90008441 | H6: C77A OUTIL FORGE plaquettes classique | I6: 2100 | J6: 130 | K6: =_xlfn.ISOWEEKNUM(Tableau_Lancer_la_requête_à_partir_de_CEGID[[#This Row],[wop_dateacc]]) -> 44 | M6: =IF(ISNA(VLOOKUP(Tableau_Lancer_la_requête_à_partir_de_CEGID[[#This Row],[wob_codecomposant]]&" N°1",Feuil2!D:E,2,FALSE)),"",(VLOOKUP(Tableau_Lancer_la_requête_à_partir_de_CEGID[[#This Row],[wob_codecomposant]]&" N°1",Feuil2!D:E,2,FALSE))) -> 010418 | N6: =IF(OR(VLOOKUP(M6,Feuil2!E:F,2,FALSE)>1,VLOOKUP(Feuil1!M6,Feuil2!E:I,4,)+7<Tableau_Lancer_la_requête_à_partir_de_CEGID[[#This Row],[wop_dateacc]]),Feuil1!M6,"") -> 010418 | O6: =IF(ISNA(VLOOKUP(Tableau_Lancer_la_requête_à_partir_de_CEGID[[#This Row],[wob_codecomposant]]&" N°2",Feuil2!D:E,2,FALSE)),"",(VLOOKUP(Tableau_Lancer_la_requête_à_partir_de_CEGID[[#This Row],[wob_codecomposant]]&" N°2",Feuil2!D:E,2,FALSE))) -> 012921 | P6: =IF(ISNA(VLOOKUP(Tableau_Lancer_la_requête_à_partir_de_CEGID[[#This Row],[wob_codecomposant]]&" N°3",Feuil2!D:E,2,FALSE)),"",(VLOOKUP(Tableau_Lancer_la_requête_à_partir_de_CEGID[[#This Row],[wob_codecomposant]]&" N°3",Feuil2!D:E,2,FALSE))) -> 016821 | Q6: =IF(ISNA(VLOOKUP(Tableau_Lancer_la_requête_à_partir_de_CEGID[[#This Row],[wob_codecomposant]]&" N°4",Feuil2!D:E,2,FALSE)),"",(VLOOKUP(Tableau_Lancer_la_requête_à_partir_de_CEGID[[#This Row],[wob_codecomposant]]&" N°4",Feuil2!D:E,2,FALSE))) | R6: =IF(ISNA(VLOOKUP(Tableau_Lancer_la_requête_à_partir_de_CEGID[[#This Row],[wob_codecomposant]]&" N°5",Feuil2!D:E,2,FALSE)),"",(VLOOKUP(Tableau_Lancer_la_requête_à_partir_de_CEGID[[#This Row],[wob_codecomposant]]&" N°5",Feuil2!D:E,2,FALSE))) | S6: =IF(ISNA(VLOOKUP(Tableau_Lancer_la_requête_à_partir_de_CEGID[[#This Row],[wob_codecomposant]]&" N°6",Feuil2!D:E,2,FALSE)),"",(VLOOKUP(Tableau_Lancer_la_requête_à_partir_de_CEGID[[#This Row],[wob_codecomposant]]&" N°16",Feuil2!D:E,2,FALSE))) | T6: =IF(ISNA(VLOOKUP(Tableau_Lancer_la_requête_à_partir_de_CEGID[[#This Row],[wob_codecomposant]]&" N°7",Feuil2!D:E,2,FALSE)),"",(VLOOKUP(Tableau_Lancer_la_requête_à_partir_de_CEGID[[#This Row],[wob_codecomposant]]&" N°7",Feuil2!D:E,2,FALSE))) | U6: =MID(Tableau_Lancer_la_requête_à_partir_de_CEGID[[#This Row],[libcomposant]],1,5) -> C77A
B7: 44862 | C7: DEC | D7: 149061 | E7: IND | F7: 1250160003 | G7: BOUCLE D'ACCROCHAGE 90008441 | I7: 2100 | J7: 120 | K7: =_xlfn.ISOWEEKNUM(Tableau_Lancer_la_requête_à_partir_de_CEGID[[#This Row],[wop_dateacc]]) -> 43 | M7: =IF(ISNA(VLOOKUP(Tableau_Lancer_la_requête_à_partir_de_CEGID[[#This Row],[wob_codecomposant]]&" N°1",Feuil2!D:E,2,FALSE)),"",(VLOOKUP(Tableau_Lancer_la_requête_à_partir_de_CEGID[[#This Row],[wob_codecomposant]]&" N°1",Feuil2!D:E,2,FALSE))) | N7: =IF(OR(VLOOKUP(M7,Feuil2!E:F,2,FALSE)>1,VLOOKUP(Feuil1!M7,Feuil2!E:I,4,)+7<Tableau_Lancer_la_requête_à_partir_de_CEGID[[#This Row],[wop_dateacc]]),Feuil1!M7,"") -> #N/A | O7: =IF(ISNA(VLOOKUP(Tableau_Lancer_la_requête_à_partir_de_CEGID[[#This Row],[wob_codecomposant]]&" N°2",Feuil2!D:E,2,FALSE)),"",(VLOOKUP(Tableau_Lancer_la_requête_à_partir_de_CEGID[[#This Row],[wob_codecomposant]]&" N°2",Feuil2!D:E,2,FALSE))) | P7: =IF(ISNA(VLOOKUP(Tableau_Lancer_la_requête_à_partir_de_CEGID[[#This Row],[wob_codecomposant]]&" N°3",Feuil2!D:E,2,FALSE)),"",(VLOOKUP(Tableau_Lancer_la_requête_à_partir_de_CEGID[[#This Row],[wob_codecomposant]]&" N°3",Feuil2!D:E,2,FALSE))) | Q7: =IF(ISNA(VLOOKUP(Tableau_Lancer_la_requête_à_partir_de_CEGID[[#This Row],[wob_codecomposant]]&" N°4",Feuil2!D:E,2,FALSE)),"",(VLOOKUP(Tableau_Lancer_la_requête_à_partir_de_CEGID[[#This Row],[wob_codecomposant]]&" N°4",Feuil2!D:E,2,FALSE))) | R7: =IF(ISNA(VLOOKUP(Tableau_Lancer_la_requête_à_partir_de_CEGID[[#This Row],[wob_codecomposant]]&" N°5",Feuil2!D:E,2,FALSE)),"",(VLOOKUP(Tableau_Lancer_la_requête_à_partir_de_CEGID[[#This Row],[wob_codecomposant]]&" N°5",Feuil2!D:E,2,FALSE))) | S7: =IF(ISNA(VLOOKUP(Tableau_Lancer_la_requête_à_partir_de_CEGID[[#This Row],[wob_codecomposant]]&" N°6",Feuil2!D:E,2,FALSE)),"",(VLOOKUP(Tableau_Lancer_la_requête_à_partir_de_CEGID[[#This Row],[wob_codecomposant]]&" N°16",Feuil2!D:E,2,FALSE))) | T7: =IF(ISNA(VLOOKUP(Tableau_Lancer_la_requête_à_partir_de_CEGID[[#This Row],[wob_codecomposant]]&" N°7",Feuil2!D:E,2,FALSE)),"",(VLOOKUP(Tableau_Lancer_la_requête_à_partir_de_CEGID[[#This Row],[wob_codecomposant]]&" N°7",Feuil2!D:E,2,FALSE))) | U7: =MID(Tableau_Lancer_la_requête_à_partir_de_CEGID[[#This Row],[libcomposant]],1,5)
A8: C987A | B8: 44855 | C8: LAN | D8: 125494 | E8: IND | F8: 6780070030 | G8: VERROU DE SECURITE K 196 | H8: OUTIL DE FORGE | I8: 500 | J8: 120 | K8: =_xlfn.ISOWEEKNUM(Tableau_Lancer_la_requête_à_partir_de_CEGID[[#This Row],[wop_dateacc]]) -> 42 | M8: =IF(ISNA(VLOOKUP(Tableau_Lancer_la_requête_à_partir_de_CEGID[[#This Row],[wob_codecomposant]]&" N°1",Feuil2!D:E,2,FALSE)),"",(VLOOKUP(Tableau_Lancer_la_requête_à_partir_de_CEGID[[#This Row],[wob_codecomposant]]&" N°1",Feuil2!D:E,2,FALSE))) -> 016119 | N8: =IF(OR(VLOOKUP(M8,Feuil2!E:F,2,FALSE)>1,VLOOKUP(Feuil1!M8,Feuil2!E:I,4,)+7<Tableau_Lancer_la_requête_à_partir_de_CEGID[[#This Row],[wop_dateacc]]),Feuil1!M8,"") -> 016119 | O8: =IF(ISNA(VLOOKUP(Tableau_Lancer_la_requête_à_partir_de_CEGID[[#This Row],[wob_codecomposant]]&" N°2",Feuil2!D:E,2,FALSE)),"",(VLOOKUP(Tableau_Lancer_la_requête_à_partir_de_CEGID[[#This Row],[wob_codecomposant]]&" N°2",Feuil2!D:E,2,FALSE))) | P8: =IF(ISNA(VLOOKUP(Tableau_Lancer_la_requête_à_partir_de_CEGID[[#This Row],[wob_codecomposant]]&" N°3",Feuil2!D:E,2,FALSE)),"",(VLOOKUP(Tableau_Lancer_la_requête_à_partir_de_CEGID[[#This Row],[wob_codecomposant]]&" N°3",Feuil2!D:E,2,FALSE))) | Q8: =IF(ISNA(VLOOKUP(Tableau_Lancer_la_requête_à_partir_de_CEGID[[#This Row],[wob_codecomposant]]&" N°4",Feuil2!D:E,2,FALSE)),"",(VLOOKUP(Tableau_Lancer_la_requête_à_partir_de_CEGID[[#This Row],[wob_codecomposant]]&" N°4",Feuil2!D:E,2,FALSE))) | R8: =IF(ISNA(VLOOKUP(Tableau_Lancer_la_requête_à_partir_de_CEGID[[#This Row],[wob_codecomposant]]&" N°5",Feuil2!D:E,2,FALSE)),"",(VLOOKUP(Tableau_Lancer_la_requête_à_partir_de_CEGID[[#This Row],[wob_codecomposant]]&" N°5",Feuil2!D:E,2,FALSE))) | S8: =IF(ISNA(VLOOKUP(Tableau_Lancer_la_requête_à_partir_de_CEGID[[#This Row],[wob_codecomposant]]&" N°6",Feuil2!D:E,2,FALSE)),"",(VLOOKUP(Tableau_Lancer_la_requête_à_partir_de_CEGID[[#This Row],[wob_codecomposant]]&" N°16",Feuil2!D:E,2,FALSE))) | T8: =IF(ISNA(VLOOKUP(Tableau_Lancer_la_requête_à_partir_de_CEGID[[#This Row],[wob_codecomposant]]&" N°7",Feuil2!D:E,2,FALSE)),"",(VLOOKUP(Tableau_Lancer_la_requête_à_partir_de_CEGID[[#This Row],[wob_codecomposant]]&" N°7",Feuil2!D:E,2,FALSE))) | U8: =MID(Tableau_Lancer_la_requête_à_partir_de_CEGID[[#This Row],[libcomposant]],1,5) -> OUTIL
A9: 1255140003_04 | B9: 44851 | C9: DEC | D9: 147989 | E9: IND | F9: 1255140003 | G9: ROHLING STUD 150 364-11 | H9: C1077W2 - OUTIL DE FORGE | I9: 44000 | J9: 120 | K9: =_xlfn.ISOWEEKNUM(Tableau_Lancer_la_requête_à_partir_de_CEGID[[#This Row],[wop_dateacc]]) -> 42 | M9: =IF(ISNA(VLOOKUP(Tableau_Lancer_la_requête_à_partir_de_CEGID[[#This Row],[wob_codecomposant]]&" N°1",Feuil2!D:E,2,FALSE)),"",(VLOOKUP(Tableau_Lancer_la_requête_à_partir_de_CEGID[[#This Row],[wob_codecomposant]]&" N°1",Feuil2!D:E,2,FALSE))) -> 004119 | N9: =IF(OR(VLOOKUP(M9,Feuil2!E:F,2,FALSE)>1,VLOOKUP(Feuil1!M9,Feuil2!E:I,4,)+7<Tableau_Lancer_la_requête_à_partir_de_CEGID[[#This Row],[wop_dateacc]]),Feuil1!M9,"") -> 004119 | O9: =IF(ISNA(VLOOKUP(Tableau_Lancer_la_requête_à_partir_de_CEGID[[#This Row],[wob_codecomposant]]&" N°2",Feuil2!D:E,2,FALSE)),"",(VLOOKUP(Tableau_Lancer_la_requête_à_partir_de_CEGID[[#This Row],[wob_codecomposant]]&" N°2",Feuil2!D:E,2,FALSE))) -> 007719 | P9: =IF(ISNA(VLOOKUP(Tableau_Lancer_la_requête_à_partir_de_CEGID[[#This Row],[wob_codecomposant]]&" N°3",Feuil2!D:E,2,FALSE)),"",(VLOOKUP(Tableau_Lancer_la_requête_à_partir_de_CEGID[[#This Row],[wob_codecomposant]]&" N°3",Feuil2!D:E,2,FALSE))) -> 015615 | Q9: =IF(ISNA(VLOOKUP(Tableau_Lancer_la_requête_à_partir_de_CEGID[[#This Row],[wob_codecomposant]]&" N°4",Feuil2!D:E,2,FALSE)),"",(VLOOKUP(Tableau_Lancer_la_requête_à_partir_de_CEGID[[#This Row],[wob_codecomposant]]&" N°4",Feuil2!D:E,2,FALSE))) -> 015721 | R9: =IF(ISNA(VLOOKUP(Tableau_Lancer_la_requête_à_partir_de_CEGID[[#This Row],[wob_codecomposant]]&" N°5",Feuil2!D:E,2,FALSE)),"",(VLOOKUP(Tableau_Lancer_la_requête_à_partir_de_CEGID[[#This Row],[wob_codecomposant]]&" N°5",Feuil2!D:E,2,FALSE))) -> 022516 | S9: =IF(ISNA(VLOOKUP(Tableau_Lancer_la_requête_à_partir_de_CEGID[[#This Row],[wob_codecomposant]]&" N°6",Feuil2!D:E,2,FALSE)),"",(VLOOKUP(Tableau_Lancer_la_requête_à_partir_de_CEGID[[#This Row],[wob_codecomposant]]&" N°16",Feuil2!D:E,2,FALSE))) | T9: =IF(ISNA(VLOOKUP(Tableau_Lancer_la_requête_à_partir_de_CEGID[[#This Row],[wob_codecomposant]]&" N°7",Feuil2!D:E,2,FALSE)),"",(VLOOKUP(Tableau_Lancer_la_requête_à_partir_de_CEGID[[#This Row],[wob_codecomposant]]&" N°7",Feuil2!D:E,2,FALSE))) | U9: =MID(Tableau_Lancer_la_requête_à_partir_de_CEGID[[#This Row],[libcomposant]],1,5) -> C1077
A10: 9907123081_04 | B10: 44851 | C10: DEC | D10: 138664 | E10: ACC | F10: 9907123081 | G10: CORPS SERRE CABLE Ø8MM | H10: C125 OUTIL DE FORGE | I10: 20 | J10: 120 | K10: =_xlfn.ISOWEEKNUM(Tableau_Lancer_la_requête_à_partir_de_CEGID[[#This Row],[wop_dateacc]]) -> 42 | M10: =IF(ISNA(VLOOKUP(Tableau_Lancer_la_requête_à_partir_de_CEGID[[#This Row],[wob_codecomposant]]&" N°1",Feuil2!D:E,2,FALSE)),"",(VLOOKUP(Tableau_Lancer_la_requête_à_partir_de_CEGID[[#This Row],[wob_codecomposant]]&" N°1",Feuil2!D:E,2,FALSE))) -> 019316 | N10: =IF(OR(VLOOKUP(M10,Feuil2!E:F,2,FALSE)>1,VLOOKUP(Feuil1!M10,Feuil2!E:I,4,)+7<Tableau_Lancer_la_requête_à_partir_de_CEGID[[#This Row],[wop_dateacc]]),Feuil1!M10,"") -> 019316 | O10: =IF(ISNA(VLOOKUP(Tableau_Lancer_la_requête_à_partir_de_CEGID[[#This Row],[wob_codecomposant]]&" N°2",Feuil2!D:E,2,FALSE)),"",(VLOOKUP(Tableau_Lancer_la_requête_à_partir_de_CEGID[[#This Row],[wob_codecomposant]]&" N°2",Feuil2!D:E,2,FALSE))) | P10: =IF(ISNA(VLOOKUP(Tableau_Lancer_la_requête_à_partir_de_CEGID[[#This Row],[wob_codecomposant]]&" N°3",Feuil2!D:E,2,FALSE)),"",(VLOOKUP(Tableau_Lancer_la_requête_à_partir_de_CEGID[[#This Row],[wob_codecomposant]]&" N°3",Feuil2!D:E,2,FALSE))) | Q10: =IF(ISNA(VLOOKUP(Tableau_Lancer_la_requête_à_partir_de_CEGID[[#This Row],[wob_codecomposant]]&" N°4",Feuil2!D:E,2,FALSE)),"",(VLOOKUP(Tableau_Lancer_la_requête_à_partir_de_CEGID[[#This Row],[wob_codecomposant]]&" N°4",Feuil2!D:E,2,FALSE))) | R10: =IF(ISNA(VLOOKUP(Tableau_Lancer_la_requête_à_partir_de_CEGID[[#This Row],[wob_codecomposant]]&" N°5",Feuil2!D:E,2,FALSE)),"",(VLOOKUP(Tableau_Lancer_la_requête_à_partir_de_CEGID[[#This Row],[wob_codecomposant]]&" N°5",Feuil2!D:E,2,FALSE))) | S10: =IF(ISNA(VLOOKUP(Tableau_Lancer_la_requête_à_partir_de_CEGID[[#This Row],[wob_codecomposant]]&" N°6",Feuil2!D:E,2,FALSE)),"",(VLOOKUP(Tableau_Lancer_la_requête_à_partir_de_CEGID[[#This Row],[wob_codecomposant]]&" N°16",Feuil2!D:E,2,FALSE))) | T10: =IF(ISNA(VLOOKUP(Tableau_Lancer_la_requête_à_partir_de_CEGID[[#This Row],[wob_codecomposant]]&" N°7",Feuil2!D:E,2,FALSE)),"",(VLOOKUP(Tableau_Lancer_la_requête_à_partir_de_CEGID[[#This Row],[wob_codecomposant]]&" N°7",Feuil2!D:E,2,FALSE))) | U10: =MID(Tableau_Lancer_la_requête_à_partir_de_CEGID[[#This Row],[libcomposant]],1,5) -> C125
A11: 1357150001_24 | B11: 44838 | C11: DEC | D11: 151688 | E11: IND | F11: 1357150101 | G11: TETE DE PIOLET 100102 | H11: C180Pan - OUTIL DE FORGE panne | I11: 1900 | J11: 210 | K11: =_xlfn.ISOWEEKNUM(Tableau_Lancer_la_requête_à_partir_de_CEGID[[#This Row],[wop_dateacc]]) -> 40 | M11: =IF(ISNA(VLOOKUP(Tableau_Lancer_la_requête_à_partir_de_CEGID[[#This Row],[wob_codecomposant]]&" N°1",Feuil2!D:E,2,FALSE)),"",(VLOOKUP(Tableau_Lancer_la_requête_à_partir_de_CEGID[[#This Row],[wob_codecomposant]]&" N°1",Feuil2!D:E,2,FALSE))) -> 004318 | N11: =IF(OR(VLOOKUP(M11,Feuil2!E:F,2,FALSE)>1,VLOOKUP(Feuil1!M11,Feuil2!E:I,4,)+7<Tableau_Lancer_la_requête_à_partir_de_CEGID[[#This Row],[wop_dateacc]]),Feuil1!M11,"") -> 004318 | O11: =IF(ISNA(VLOOKUP(Tableau_Lancer_la_requête_à_partir_de_CEGID[[#This Row],[wob_codecomposant]]&" N°2",Feuil2!D:E,2,FALSE)),"",(VLOOKUP(Tableau_Lancer_la_requête_à_partir_de_CEGID[[#This Row],[wob_codecomposant]]&" N°2",Feuil2!D:E,2,FALSE))) | P11: =IF(ISNA(VLOOKUP(Tableau_Lancer_la_requête_à_partir_de_CEGID[[#This Row],[wob_codecomposant]]&" N°3",Feuil2!D:E,2,FALSE)),"",(VLOOKUP(Tableau_Lancer_la_requête_à_partir_de_CEGID[[#This Row],[wob_codecomposant]]&" N°3",Feuil2!D:E,2,FALSE))) | Q11: =IF(ISNA(VLOOKUP(Tableau_Lancer_la_requête_à_partir_de_CEGID[[#This Row],[wob_codecomposant]]&" N°4",Feuil2!D:E,2,FALSE)),"",(VLOOKUP(Tableau_Lancer_la_requête_à_partir_de_CEGID[[#This Row],[wob_codecomposant]]&" N°4",Feuil2!D:E,2,FALSE))) | R11: =IF(ISNA(VLOOKUP(Tableau_Lancer_la_requête_à_partir_de_CEGID[[#This Row],[wob_codecomposant]]&" N°5",Feuil2!D:E,2,FALSE)),"",(VLOOKUP(Tableau_Lancer_la_requête_à_partir_de_CEGID[[#This Row],[wob_codecomposant]]&" N°5",Feuil2!D:E,2,FALSE))) | S11: =IF(ISNA(VLOOKUP(Tableau_Lancer_la_requête_à_partir_de_CEGID[[#This Row],[wob_codecomposant]]&" N°6",Feuil2!D:E,2,FALSE)),"",(VLOOKUP(Tableau_Lancer_la_requête_à_partir_de_CEGID[[#This Row],[wob_codecomposant]]&" N°16",Feuil2!D:E,2,FALSE))) | T11: =IF(ISNA(VLOOKUP(Tableau_Lancer_la_requête_à_partir_de_CEGID[[#This Row],[wob_codecomposant]]&" N°7",Feuil2!D:E,2,FALSE)),"",(VLOOKUP(Tableau_Lancer_la_requête_à_partir_de_CEGID[[#This Row],[wob_codecomposant]]&" N°7",Feuil2!D:E,2,FALSE))) | U11: =MID(Tableau_Lancer_la_requête_à_partir_de_CEGID[[#This Row],[libcomposant]],1,5) -> C180P
A12: C428 | B12: 44826 | C12: DEC | D12: 154842 | E12: ACC | F12: 9901124341 | G12: CORPS MAN. RAPIDE o8MM | H12: C428 - OUTIL DE FORGE | I12: 2500 | J12: 120 | K12: =_xlfn.ISOWEEKNUM(Tableau_Lancer_la_requête_à_partir_de_CEGID[[#This Row],[wop_dateacc]]) -> 38 | M12: =IF(ISNA(VLOOKUP(Tableau_Lancer_la_requête_à_partir_de_CEGID[[#This Row],[wob_codecomposant]]&" N°1",Feuil2!D:E,2,FALSE)),"",(VLOOKUP(Tableau_Lancer_la_requête_à_partir_de_CEGID[[#This Row],[wob_codecomposant]]&" N°1",Feuil2!D:E,2,FALSE))) -> 014821 | N12: =IF(OR(VLOOKUP(M12,Feuil2!E:F,2,FALSE)>1,VLOOKUP(Feuil1!M12,Feuil2!E:I,4,)+7<Tableau_Lancer_la_requête_à_partir_de_CEGID[[#This Row],[wop_dateacc]]),Feuil1!M12,"") -> 014821 | O12: =IF(ISNA(VLOOKUP(Tableau_Lancer_la_requête_à_partir_de_CEGID[[#This Row],[wob_codecomposant]]&" N°2",Feuil2!D:E,2,FALSE)),"",(VLOOKUP(Tableau_Lancer_la_requête_à_partir_de_CEGID[[#This Row],[wob_codecomposant]]&" N°2",Feuil2!D:E,2,FALSE))) | P12: =IF(ISNA(VLOOKUP(Tableau_Lancer_la_requête_à_partir_de_CEGID[[#This Row],[wob_codecomposant]]&" N°3",Feuil2!D:E,2,FALSE)),"",(VLOOKUP(Tableau_Lancer_la_requête_à_partir_de_CEGID[[#This Row],[wob_codecomposant]]&" N°3",Feuil2!D:E,2,FALSE))) | Q12: =IF(ISNA(VLOOKUP(Tableau_Lancer_la_requête_à_partir_de_CEGID[[#This Row],[wob_codecomposant]]&" N°4",Feuil2!D:E,2,FALSE)),"",(VLOOKUP(Tableau_Lancer_la_requête_à_partir_de_CEGID[[#This Row],[wob_codecomposant]]&" N°4",Feuil2!D:E,2,FALSE))) | R12: =IF(ISNA(VLOOKUP(Tableau_Lancer_la_requête_à_partir_de_CEGID[[#This Row],[wob_codecomposant]]&" N°5",Feuil2!D:E,2,FALSE)),"",(VLOOKUP(Tableau_Lancer_la_requête_à_partir_de_CEGID[[#This Row],[wob_codecomposant]]&" N°5",Feuil2!D:E,2,FALSE))) | S12: =IF(ISNA(VLOOKUP(Tableau_Lancer_la_requête_à_partir_de_CEGID[[#This Row],[wob_codecomposant]]&" N°6",Feuil2!D:E,2,FALSE)),"",(VLOOKUP(Tableau_Lancer_la_requête_à_partir_de_CEGID[[#This Row],[wob_codecomposant]]&" N°16",Feuil2!D:E,2,FALSE))) | T12: =IF(ISNA(VLOOKUP(Tableau_Lancer_la_requête_à_partir_de_CEGID[[#This Row],[wob_codecomposant]]&" N°7",Feuil2!D:E,2,FALSE)),"",(VLOOKUP(Tableau_Lancer_la_requête_à_partir_de_CEGID[[#This Row],[wob_codecomposant]]&" N°7",Feuil2!D:E,2,FALSE))) | U12: =MID(Tableau_Lancer_la_requête_à_partir_de_CEGID[[#This Row],[libcomposant]],1,5) -> C428
A13: 1357150001_14 | B13: 44819 | C13: DEC | D13: 151688 | E13: IND | F13: 1357150101 | G13: TETE DE PIOLET 100102 | H13: C180Fin - OUTIL DE FORGE FINITION | I13: 1900 | J13: 170 | K13: =_xlfn.ISOWEEKNUM(Tableau_Lancer_la_requête_à_partir_de_CEGID[[#This Row],[wop_dateacc]]) -> 37 | M13: =IF(ISNA(VLOOKUP(Tableau_Lancer_la_requête_à_partir_de_CEGID[[#This Row],[wob_codecomposant]]&" N°1",Feuil2!D:E,2,FALSE)),"",(VLOOKUP(Tableau_Lancer_la_requête_à_partir_de_CEGID[[#This Row],[wob_codecomposant]]&" N°1",Feuil2!D:E,2,FALSE))) -> 003918 | N13: =IF(OR(VLOOKUP(M13,Feuil2!E:F,2,FALSE)>1,VLOOKUP(Feuil1!M13,Feuil2!E:I,4,)+7<Tableau_Lancer_la_requête_à_partir_de_CEGID[[#This Row],[wop_dateacc]]),Feuil1!M13,"") -> 003918 | O13: =IF(ISNA(VLOOKUP(Tableau_Lancer_la_requête_à_partir_de_CEGID[[#This Row],[wob_codecomposant]]&" N°2",Feuil2!D:E,2,FALSE)),"",(VLOOKUP(Tableau_Lancer_la_requête_à_partir_de_CEGID[[#This Row],[wob_codecomposant]]&" N°2",Feuil2!D:E,2,FALSE))) | P13: =IF(ISNA(VLOOKUP(Tableau_Lancer_la_requête_à_partir_de_CEGID[[#This Row],[wob_codecomposant]]&" N°3",Feuil2!D:E,2,FALSE)),"",(VLOOKUP(Tableau_Lancer_la_requête_à_partir_de_CEGID[[#This Row],[wob_codecomposant]]&" N°3",Feuil2!D:E,2,FALSE))) | Q13: =IF(ISNA(VLOOKUP(Tableau_Lancer_la_requête_à_partir_de_CEGID[[#This Row],[wob_codecomposant]]&" N°4",Feuil2!D:E,2,FALSE)),"",(VLOOKUP(Tableau_Lancer_la_requête_à_partir_de_CEGID[[#This Row],[wob_codecomposant]]&" N°4",Feuil2!D:E,2,FALSE))) | R13: =IF(ISNA(VLOOKUP(Tableau_Lancer_la_requête_à_partir_de_CEGID[[#This Row],[wob_codecomposant]]&" N°5",Feuil2!D:E,2,FALSE)),"",(VLOOKUP(Tableau_Lancer_la_requête_à_partir_de_CEGID[[#This Row],[wob_codecomposant]]&" N°5",Feuil2!D:E,2,FALSE))) | S13: =IF(ISNA(VLOOKUP(Tableau_Lancer_la_requête_à_partir_de_CEGID[[#This Row],[wob_codecomposant]]&" N°6",Feuil2!D:E,2,FALSE)),"",(VLOOKUP(Tableau_Lancer_la_requête_à_partir_de_CEGID[[#This Row],[wob_codecomposant]]&" N°16",Feuil2!D:E,2,FALSE))) | T13: =IF(ISNA(VLOOKUP(Tableau_Lancer_la_requête_à_partir_de_CEGID[[#This Row],[wob_codecomposant]]&" N°7",Feuil2!D:E,2,FALSE)),"",(VLOOKUP(Tableau_Lancer_la_requête_à_partir_de_CEGID[[#This Row],[wob_codecomposant]]&" N°7",Feuil2!D:E,2,FALSE))) | U13: =MID(Tableau_Lancer_la_requête_à_partir_de_CEGID[[#This Row],[libcomposant]],1,5) -> C180F
A14: 1357150001_04 | B14: 44811 | C14: DEC | D14: 151688 | E14: IND | F14: 1357150101 | G14: TETE DE PIOLET 100102 | H14: C180EB - OUTIL DE FORGE EBAUCHE | I14: 1900 | J14: 150 | K14: =_xlfn.ISOWEEKNUM(Tableau_Lancer_la_requête_à_partir_de_CEGID[[#This Row],[wop_dateacc]]) -> 36 | M14: =IF(ISNA(VLOOKUP(Tableau_Lancer_la_requête_à_partir_de_CEGID[[#This Row],[wob_codecomposant]]&" N°1",Feuil2!D:E,2,FALSE)),"",(VLOOKUP(Tableau_Lancer_la_requête_à_partir_de_CEGID[[#This Row],[wob_codecomposant]]&" N°1",Feuil2!D:E,2,FALSE))) -> 003818 | N14: =IF(OR(VLOOKUP(M14,Feuil2!E:F,2,FALSE)>1,VLOOKUP(Feuil1!M14,Feuil2!E:I,4,)+7<Tableau_Lancer_la_requête_à_partir_de_CEGID[[#This Row],[wop_dateacc]]),Feuil1!M14,"") -> 003818 | O14: =IF(ISNA(VLOOKUP(Tableau_Lancer_la_requête_à_partir_de_CEGID[[#This Row],[wob_codecomposant]]&" N°2",Feuil2!D:E,2,FALSE)),"",(VLOOKUP(Tableau_Lancer_la_requête_à_partir_de_CEGID[[#This Row],[wob_codecomposant]]&" N°2",Feuil2!D:E,2,FALSE))) | P14: =IF(ISNA(VLOOKUP(Tableau_Lancer_la_requête_à_partir_de_CEGID[[#This Row],[wob_codecomposant]]&" N°3",Feuil2!D:E,2,FALSE)),"",(VLOOKUP(Tableau_Lancer_la_requête_à_partir_de_CEGID[[#This Row],[wob_codecomposant]]&" N°3",Feuil2!D:E,2,FALSE))) | Q14: =IF(ISNA(VLOOKUP(Tableau_Lancer_la_requête_à_partir_de_CEGID[[#This Row],[wob_codecomposant]]&" N°4",Feuil2!D:E,2,FALSE)),"",(VLOOKUP(Tableau_Lancer_la_requête_à_partir_de_CEGID[[#This Row],[wob_codecomposant]]&" N°4",Feuil2!D:E,2,FALSE))) | R14: =IF(ISNA(VLOOKUP(Tableau_Lancer_la_requête_à_partir_de_CEGID[[#This Row],[wob_codecomposant]]&" N°5",Feuil2!D:E,2,FALSE)),"",(VLOOKUP(Tableau_Lancer_la_requête_à_partir_de_CEGID[[#This Row],[wob_codecomposant]]&" N°5",Feuil2!D:E,2,FALSE))) | S14: =IF(ISNA(VLOOKUP(Tableau_Lancer_la_requête_à_partir_de_CEGID[[#This Row],[wob_codecomposant]]&" N°6",Feuil2!D:E,2,FALSE)),"",(VLOOKUP(Tableau_Lancer_la_requête_à_partir_de_CEGID[[#This Row],[wob_codecomposant]]&" N°16",Feuil2!D:E,2,FALSE))) | T14: =IF(ISNA(VLOOKUP(Tableau_Lancer_la_requête_à_partir_de_CEGID[[#This Row],[wob_codecomposant]]&" N°7",Feuil2!D:E,2,FALSE)),"",(VLOOKUP(Tableau_Lancer_la_requête_à_partir_de_CEGID[[#This Row],[wob_codecomposant]]&" N°7",Feuil2!D:E,2,FALSE))) | U14: =MID(Tableau_Lancer_la_requête_à_partir_de_CEGID[[#This Row],[libcomposant]],1,5) -> C180E
A15: C1091AFIN | B15: 44803 | C15: DEC | D15: 151133 | E15: ACC | F15: 9906126131A | G15: PIECE CAVALIERE pour DIAM. 13 mm | H15: C1091A OUTIL DE FORGE FINITION | I15: 200 | J15: 150 | K15: =_xlfn.ISOWEEKNUM(Tableau_Lancer_la_requête_à_partir_de_CEGID[[#This Row],[wop_dateacc]]) -> 35 | M15: =IF(ISNA(VLOOKUP(Tableau_Lancer_la_requête_à_partir_de_CEGID[[#This Row],[wob_codecomposant]]&" N°1",Feuil2!D:E,2,FALSE)),"",(VLOOKUP(Tableau_Lancer_la_requête_à_partir_de_CEGID[[#This Row],[wob_codecomposant]]&" N°1",Feuil2!D:E,2,FALSE))) | N15: =IF(OR(VLOOKUP(M15,Feuil2!E:F,2,FALSE)>1,VLOOKUP(Feuil1!M15,Feuil2!E:I,4,)+7<Tableau_Lancer_la_requête_à_partir_de_CEGID[[#This Row],[wop_dateacc]]),Feuil1!M15,"") -> #N/A | O15: =IF(ISNA(VLOOKUP(Tableau_Lancer_la_requête_à_partir_de_CEGID[[#This Row],[wob_codecomposant]]&" N°2",Feuil2!D:E,2,FALSE)),"",(VLOOKUP(Tableau_Lancer_la_requête_à_partir_de_CEGID[[#This Row],[wob_codecomposant]]&" N°2",Feuil2!D:E,2,FALSE))) | P15: =IF(ISNA(VLOOKUP(Tableau_Lancer_la_requête_à_partir_de_CEGID[[#This Row],[wob_codecomposant]]&" N°3",Feuil2!D:E,2,FALSE)),"",(VLOOKUP(Tableau_Lancer_la_requête_à_partir_de_CEGID[[#This Row],[wob_codecomposant]]&" N°3",Feuil2!D:E,2,FALSE))) | Q15: =IF(ISNA(VLOOKUP(Tableau_Lancer_la_requête_à_partir_de_CEGID[[#This Row],[wob_codecomposant]]&" N°4",Feuil2!D:E,2,FALSE)),"",(VLOOKUP(Tableau_Lancer_la_requête_à_partir_de_CEGID[[#This Row],[wob_codecomposant]]&" N°4",Feuil2!D:E,2,FALSE))) | R15: =IF(ISNA(VLOOKUP(Tableau_Lancer_la_requête_à_partir_de_CEGID[[#This Row],[wob_codecomposant]]&" N°5",Feuil2!D:E,2,FALSE)),"",(VLOOKUP(Tableau_Lancer_la_requête_à_partir_de_CEGID[[#This Row],[wob_codecomposant]]&" N°5",Feuil2!D:E,2,FALSE))) | S15: =IF(ISNA(VLOOKUP(Tableau_Lancer_la_requête_à_partir_de_CEGID[[#This Row],[wob_codecomposant]]&" N°6",Feuil2!D:E,2,FALSE)),"",(VLOOKUP(Tableau_Lancer_la_requête_à_partir_de_CEGID[[#This Row],[wob_codecomposant]]&" N°16",Feuil2!D:E,2,FALSE))) | T15: =IF(ISNA(VLOOKUP(Tableau_Lancer_la_requête_à_partir_de_CEGID[[#This Row],[wob_codecomposant]]&" N°7",Feuil2!D:E,2,FALSE)),"",(VLOOKUP(Tableau_Lancer_la_requête_à_partir_de_CEGID[[#This Row],[wob_codecomposant]]&" N°7",Feuil2!D:E,2,FALSE))) | U15: =MID(Tableau_Lancer_la_requête_à_partir_de_CEGID[[#This Row],[libcomposant]],1,5) -> C1091
A16: C626 | B16: 44803 | C16: DEC | D16: 151144 | E16: ACC | F16: 9912124712 | G16: BRAS BRUT T1 MOUSQUETON DRISSE | H16: C626 - OUTIL DE FORGE | I16: 6000 | J16: 150 | K16: =_xlfn.ISOWEEKNUM(Tableau_Lancer_la_requête_à_partir_de_CEGID[[#This Row],[wop_dateacc]]) -> 35 | M16: =IF(ISNA(VLOOKUP(Tableau_Lancer_la_requête_à_partir_de_CEGID[[#This Row],[wob_codecomposant]]&" N°1",Feuil2!D:E,2,FALSE)),"",(VLOOKUP(Tableau_Lancer_la_requête_à_partir_de_CEGID[[#This Row],[wob_codecomposant]]&" N°1",Feuil2!D:E,2,FALSE))) -> 014619 | N16: =IF(OR(VLOOKUP(M16,Feuil2!E:F,2,FALSE)>1,VLOOKUP(Feuil1!M16,Feuil2!E:I,4,)+7<Tableau_Lancer_la_requête_à_partir_de_CEGID[[#This Row],[wop_dateacc]]),Feuil1!M16,"") -> 014619 | O16: =IF(ISNA(VLOOKUP(Tableau_Lancer_la_requête_à_partir_de_CEGID[[#This Row],[wob_codecomposant]]&" N°2",Feuil2!D:E,2,FALSE)),"",(VLOOKUP(Tableau_Lancer_la_requête_à_partir_de_CEGID[[#This Row],[wob_codecomposant]]&" N°2",Feuil2!D:E,2,FALSE))) -> 019221 | P16: =IF(ISNA(VLOOKUP(Tableau_Lancer_la_requête_à_partir_de_CEGID[[#This Row],[wob_codecomposant]]&" N°3",Feuil2!D:E,2,FALSE)),"",(VLOOKUP(Tableau_Lancer_la_requête_à_partir_de_CEGID[[#This Row],[wob_codecomposant]]&" N°3",Feuil2!D:E,2,FALSE))) -> 026619 | Q16: =IF(ISNA(VLOOKUP(Tableau_Lancer_la_requête_à_partir_de_CEGID[[#This Row],[wob_codecomposant]]&" N°4",Feuil2!D:E,2,FALSE)),"",(VLOOKUP(Tableau_Lancer_la_requête_à_partir_de_CEGID[[#This Row],[wob_codecomposant]]&" N°4",Feuil2!D:E,2,FALSE))) -> 026719 | R16: =IF(ISNA(VLOOKUP(Tableau_Lancer_la_requête_à_partir_de_CEGID[[#This Row],[wob_codecomposant]]&" N°5",Feuil2!D:E,2,FALSE)),"",(VLOOKUP(Tableau_Lancer_la_requête_à_partir_de_CEGID[[#This Row],[wob_codecomposant]]&" N°5",Feuil2!D:E,2,FALSE))) | S16: =IF(ISNA(VLOOKUP(Tableau_Lancer_la_requête_à_partir_de_CEGID[[#This Row],[wob_codecomposant]]&" N°6",Feuil2!D:E,2,FALSE)),"",(VLOOKUP(Tableau_Lancer_la_requête_à_partir_de_CEGID[[#This Row],[wob_codecomposant]]&" N°16",Feuil2!D:E,2,FALSE))) | T16: =IF(ISNA(VLOOKUP(Tableau_Lancer_la_requête_à_partir_de_CEGID[[#This Row],[wob_codecomposant]]&" N°7",Feuil2!D:E,2,FALSE)),"",(VLOOKUP(Tableau_Lancer_la_requête_à_partir_de_CEGID[[#This Row],[wob_codecomposant]]&" N°7",Feuil2!D:E,2,FALSE))) | U16: =MID(Tableau_Lancer_la_requête_à_partir_de_CEGID[[#This Row],[libcomposant]],1,5) -> C626
A17: C800 | B17: 44803 | C17: DEC | D17: 153474 | E17: ACC | F17: 9916125042 | G17: ETRIER CADENE ARTICULEE o6MM | H17: C800 OUTIL DE FORGE | I17: 400 | J17: 120 | K17: =_xlfn.ISOWEEKNUM(Tableau_Lancer_la_requête_à_partir_de_CEGID[[#This Row],[wop_dateacc]]) -> 35 | M17: =IF(ISNA(VLOOKUP(Tableau_Lancer_la_requête_à_partir_de_CEGID[[#This Row],[wob_codecomposant]]&" N°1",Feuil2!D:E,2,FALSE)),"",(VLOOKUP(Tableau_Lancer_la_requête_à_partir_de_CEGID[[#This Row],[wob_codecomposant]]&" N°1",Feuil2!D:E,2,FALSE))) -> 016516 | N17: =IF(OR(VLOOKUP(M17,Feuil2!E:F,2,FALSE)>1,VLOOKUP(Feuil1!M17,Feuil2!E:I,4,)+7<Tableau_Lancer_la_requête_à_partir_de_CEGID[[#This Row],[wop_dateacc]]),Feuil1!M17,"") -> 016516 | O17: =IF(ISNA(VLOOKUP(Tableau_Lancer_la_requête_à_partir_de_CEGID[[#This Row],[wob_codecomposant]]&" N°2",Feuil2!D:E,2,FALSE)),"",(VLOOKUP(Tableau_Lancer_la_requête_à_partir_de_CEGID[[#This Row],[wob_codecomposant]]&" N°2",Feuil2!D:E,2,FALSE))) | P17: =IF(ISNA(VLOOKUP(Tableau_Lancer_la_requête_à_partir_de_CEGID[[#This Row],[wob_codecomposant]]&" N°3",Feuil2!D:E,2,FALSE)),"",(VLOOKUP(Tableau_Lancer_la_requête_à_partir_de_CEGID[[#This Row],[wob_codecomposant]]&" N°3",Feuil2!D:E,2,FALSE))) | Q17: =IF(ISNA(VLOOKUP(Tableau_Lancer_la_requête_à_partir_de_CEGID[[#This Row],[wob_codecomposant]]&" N°4",Feuil2!D:E,2,FALSE)),"",(VLOOKUP(Tableau_Lancer_la_requête_à_partir_de_CEGID[[#This Row],[wob_codecomposant]]&" N°4",Feuil2!D:E,2,FALSE))) | R17: =IF(ISNA(VLOOKUP(Tableau_Lancer_la_requête_à_partir_de_CEGID[[#This Row],[wob_codecomposant]]&" N°5",Feuil2!D:E,2,FALSE)),"",(VLOOKUP(Tableau_Lancer_la_requête_à_partir_de_CEGID[[#This Row],[wob_codecomposant]]&" N°5",Feuil2!D:E,2,FALSE))) | S17: =IF(ISNA(VLOOKUP(Tableau_Lancer_la_requête_à_partir_de_CEGID[[#This Row],[wob_codecomposant]]&" N°6",Feuil2!D:E,2,FALSE)),"",(VLOOKUP(Tableau_Lancer_la_requête_à_partir_de_CEGID[[#This Row],[wob_codecomposant]]&" N°16",Feuil2!D:E,2,FALSE))) | T17: =IF(ISNA(VLOOKUP(Tableau_Lancer_la_requête_à_partir_de_CEGID[[#This Row],[wob_codecomposant]]&" N°7",Feuil2!D:E,2,FALSE)),"",(VLOOKUP(Tableau_Lancer_la_requête_à_partir_de_CEGID[[#This Row],[wob_codecomposant]]&" N°7",Feuil2!D:E,2,FALSE))) | U17: =MID(Tableau_Lancer_la_requête_à_partir_de_CEGID[[#This Row],[libcomposant]],1,5) -> C800
A18: C1991 | B18: 44803 | C18: DEC | D18: 149697 | E18: IND | F18: 3025010012 | G18: MANCHE TABLE THIERS | H18: C1991 OUTIL DE FORGE | I18: 1030 | J18: 120 | K18: =_xlfn.ISOWEEKNUM(Tableau_Lancer_la_requête_à_partir_de_CEGID[[#This Row],[wop_dateacc]]) -> 35 | M18: =IF(ISNA(VLOOKUP(Tableau_Lancer_la_requête_à_partir_de_CEGID[[#This Row],[wob_codecomposant]]&" N°1",Feuil2!D:E,2,FALSE)),"",(VLOOKUP(Tableau_Lancer_la_requête_à_partir_de_CEGID[[#This Row],[wob_codecomposant]]&" N°1",Feuil2!D:E,2,FALSE))) -> 005118 | N18: =IF(OR(VLOOKUP(M18,Feuil2!E:F,2,FALSE)>1,VLOOKUP(Feuil1!M18,Feuil2!E:I,4,)+7<Tableau_Lancer_la_requête_à_partir_de_CEGID[[#This Row],[wop_dateacc]]),Feuil1!M18,"") -> 005118 | O18: =IF(ISNA(VLOOKUP(Tableau_Lancer_la_requête_à_partir_de_CEGID[[#This Row],[wob_codecomposant]]&" N°2",Feuil2!D:E,2,FALSE)),"",(VLOOKUP(Tableau_Lancer_la_requête_à_partir_de_CEGID[[#This Row],[wob_codecomposant]]&" N°2",Feuil2!D:E,2,FALSE))) -> 021519 | P18: =IF(ISNA(VLOOKUP(Tableau_Lancer_la_requête_à_partir_de_CEGID[[#This Row],[wob_codecomposant]]&" N°3",Feuil2!D:E,2,FALSE)),"",(VLOOKUP(Tableau_Lancer_la_requête_à_partir_de_CEGID[[#This Row],[wob_codecomposant]]&" N°3",Feuil2!D:E,2,FALSE))) | Q18: =IF(ISNA(VLOOKUP(Tableau_Lancer_la_requête_à_partir_de_CEGID[[#This Row],[wob_codecomposant]]&" N°4",Feuil2!D:E,2,FALSE)),"",(VLOOKUP(Tableau_Lancer_la_requête_à_partir_de_CEGID[[#This Row],[wob_codecomposant]]&" N°4",Feuil2!D:E,2,FALSE))) | R18: =IF(ISNA(VLOOKUP(Tableau_Lancer_la_requête_à_partir_de_CEGID[[#This Row],[wob_codecomposant]]&" N°5",Feuil2!D:E,2,FALSE)),"",(VLOOKUP(Tableau_Lancer_la_requête_à_partir_de_CEGID[[#This Row],[wob_codecomposant]]&" N°5",Feuil2!D:E,2,FALSE))) | S18: =IF(ISNA(VLOOKUP(Tableau_Lancer_la_requête_à_partir_de_CEGID[[#This Row],[wob_codecomposant]]&" N°6",Feuil2!D:E,2,FALSE)),"",(VLOOKUP(Tableau_Lancer_la_requête_à_partir_de_CEGID[[#This Row],[wob_codecomposant]]&" N°16",Feuil2!D:E,2,FALSE))) | T18: =IF(ISNA(VLOOKUP(Tableau_Lancer_la_requête_à_partir_de_CEGID[[#This Row],[wob_codecomposant]]&" N°7",Feuil2!D:E,2,FALSE)),"",(VLOOKUP(Tableau_Lancer_la_requête_à_partir_de_CEGID[[#This Row],[wob_codecomposant]]&" N°7",Feuil2!D:E,2,FALSE))) | U18: =MID(Tableau_Lancer_la_requête_à_partir_de_CEGID[[#This Row],[libcomposant]],1,5) -> C1991
A19: C718 | B19: 44802 | C19: DEC | D19: 150657 | E19: IND | F19: 3390150106 | G19: EBAUCHE DE VIS N°LEBAUCHE 2270402 | H19: C718 OUTIL DE FORGE | I19: 1100 | J19: 120 | K19: =_xlfn.ISOWEEKNUM(Tableau_Lancer_la_requête_à_partir_de_CEGID[[#This Row],[wop_dateacc]]) -> 35 | M19: =IF(ISNA(VLOOKUP(Tableau_Lancer_la_requête_à_partir_de_CEGID[[#This Row],[wob_codecomposant]]&" N°1",Feuil2!D:E,2,FALSE)),"",(VLOOKUP(Tableau_Lancer_la_requête_à_partir_de_CEGID[[#This Row],[wob_codecomposant]]&" N°1",Feuil2!D:E,2,FALSE))) -> 016517 | N19: =IF(OR(VLOOKUP(M19,Feuil2!E:F,2,FALSE)>1,VLOOKUP(Feuil1!M19,Feuil2!E:I,4,)+7<Tableau_Lancer_la_requête_à_partir_de_CEGID[[#This Row],[wop_dateacc]]),Feuil1!M19,"") -> 016517 | O19: =IF(ISNA(VLOOKUP(Tableau_Lancer_la_requête_à_partir_de_CEGID[[#This Row],[wob_codecomposant]]&" N°2",Feuil2!D:E,2,FALSE)),"",(VLOOKUP(Tableau_Lancer_la_requête_à_partir_de_CEGID[[#This Row],[wob_codecomposant]]&" N°2",Feuil2!D:E,2,FALSE))) -> 020322 | P19: =IF(ISNA(VLOOKUP(Tableau_Lancer_la_requête_à_partir_de_CEGID[[#This Row],[wob_codecomposant]]&" N°3",Feuil2!D:E,2,FALSE)),"",(VLOOKUP(Tableau_Lancer_la_requête_à_partir_de_CEGID[[#This Row],[wob_codecomposant]]&" N°3",Feuil2!D:E,2,FALSE))) -> 023419 | Q19: =IF(ISNA(VLOOKUP(Tableau_Lancer_la_requête_à_partir_de_CEGID[[#This Row],[wob_codecomposant]]&" N°4",Feuil2!D:E,2,FALSE)),"",(VLOOKUP(Tableau_Lancer_la_requête_à_partir_de_CEGID[[#This Row],[wob_codecomposant]]&" N°4",Feuil2!D:E,2,FALSE))) | R19: =IF(ISNA(VLOOKUP(Tableau_Lancer_la_requête_à_partir_de_CEGID[[#This Row],[wob_codecomposant]]&" N°5",Feuil2!D:E,2,FALSE)),"",(VLOOKUP(Tableau_Lancer_la_requête_à_partir_de_CEGID[[#This Row],[wob_codecomposant]]&" N°5",Feuil2!D:E,2,FALSE))) | S19: =IF(ISNA(VLOOKUP(Tableau_Lancer_la_requête_à_partir_de_CEGID[[#This Row],[wob_codecomposant]]&" N°6",Feuil2!D:E,2,FALSE)),"",(VLOOKUP(Tableau_Lancer_la_requête_à_partir_de_CEGID[[#This Row],[wob_codecomposant]]&" N°16",Feuil2!D:E,2,FALSE))) | T19: =IF(ISNA(VLOOKUP(Tableau_Lancer_la_requête_à_partir_de_CEGID[[#This Row],[wob_codecomposant]]&" N°7",Feuil2!D:E,2,FALSE)),"",(VLOOKUP(Tableau_Lancer_la_requête_à_partir_de_CEGID[[#This Row],[wob_codecomposant]]&" N°7",Feuil2!D:E,2,FALSE))) | U19: =MID(Tableau_Lancer_la_requête_à_partir_de_CEGID[[#This Row],[libcomposant]],1,5) -> C718
... A53: C884 | B53: 44740 | C53: DEC | D53: 153314 | E53: IND | F53: 1060110023 | G53: CORPS D'ETRIER EFA 2343 O | H53: C884 - OUTIL FORGE | I53: 2100 | J53: 120 | K53: =_xlfn.ISOWEEKNUM(Tableau_Lancer_la_requête_à_partir_de_CEGID[[#This Row],[wop_dateacc]]) -> 26 | M53: =IF(ISNA(VLOOKUP(Tableau_Lancer_la_requête_à_partir_de_CEGID[[#This Row],[wob_codecomposant]]&" N°1",Feuil2!D:E,2,FALSE)),"",(VLOOKUP(Tableau_Lancer_la_requête_à_partir_de_CEGID[[#This Row],[wob_codecomposant]]&" N°1",Feuil2!D:E,2,FALSE))) -> 004621 | N53: =IF(OR(VLOOKUP(M53,Feuil2!E:F,2,FALSE)>1,VLOOKUP(Feuil1!M53,Feuil2!E:I,4,)+7<Tableau_Lancer_la_requête_à_partir_de_CEGID[[#This Row],[wop_dateacc]]),Feuil1!M53,"") -> 004621 | O53: =IF(ISNA(VLOOKUP(Tableau_Lancer_la_requête_à_partir_de_CEGID[[#This Row],[wob_codecomposant]]&" N°2",Feuil2!D:E,2,FALSE)),"",(VLOOKUP(Tableau_Lancer_la_requête_à_partir_de_CEGID[[#This Row],[wob_codecomposant]]&" N°2",Feuil2!D:E,2,FALSE))) -> 004818 | P53: =IF(ISNA(VLOOKUP(Tableau_Lancer_la_requête_à_partir_de_CEGID[[#This Row],[wob_codecomposant]]&" N°3",Feuil2!D:E,2,FALSE)),"",(VLOOKUP(Tableau_Lancer_la_requête_à_partir_de_CEGID[[#This Row],[wob_codecomposant]]&" N°3",Feuil2!D:E,2,FALSE))) -> 014021 | Q53: =IF(ISNA(VLOOKUP(Tableau_Lancer_la_requête_à_partir_de_CEGID[[#This Row],[wob_codecomposant]]&" N°4",Feuil2!D:E,2,FALSE)),"",(VLOOKUP(Tableau_Lancer_la_requête_à_partir_de_CEGID[[#This Row],[wob_codecomposant]]&" N°4",Feuil2!D:E,2,FALSE))) | R53: =IF(ISNA(VLOOKUP(Tableau_Lancer_la_requête_à_partir_de_CEGID[[#This Row],[wob_codecomposant]]&" N°5",Feuil2!D:E,2,FALSE)),"",(VLOOKUP(Tableau_Lancer_la_requête_à_partir_de_CEGID[[#This Row],[wob_codecomposant]]&" N°5",Feuil2!D:E,2,FALSE))) | S53: =IF(ISNA(VLOOKUP(Tableau_Lancer_la_requête_à_partir_de_CEGID[[#This Row],[wob_codecomposant]]&" N°6",Feuil2!D:E,2,FALSE)),"",(VLOOKUP(Tableau_Lancer_la_requête_à_partir_de_CEGID[[#This Row],[wob_codecomposant]]&" N°16",Feuil2!D:E,2,FALSE))) | T53: =IF(ISNA(VLOOKUP(Tableau_Lancer_la_requête_à_partir_de_CEGID[[#This Row],[wob_codecomposant]]&" N°7",Feuil2!D:E,2,FALSE)),"",(VLOOKUP(Tableau_Lancer_la_requête_à_partir_de_CEGID[[#This Row],[wob_codecomposant]]&" N°7",Feuil2!D:E,2,FALSE))) | U53: =MID(Tableau_Lancer_la_requête_à_partir_de_CEGID[[#This Row],[libcomposant]],1,5) -> C884
B54: 44740 | C54: DEC | D54: 152623 | E54: ACC | F54: 9901122111A | G54: CORPS MAN. LONGUE o4MM LIBRE | I54: 2000 | J54: 130 | K54: =_xlfn.ISOWEEKNUM(Tableau_Lancer_la_requête_à_partir_de_CEGID[[#This Row],[wop_dateacc]]) -> 26 | M54: =IF(ISNA(VLOOKUP(Tableau_Lancer_la_requête_à_partir_de_CEGID[[#This Row],[wob_codecomposant]]&" N°1",Feuil2!D:E,2,FALSE)),"",(VLOOKUP(Tableau_Lancer_la_requête_à_partir_de_CEGID[[#This Row],[wob_codecomposant]]&" N°1",Feuil2!D:E,2,FALSE))) | N54: =IF(OR(VLOOKUP(M54,Feuil2!E:F,2,FALSE)>1,VLOOKUP(Feuil1!M54,Feuil2!E:I,4,)+7<Tableau_Lancer_la_requête_à_partir_de_CEGID[[#This Row],[wop_dateacc]]),Feuil1!M54,"") -> #N/A | O54: =IF(ISNA(VLOOKUP(Tableau_Lancer_la_requête_à_partir_de_CEGID[[#This Row],[wob_codecomposant]]&" N°2",Feuil2!D:E,2,FALSE)),"",(VLOOKUP(Tableau_Lancer_la_requête_à_partir_de_CEGID[[#This Row],[wob_codecomposant]]&" N°2",Feuil2!D:E,2,FALSE))) | P54: =IF(ISNA(VLOOKUP(Tableau_Lancer_la_requête_à_partir_de_CEGID[[#This Row],[wob_codecomposant]]&" N°3",Feuil2!D:E,2,FALSE)),"",(VLOOKUP(Tableau_Lancer_la_requête_à_partir_de_CEGID[[#This Row],[wob_codecomposant]]&" N°3",Feuil2!D:E,2,FALSE))) | Q54: =IF(ISNA(VLOOKUP(Tableau_Lancer_la_requête_à_partir_de_CEGID[[#This Row],[wob_codecomposant]]&" N°4",Feuil2!D:E,2,FALSE)),"",(VLOOKUP(Tableau_Lancer_la_requête_à_partir_de_CEGID[[#This Row],[wob_codecomposant]]&" N°4",Feuil2!D:E,2,FALSE))) | R54: =IF(ISNA(VLOOKUP(Tableau_Lancer_la_requête_à_partir_de_CEGID[[#This Row],[wob_codecomposant]]&" N°5",Feuil2!D:E,2,FALSE)),"",(VLOOKUP(Tableau_Lancer_la_requête_à_partir_de_CEGID[[#This Row],[wob_codecomposant]]&" N°5",Feuil2!D:E,2,FALSE))) | S54: =IF(ISNA(VLOOKUP(Tableau_Lancer_la_requête_à_partir_de_CEGID[[#This Row],[wob_codecomposant]]&" N°6",Feuil2!D:E,2,FALSE)),"",(VLOOKUP(Tableau_Lancer_la_requête_à_partir_de_CEGID[[#This Row],[wob_codecomposant]]&" N°16",Feuil2!D:E,2,FALSE))) | T54: =IF(ISNA(VLOOKUP(Tableau_Lancer_la_requête_à_partir_de_CEGID[[#This Row],[wob_codecomposant]]&" N°7",Feuil2!D:E,2,FALSE)),"",(VLOOKUP(Tableau_Lancer_la_requête_à_partir_de_CEGID[[#This Row],[wob_codecomposant]]&" N°7",Feuil2!D:E,2,FALSE))) | U54: =MID(Tableau_Lancer_la_requête_à_partir_de_CEGID[[#This Row],[libcomposant]],1,5)
A55: 9906126841_04 | B55: 44739 | C55: DEC | D55: 154834 | E55: ACC | F55: 9906126841PILON | G55: EMBASE DE CADENE SIMPLE Ø6MM 316L PILON | H55: C494 OUTIL DE FORGE PILON | I55: 7500 | J55: 120 | K55: =_xlfn.ISOWEEKNUM(Tableau_Lancer_la_requête_à_partir_de_CEGID[[#This Row],[wop_dateacc]]) -> 26 | M55: =IF(ISNA(VLOOKUP(Tableau_Lancer_la_requête_à_partir_de_CEGID[[#This Row],[wob_codecomposant]]&" N°1",Feuil2!D:E,2,FALSE)),"",(VLOOKUP(Tableau_Lancer_la_requête_à_partir_de_CEGID[[#This Row],[wob_codecomposant]]&" N°1",Feuil2!D:E,2,FALSE))) -> 002121 | N55: =IF(OR(VLOOKUP(M55,Feuil2!E:F,2,FALSE)>1,VLOOKUP(Feuil1!M55,Feuil2!E:I,4,)+7<Tableau_Lancer_la_requête_à_partir_de_CEGID[[#This Row],[wop_dateacc]]),Feuil1!M55,"") -> 002121 | O55: =IF(ISNA(VLOOKUP(Tableau_Lancer_la_requête_à_partir_de_CEGID[[#This Row],[wob_codecomposant]]&" N°2",Feuil2!D:E,2,FALSE)),"",(VLOOKUP(Tableau_Lancer_la_requête_à_partir_de_CEGID[[#This Row],[wob_codecomposant]]&" N°2",Feuil2!D:E,2,FALSE))) -> 008821 | P55: =IF(ISNA(VLOOKUP(Tableau_Lancer_la_requête_à_partir_de_CEGID[[#This Row],[wob_codecomposant]]&" N°3",Feuil2!D:E,2,FALSE)),"",(VLOOKUP(Tableau_Lancer_la_requête_à_partir_de_CEGID[[#This Row],[wob_codecomposant]]&" N°3",Feuil2!D:E,2,FALSE))) -> 014919 | Q55: =IF(ISNA(VLOOKUP(Tableau_Lancer_la_requête_à_partir_de_CEGID[[#This Row],[wob_codecomposant]]&" N°4",Feuil2!D:E,2,FALSE)),"",(VLOOKUP(Tableau_Lancer_la_requête_à_partir_de_CEGID[[#This Row],[wob_codecomposant]]&" N°4",Feuil2!D:E,2,FALSE))) -> 019822 | R55: =IF(ISNA(VLOOKUP(Tableau_Lancer_la_requête_à_partir_de_CEGID[[#This Row],[wob_codecomposant]]&" N°5",Feuil2!D:E,2,FALSE)),"",(VLOOKUP(Tableau_Lancer_la_requête_à_partir_de_CEGID[[#This Row],[wob_codecomposant]]&" N°5",Feuil2!D:E,2,FALSE))) -> 023919 | S55: =IF(ISNA(VLOOKUP(Tableau_Lancer_la_requête_à_partir_de_CEGID[[#This Row],[wob_codecomposant]]&" N°6",Feuil2!D:E,2,FALSE)),"",(VLOOKUP(Tableau_Lancer_la_requête_à_partir_de_CEGID[[#This Row],[wob_codecomposant]]&" N°16",Feuil2!D:E,2,FALSE))) | T55: =IF(ISNA(VLOOKUP(Tableau_Lancer_la_requête_à_partir_de_CEGID[[#This Row],[wob_codecomposant]]&" N°7",Feuil2!D:E,2,FALSE)),"",(VLOOKUP(Tableau_Lancer_la_requête_à_partir_de_CEGID[[#This Row],[wob_codecomposant]]&" N°7",Feuil2!D:E,2,FALSE))) | U55: =MID(Tableau_Lancer_la_requête_à_partir_de_CEGID[[#This Row],[libcomposant]],1,5) -> C494
A56: C1198 | B56: 44739 | C56: DEC | D56: 154859 | E56: ACC | F56: 9212 | G56: Etrier plat pour sangle - Dia 5 mm - Entraxe: 65 mm | H56: C1198 - OUTIL DE FORGE CORPS MANILLE LONGUE D.5 | I56: 4000 | J56: 130 | K56: =_xlfn.ISOWEEKNUM(Tableau_Lancer_la_requête_à_partir_de_CEGID[[#This Row],[wop_dateacc]]) -> 26 | M56: =IF(ISNA(VLOOKUP(Tableau_Lancer_la_requête_à_partir_de_CEGID[[#This Row],[wob_codecomposant]]&" N°1",Feuil2!D:E,2,FALSE)),"",(VLOOKUP(Tableau_Lancer_la_requête_à_partir_de_CEGID[[#This Row],[wob_codecomposant]]&" N°1",Feuil2!D:E,2,FALSE))) -> 000321 | N56: =IF(OR(VLOOKUP(M56,Feuil2!E:F,2,FALSE)>1,VLOOKUP(Feuil1!M56,Feuil2!E:I,4,)+7<Tableau_Lancer_la_requête_à_partir_de_CEGID[[#This Row],[wop_dateacc]]),Feuil1!M56,"") -> 000321 | O56: =IF(ISNA(VLOOKUP(Tableau_Lancer_la_requête_à_partir_de_CEGID[[#This Row],[wob_codecomposant]]&" N°2",Feuil2!D:E,2,FALSE)),"",(VLOOKUP(Tableau_Lancer_la_requête_à_partir_de_CEGID[[#This Row],[wob_codecomposant]]&" N°2",Feuil2!D:E,2,FALSE))) -> 020819 | P56: =IF(ISNA(VLOOKUP(Tableau_Lancer_la_requête_à_partir_de_CEGID[[#This Row],[wob_codecomposant]]&" N°3",Feuil2!D:E,2,FALSE)),"",(VLOOKUP(Tableau_Lancer_la_requête_à_partir_de_CEGID[[#This Row],[wob_codecomposant]]&" N°3",Feuil2!D:E,2,FALSE))) -> 023622 | Q56: =IF(ISNA(VLOOKUP(Tableau_Lancer_la_requête_à_partir_de_CEGID[[#This Row],[wob_codecomposant]]&" N°4",Feuil2!D:E,2,FALSE)),"",(VLOOKUP(Tableau_Lancer_la_requête_à_partir_de_CEGID[[#This Row],[wob_codecomposant]]&" N°4",Feuil2!D:E,2,FALSE))) | R56: =IF(ISNA(VLOOKUP(Tableau_Lancer_la_requête_à_partir_de_CEGID[[#This Row],[wob_codecomposant]]&" N°5",Feuil2!D:E,2,FALSE)),"",(VLOOKUP(Tableau_Lancer_la_requête_à_partir_de_CEGID[[#This Row],[wob_codecomposant]]&" N°5",Feuil2!D:E,2,FALSE))) | S56: =IF(ISNA(VLOOKUP(Tableau_Lancer_la_requête_à_partir_de_CEGID[[#This Row],[wob_codecomposant]]&" N°6",Feuil2!D:E,2,FALSE)),"",(VLOOKUP(Tableau_Lancer_la_requête_à_partir_de_CEGID[[#This Row],[wob_codecomposant]]&" N°16",Feuil2!D:E,2,FALSE))) | T56: =IF(ISNA(VLOOKUP(Tableau_Lancer_la_requête_à_partir_de_CEGID[[#This Row],[wob_codecomposant]]&" N°7",Feuil2!D:E,2,FALSE)),"",(VLOOKUP(Tableau_Lancer_la_requête_à_partir_de_CEGID[[#This Row],[wob_codecomposant]]&" N°7",Feuil2!D:E,2,FALSE))) | U56: =MID(Tableau_Lancer_la_requête_à_partir_de_CEGID[[#This Row],[libcomposant]],1,5) -> C1198
A57: C736 | B57: 44736 | C57: DEC | D57: 154844 | E57: ACC | F57: 9901124421A | G57: CORPS MAN. LYRE o5MM IMPER. | H57: C736 - OUTIL DE FORGE | I57: 2500 | J57: 120 | K57: =_xlfn.ISOWEEKNUM(Tableau_Lancer_la_requête_à_partir_de_CEGID[[#This Row],[wop_dateacc]]) -> 25 | M57: =IF(ISNA(VLOOKUP(Tableau_Lancer_la_requête_à_partir_de_CEGID[[#This Row],[wob_codecomposant]]&" N°1",Feuil2!D:E,2,FALSE)),"",(VLOOKUP(Tableau_Lancer_la_requête_à_partir_de_CEGID[[#This Row],[wob_codecomposant]]&" N°1",Feuil2!D:E,2,FALSE))) -> 003319 | N57: =IF(OR(VLOOKUP(M57,Feuil2!E:F,2,FALSE)>1,VLOOKUP(Feuil1!M57,Feuil2!E:I,4,)+7<Tableau_Lancer_la_requête_à_partir_de_CEGID[[#This Row],[wop_dateacc]]),Feuil1!M57,"") -> 003319 | O57: =IF(ISNA(VLOOKUP(Tableau_Lancer_la_requête_à_partir_de_CEGID[[#This Row],[wob_codecomposant]]&" N°2",Feuil2!D:E,2,FALSE)),"",(VLOOKUP(Tableau_Lancer_la_requête_à_partir_de_CEGID[[#This Row],[wob_codecomposant]]&" N°2",Feuil2!D:E,2,FALSE))) -> 019018 | P57: =IF(ISNA(VLOOKUP(Tableau_Lancer_la_requête_à_partir_de_CEGID[[#This Row],[wob_codecomposant]]&" N°3",Feuil2!D:E,2,FALSE)),"",(VLOOKUP(Tableau_Lancer_la_requête_à_partir_de_CEGID[[#This Row],[wob_codecomposant]]&" N°3",Feuil2!D:E,2,FALSE))) | Q57: =IF(ISNA(VLOOKUP(Tableau_Lancer_la_requête_à_partir_de_CEGID[[#This Row],[wob_codecomposant]]&" N°4",Feuil2!D:E,2,FALSE)),"",(VLOOKUP(Tableau_Lancer_la_requête_à_partir_de_CEGID[[#This Row],[wob_codecomposant]]&" N°4",Feuil2!D:E,2,FALSE))) | R57: =IF(ISNA(VLOOKUP(Tableau_Lancer_la_requête_à_partir_de_CEGID[[#This Row],[wob_codecomposant]]&" N°5",Feuil2!D:E,2,FALSE)),"",(VLOOKUP(Tableau_Lancer_la_requête_à_partir_de_CEGID[[#This Row],[wob_codecomposant]]&" N°5",Feuil2!D:E,2,FALSE))) | S57: =IF(ISNA(VLOOKUP(Tableau_Lancer_la_requête_à_partir_de_CEGID[[#This Row],[wob_codecomposant]]&" N°6",Feuil2!D:E,2,FALSE)),"",(VLOOKUP(Tableau_Lancer_la_requête_à_partir_de_CEGID[[#This Row],[wob_codecomposant]]&" N°16",Feuil2!D:E,2,FALSE))) | T57: =IF(ISNA(VLOOKUP(Tableau_Lancer_la_requête_à_partir_de_CEGID[[#This Row],[wob_codecomposant]]&" N°7",Feuil2!D:E,2,FALSE)),"",(VLOOKUP(Tableau_Lancer_la_requête_à_partir_de_CEGID[[#This Row],[wob_codecomposant]]&" N°7",Feuil2!D:E,2,FALSE))) | U57: =MID(Tableau_Lancer_la_requête_à_partir_de_CEGID[[#This Row],[libcomposant]],1,5) -> C736
A58: C1063B | B58: 44736 | C58: DEC | D58: 153443 | E58: ACC | F58: 9901124021A | G58: CORPS MAN. DROITE Ø5MM IMPER. | H58: C1063B - OUTIL DE FORGE | I58: 3000 | J58: 120 | K58: =_xlfn.ISOWEEKNUM(Tableau_Lancer_la_requête_à_partir_de_CEGID[[#This Row],[wop_dateacc]]) -> 25 | M58: =IF(ISNA(VLOOKUP(Tableau_Lancer_la_requête_à_partir_de_CEGID[[#This Row],[wob_codecomposant]]&" N°1",Feuil2!D:E,2,FALSE)),"",(VLOOKUP(Tableau_Lancer_la_requête_à_partir_de_CEGID[[#This Row],[wob_codecomposant]]&" N°1",Feuil2!D:E,2,FALSE))) -> 025316 | N58: =IF(OR(VLOOKUP(M58,Feuil2!E:F,2,FALSE)>1,VLOOKUP(Feuil1!M58,Feuil2!E:I,4,)+7<Tableau_Lancer_la_requête_à_partir_de_CEGID[[#This Row],[wop_dateacc]]),Feuil1!M58,"") -> 025316 | O58: =IF(ISNA(VLOOKUP(Tableau_Lancer_la_requête_à_partir_de_CEGID[[#This Row],[wob_codecomposant]]&" N°2",Feuil2!D:E,2,FALSE)),"",(VLOOKUP(Tableau_Lancer_la_requête_à_partir_de_CEGID[[#This Row],[wob_codecomposant]]&" N°2",Feuil2!D:E,2,FALSE))) -> 034416 | P58: =IF(ISNA(VLOOKUP(Tableau_Lancer_la_requête_à_partir_de_CEGID[[#This Row],[wob_codecomposant]]&" N°3",Feuil2!D:E,2,FALSE)),"",(VLOOKUP(Tableau_Lancer_la_requête_à_partir_de_CEGID[[#This Row],[wob_codecomposant]]&" N°3",Feuil2!D:E,2,FALSE))) | Q58: =IF(ISNA(VLOOKUP(Tableau_Lancer_la_requête_à_partir_de_CEGID[[#This Row],[wob_codecomposant]]&" N°4",Feuil2!D:E,2,FALSE)),"",(VLOOKUP(Tableau_Lancer_la_requête_à_partir_de_CEGID[[#This Row],[wob_codecomposant]]&" N°4",Feuil2!D:E,2,FALSE))) | R58: =IF(ISNA(VLOOKUP(Tableau_Lancer_la_requête_à_partir_de_CEGID[[#This Row],[wob_codecomposant]]&" N°5",Feuil2!D:E,2,FALSE)),"",(VLOOKUP(Tableau_Lancer_la_requête_à_partir_de_CEGID[[#This Row],[wob_codecomposant]]&" N°5",Feuil2!D:E,2,FALSE))) | S58: =IF(ISNA(VLOOKUP(Tableau_Lancer_la_requête_à_partir_de_CEGID[[#This Row],[wob_codecomposant]]&" N°6",Feuil2!D:E,2,FALSE)),"",(VLOOKUP(Tableau_Lancer_la_requête_à_partir_de_CEGID[[#This Row],[wob_codecomposant]]&" N°16",Feuil2!D:E,2,FALSE))) | T58: =IF(ISNA(VLOOKUP(Tableau_Lancer_la_requête_à_partir_de_CEGID[[#This Row],[wob_codecomposant]]&" N°7",Feuil2!D:E,2,FALSE)),"",(VLOOKUP(Tableau_Lancer_la_requête_à_partir_de_CEGID[[#This Row],[wob_codecomposant]]&" N°7",Feuil2!D:E,2,FALSE))) | U58: =MID(Tableau_Lancer_la_requête_à_partir_de_CEGID[[#This Row],[libcomposant]],1,5) -> C1063
A59: C181 | B59: 44736 | C59: DEC | D59: 154829 | E59: ACC | F59: 9901122411A | G59: CORPS MAN. LYRE o4MM LIBRE | H59: C181 - OUTIL DE FORGE | I59: 2500 | J59: 120 | K59: =_xlfn.ISOWEEKNUM(Tableau_Lancer_la_requête_à_partir_de_CEGID[[#This Row],[wop_dateacc]]) -> 25 | M59: =IF(ISNA(VLOOKUP(Tableau_Lancer_la_requête_à_partir_de_CEGID[[#This Row],[wob_codecomposant]]&" N°1",Feuil2!D:E,2,FALSE)),"",(VLOOKUP(Tableau_Lancer_la_requête_à_partir_de_CEGID[[#This Row],[wob_codecomposant]]&" N°1",Feuil2!D:E,2,FALSE))) -> 011318 | N59: =IF(OR(VLOOKUP(M59,Feuil2!E:F,2,FALSE)>1,VLOOKUP(Feuil1!M59,Feuil2!E:I,4,)+7<Tableau_Lancer_la_requête_à_partir_de_CEGID[[#This Row],[wop_dateacc]]),Feuil1!M59,"") -> 011318 | O59: =IF(ISNA(VLOOKUP(Tableau_Lancer_la_requête_à_partir_de_CEGID[[#This Row],[wob_codecomposant]]&" N°2",Feuil2!D:E,2,FALSE)),"",(VLOOKUP(Tableau_Lancer_la_requête_à_partir_de_CEGID[[#This Row],[wob_codecomposant]]&" N°2",Feuil2!D:E,2,FALSE))) | P59: =IF(ISNA(VLOOKUP(Tableau_Lancer_la_requête_à_partir_de_CEGID[[#This Row],[wob_codecomposant]]&" N°3",Feuil2!D:E,2,FALSE)),"",(VLOOKUP(Tableau_Lancer_la_requête_à_partir_de_CEGID[[#This Row],[wob_codecomposant]]&" N°3",Feuil2!D:E,2,FALSE))) | Q59: =IF(ISNA(VLOOKUP(Tableau_Lancer_la_requête_à_partir_de_CEGID[[#This Row],[wob_codecomposant]]&" N°4",Feuil2!D:E,2,FALSE)),"",(VLOOKUP(Tableau_Lancer_la_requête_à_partir_de_CEGID[[#This Row],[wob_codecomposant]]&" N°4",Feuil2!D:E,2,FALSE))) | R59: =IF(ISNA(VLOOKUP(Tableau_Lancer_la_requête_à_partir_de_CEGID[[#This Row],[wob_codecomposant]]&" N°5",Feuil2!D:E,2,FALSE)),"",(VLOOKUP(Tableau_Lancer_la_requête_à_partir_de_CEGID[[#This Row],[wob_codecomposant]]&" N°5",Feuil2!D:E,2,FALSE))) | S59: =IF(ISNA(VLOOKUP(Tableau_Lancer_la_requête_à_partir_de_CEGID[[#This Row],[wob_codecomposant]]&" N°6",Feuil2!D:E,2,FALSE)),"",(VLOOKUP(Tableau_Lancer_la_requête_à_partir_de_CEGID[[#This Row],[wob_codecomposant]]&" N°16",Feuil2!D:E,2,FALSE))) | T59: =IF(ISNA(VLOOKUP(Tableau_Lancer_la_requête_à_partir_de_CEGID[[#This Row],[wob_codecomposant]]&" N°7",Feuil2!D:E,2,FALSE)),"",(VLOOKUP(Tableau_Lancer_la_requête_à_partir_de_CEGID[[#This Row],[wob_codecomposant]]&" N°7",Feuil2!D:E,2,FALSE))) | U59: =MID(Tableau_Lancer_la_requête_à_partir_de_CEGID[[#This Row],[libcomposant]],1,5) -> C181
A60: 9906127120_04 | B60: 44736 | C60: DEC | D60: 154838 | E60: ACC | F60: 6712 | G60: Anneau D - 316L - Dia section: 6 mm - Dia passage: 50 mm | H60: C188B OUTIL DE FORGE | I60: 300 | J60: 130 | K60: =_xlfn.ISOWEEKNUM(Tableau_Lancer_la_requête_à_partir_de_CEGID[[#This Row],[wop_dateacc]]) -> 25 | M60: =IF(ISNA(VLOOKUP(Tableau_Lancer_la_requête_à_partir_de_CEGID[[#This Row],[wob_codecomposant]]&" N°1",Feuil2!D:E,2,FALSE)),"",(VLOOKUP(Tableau_Lancer_la_requête_à_partir_de_CEGID[[#This Row],[wob_codecomposant]]&" N°1",Feuil2!D:E,2,FALSE))) -> 024715 | N60: =IF(OR(VLOOKUP(M60,Feuil2!E:F,2,FALSE)>1,VLOOKUP(Feuil1!M60,Feuil2!E:I,4,)+7<Tableau_Lancer_la_requête_à_partir_de_CEGID[[#This Row],[wop_dateacc]]),Feuil1!M60,"") -> 024715 | O60: =IF(ISNA(VLOOKUP(Tableau_Lancer_la_requête_à_partir_de_CEGID[[#This Row],[wob_codecomposant]]&" N°2",Feuil2!D:E,2,FALSE)),"",(VLOOKUP(Tableau_Lancer_la_requête_à_partir_de_CEGID[[#This Row],[wob_codecomposant]]&" N°2",Feuil2!D:E,2,FALSE))) | P60: =IF(ISNA(VLOOKUP(Tableau_Lancer_la_requête_à_partir_de_CEGID[[#This Row],[wob_codecomposant]]&" N°3",Feuil2!D:E,2,FALSE)),"",(VLOOKUP(Tableau_Lancer_la_requête_à_partir_de_CEGID[[#This Row],[wob_codecomposant]]&" N°3",Feuil2!D:E,2,FALSE))) | Q60: =IF(ISNA(VLOOKUP(Tableau_Lancer_la_requête_à_partir_de_CEGID[[#This Row],[wob_codecomposant]]&" N°4",Feuil2!D:E,2,FALSE)),"",(VLOOKUP(Tableau_Lancer_la_requête_à_partir_de_CEGID[[#This Row],[wob_codecomposant]]&" N°4",Feuil2!D:E,2,FALSE))) | R60: =IF(ISNA(VLOOKUP(Tableau_Lancer_la_requête_à_partir_de_CEGID[[#This Row],[wob_codecomposant]]&" N°5",Feuil2!D:E,2,FALSE)),"",(VLOOKUP(Tableau_Lancer_la_requête_à_partir_de_CEGID[[#This Row],[wob_codecomposant]]&" N°5",Feuil2!D:E,2,FALSE))) | S60: =IF(ISNA(VLOOKUP(Tableau_Lancer_la_requête_à_partir_de_CEGID[[#This Row],[wob_codecomposant]]&" N°6",Feuil2!D:E,2,FALSE)),"",(VLOOKUP(Tableau_Lancer_la_requête_à_partir_de_CEGID[[#This Row],[wob_codecomposant]]&" N°16",Feuil2!D:E,2,FALSE))) | T60: =IF(ISNA(VLOOKUP(Tableau_Lancer_la_requête_à_partir_de_CEGID[[#This Row],[wob_codecomposant]]&" N°7",Feuil2!D:E,2,FALSE)),"",(VLOOKUP(Tableau_Lancer_la_requête_à_partir_de_CEGID[[#This Row],[wob_codecomposant]]&" N°7",Feuil2!D:E,2,FALSE))) | U60: =MID(Tableau_Lancer_la_requête_à_partir_de_CEGID[[#This Row],[libcomposant]],1,5) -> C188B
A61: C663 | B61: 44735 | C61: DEC | D61: 154855 | E61: ACC | F61: 9911122042A | G61: AXE DE MANILLE Ø8MM 17-4 PH | H61: C663 - OUTIL DE FORGE | I61: 1000 | J61: 120 | K61: =_xlfn.ISOWEEKNUM(Tableau_Lancer_la_requête_à_partir_de_CEGID[[#This Row],[wop_dateacc]]) -> 25 | M61: =IF(ISNA(VLOOKUP(Tableau_Lancer_la_requête_à_partir_de_CEGID[[#This Row],[wob_codecomposant]]&" N°1",Feuil2!D:E,2,FALSE)),"",(VLOOKUP(Tableau_Lancer_la_requête_à_partir_de_CEGID[[#This Row],[wob_codecomposant]]&" N°1",Feuil2!D:E,2,FALSE))) -> 018517 | N61: =IF(OR(VLOOKUP(M61,Feuil2!E:F,2,FALSE)>1,VLOOKUP(Feuil1!M61,Feuil2!E:I,4,)+7<Tableau_Lancer_la_requête_à_partir_de_CEGID[[#This Row],[wop_dateacc]]),Feuil1!M61,"") -> 018517 | O61: =IF(ISNA(VLOOKUP(Tableau_Lancer_la_requête_à_partir_de_CEGID[[#This Row],[wob_codecomposant]]&" N°2",Feuil2!D:E,2,FALSE)),"",(VLOOKUP(Tableau_Lancer_la_requête_à_partir_de_CEGID[[#This Row],[wob_codecomposant]]&" N°2",Feuil2!D:E,2,FALSE))) -> 027416 | P61: =IF(ISNA(VLOOKUP(Tableau_Lancer_la_requête_à_partir_de_CEGID[[#This Row],[wob_codecomposant]]&" N°3",Feuil2!D:E,2,FALSE)),"",(VLOOKUP(Tableau_Lancer_la_requête_à_partir_de_CEGID[[#This Row],[wob_codecomposant]]&" N°3",Feuil2!D:E,2,FALSE))) | Q61: =IF(ISNA(VLOOKUP(Tableau_Lancer_la_requête_à_partir_de_CEGID[[#This Row],[wob_codecomposant]]&" N°4",Feuil2!D:E,2,FALSE)),"",(VLOOKUP(Tableau_Lancer_la_requête_à_partir_de_CEGID[[#This Row],[wob_codecomposant]]&" N°4",Feuil2!D:E,2,FALSE))) | R61: =IF(ISNA(VLOOKUP(Tableau_Lancer_la_requête_à_partir_de_CEGID[[#This Row],[wob_codecomposant]]&" N°5",Feuil2!D:E,2,FALSE)),"",(VLOOKUP(Tableau_Lancer_la_requête_à_partir_de_CEGID[[#This Row],[wob_codecomposant]]&" N°5",Feuil2!D:E,2,FALSE))) | S61: =IF(ISNA(VLOOKUP(Tableau_Lancer_la_requête_à_partir_de_CEGID[[#This Row],[wob_codecomposant]]&" N°6",Feuil2!D:E,2,FALSE)),"",(VLOOKUP(Tableau_Lancer_la_requête_à_partir_de_CEGID[[#This Row],[wob_codecomposant]]&" N°16",Feuil2!D:E,2,FALSE))) | T61: =IF(ISNA(VLOOKUP(Tableau_Lancer_la_requête_à_partir_de_CEGID[[#This Row],[wob_codecomposant]]&" N°7",Feuil2!D:E,2,FALSE)),"",(VLOOKUP(Tableau_Lancer_la_requête_à_partir_de_CEGID[[#This Row],[wob_codecomposant]]&" N°7",Feuil2!D:E,2,FALSE))) | U61: =MID(Tableau_Lancer_la_requête_à_partir_de_CEGID[[#This Row],[libcomposant]],1,5) -> C663
A62: C185 | B62: 44735 | C62: DEC | D62: 153442 | E62: ACC | F62: 9901122451A | G62: CORPS MAN. LYRE o10MM LIBRE | H62: C185 - OUTIL DE FORGE | I62: 2500 | J62: 120 | K62: =_xlfn.ISOWEEKNUM(Tableau_Lancer_la_requête_à_partir_de_CEGID[[#This Row],[wop_dateacc]]) -> 25 | M62: =IF(ISNA(VLOOKUP(Tableau_Lancer_la_requête_à_partir_de_CEGID[[#This Row],[wob_codecomposant]]&" N°1",Feuil2!D:E,2,FALSE)),"",(VLOOKUP(Tableau_Lancer_la_requête_à_partir_de_CEGID[[#This Row],[wob_codecomposant]]&" N°1",Feuil2!D:E,2,FALSE))) -> 006818 | N62: =IF(OR(VLOOKUP(M62,Feuil2!E:F,2,FALSE)>1,VLOOKUP(Feuil1!M62,Feuil2!E:I,4,)+7<Tableau_Lancer_la_requête_à_partir_de_CEGID[[#This Row],[wop_dateacc]]),Feuil1!M62,"") -> 006818 | O62: =IF(ISNA(VLOOKUP(Tableau_Lancer_la_requête_à_partir_de_CEGID[[#This Row],[wob_codecomposant]]&" N°2",Feuil2!D:E,2,FALSE)),"",(VLOOKUP(Tableau_Lancer_la_requête_à_partir_de_CEGID[[#This Row],[wob_codecomposant]]&" N°2",Feuil2!D:E,2,FALSE))) -> 023817 | P62: =IF(ISNA(VLOOKUP(Tableau_Lancer_la_requête_à_partir_de_CEGID[[#This Row],[wob_codecomposant]]&" N°3",Feuil2!D:E,2,FALSE)),"",(VLOOKUP(Tableau_Lancer_la_requête_à_partir_de_CEGID[[#This Row],[wob_codecomposant]]&" N°3",Feuil2!D:E,2,FALSE))) -> 026116 | Q62: =IF(ISNA(VLOOKUP(Tableau_Lancer_la_requête_à_partir_de_CEGID[[#This Row],[wob_codecomposant]]&" N°4",Feuil2!D:E,2,FALSE)),"",(VLOOKUP(Tableau_Lancer_la_requête_à_partir_de_CEGID[[#This Row],[wob_codecomposant]]&" N°4",Feuil2!D:E,2,FALSE))) | R62: =IF(ISNA(VLOOKUP(Tableau_Lancer_la_requête_à_partir_de_CEGID[[#This Row],[wob_codecomposant]]&" N°5",Feuil2!D:E,2,FALSE)),"",(VLOOKUP(Tableau_Lancer_la_requête_à_partir_de_CEGID[[#This Row],[wob_codecomposant]]&" N°5",Feuil2!D:E,2,FALSE))) | S62: =IF(ISNA(VLOOKUP(Tableau_Lancer_la_requête_à_partir_de_CEGID[[#This Row],[wob_codecomposant]]&" N°6",Feuil2!D:E,2,FALSE)),"",(VLOOKUP(Tableau_Lancer_la_requête_à_partir_de_CEGID[[#This Row],[wob_codecomposant]]&" N°16",Feuil2!D:E,2,FALSE))) | T62: =IF(ISNA(VLOOKUP(Tableau_Lancer_la_requête_à_partir_de_CEGID[[#This Row],[wob_codecomposant]]&" N°7",Feuil2!D:E,2,FALSE)),"",(VLOOKUP(Tableau_Lancer_la_requête_à_partir_de_CEGID[[#This Row],[wob_codecomposant]]&" N°7",Feuil2!D:E,2,FALSE))) | U62: =MID(Tableau_Lancer_la_requête_à_partir_de_CEGID[[#This Row],[libcomposant]],1,5) -> C185
A63: C633 | B63: 44734 | C63: LAN | D63: 117833 | E63: MED | F63: 2446090019 | G63: Tige de Hanche PLM T8 avec rainures | H63: OUTIL DE FORGE (lisse ebauche) | I63: 12 | J63: 200 | K63: =_xlfn.ISOWEEKNUM(Tableau_Lancer_la_requête_à_partir_de_CEGID[[#This Row],[wop_dateacc]]) -> 25 | M63: =IF(ISNA(VLOOKUP(Tableau_Lancer_la_requête_à_partir_de_CEGID[[#This Row],[wob_codecomposant]]&" N°1",Feuil2!D:E,2,FALSE)),"",(VLOOKUP(Tableau_Lancer_la_requête_à_partir_de_CEGID[[#This Row],[wob_codecomposant]]&" N°1",Feuil2!D:E,2,FALSE))) | N63: =IF(OR(VLOOKUP(M63,Feuil2!E:F,2,FALSE)>1,VLOOKUP(Feuil1!M63,Feuil2!E:I,4,)+7<Tableau_Lancer_la_requête_à_partir_de_CEGID[[#This Row],[wop_dateacc]]),Feuil1!M63,"") -> #N/A | O63: =IF(ISNA(VLOOKUP(Tableau_Lancer_la_requête_à_partir_de_CEGID[[#This Row],[wob_codecomposant]]&" N°2",Feuil2!D:E,2,FALSE)),"",(VLOOKUP(Tableau_Lancer_la_requête_à_partir_de_CEGID[[#This Row],[wob_codecomposant]]&" N°2",Feuil2!D:E,2,FALSE))) | P63: =IF(ISNA(VLOOKUP(Tableau_Lancer_la_requête_à_partir_de_CEGID[[#This Row],[wob_codecomposant]]&" N°3",Feuil2!D:E,2,FALSE)),"",(VLOOKUP(Tableau_Lancer_la_requête_à_partir_de_CEGID[[#This Row],[wob_codecomposant]]&" N°3",Feuil2!D:E,2,FALSE))) | Q63: =IF(ISNA(VLOOKUP(Tableau_Lancer_la_requête_à_partir_de_CEGID[[#This Row],[wob_codecomposant]]&" N°4",Feuil2!D:E,2,FALSE)),"",(VLOOKUP(Tableau_Lancer_la_requête_à_partir_de_CEGID[[#This Row],[wob_codecomposant]]&" N°4",Feuil2!D:E,2,FALSE))) | R63: =IF(ISNA(VLOOKUP(Tableau_Lancer_la_requête_à_partir_de_CEGID[[#This Row],[wob_codecomposant]]&" N°5",Feuil2!D:E,2,FALSE)),"",(VLOOKUP(Tableau_Lancer_la_requête_à_partir_de_CEGID[[#This Row],[wob_codecomposant]]&" N°5",Feuil2!D:E,2,FALSE))) | S63: =IF(ISNA(VLOOKUP(Tableau_Lancer_la_requête_à_partir_de_CEGID[[#This Row],[wob_codecomposant]]&" N°6",Feuil2!D:E,2,FALSE)),"",(VLOOKUP(Tableau_Lancer_la_requête_à_partir_de_CEGID[[#This Row],[wob_codecomposant]]&" N°16",Feuil2!D:E,2,FALSE))) | T63: =IF(ISNA(VLOOKUP(Tableau_Lancer_la_requête_à_partir_de_CEGID[[#This Row],[wob_codecomposant]]&" N°7",Feuil2!D:E,2,FALSE)),"",(VLOOKUP(Tableau_Lancer_la_requête_à_partir_de_CEGID[[#This Row],[wob_codecomposant]]&" N°7",Feuil2!D:E,2,FALSE))) | U63: =MID(Tableau_Lancer_la_requête_à_partir_de_CEGID[[#This Row],[libcomposant]],1,5) -> OUTIL
A64: 9912126773_04 | B64: 44734 | C64: DEC | D64: 152649 | E64: ACC | F64: 9912126773 | G64: EMERILLON A OEIL BRUT 2677 | H64: C1259 OUTIL DE FORGE Ebauche | I64: 1000 | J64: 120 | K64: =_xlfn.ISOWEEKNUM(Tableau_Lancer_la_requête_à_partir_de_CEGID[[#This Row],[wop_dateacc]]) -> 25 | M64: =IF(ISNA(VLOOKUP(Tableau_Lancer_la_requête_à_partir_de_CEGID[[#This Row],[wob_codecomposant]]&" N°1",Feuil2!D:E,2,FALSE)),"",(VLOOKUP(Tableau_Lancer_la_requête_à_partir_de_CEGID[[#This Row],[wob_codecomposant]]&" N°1",Feuil2!D:E,2,FALSE))) -> 024215 | N64: =IF(OR(VLOOKUP(M64,Feuil2!E:F,2,FALSE)>1,VLOOKUP(Feuil1!M64,Feuil2!E:I,4,)+7<Tableau_Lancer_la_requête_à_partir_de_CEGID[[#This Row],[wop_dateacc]]),Feuil1!M64,"") -> 024215 | O64: =IF(ISNA(VLOOKUP(Tableau_Lancer_la_requête_à_partir_de_CEGID[[#This Row],[wob_codecomposant]]&" N°2",Feuil2!D:E,2,FALSE)),"",(VLOOKUP(Tableau_Lancer_la_requête_à_partir_de_CEGID[[#This Row],[wob_codecomposant]]&" N°2",Feuil2!D:E,2,FALSE))) -> 024322 | P64: =IF(ISNA(VLOOKUP(Tableau_Lancer_la_requête_à_partir_de_CEGID[[#This Row],[wob_codecomposant]]&" N°3",Feuil2!D:E,2,FALSE)),"",(VLOOKUP(Tableau_Lancer_la_requête_à_partir_de_CEGID[[#This Row],[wob_codecomposant]]&" N°3",Feuil2!D:E,2,FALSE))) | Q64: =IF(ISNA(VLOOKUP(Tableau_Lancer_la_requête_à_partir_de_CEGID[[#This Row],[wob_codecomposant]]&" N°4",Feuil2!D:E,2,FALSE)),"",(VLOOKUP(Tableau_Lancer_la_requête_à_partir_de_CEGID[[#This Row],[wob_codecomposant]]&" N°4",Feuil2!D:E,2,FALSE))) | R64: =IF(ISNA(VLOOKUP(Tableau_Lancer_la_requête_à_partir_de_CEGID[[#This Row],[wob_codecomposant]]&" N°5",Feuil2!D:E,2,FALSE)),"",(VLOOKUP(Tableau_Lancer_la_requête_à_partir_de_CEGID[[#This Row],[wob_codecomposant]]&" N°5",Feuil2!D:E,2,FALSE))) | S64: =IF(ISNA(VLOOKUP(Tableau_Lancer_la_requête_à_partir_de_CEGID[[#This Row],[wob_codecomposant]]&" N°6",Feuil2!D:E,2,FALSE)),"",(VLOOKUP(Tableau_Lancer_la_requête_à_partir_de_CEGID[[#This Row],[wob_codecomposant]]&" N°16",Feuil2!D:E,2,FALSE))) | T64: =IF(ISNA(VLOOKUP(Tableau_Lancer_la_requête_à_partir_de_CEGID[[#This Row],[wob_codecomposant]]&" N°7",Feuil2!D:E,2,FALSE)),"",(VLOOKUP(Tableau_Lancer_la_requête_à_partir_de_CEGID[[#This Row],[wob_codecomposant]]&" N°7",Feuil2!D:E,2,FALSE))) | U64: =MID(Tableau_Lancer_la_requête_à_partir_de_CEGID[[#This Row],[libcomposant]],1,5) -> C1259
A65: C658A | B65: 44733 | C65: DEC | D65: 153437 | E65: ACC | F65: 9901122061A | G65: CORPS MAN. DROITE Ø12MM LIBRE | H65: C658A - OUTIL DE FORGE CORPS MANILLE D.12 | I65: 1000 | J65: 120 | K65: =_xlfn.ISOWEEKNUM(Tableau_Lancer_la_requête_à_partir_de_CEGID[[#This Row],[wop_dateacc]]) -> 25 | M65: =IF(ISNA(VLOOKUP(Tableau_Lancer_la_requête_à_partir_de_CEGID[[#This Row],[wob_codecomposant]]&" N°1",Feuil2!D:E,2,FALSE)),"",(VLOOKUP(Tableau_Lancer_la_requête_à_partir_de_CEGID[[#This Row],[wob_codecomposant]]&" N°1",Feuil2!D:E,2,FALSE))) -> 016021 | N65: =IF(OR(VLOOKUP(M65,Feuil2!E:F,2,FALSE)>1,VLOOKUP(Feuil1!M65,Feuil2!E:I,4,)+7<Tableau_Lancer_la_requête_à_partir_de_CEGID[[#This Row],[wop_dateacc]]),Feuil1!M65,"") -> 016021 | O65: =IF(ISNA(VLOOKUP(Tableau_Lancer_la_requête_à_partir_de_CEGID[[#This Row],[wob_codecomposant]]&" N°2",Feuil2!D:E,2,FALSE)),"",(VLOOKUP(Tableau_Lancer_la_requête_à_partir_de_CEGID[[#This Row],[wob_codecomposant]]&" N°2",Feuil2!D:E,2,FALSE))) | P65: =IF(ISNA(VLOOKUP(Tableau_Lancer_la_requête_à_partir_de_CEGID[[#This Row],[wob_codecomposant]]&" N°3",Feuil2!D:E,2,FALSE)),"",(VLOOKUP(Tableau_Lancer_la_requête_à_partir_de_CEGID[[#This Row],[wob_codecomposant]]&" N°3",Feuil2!D:E,2,FALSE))) | Q65: =IF(ISNA(VLOOKUP(Tableau_Lancer_la_requête_à_partir_de_CEGID[[#This Row],[wob_codecomposant]]&" N°4",Feuil2!D:E,2,FALSE)),"",(VLOOKUP(Tableau_Lancer_la_requête_à_partir_de_CEGID[[#This Row],[wob_codecomposant]]&" N°4",Feuil2!D:E,2,FALSE))) | R65: =IF(ISNA(VLOOKUP(Tableau_Lancer_la_requête_à_partir_de_CEGID[[#This Row],[wob_codecomposant]]&" N°5",Feuil2!D:E,2,FALSE)),"",(VLOOKUP(Tableau_Lancer_la_requête_à_partir_de_CEGID[[#This Row],[wob_codecomposant]]&" N°5",Feuil2!D:E,2,FALSE))) | S65: =IF(ISNA(VLOOKUP(Tableau_Lancer_la_requête_à_partir_de_CEGID[[#This Row],[wob_codecomposant]]&" N°6",Feuil2!D:E,2,FALSE)),"",(VLOOKUP(Tableau_Lancer_la_requête_à_partir_de_CEGID[[#This Row],[wob_codecomposant]]&" N°16",Feuil2!D:E,2,FALSE))) | T65: =IF(ISNA(VLOOKUP(Tableau_Lancer_la_requête_à_partir_de_CEGID[[#This Row],[wob_codecomposant]]&" N°7",Feuil2!D:E,2,FALSE)),"",(VLOOKUP(Tableau_Lancer_la_requête_à_partir_de_CEGID[[#This Row],[wob_codecomposant]]&" N°7",Feuil2!D:E,2,FALSE))) | U65: =MID(Tableau_Lancer_la_requête_à_partir_de_CEGID[[#This Row],[libcomposant]],1,5) -> C658A
A66: C497 | B66: 44733 | C66: DEC | D66: 151140 | E66: ACC | F66: 9906124921 | G66: CORPS BRUT BOULON A OEIL M8 - Lg 80 | H66: OUTIL DE FORGE | I66: 1500 | J66: 120 | K66: =_xlfn.ISOWEEKNUM(Tableau_Lancer_la_requête_à_partir_de_CEGID[[#This Row],[wop_dateacc]]) -> 25 | M66: =IF(ISNA(VLOOKUP(Tableau_Lancer_la_requête_à_partir_de_CEGID[[#This Row],[wob_codecomposant]]&" N°1",Feuil2!D:E,2,FALSE)),"",(VLOOKUP(Tableau_Lancer_la_requête_à_partir_de_CEGID[[#This Row],[wob_codecomposant]]&" N°1",Feuil2!D:E,2,FALSE))) -> 007515 | N66: =IF(OR(VLOOKUP(M66,Feuil2!E:F,2,FALSE)>1,VLOOKUP(Feuil1!M66,Feuil2!E:I,4,)+7<Tableau_Lancer_la_requête_à_partir_de_CEGID[[#This Row],[wop_dateacc]]),Feuil1!M66,"") -> 007515 | O66: =IF(ISNA(VLOOKUP(Tableau_Lancer_la_requête_à_partir_de_CEGID[[#This Row],[wob_codecomposant]]&" N°2",Feuil2!D:E,2,FALSE)),"",(VLOOKUP(Tableau_Lancer_la_requête_à_partir_de_CEGID[[#This Row],[wob_codecomposant]]&" N°2",Feuil2!D:E,2,FALSE))) -> 017717 | P66: =IF(ISNA(VLOOKUP(Tableau_Lancer_la_requête_à_partir_de_CEGID[[#This Row],[wob_codecomposant]]&" N°3",Feuil2!D:E,2,FALSE)),"",(VLOOKUP(Tableau_Lancer_la_requête_à_partir_de_CEGID[[#This Row],[wob_codecomposant]]&" N°3",Feuil2!D:E,2,FALSE))) | Q66: =IF(ISNA(VLOOKUP(Tableau_Lancer_la_requête_à_partir_de_CEGID[[#This Row],[wob_codecomposant]]&" N°4",Feuil2!D:E,2,FALSE)),"",(VLOOKUP(Tableau_Lancer_la_requête_à_partir_de_CEGID[[#This Row],[wob_codecomposant]]&" N°4",Feuil2!D:E,2,FALSE))) | R66: =IF(ISNA(VLOOKUP(Tableau_Lancer_la_requête_à_partir_de_CEGID[[#This Row],[wob_codecomposant]]&" N°5",Feuil2!D:E,2,FALSE)),"",(VLOOKUP(Tableau_Lancer_la_requête_à_partir_de_CEGID[[#This Row],[wob_codecomposant]]&" N°5",Feuil2!D:E,2,FALSE))) | S66: =IF(ISNA(VLOOKUP(Tableau_Lancer_la_requête_à_partir_de_CEGID[[#This Row],[wob_codecomposant]]&" N°6",Feuil2!D:E,2,FALSE)),"",(VLOOKUP(Tableau_Lancer_la_requête_à_partir_de_CEGID[[#This Row],[wob_codecomposant]]&" N°16",Feuil2!D:E,2,FALSE))) | T66: =IF(ISNA(VLOOKUP(Tableau_Lancer_la_requête_à_partir_de_CEGID[[#This Row],[wob_codecomposant]]&" N°7",Feuil2!D:E,2,FALSE)),"",(VLOOKUP(Tableau_Lancer_la_requête_à_partir_de_CEGID[[#This Row],[wob_codecomposant]]&" N°7",Feuil2!D:E,2,FALSE))) | U66: =MID(Tableau_Lancer_la_requête_à_partir_de_CEGID[[#This Row],[libcomposant]],1,5) -> OUTIL
... A74: C107A | B74: 44725 | C74: DEC | D74: 151164 | E74: ACC | F74: 9912127731A | G74: EMERILLON OEIL GD PASSAGE 2773 | H74: C107A OUTIL DE FORGE | I74: 1000 | J74: 120 | K74: =_xlfn.ISOWEEKNUM(Tableau_Lancer_la_requête_à_partir_de_CEGID[[#This Row],[wop_dateacc]]) -> 24 | M74: =IF(ISNA(VLOOKUP(Tableau_Lancer_la_requête_à_partir_de_CEGID[[#This Row],[wob_codecomposant]]&" N°1",Feuil2!D:E,2,FALSE)),"",(VLOOKUP(Tableau_Lancer_la_requête_à_partir_de_CEGID[[#This Row],[wob_codecomposant]]&" N°1",Feuil2!D:E,2,FALSE))) -> 016218 | N74: =IF(OR(VLOOKUP(M74,Feuil2!E:F,2,FALSE)>1,VLOOKUP(Feuil1!M74,Feuil2!E:I,4,)+7<Tableau_Lancer_la_requête_à_partir_de_CEGID[[#This Row],[wop_dateacc]]),Feuil1!M74,"") -> 016218 | O74: =IF(ISNA(VLOOKUP(Tableau_Lancer_la_requête_à_partir_de_CEGID[[#This Row],[wob_codecomposant]]&" N°2",Feuil2!D:E,2,FALSE)),"",(VLOOKUP(Tableau_Lancer_la_requête_à_partir_de_CEGID[[#This Row],[wob_codecomposant]]&" N°2",Feuil2!D:E,2,FALSE))) -> 025916 | P74: =IF(ISNA(VLOOKUP(Tableau_Lancer_la_requête_à_partir_de_CEGID[[#This Row],[wob_codecomposant]]&" N°3",Feuil2!D:E,2,FALSE)),"",(VLOOKUP(Tableau_Lancer_la_requête_à_partir_de_CEGID[[#This Row],[wob_codecomposant]]&" N°3",Feuil2!D:E,2,FALSE))) | Q74: =IF(ISNA(VLOOKUP(Tableau_Lancer_la_requête_à_partir_de_CEGID[[#This Row],[wob_codecomposant]]&" N°4",Feuil2!D:E,2,FALSE)),"",(VLOOKUP(Tableau_Lancer_la_requête_à_partir_de_CEGID[[#This Row],[wob_codecomposant]]&" N°4",Feuil2!D:E,2,FALSE))) | R74: =IF(ISNA(VLOOKUP(Tableau_Lancer_la_requête_à_partir_de_CEGID[[#This Row],[wob_codecomposant]]&" N°5",Feuil2!D:E,2,FALSE)),"",(VLOOKUP(Tableau_Lancer_la_requête_à_partir_de_CEGID[[#This Row],[wob_codecomposant]]&" N°5",Feuil2!D:E,2,FALSE))) | S74: =IF(ISNA(VLOOKUP(Tableau_Lancer_la_requête_à_partir_de_CEGID[[#This Row],[wob_codecomposant]]&" N°6",Feuil2!D:E,2,FALSE)),"",(VLOOKUP(Tableau_Lancer_la_requête_à_partir_de_CEGID[[#This Row],[wob_codecomposant]]&" N°16",Feuil2!D:E,2,FALSE))) | T74: =IF(ISNA(VLOOKUP(Tableau_Lancer_la_requête_à_partir_de_CEGID[[#This Row],[wob_codecomposant]]&" N°7",Feuil2!D:E,2,FALSE)),"",(VLOOKUP(Tableau_Lancer_la_requête_à_partir_de_CEGID[[#This Row],[wob_codecomposant]]&" N°7",Feuil2!D:E,2,FALSE))) | U74: =MID(Tableau_Lancer_la_requête_à_partir_de_CEGID[[#This Row],[libcomposant]],1,5) -> C107A
B75: 44725 | C75: DEC | D75: 152888 | E75: IND | F75: 3390150108 | G75: EBAUCHE DE VIS EN TE LEBAUCHE2412501 | I75: 525 | J75: 120 | K75: =_xlfn.ISOWEEKNUM(Tableau_Lancer_la_requête_à_partir_de_CEGID[[#This Row],[wop_dateacc]]) -> 24 | M75: =IF(ISNA(VLOOKUP(Tableau_Lancer_la_requête_à_partir_de_CEGID[[#This Row],[wob_codecomposant]]&" N°1",Feuil2!D:E,2,FALSE)),"",(VLOOKUP(Tableau_Lancer_la_requête_à_partir_de_CEGID[[#This Row],[wob_codecomposant]]&" N°1",Feuil2!D:E,2,FALSE))) | N75: =IF(OR(VLOOKUP(M75,Feuil2!E:F,2,FALSE)>1,VLOOKUP(Feuil1!M75,Feuil2!E:I,4,)+7<Tableau_Lancer_la_requête_à_partir_de_CEGID[[#This Row],[wop_dateacc]]),Feuil1!M75,"") -> #N/A | O75: =IF(ISNA(VLOOKUP(Tableau_Lancer_la_requête_à_partir_de_CEGID[[#This Row],[wob_codecomposant]]&" N°2",Feuil2!D:E,2,FALSE)),"",(VLOOKUP(Tableau_Lancer_la_requête_à_partir_de_CEGID[[#This Row],[wob_codecomposant]]&" N°2",Feuil2!D:E,2,FALSE))) | P75: =IF(ISNA(VLOOKUP(Tableau_Lancer_la_requête_à_partir_de_CEGID[[#This Row],[wob_codecomposant]]&" N°3",Feuil2!D:E,2,FALSE)),"",(VLOOKUP(Tableau_Lancer_la_requête_à_partir_de_CEGID[[#This Row],[wob_codecomposant]]&" N°3",Feuil2!D:E,2,FALSE))) | Q75: =IF(ISNA(VLOOKUP(Tableau_Lancer_la_requête_à_partir_de_CEGID[[#This Row],[wob_codecomposant]]&" N°4",Feuil2!D:E,2,FALSE)),"",(VLOOKUP(Tableau_Lancer_la_requête_à_partir_de_CEGID[[#This Row],[wob_codecomposant]]&" N°4",Feuil2!D:E,2,FALSE))) | R75: =IF(ISNA(VLOOKUP(Tableau_Lancer_la_requête_à_partir_de_CEGID[[#This Row],[wob_codecomposant]]&" N°5",Feuil2!D:E,2,FALSE)),"",(VLOOKUP(Tableau_Lancer_la_requête_à_partir_de_CEGID[[#This Row],[wob_codecomposant]]&" N°5",Feuil2!D:E,2,FALSE))) | S75: =IF(ISNA(VLOOKUP(Tableau_Lancer_la_requête_à_partir_de_CEGID[[#This Row],[wob_codecomposant]]&" N°6",Feuil2!D:E,2,FALSE)),"",(VLOOKUP(Tableau_Lancer_la_requête_à_partir_de_CEGID[[#This Row],[wob_codecomposant]]&" N°16",Feuil2!D:E,2,FALSE))) | T75: =IF(ISNA(VLOOKUP(Tableau_Lancer_la_requête_à_partir_de_CEGID[[#This Row],[wob_codecomposant]]&" N°7",Feuil2!D:E,2,FALSE)),"",(VLOOKUP(Tableau_Lancer_la_requête_à_partir_de_CEGID[[#This Row],[wob_codecomposant]]&" N°7",Feuil2!D:E,2,FALSE))) | U75: =MID(Tableau_Lancer_la_requête_à_partir_de_CEGID[[#This Row],[libcomposant]],1,5)
A76: C1409 | B76: 44722 | C76: DEC | D76: 151156 | E76: ACC | F76: 9912126732A | G76: BRAS Mousq. O.S.C - Long: 45 pour Réf:72.6730A | H76: C1409 OUTIL DE FORGE | I76: 1000 | J76: 120 | K76: =_xlfn.ISOWEEKNUM(Tableau_Lancer_la_requête_à_partir_de_CEGID[[#This Row],[wop_dateacc]]) -> 23 | M76: =IF(ISNA(VLOOKUP(Tableau_Lancer_la_requête_à_partir_de_CEGID[[#This Row],[wob_codecomposant]]&" N°1",Feuil2!D:E,2,FALSE)),"",(VLOOKUP(Tableau_Lancer_la_requête_à_partir_de_CEGID[[#This Row],[wob_codecomposant]]&" N°1",Feuil2!D:E,2,FALSE))) -> 013619 | N76: =IF(OR(VLOOKUP(M76,Feuil2!E:F,2,FALSE)>1,VLOOKUP(Feuil1!M76,Feuil2!E:I,4,)+7<Tableau_Lancer_la_requête_à_partir_de_CEGID[[#This Row],[wop_dateacc]]),Feuil1!M76,"") -> 013619 | O76: =IF(ISNA(VLOOKUP(Tableau_Lancer_la_requête_à_partir_de_CEGID[[#This Row],[wob_codecomposant]]&" N°2",Feuil2!D:E,2,FALSE)),"",(VLOOKUP(Tableau_Lancer_la_requête_à_partir_de_CEGID[[#This Row],[wob_codecomposant]]&" N°2",Feuil2!D:E,2,FALSE))) -> 020718 | P76: =IF(ISNA(VLOOKUP(Tableau_Lancer_la_requête_à_partir_de_CEGID[[#This Row],[wob_codecomposant]]&" N°3",Feuil2!D:E,2,FALSE)),"",(VLOOKUP(Tableau_Lancer_la_requête_à_partir_de_CEGID[[#This Row],[wob_codecomposant]]&" N°3",Feuil2!D:E,2,FALSE))) -> 025119 | Q76: =IF(ISNA(VLOOKUP(Tableau_Lancer_la_requête_à_partir_de_CEGID[[#This Row],[wob_codecomposant]]&" N°4",Feuil2!D:E,2,FALSE)),"",(VLOOKUP(Tableau_Lancer_la_requête_à_partir_de_CEGID[[#This Row],[wob_codecomposant]]&" N°4",Feuil2!D:E,2,FALSE))) | R76: =IF(ISNA(VLOOKUP(Tableau_Lancer_la_requête_à_partir_de_CEGID[[#This Row],[wob_codecomposant]]&" N°5",Feuil2!D:E,2,FALSE)),"",(VLOOKUP(Tableau_Lancer_la_requête_à_partir_de_CEGID[[#This Row],[wob_codecomposant]]&" N°5",Feuil2!D:E,2,FALSE))) | S76: =IF(ISNA(VLOOKUP(Tableau_Lancer_la_requête_à_partir_de_CEGID[[#This Row],[wob_codecomposant]]&" N°6",Feuil2!D:E,2,FALSE)),"",(VLOOKUP(Tableau_Lancer_la_requête_à_partir_de_CEGID[[#This Row],[wob_codecomposant]]&" N°16",Feuil2!D:E,2,FALSE))) | T76: =IF(ISNA(VLOOKUP(Tableau_Lancer_la_requête_à_partir_de_CEGID[[#This Row],[wob_codecomposant]]&" N°7",Feuil2!D:E,2,FALSE)),"",(VLOOKUP(Tableau_Lancer_la_requête_à_partir_de_CEGID[[#This Row],[wob_codecomposant]]&" N°7",Feuil2!D:E,2,FALSE))) | U76: =MID(Tableau_Lancer_la_requête_à_partir_de_CEGID[[#This Row],[libcomposant]],1,5) -> C1409
A77: C108A | B77: 44721 | C77: DEC | D77: 154828 | E77: ACC | F77: 6783 | G77: Anneau rond - 316L - Dia section: 5 mm - Dia passage:33 mm | H77: C108A OUTIL DE FORGE | I77: 1500 | J77: 130 | K77: =_xlfn.ISOWEEKNUM(Tableau_Lancer_la_requête_à_partir_de_CEGID[[#This Row],[wop_dateacc]]) -> 23 | M77: =IF(ISNA(VLOOKUP(Tableau_Lancer_la_requête_à_partir_de_CEGID[[#This Row],[wob_codecomposant]]&" N°1",Feuil2!D:E,2,FALSE)),"",(VLOOKUP(Tableau_Lancer_la_requête_à_partir_de_CEGID[[#This Row],[wob_codecomposant]]&" N°1",Feuil2!D:E,2,FALSE))) -> 011315 | N77: =IF(OR(VLOOKUP(M77,Feuil2!E:F,2,FALSE)>1,VLOOKUP(Feuil1!M77,Feuil2!E:I,4,)+7<Tableau_Lancer_la_requête_à_partir_de_CEGID[[#This Row],[wop_dateacc]]),Feuil1!M77,"") -> 011315 | O77: =IF(ISNA(VLOOKUP(Tableau_Lancer_la_requête_à_partir_de_CEGID[[#This Row],[wob_codecomposant]]&" N°2",Feuil2!D:E,2,FALSE)),"",(VLOOKUP(Tableau_Lancer_la_requête_à_partir_de_CEGID[[#This Row],[wob_codecomposant]]&" N°2",Feuil2!D:E,2,FALSE))) -> 030219 | P77: =IF(ISNA(VLOOKUP(Tableau_Lancer_la_requête_à_partir_de_CEGID[[#This Row],[wob_codecomposant]]&" N°3",Feuil2!D:E,2,FALSE)),"",(VLOOKUP(Tableau_Lancer_la_requête_à_partir_de_CEGID[[#This Row],[wob_codecomposant]]&" N°3",Feuil2!D:E,2,FALSE))) | Q77: =IF(ISNA(VLOOKUP(Tableau_Lancer_la_requête_à_partir_de_CEGID[[#This Row],[wob_codecomposant]]&" N°4",Feuil2!D:E,2,FALSE)),"",(VLOOKUP(Tableau_Lancer_la_requête_à_partir_de_CEGID[[#This Row],[wob_codecomposant]]&" N°4",Feuil2!D:E,2,FALSE))) | R77: =IF(ISNA(VLOOKUP(Tableau_Lancer_la_requête_à_partir_de_CEGID[[#This Row],[wob_codecomposant]]&" N°5",Feuil2!D:E,2,FALSE)),"",(VLOOKUP(Tableau_Lancer_la_requête_à_partir_de_CEGID[[#This Row],[wob_codecomposant]]&" N°5",Feuil2!D:E,2,FALSE))) | S77: =IF(ISNA(VLOOKUP(Tableau_Lancer_la_requête_à_partir_de_CEGID[[#This Row],[wob_codecomposant]]&" N°6",Feuil2!D:E,2,FALSE)),"",(VLOOKUP(Tableau_Lancer_la_requête_à_partir_de_CEGID[[#This Row],[wob_codecomposant]]&" N°16",Feuil2!D:E,2,FALSE))) | T77: =IF(ISNA(VLOOKUP(Tableau_Lancer_la_requête_à_partir_de_CEGID[[#This Row],[wob_codecomposant]]&" N°7",Feuil2!D:E,2,FALSE)),"",(VLOOKUP(Tableau_Lancer_la_requête_à_partir_de_CEGID[[#This Row],[wob_codecomposant]]&" N°7",Feuil2!D:E,2,FALSE))) | U77: =MID(Tableau_Lancer_la_requête_à_partir_de_CEGID[[#This Row],[libcomposant]],1,5) -> C108A
A78: C99B | B78: 44720 | C78: DEC | D78: 152501 | E78: IND | F78: 6720020001 | G78: CLE POUR MENOTTES | H78: C99B OUTIL DE FORGE | I78: 52500 | J78: 120 | K78: =_xlfn.ISOWEEKNUM(Tableau_Lancer_la_requête_à_partir_de_CEGID[[#This Row],[wop_dateacc]]) -> 23 | M78: =IF(ISNA(VLOOKUP(Tableau_Lancer_la_requête_à_partir_de_CEGID[[#This Row],[wob_codecomposant]]&" N°1",Feuil2!D:E,2,FALSE)),"",(VLOOKUP(Tableau_Lancer_la_requête_à_partir_de_CEGID[[#This Row],[wob_codecomposant]]&" N°1",Feuil2!D:E,2,FALSE))) -> 008019 | N78: =IF(OR(VLOOKUP(M78,Feuil2!E:F,2,FALSE)>1,VLOOKUP(Feuil1!M78,Feuil2!E:I,4,)+7<Tableau_Lancer_la_requête_à_partir_de_CEGID[[#This Row],[wop_dateacc]]),Feuil1!M78,"") -> 008019 | O78: =IF(ISNA(VLOOKUP(Tableau_Lancer_la_requête_à_partir_de_CEGID[[#This Row],[wob_codecomposant]]&" N°2",Feuil2!D:E,2,FALSE)),"",(VLOOKUP(Tableau_Lancer_la_requête_à_partir_de_CEGID[[#This Row],[wob_codecomposant]]&" N°2",Feuil2!D:E,2,FALSE))) -> 008119 | P78: =IF(ISNA(VLOOKUP(Tableau_Lancer_la_requête_à_partir_de_CEGID[[#This Row],[wob_codecomposant]]&" N°3",Feuil2!D:E,2,FALSE)),"",(VLOOKUP(Tableau_Lancer_la_requête_à_partir_de_CEGID[[#This Row],[wob_codecomposant]]&" N°3",Feuil2!D:E,2,FALSE))) -> 009616 | Q78: =IF(ISNA(VLOOKUP(Tableau_Lancer_la_requête_à_partir_de_CEGID[[#This Row],[wob_codecomposant]]&" N°4",Feuil2!D:E,2,FALSE)),"",(VLOOKUP(Tableau_Lancer_la_requête_à_partir_de_CEGID[[#This Row],[wob_codecomposant]]&" N°4",Feuil2!D:E,2,FALSE))) -> 022519 | R78: =IF(ISNA(VLOOKUP(Tableau_Lancer_la_requête_à_partir_de_CEGID[[#This Row],[wob_codecomposant]]&" N°5",Feuil2!D:E,2,FALSE)),"",(VLOOKUP(Tableau_Lancer_la_requête_à_partir_de_CEGID[[#This Row],[wob_codecomposant]]&" N°5",Feuil2!D:E,2,FALSE))) | S78: =IF(ISNA(VLOOKUP(Tableau_Lancer_la_requête_à_partir_de_CEGID[[#This Row],[wob_codecomposant]]&" N°6",Feuil2!D:E,2,FALSE)),"",(VLOOKUP(Tableau_Lancer_la_requête_à_partir_de_CEGID[[#This Row],[wob_codecomposant]]&" N°16",Feuil2!D:E,2,FALSE))) | T78: =IF(ISNA(VLOOKUP(Tableau_Lancer_la_requête_à_partir_de_CEGID[[#This Row],[wob_codecomposant]]&" N°7",Feuil2!D:E,2,FALSE)),"",(VLOOKUP(Tableau_Lancer_la_requête_à_partir_de_CEGID[[#This Row],[wob_codecomposant]]&" N°7",Feuil2!D:E,2,FALSE))) | U78: =MID(Tableau_Lancer_la_requête_à_partir_de_CEGID[[#This Row],[libcomposant]],1,5) -> C99B
A79: C459 | B79: 44720 | C79: DEC | D79: 154839 | E79: ACC | F79: 9901124321 | G79: CORPS MAN. RAPIDE o5MM | H79: C459 - OUTIL DE FORGE | I79: 5000 | J79: 120 | K79: =_xlfn.ISOWEEKNUM(Tableau_Lancer_la_requête_à_partir_de_CEGID[[#This Row],[wop_dateacc]]) -> 23 | M79: =IF(ISNA(VLOOKUP(Tableau_Lancer_la_requête_à_partir_de_CEGID[[#This Row],[wob_codecomposant]]&" N°1",Feuil2!D:E,2,FALSE)),"",(VLOOKUP(Tableau_Lancer_la_requête_à_partir_de_CEGID[[#This Row],[wob_codecomposant]]&" N°1",Feuil2!D:E,2,FALSE))) -> 004716 | N79: =IF(OR(VLOOKUP(M79,Feuil2!E:F,2,FALSE)>1,VLOOKUP(Feuil1!M79,Feuil2!E:I,4,)+7<Tableau_Lancer_la_requête_à_partir_de_CEGID[[#This Row],[wop_dateacc]]),Feuil1!M79,"") -> 004716 | O79: =IF(ISNA(VLOOKUP(Tableau_Lancer_la_requête_à_partir_de_CEGID[[#This Row],[wob_codecomposant]]&" N°2",Feuil2!D:E,2,FALSE)),"",(VLOOKUP(Tableau_Lancer_la_requête_à_partir_de_CEGID[[#This Row],[wob_codecomposant]]&" N°2",Feuil2!D:E,2,FALSE))) -> 020515 | P79: =IF(ISNA(VLOOKUP(Tableau_Lancer_la_requête_à_partir_de_CEGID[[#This Row],[wob_codecomposant]]&" N°3",Feuil2!D:E,2,FALSE)),"",(VLOOKUP(Tableau_Lancer_la_requête_à_partir_de_CEGID[[#This Row],[wob_codecomposant]]&" N°3",Feuil2!D:E,2,FALSE))) -> 021919 | Q79: =IF(ISNA(VLOOKUP(Tableau_Lancer_la_requête_à_partir_de_CEGID[[#This Row],[wob_codecomposant]]&" N°4",Feuil2!D:E,2,FALSE)),"",(VLOOKUP(Tableau_Lancer_la_requête_à_partir_de_CEGID[[#This Row],[wob_codecomposant]]&" N°4",Feuil2!D:E,2,FALSE))) | R79: =IF(ISNA(VLOOKUP(Tableau_Lancer_la_requête_à_partir_de_CEGID[[#This Row],[wob_codecomposant]]&" N°5",Feuil2!D:E,2,FALSE)),"",(VLOOKUP(Tableau_Lancer_la_requête_à_partir_de_CEGID[[#This Row],[wob_codecomposant]]&" N°5",Feuil2!D:E,2,FALSE))) | S79: =IF(ISNA(VLOOKUP(Tableau_Lancer_la_requête_à_partir_de_CEGID[[#This Row],[wob_codecomposant]]&" N°6",Feuil2!D:E,2,FALSE)),"",(VLOOKUP(Tableau_Lancer_la_requête_à_partir_de_CEGID[[#This Row],[wob_codecomposant]]&" N°16",Feuil2!D:E,2,FALSE))) | T79: =IF(ISNA(VLOOKUP(Tableau_Lancer_la_requête_à_partir_de_CEGID[[#This Row],[wob_codecomposant]]&" N°7",Feuil2!D:E,2,FALSE)),"",(VLOOKUP(Tableau_Lancer_la_requête_à_partir_de_CEGID[[#This Row],[wob_codecomposant]]&" N°7",Feuil2!D:E,2,FALSE))) | U79: =MID(Tableau_Lancer_la_requête_à_partir_de_CEGID[[#This Row],[libcomposant]],1,5) -> C459
B80: 44720 | C80: DEC | D80: 153470 | E80: ACC | F80: 9912126763 | G80: EMERILLON A OEIL BRUT 2676 | I80: 750 | J80: 120 | K80: =_xlfn.ISOWEEKNUM(Tableau_Lancer_la_requête_à_partir_de_CEGID[[#This Row],[wop_dateacc]]) -> 23 | M80: =IF(ISNA(VLOOKUP(Tableau_Lancer_la_requête_à_partir_de_CEGID[[#This Row],[wob_codecomposant]]&" N°1",Feuil2!D:E,2,FALSE)),"",(VLOOKUP(Tableau_Lancer_la_requête_à_partir_de_CEGID[[#This Row],[wob_codecomposant]]&" N°1",Feuil2!D:E,2,FALSE))) | N80: =IF(OR(VLOOKUP(M80,Feuil2!E:F,2,FALSE)>1,VLOOKUP(Feuil1!M80,Feuil2!E:I,4,)+7<Tableau_Lancer_la_requête_à_partir_de_CEGID[[#This Row],[wop_dateacc]]),Feuil1!M80,"") -> #N/A | O80: =IF(ISNA(VLOOKUP(Tableau_Lancer_la_requête_à_partir_de_CEGID[[#This Row],[wob_codecomposant]]&" N°2",Feuil2!D:E,2,FALSE)),"",(VLOOKUP(Tableau_Lancer_la_requête_à_partir_de_CEGID[[#This Row],[wob_codecomposant]]&" N°2",Feuil2!D:E,2,FALSE))) | P80: =IF(ISNA(VLOOKUP(Tableau_Lancer_la_requête_à_partir_de_CEGID[[#This Row],[wob_codecomposant]]&" N°3",Feuil2!D:E,2,FALSE)),"",(VLOOKUP(Tableau_Lancer_la_requête_à_partir_de_CEGID[[#This Row],[wob_codecomposant]]&" N°3",Feuil2!D:E,2,FALSE))) | Q80: =IF(ISNA(VLOOKUP(Tableau_Lancer_la_requête_à_partir_de_CEGID[[#This Row],[wob_codecomposant]]&" N°4",Feuil2!D:E,2,FALSE)),"",(VLOOKUP(Tableau_Lancer_la_requête_à_partir_de_CEGID[[#This Row],[wob_codecomposant]]&" N°4",Feuil2!D:E,2,FALSE))) | R80: =IF(ISNA(VLOOKUP(Tableau_Lancer_la_requête_à_partir_de_CEGID[[#This Row],[wob_codecomposant]]&" N°5",Feuil2!D:E,2,FALSE)),"",(VLOOKUP(Tableau_Lancer_la_requête_à_partir_de_CEGID[[#This Row],[wob_codecomposant]]&" N°5",Feuil2!D:E,2,FALSE))) | S80: =IF(ISNA(VLOOKUP(Tableau_Lancer_la_requête_à_partir_de_CEGID[[#This Row],[wob_codecomposant]]&" N°6",Feuil2!D:E,2,FALSE)),"",(VLOOKUP(Tableau_Lancer_la_requête_à_partir_de_CEGID[[#This Row],[wob_codecomposant]]&" N°16",Feuil2!D:E,2,FALSE))) | T80: =IF(ISNA(VLOOKUP(Tableau_Lancer_la_requête_à_partir_de_CEGID[[#This Row],[wob_codecomposant]]&" N°7",Feuil2!D:E,2,FALSE)),"",(VLOOKUP(Tableau_Lancer_la_requête_à_partir_de_CEGID[[#This Row],[wob_codecomposant]]&" N°7",Feuil2!D:E,2,FALSE))) | U80: =MID(Tableau_Lancer_la_requête_à_partir_de_CEGID[[#This Row],[libcomposant]],1,5)
A81: C1031 | B81: 44719 | C81: DEC | D81: 154857 | E81: ACC | F81: 9911122072A | G81: AXE DE MANILLE Ø14MM 17-4 PH | H81: C1031 OUTIL DE FORGE | I81: 450 | J81: 120 | K81: =_xlfn.ISOWEEKNUM(Tableau_Lancer_la_requête_à_partir_de_CEGID[[#This Row],[wop_dateacc]]) -> 23 | M81: =IF(ISNA(VLOOKUP(Tableau_Lancer_la_requête_à_partir_de_CEGID[[#This Row],[wob_codecomposant]]&" N°1",Feuil2!D:E,2,FALSE)),"",(VLOOKUP(Tableau_Lancer_la_requête_à_partir_de_CEGID[[#This Row],[wob_codecomposant]]&" N°1",Feuil2!D:E,2,FALSE))) -> 021516 | N81: =IF(OR(VLOOKUP(M81,Feuil2!E:F,2,FALSE)>1,VLOOKUP(Feuil1!M81,Feuil2!E:I,4,)+7<Tableau_Lancer_la_requête_à_partir_de_CEGID[[#This Row],[wop_dateacc]]),Feuil1!M81,"") -> 021516 | O81: =IF(ISNA(VLOOKUP(Tableau_Lancer_la_requête_à_partir_de_CEGID[[#This Row],[wob_codecomposant]]&" N°2",Feuil2!D:E,2,FALSE)),"",(VLOOKUP(Tableau_Lancer_la_requête_à_partir_de_CEGID[[#This Row],[wob_codecomposant]]&" N°2",Feuil2!D:E,2,FALSE))) -> 023218 | P81: =IF(ISNA(VLOOKUP(Tableau_Lancer_la_requête_à_partir_de_CEGID[[#This Row],[wob_codecomposant]]&" N°3",Feuil2!D:E,2,FALSE)),"",(VLOOKUP(Tableau_Lancer_la_requête_à_partir_de_CEGID[[#This Row],[wob_codecomposant]]&" N°3",Feuil2!D:E,2,FALSE))) | Q81: =IF(ISNA(VLOOKUP(Tableau_Lancer_la_requête_à_partir_de_CEGID[[#This Row],[wob_codecomposant]]&" N°4",Feuil2!D:E,2,FALSE)),"",(VLOOKUP(Tableau_Lancer_la_requête_à_partir_de_CEGID[[#This Row],[wob_codecomposant]]&" N°4",Feuil2!D:E,2,FALSE))) | R81: =IF(ISNA(VLOOKUP(Tableau_Lancer_la_requête_à_partir_de_CEGID[[#This Row],[wob_codecomposant]]&" N°5",Feuil2!D:E,2,FALSE)),"",(VLOOKUP(Tableau_Lancer_la_requête_à_partir_de_CEGID[[#This Row],[wob_codecomposant]]&" N°5",Feuil2!D:E,2,FALSE))) | S81: =IF(ISNA(VLOOKUP(Tableau_Lancer_la_requête_à_partir_de_CEGID[[#This Row],[wob_codecomposant]]&" N°6",Feuil2!D:E,2,FALSE)),"",(VLOOKUP(Tableau_Lancer_la_requête_à_partir_de_CEGID[[#This Row],[wob_codecomposant]]&" N°16",Feuil2!D:E,2,FALSE))) | T81: =IF(ISNA(VLOOKUP(Tableau_Lancer_la_requête_à_partir_de_CEGID[[#This Row],[wob_codecomposant]]&" N°7",Feuil2!D:E,2,FALSE)),"",(VLOOKUP(Tableau_Lancer_la_requête_à_partir_de_CEGID[[#This Row],[wob_codecomposant]]&" N°7",Feuil2!D:E,2,FALSE))) | U81: =MID(Tableau_Lancer_la_requête_à_partir_de_CEGID[[#This Row],[libcomposant]],1,5) -> C1031
A82: C1170A | B82: 44719 | C82: DEC | D82: 154856 | E82: ACC | F82: 9911122052A | G82: AXE DE MANILLE Ø10MM 17-4 PH | H82: C1170A - OUTIL DE FORGE | I82: 1500 | J82: 120 | K82: =_xlfn.ISOWEEKNUM(Tableau_Lancer_la_requête_à_partir_de_CEGID[[#This Row],[wop_dateacc]]) -> 23 | M82: =IF(ISNA(VLOOKUP(Tableau_Lancer_la_requête_à_partir_de_CEGID[[#This Row],[wob_codecomposant]]&" N°1",Feuil2!D:E,2,FALSE)),"",(VLOOKUP(Tableau_Lancer_la_requête_à_partir_de_CEGID[[#This Row],[wob_codecomposant]]&" N°1",Feuil2!D:E,2,FALSE))) -> 004518 | N82: =IF(OR(VLOOKUP(M82,Feuil2!E:F,2,FALSE)>1,VLOOKUP(Feuil1!M82,Feuil2!E:I,4,)+7<Tableau_Lancer_la_requête_à_partir_de_CEGID[[#This Row],[wop_dateacc]]),Feuil1!M82,"") -> 004518 | O82: =IF(ISNA(VLOOKUP(Tableau_Lancer_la_requête_à_partir_de_CEGID[[#This Row],[wob_codecomposant]]&" N°2",Feuil2!D:E,2,FALSE)),"",(VLOOKUP(Tableau_Lancer_la_requête_à_partir_de_CEGID[[#This Row],[wob_codecomposant]]&" N°2",Feuil2!D:E,2,FALSE))) -> 017519 | P82: =IF(ISNA(VLOOKUP(Tableau_Lancer_la_requête_à_partir_de_CEGID[[#This Row],[wob_codecomposant]]&" N°3",Feuil2!D:E,2,FALSE)),"",(VLOOKUP(Tableau_Lancer_la_requête_à_partir_de_CEGID[[#This Row],[wob_codecomposant]]&" N°3",Feuil2!D:E,2,FALSE))) | Q82: =IF(ISNA(VLOOKUP(Tableau_Lancer_la_requête_à_partir_de_CEGID[[#This Row],[wob_codecomposant]]&" N°4",Feuil2!D:E,2,FALSE)),"",(VLOOKUP(Tableau_Lancer_la_requête_à_partir_de_CEGID[[#This Row],[wob_codecomposant]]&" N°4",Feuil2!D:E,2,FALSE))) | R82: =IF(ISNA(VLOOKUP(Tableau_Lancer_la_requête_à_partir_de_CEGID[[#This Row],[wob_codecomposant]]&" N°5",Feuil2!D:E,2,FALSE)),"",(VLOOKUP(Tableau_Lancer_la_requête_à_partir_de_CEGID[[#This Row],[wob_codecomposant]]&" N°5",Feuil2!D:E,2,FALSE))) | S82: =IF(ISNA(VLOOKUP(Tableau_Lancer_la_requête_à_partir_de_CEGID[[#This Row],[wob_codecomposant]]&" N°6",Feuil2!D:E,2,FALSE)),"",(VLOOKUP(Tableau_Lancer_la_requête_à_partir_de_CEGID[[#This Row],[wob_codecomposant]]&" N°16",Feuil2!D:E,2,FALSE))) | T82: =IF(ISNA(VLOOKUP(Tableau_Lancer_la_requête_à_partir_de_CEGID[[#This Row],[wob_codecomposant]]&" N°7",Feuil2!D:E,2,FALSE)),"",(VLOOKUP(Tableau_Lancer_la_requête_à_partir_de_CEGID[[#This Row],[wob_codecomposant]]&" N°7",Feuil2!D:E,2,FALSE))) | U82: =MID(Tableau_Lancer_la_requête_à_partir_de_CEGID[[#This Row],[libcomposant]],1,5) -> C1170
A83: C628 | B83: 44719 | C83: DEC | D83: 152645 | E83: ACC | F83: 9912124722 | G83: BRAS BRUT T2 MOUSQUETON DRISSE | H83: C628 OUTIL DE FORGE | I83: 6000 | J83: 150 | K83: =_xlfn.ISOWEEKNUM(Tableau_Lancer_la_requête_à_partir_de_CEGID[[#This Row],[wop_dateacc]]) -> 23 | M83: =IF(ISNA(VLOOKUP(Tableau_Lancer_la_requête_à_partir_de_CEGID[[#This Row],[wob_codecomposant]]&" N°1",Feuil2!D:E,2,FALSE)),"",(VLOOKUP(Tableau_Lancer_la_requête_à_partir_de_CEGID[[#This Row],[wob_codecomposant]]&" N°1",Feuil2!D:E,2,FALSE))) -> 001119 | N83: =IF(OR(VLOOKUP(M83,Feuil2!E:F,2,FALSE)>1,VLOOKUP(Feuil1!M83,Feuil2!E:I,4,)+7<Tableau_Lancer_la_requête_à_partir_de_CEGID[[#This Row],[wop_dateacc]]),Feuil1!M83,"") -> 001119 | O83: =IF(ISNA(VLOOKUP(Tableau_Lancer_la_requête_à_partir_de_CEGID[[#This Row],[wob_codecomposant]]&" N°2",Feuil2!D:E,2,FALSE)),"",(VLOOKUP(Tableau_Lancer_la_requête_à_partir_de_CEGID[[#This Row],[wob_codecomposant]]&" N°2",Feuil2!D:E,2,FALSE))) -> 006021 | P83: =IF(ISNA(VLOOKUP(Tableau_Lancer_la_requête_à_partir_de_CEGID[[#This Row],[wob_codecomposant]]&" N°3",Feuil2!D:E,2,FALSE)),"",(VLOOKUP(Tableau_Lancer_la_requête_à_partir_de_CEGID[[#This Row],[wob_codecomposant]]&" N°3",Feuil2!D:E,2,FALSE))) -> 011421 | Q83: =IF(ISNA(VLOOKUP(Tableau_Lancer_la_requête_à_partir_de_CEGID[[#This Row],[wob_codecomposant]]&" N°4",Feuil2!D:E,2,FALSE)),"",(VLOOKUP(Tableau_Lancer_la_requête_à_partir_de_CEGID[[#This Row],[wob_codecomposant]]&" N°4",Feuil2!D:E,2,FALSE))) -> 013521 | R83: =IF(ISNA(VLOOKUP(Tableau_Lancer_la_requête_à_partir_de_CEGID[[#This Row],[wob_codecomposant]]&" N°5",Feuil2!D:E,2,FALSE)),"",(VLOOKUP(Tableau_Lancer_la_requête_à_partir_de_CEGID[[#This Row],[wob_codecomposant]]&" N°5",Feuil2!D:E,2,FALSE))) -> 019119 | S83: =IF(ISNA(VLOOKUP(Tableau_Lancer_la_requête_à_partir_de_CEGID[[#This Row],[wob_codecomposant]]&" N°6",Feuil2!D:E,2,FALSE)),"",(VLOOKUP(Tableau_Lancer_la_requête_à_partir_de_CEGID[[#This Row],[wob_codecomposant]]&" N°16",Feuil2!D:E,2,FALSE))) -> #N/A | T83: =IF(ISNA(VLOOKUP(Tableau_Lancer_la_requête_à_partir_de_CEGID[[#This Row],[wob_codecomposant]]&" N°7",Feuil2!D:E,2,FALSE)),"",(VLOOKUP(Tableau_Lancer_la_requête_à_partir_de_CEGID[[#This Row],[wob_codecomposant]]&" N°7",Feuil2!D:E,2,FALSE))) -> 023718 | U83: =MID(Tableau_Lancer_la_requête_à_partir_de_CEGID[[#This Row],[libcomposant]],1,5) -> C628
A84: C320 | B84: 44719 | C84: DEC | D84: 154867 | E84: ACC | F84: 9902124861A | G84: CORPS BAGUE DE FOC 50 MM | H84: C320 OUTIL DE FORGE | I84: 1500 | J84: 130 | K84: =_xlfn.ISOWEEKNUM(Tableau_Lancer_la_requête_à_partir_de_CEGID[[#This Row],[wop_dateacc]]) -> 23 | M84: =IF(ISNA(VLOOKUP(Tableau_Lancer_la_requête_à_partir_de_CEGID[[#This Row],[wob_codecomposant]]&" N°1",Feuil2!D:E,2,FALSE)),"",(VLOOKUP(Tableau_Lancer_la_requête_à_partir_de_CEGID[[#This Row],[wob_codecomposant]]&" N°1",Feuil2!D:E,2,FALSE))) -> 018415 | N84: =IF(OR(VLOOKUP(M84,Feuil2!E:F,2,FALSE)>1,VLOOKUP(Feuil1!M84,Feuil2!E:I,4,)+7<Tableau_Lancer_la_requête_à_partir_de_CEGID[[#This Row],[wop_dateacc]]),Feuil1!M84,"") -> 018415 | O84: =IF(ISNA(VLOOKUP(Tableau_Lancer_la_requête_à_partir_de_CEGID[[#This Row],[wob_codecomposant]]&" N°2",Feuil2!D:E,2,FALSE)),"",(VLOOKUP(Tableau_Lancer_la_requête_à_partir_de_CEGID[[#This Row],[wob_codecomposant]]&" N°2",Feuil2!D:E,2,FALSE))) | P84: =IF(ISNA(VLOOKUP(Tableau_Lancer_la_requête_à_partir_de_CEGID[[#This Row],[wob_codecomposant]]&" N°3",Feuil2!D:E,2,FALSE)),"",(VLOOKUP(Tableau_Lancer_la_requête_à_partir_de_CEGID[[#This Row],[wob_codecomposant]]&" N°3",Feuil2!D:E,2,FALSE))) | Q84: =IF(ISNA(VLOOKUP(Tableau_Lancer_la_requête_à_partir_de_CEGID[[#This Row],[wob_codecomposant]]&" N°4",Feuil2!D:E,2,FALSE)),"",(VLOOKUP(Tableau_Lancer_la_requête_à_partir_de_CEGID[[#This Row],[wob_codecomposant]]&" N°4",Feuil2!D:E,2,FALSE))) | R84: =IF(ISNA(VLOOKUP(Tableau_Lancer_la_requête_à_partir_de_CEGID[[#This Row],[wob_codecomposant]]&" N°5",Feuil2!D:E,2,FALSE)),"",(VLOOKUP(Tableau_Lancer_la_requête_à_partir_de_CEGID[[#This Row],[wob_codecomposant]]&" N°5",Feuil2!D:E,2,FALSE))) | S84: =IF(ISNA(VLOOKUP(Tableau_Lancer_la_requête_à_partir_de_CEGID[[#This Row],[wob_codecomposant]]&" N°6",Feuil2!D:E,2,FALSE)),"",(VLOOKUP(Tableau_Lancer_la_requête_à_partir_de_CEGID[[#This Row],[wob_codecomposant]]&" N°16",Feuil2!D:E,2,FALSE))) | T84: =IF(ISNA(VLOOKUP(Tableau_Lancer_la_requête_à_partir_de_CEGID[[#This Row],[wob_codecomposant]]&" N°7",Feuil2!D:E,2,FALSE)),"",(VLOOKUP(Tableau_Lancer_la_requête_à_partir_de_CEGID[[#This Row],[wob_codecomposant]]&" N°7",Feuil2!D:E,2,FALSE))) | U84: =MID(Tableau_Lancer_la_requête_à_partir_de_CEGID[[#This Row],[libcomposant]],1,5) -> C320
A85: 7074110008_04 | B85: 44719 | C85: DEC | D85: 153500 | E85: IND | F85: 7074110008 | G85: CORPS DE VERROU 99 000125 791-0 P | H85: C446 OUTIL DE FORGE | I85: 1575 | J85: 120 | K85: =_xlfn.ISOWEEKNUM(Tableau_Lancer_la_requête_à_partir_de_CEGID[[#This Row],[wop_dateacc]]) -> 23 | M85: =IF(ISNA(VLOOKUP(Tableau_Lancer_la_requête_à_partir_de_CEGID[[#This Row],[wob_codecomposant]]&" N°1",Feuil2!D:E,2,FALSE)),"",(VLOOKUP(Tableau_Lancer_la_requête_à_partir_de_CEGID[[#This Row],[wob_codecomposant]]&" N°1",Feuil2!D:E,2,FALSE))) -> 004519 | N85: =IF(OR(VLOOKUP(M85,Feuil2!E:F,2,FALSE)>1,VLOOKUP(Feuil1!M85,Feuil2!E:I,4,)+7<Tableau_Lancer_la_requête_à_partir_de_CEGID[[#This Row],[wop_dateacc]]),Feuil1!M85,"") -> 004519 | O85: =IF(ISNA(VLOOKUP(Tableau_Lancer_la_requête_à_partir_de_CEGID[[#This Row],[wob_codecomposant]]&" N°2",Feuil2!D:E,2,FALSE)),"",(VLOOKUP(Tableau_Lancer_la_requête_à_partir_de_CEGID[[#This Row],[wob_codecomposant]]&" N°2",Feuil2!D:E,2,FALSE))) -> 004919 | P85: =IF(ISNA(VLOOKUP(Tableau_Lancer_la_requête_à_partir_de_CEGID[[#This Row],[wob_codecomposant]]&" N°3",Feuil2!D:E,2,FALSE)),"",(VLOOKUP(Tableau_Lancer_la_requête_à_partir_de_CEGID[[#This Row],[wob_codecomposant]]&" N°3",Feuil2!D:E,2,FALSE))) -> 005719 | Q85: =IF(ISNA(VLOOKUP(Tableau_Lancer_la_requête_à_partir_de_CEGID[[#This Row],[wob_codecomposant]]&" N°4",Feuil2!D:E,2,FALSE)),"",(VLOOKUP(Tableau_Lancer_la_requête_à_partir_de_CEGID[[#This Row],[wob_codecomposant]]&" N°4",Feuil2!D:E,2,FALSE))) -> 009819 | R85: =IF(ISNA(VLOOKUP(Tableau_Lancer_la_requête_à_partir_de_CEGID[[#This Row],[wob_codecomposant]]&" N°5",Feuil2!D:E,2,FALSE)),"",(VLOOKUP(Tableau_Lancer_la_requête_à_partir_de_CEGID[[#This Row],[wob_codecomposant]]&" N°5",Feuil2!D:E,2,FALSE))) -> 017418 | S85: =IF(ISNA(VLOOKUP(Tableau_Lancer_la_requête_à_partir_de_CEGID[[#This Row],[wob_codecomposant]]&" N°6",Feuil2!D:E,2,FALSE)),"",(VLOOKUP(Tableau_Lancer_la_requête_à_partir_de_CEGID[[#This Row],[wob_codecomposant]]&" N°16",Feuil2!D:E,2,FALSE))) | T85: =IF(ISNA(VLOOKUP(Tableau_Lancer_la_requête_à_partir_de_CEGID[[#This Row],[wob_codecomposant]]&" N°7",Feuil2!D:E,2,FALSE)),"",(VLOOKUP(Tableau_Lancer_la_requête_à_partir_de_CEGID[[#This Row],[wob_codecomposant]]&" N°7",Feuil2!D:E,2,FALSE))) | U85: =MID(Tableau_Lancer_la_requête_à_partir_de_CEGID[[#This Row],[libcomposant]],1,5) -> C446
A86: C1156A | B86: 44715 | C86: DEC | D86: 148772 | E86: ACC | F86: 9912124771A | G86: CORPS MOUSQUETON DRISSE T3 2477 | H86: C1156A OUTIL DE FORGE | I86: 1440 | J86: 120 | K86: =_xlfn.ISOWEEKNUM(Tableau_Lancer_la_requête_à_partir_de_CEGID[[#This Row],[wop_dateacc]]) -> 22 | M86: =IF(ISNA(VLOOKUP(Tableau_Lancer_la_requête_à_partir_de_CEGID[[#This Row],[wob_codecomposant]]&" N°1",Feuil2!D:E,2,FALSE)),"",(VLOOKUP(Tableau_Lancer_la_requête_à_partir_de_CEGID[[#This Row],[wob_codecomposant]]&" N°1",Feuil2!D:E,2,FALSE))) -> 020716 | N86: =IF(OR(VLOOKUP(M86,Feuil2!E:F,2,FALSE)>1,VLOOKUP(Feuil1!M86,Feuil2!E:I,4,)+7<Tableau_Lancer_la_requête_à_partir_de_CEGID[[#This Row],[wop_dateacc]]),Feuil1!M86,"") -> 020716 | O86: =IF(ISNA(VLOOKUP(Tableau_Lancer_la_requête_à_partir_de_CEGID[[#This Row],[wob_codecomposant]]&" N°2",Feuil2!D:E,2,FALSE)),"",(VLOOKUP(Tableau_Lancer_la_requête_à_partir_de_CEGID[[#This Row],[wob_codecomposant]]&" N°2",Feuil2!D:E,2,FALSE))) | P86: =IF(ISNA(VLOOKUP(Tableau_Lancer_la_requête_à_partir_de_CEGID[[#This Row],[wob_codecomposant]]&" N°3",Feuil2!D:E,2,FALSE)),"",(VLOOKUP(Tableau_Lancer_la_requête_à_partir_de_CEGID[[#This Row],[wob_codecomposant]]&" N°3",Feuil2!D:E,2,FALSE))) | Q86: =IF(ISNA(VLOOKUP(Tableau_Lancer_la_requête_à_partir_de_CEGID[[#This Row],[wob_codecomposant]]&" N°4",Feuil2!D:E,2,FALSE)),"",(VLOOKUP(Tableau_Lancer_la_requête_à_partir_de_CEGID[[#This Row],[wob_codecomposant]]&" N°4",Feuil2!D:E,2,FALSE))) | R86: =IF(ISNA(VLOOKUP(Tableau_Lancer_la_requête_à_partir_de_CEGID[[#This Row],[wob_codecomposant]]&" N°5",Feuil2!D:E,2,FALSE)),"",(VLOOKUP(Tableau_Lancer_la_requête_à_partir_de_CEGID[[#This Row],[wob_codecomposant]]&" N°5",Feuil2!D:E,2,FALSE))) | S86: =IF(ISNA(VLOOKUP(Tableau_Lancer_la_requête_à_partir_de_CEGID[[#This Row],[wob_codecomposant]]&" N°6",Feuil2!D:E,2,FALSE)),"",(VLOOKUP(Tableau_Lancer_la_requête_à_partir_de_CEGID[[#This Row],[wob_codecomposant]]&" N°16",Feuil2!D:E,2,FALSE))) | T86: =IF(ISNA(VLOOKUP(Tableau_Lancer_la_requête_à_partir_de_CEGID[[#This Row],[wob_codecomposant]]&" N°7",Feuil2!D:E,2,FALSE)),"",(VLOOKUP(Tableau_Lancer_la_requête_à_partir_de_CEGID[[#This Row],[wob_codecomposant]]&" N°7",Feuil2!D:E,2,FALSE))) | U86: =MID(Tableau_Lancer_la_requête_à_partir_de_CEGID[[#This Row],[libcomposant]],1,5) -> C1156
A87: 5720190001_14 | B87: 44714 | C87: DEC | D87: 151199 | E87: MED | F87: 5720190001 | G87: BRANCHE DE PINCE A OS | H87: C364 OUTIL DE FORGE Fin | I87: 1050 | J87: 150 | K87: =_xlfn.ISOWEEKNUM(Tableau_Lancer_la_requête_à_partir_de_CEGID[[#This Row],[wop_dateacc]]) -> 22 | M87: =IF(ISNA(VLOOKUP(Tableau_Lancer_la_requête_à_partir_de_CEGID[[#This Row],[wob_codecomposant]]&" N°1",Feuil2!D:E,2,FALSE)),"",(VLOOKUP(Tableau_Lancer_la_requête_à_partir_de_CEGID[[#This Row],[wob_codecomposant]]&" N°1",Feuil2!D:E,2,FALSE))) -> 013618 | N87: =IF(OR(VLOOKUP(M87,Feuil2!E:F,2,FALSE)>1,VLOOKUP(Feuil1!M87,Feuil2!E:I,4,)+7<Tableau_Lancer_la_requête_à_partir_de_CEGID[[#This Row],[wop_dateacc]]),Feuil1!M87,"") -> 013618 | O87: =IF(ISNA(VLOOKUP(Tableau_Lancer_la_requête_à_partir_de_CEGID[[#This Row],[wob_codecomposant]]&" N°2",Feuil2!D:E,2,FALSE)),"",(VLOOKUP(Tableau_Lancer_la_requête_à_partir_de_CEGID[[#This Row],[wob_codecomposant]]&" N°2",Feuil2!D:E,2,FALSE))) | P87: =IF(ISNA(VLOOKUP(Tableau_Lancer_la_requête_à_partir_de_CEGID[[#This Row],[wob_codecomposant]]&" N°3",Feuil2!D:E,2,FALSE)),"",(VLOOKUP(Tableau_Lancer_la_requête_à_partir_de_CEGID[[#This Row],[wob_codecomposant]]&" N°3",Feuil2!D:E,2,FALSE))) | Q87: =IF(ISNA(VLOOKUP(Tableau_Lancer_la_requête_à_partir_de_CEGID[[#This Row],[wob_codecomposant]]&" N°4",Feuil2!D:E,2,FALSE)),"",(VLOOKUP(Tableau_Lancer_la_requête_à_partir_de_CEGID[[#This Row],[wob_codecomposant]]&" N°4",Feuil2!D:E,2,FALSE))) | R87: =IF(ISNA(VLOOKUP(Tableau_Lancer_la_requête_à_partir_de_CEGID[[#This Row],[wob_codecomposant]]&" N°5",Feuil2!D:E,2,FALSE)),"",(VLOOKUP(Tableau_Lancer_la_requête_à_partir_de_CEGID[[#This Row],[wob_codecomposant]]&" N°5",Feuil2!D:E,2,FALSE))) | S87: =IF(ISNA(VLOOKUP(Tableau_Lancer_la_requête_à_partir_de_CEGID[[#This Row],[wob_codecomposant]]&" N°6",Feuil2!D:E,2,FALSE)),"",(VLOOKUP(Tableau_Lancer_la_requête_à_partir_de_CEGID[[#This Row],[wob_codecomposant]]&" N°16",Feuil2!D:E,2,FALSE))) | T87: =IF(ISNA(VLOOKUP(Tableau_Lancer_la_requête_à_partir_de_CEGID[[#This Row],[wob_codecomposant]]&" N°7",Feuil2!D:E,2,FALSE)),"",(VLOOKUP(Tableau_Lancer_la_requête_à_partir_de_CEGID[[#This Row],[wob_codecomposant]]&" N°7",Feuil2!D:E,2,FALSE))) | U87: =MID(Tableau_Lancer_la_requête_à_partir_de_CEGID[[#This Row],[libcomposant]],1,5) -> C364
A88: C1405 | B88: 44714 | C88: DEC | D88: 151191 | E88: ACC | F88: 9912126731A | G88: CORPS Mousq. O.S.C. Long.45 - pour Réf:726730A | H88: C1405 - OUTIL DE FORGE | I88: 1000 | J88: 120 | K88: =_xlfn.ISOWEEKNUM(Tableau_Lancer_la_requête_à_partir_de_CEGID[[#This Row],[wop_dateacc]]) -> 22 | M88: =IF(ISNA(VLOOKUP(Tableau_Lancer_la_requête_à_partir_de_CEGID[[#This Row],[wob_codecomposant]]&" N°1",Feuil2!D:E,2,FALSE)),"",(VLOOKUP(Tableau_Lancer_la_requête_à_partir_de_CEGID[[#This Row],[wob_codecomposant]]&" N°1",Feuil2!D:E,2,FALSE))) -> 005818 | N88: =IF(OR(VLOOKUP(M88,Feuil2!E:F,2,FALSE)>1,VLOOKUP(Feuil1!M88,Feuil2!E:I,4,)+7<Tableau_Lancer_la_requête_à_partir_de_CEGID[[#This Row],[wop_dateacc]]),Feuil1!M88,"") -> 005818 | O88: =IF(ISNA(VLOOKUP(Tableau_Lancer_la_requête_à_partir_de_CEGID[[#This Row],[wob_codecomposant]]&" N°2",Feuil2!D:E,2,FALSE)),"",(VLOOKUP(Tableau_Lancer_la_requête_à_partir_de_CEGID[[#This Row],[wob_codecomposant]]&" N°2",Feuil2!D:E,2,FALSE))) -> 008517 | P88: =IF(ISNA(VLOOKUP(Tableau_Lancer_la_requête_à_partir_de_CEGID[[#This Row],[wob_codecomposant]]&" N°3",Feuil2!D:E,2,FALSE)),"",(VLOOKUP(Tableau_Lancer_la_requête_à_partir_de_CEGID[[#This Row],[wob_codecomposant]]&" N°3",Feuil2!D:E,2,FALSE))) | Q88: =IF(ISNA(VLOOKUP(Tableau_Lancer_la_requête_à_partir_de_CEGID[[#This Row],[wob_codecomposant]]&" N°4",Feuil2!D:E,2,FALSE)),"",(VLOOKUP(Tableau_Lancer_la_requête_à_partir_de_CEGID[[#This Row],[wob_codecomposant]]&" N°4",Feuil2!D:E,2,FALSE))) | R88: =IF(ISNA(VLOOKUP(Tableau_Lancer_la_requête_à_partir_de_CEGID[[#This Row],[wob_codecomposant]]&" N°5",Feuil2!D:E,2,FALSE)),"",(VLOOKUP(Tableau_Lancer_la_requête_à_partir_de_CEGID[[#This Row],[wob_codecomposant]]&" N°5",Feuil2!D:E,2,FALSE))) | S88: =IF(ISNA(VLOOKUP(Tableau_Lancer_la_requête_à_partir_de_CEGID[[#This Row],[wob_codecomposant]]&" N°6",Feuil2!D:E,2,FALSE)),"",(VLOOKUP(Tableau_Lancer_la_requête_à_partir_de_CEGID[[#This Row],[wob_codecomposant]]&" N°16",Feuil2!D:E,2,FALSE))) | T88: =IF(ISNA(VLOOKUP(Tableau_Lancer_la_requête_à_partir_de_CEGID[[#This Row],[wob_codecomposant]]&" N°7",Feuil2!D:E,2,FALSE)),"",(VLOOKUP(Tableau_Lancer_la_requête_à_partir_de_CEGID[[#This Row],[wob_codecomposant]]&" N°7",Feuil2!D:E,2,FALSE))) | U88: =MID(Tableau_Lancer_la_requête_à_partir_de_CEGID[[#This Row],[libcomposant]],1,5) -> C1405
A89: 9916126052_14 | B89: 44714 | C89: DEC | D89: 154305 | E89: ACC | F89: 9916126052P | G89: ETRIER CADENE ARTICULEE Ø8V2 17-4PH_PILON | H89: C889B - OUTIL DE FORGE PILON | I89: 5000 | J89: 120 | K89: =_xlfn.ISOWEEKNUM(Tableau_Lancer_la_requête_à_partir_de_CEGID[[#This Row],[wop_dateacc]]) -> 22 | M89: =IF(ISNA(VLOOKUP(Tableau_Lancer_la_requête_à_partir_de_CEGID[[#This Row],[wob_codecomposant]]&" N°1",Feuil2!D:E,2,FALSE)),"",(VLOOKUP(Tableau_Lancer_la_requête_à_partir_de_CEGID[[#This Row],[wob_codecomposant]]&" N°1",Feuil2!D:E,2,FALSE))) -> 016817 | N89: =IF(OR(VLOOKUP(M89,Feuil2!E:F,2,FALSE)>1,VLOOKUP(Feuil1!M89,Feuil2!E:I,4,)+7<Tableau_Lancer_la_requête_à_partir_de_CEGID[[#This Row],[wop_dateacc]]),Feuil1!M89,"") -> 016817 | O89: =IF(ISNA(VLOOKUP(Tableau_Lancer_la_requête_à_partir_de_CEGID[[#This Row],[wob_codecomposant]]&" N°2",Feuil2!D:E,2,FALSE)),"",(VLOOKUP(Tableau_Lancer_la_requête_à_partir_de_CEGID[[#This Row],[wob_codecomposant]]&" N°2",Feuil2!D:E,2,FALSE))) -> 021815 | P89: =IF(ISNA(VLOOKUP(Tableau_Lancer_la_requête_à_partir_de_CEGID[[#This Row],[wob_codecomposant]]&" N°3",Feuil2!D:E,2,FALSE)),"",(VLOOKUP(Tableau_Lancer_la_requête_à_partir_de_CEGID[[#This Row],[wob_codecomposant]]&" N°3",Feuil2!D:E,2,FALSE))) | Q89: =IF(ISNA(VLOOKUP(Tableau_Lancer_la_requête_à_partir_de_CEGID[[#This Row],[wob_codecomposant]]&" N°4",Feuil2!D:E,2,FALSE)),"",(VLOOKUP(Tableau_Lancer_la_requête_à_partir_de_CEGID[[#This Row],[wob_codecomposant]]&" N°4",Feuil2!D:E,2,FALSE))) | R89: =IF(ISNA(VLOOKUP(Tableau_Lancer_la_requête_à_partir_de_CEGID[[#This Row],[wob_codecomposant]]&" N°5",Feuil2!D:E,2,FALSE)),"",(VLOOKUP(Tableau_Lancer_la_requête_à_partir_de_CEGID[[#This Row],[wob_codecomposant]]&" N°5",Feuil2!D:E,2,FALSE))) | S89: =IF(ISNA(VLOOKUP(Tableau_Lancer_la_requête_à_partir_de_CEGID[[#This Row],[wob_codecomposant]]&" N°6",Feuil2!D:E,2,FALSE)),"",(VLOOKUP(Tableau_Lancer_la_requête_à_partir_de_CEGID[[#This Row],[wob_codecomposant]]&" N°16",Feuil2!D:E,2,FALSE))) | T89: =IF(ISNA(VLOOKUP(Tableau_Lancer_la_requête_à_partir_de_CEGID[[#This Row],[wob_codecomposant]]&" N°7",Feuil2!D:E,2,FALSE)),"",(VLOOKUP(Tableau_Lancer_la_requête_à_partir_de_CEGID[[#This Row],[wob_codecomposant]]&" N°7",Feuil2!D:E,2,FALSE))) | U89: =MID(Tableau_Lancer_la_requête_à_partir_de_CEGID[[#This Row],[libcomposant]],1,5) -> C889B
A90: 9912123761_04 | B90: 44713 | C90: DEC | D90: 153466 | E90: ACC | F90: 9912123761A | G90: EMERILLON D8 GD PASSAGE SANGLE 2376 | H90: C509B OUTIL DE FORGE EMERILLON SANGLE | I90: 500 | J90: 120 | K90: =_xlfn.ISOWEEKNUM(Tableau_Lancer_la_requête_à_partir_de_CEGID[[#This Row],[wop_dateacc]]) -> 22 | M90: =IF(ISNA(VLOOKUP(Tableau_Lancer_la_requête_à_partir_de_CEGID[[#This Row],[wob_codecomposant]]&" N°1",Feuil2!D:E,2,FALSE)),"",(VLOOKUP(Tableau_Lancer_la_requête_à_partir_de_CEGID[[#This Row],[wob_codecomposant]]&" N°1",Feuil2!D:E,2,FALSE))) -> 028816 | N90: =IF(OR(VLOOKUP(M90,Feuil2!E:F,2,FALSE)>1,VLOOKUP(Feuil1!M90,Feuil2!E:I,4,)+7<Tableau_Lancer_la_requête_à_partir_de_CEGID[[#This Row],[wop_dateacc]]),Feuil1!M90,"") -> 028816 | O90: =IF(ISNA(VLOOKUP(Tableau_Lancer_la_requête_à_partir_de_CEGID[[#This Row],[wob_codecomposant]]&" N°2",Feuil2!D:E,2,FALSE)),"",(VLOOKUP(Tableau_Lancer_la_requête_à_partir_de_CEGID[[#This Row],[wob_codecomposant]]&" N°2",Feuil2!D:E,2,FALSE))) | P90: =IF(ISNA(VLOOKUP(Tableau_Lancer_la_requête_à_partir_de_CEGID[[#This Row],[wob_codecomposant]]&" N°3",Feuil2!D:E,2,FALSE)),"",(VLOOKUP(Tableau_Lancer_la_requête_à_partir_de_CEGID[[#This Row],[wob_codecomposant]]&" N°3",Feuil2!D:E,2,FALSE))) | Q90: =IF(ISNA(VLOOKUP(Tableau_Lancer_la_requête_à_partir_de_CEGID[[#This Row],[wob_codecomposant]]&" N°4",Feuil2!D:E,2,FALSE)),"",(VLOOKUP(Tableau_Lancer_la_requête_à_partir_de_CEGID[[#This Row],[wob_codecomposant]]&" N°4",Feuil2!D:E,2,FALSE))) | R90: =IF(ISNA(VLOOKUP(Tableau_Lancer_la_requête_à_partir_de_CEGID[[#This Row],[wob_codecomposant]]&" N°5",Feuil2!D:E,2,FALSE)),"",(VLOOKUP(Tableau_Lancer_la_requête_à_partir_de_CEGID[[#This Row],[wob_codecomposant]]&" N°5",Feuil2!D:E,2,FALSE))) | S90: =IF(ISNA(VLOOKUP(Tableau_Lancer_la_requête_à_partir_de_CEGID[[#This Row],[wob_codecomposant]]&" N°6",Feuil2!D:E,2,FALSE)),"",(VLOOKUP(Tableau_Lancer_la_requête_à_partir_de_CEGID[[#This Row],[wob_codecomposant]]&" N°16",Feuil2!D:E,2,FALSE))) | T90: =IF(ISNA(VLOOKUP(Tableau_Lancer_la_requête_à_partir_de_CEGID[[#This Row],[wob_codecomposant]]&" N°7",Feuil2!D:E,2,FALSE)),"",(VLOOKUP(Tableau_Lancer_la_requête_à_partir_de_CEGID[[#This Row],[wob_codecomposant]]&" N°7",Feuil2!D:E,2,FALSE))) | U90: =MID(Tableau_Lancer_la_requête_à_partir_de_CEGID[[#This Row],[libcomposant]],1,5) -> C509B
A91: C789 | B91: 44713 | C91: DEC | D91: 152644 | E91: ACC | F91: 9912123811A | G91: CORPS MOUSQ. HR SECU. 75MM | H91: C789 OUTIL DE FORGE | I91: 2500 | J91: 150 | K91: =_xlfn.ISOWEEKNUM(Tableau_Lancer_la_requête_à_partir_de_CEGID[[#This Row],[wop_dateacc]]) -> 22 | M91: =IF(ISNA(VLOOKUP(Tableau_Lancer_la_requête_à_partir_de_CEGID[[#This Row],[wob_codecomposant]]&" N°1",Feuil2!D:E,2,FALSE)),"",(VLOOKUP(Tableau_Lancer_la_requête_à_partir_de_CEGID[[#This Row],[wob_codecomposant]]&" N°1",Feuil2!D:E,2,FALSE))) -> 000421 | N91: =IF(OR(VLOOKUP(M91,Feuil2!E:F,2,FALSE)>1,VLOOKUP(Feuil1!M91,Feuil2!E:I,4,)+7<Tableau_Lancer_la_requête_à_partir_de_CEGID[[#This Row],[wop_dateacc]]),Feuil1!M91,"") -> 000421 | O91: =IF(ISNA(VLOOKUP(Tableau_Lancer_la_requête_à_partir_de_CEGID[[#This Row],[wob_codecomposant]]&" N°2",Feuil2!D:E,2,FALSE)),"",(VLOOKUP(Tableau_Lancer_la_requête_à_partir_de_CEGID[[#This Row],[wob_codecomposant]]&" N°2",Feuil2!D:E,2,FALSE))) -> 017615 | P91: =IF(ISNA(VLOOKUP(Tableau_Lancer_la_requête_à_partir_de_CEGID[[#This Row],[wob_codecomposant]]&" N°3",Feuil2!D:E,2,FALSE)),"",(VLOOKUP(Tableau_Lancer_la_requête_à_partir_de_CEGID[[#This Row],[wob_codecomposant]]&" N°3",Feuil2!D:E,2,FALSE))) | Q91: =IF(ISNA(VLOOKUP(Tableau_Lancer_la_requête_à_partir_de_CEGID[[#This Row],[wob_codecomposant]]&" N°4",Feuil2!D:E,2,FALSE)),"",(VLOOKUP(Tableau_Lancer_la_requête_à_partir_de_CEGID[[#This Row],[wob_codecomposant]]&" N°4",Feuil2!D:E,2,FALSE))) | R91: =IF(ISNA(VLOOKUP(Tableau_Lancer_la_requête_à_partir_de_CEGID[[#This Row],[wob_codecomposant]]&" N°5",Feuil2!D:E,2,FALSE)),"",(VLOOKUP(Tableau_Lancer_la_requête_à_partir_de_CEGID[[#This Row],[wob_codecomposant]]&" N°5",Feuil2!D:E,2,FALSE))) | S91: =IF(ISNA(VLOOKUP(Tableau_Lancer_la_requête_à_partir_de_CEGID[[#This Row],[wob_codecomposant]]&" N°6",Feuil2!D:E,2,FALSE)),"",(VLOOKUP(Tableau_Lancer_la_requête_à_partir_de_CEGID[[#This Row],[wob_codecomposant]]&" N°16",Feuil2!D:E,2,FALSE))) | T91: =IF(ISNA(VLOOKUP(Tableau_Lancer_la_requête_à_partir_de_CEGID[[#This Row],[wob_codecomposant]]&" N°7",Feuil2!D:E,2,FALSE)),"",(VLOOKUP(Tableau_Lancer_la_requête_à_partir_de_CEGID[[#This Row],[wob_codecomposant]]&" N°7",Feuil2!D:E,2,FALSE))) | U91: =MID(Tableau_Lancer_la_requête_à_partir_de_CEGID[[#This Row],[libcomposant]],1,5) -> C789
A92: 2995_04 | B92: 44712 | C92: DEC | D92: 153431 | E92: ACC | F92: 2995 | G92: Main de fer - Pour chaine de 10 mm - Long: 103 mm | H92: C2059 OUTIL DE FORGE Finition | I92: 1000 | J92: 150 | K92: =_xlfn.ISOWEEKNUM(Tableau_Lancer_la_requête_à_partir_de_CEGID[[#This Row],[wop_dateacc]]) -> 22 | M92: =IF(ISNA(VLOOKUP(Tableau_Lancer_la_requête_à_partir_de_CEGID[[#This Row],[wob_codecomposant]]&" N°1",Feuil2!D:E,2,FALSE)),"",(VLOOKUP(Tableau_Lancer_la_requête_à_partir_de_CEGID[[#This Row],[wob_codecomposant]]&" N°1",Feuil2!D:E,2,FALSE))) -> 028919 | N92: =IF(OR(VLOOKUP(M92,Feuil2!E:F,2,FALSE)>1,VLOOKUP(Feuil1!M92,Feuil2!E:I,4,)+7<Tableau_Lancer_la_requête_à_partir_de_CEGID[[#This Row],[wop_dateacc]]),Feuil1!M92,"") -> 028919 | O92: =IF(ISNA(VLOOKUP(Tableau_Lancer_la_requête_à_partir_de_CEGID[[#This Row],[wob_codecomposant]]&" N°2",Feuil2!D:E,2,FALSE)),"",(VLOOKUP(Tableau_Lancer_la_requête_à_partir_de_CEGID[[#This Row],[wob_codecomposant]]&" N°2",Feuil2!D:E,2,FALSE))) | P92: =IF(ISNA(VLOOKUP(Tableau_Lancer_la_requête_à_partir_de_CEGID[[#This Row],[wob_codecomposant]]&" N°3",Feuil2!D:E,2,FALSE)),"",(VLOOKUP(Tableau_Lancer_la_requête_à_partir_de_CEGID[[#This Row],[wob_codecomposant]]&" N°3",Feuil2!D:E,2,FALSE))) | Q92: =IF(ISNA(VLOOKUP(Tableau_Lancer_la_requête_à_partir_de_CEGID[[#This Row],[wob_codecomposant]]&" N°4",Feuil2!D:E,2,FALSE)),"",(VLOOKUP(Tableau_Lancer_la_requête_à_partir_de_CEGID[[#This Row],[wob_codecomposant]]&" N°4",Feuil2!D:E,2,FALSE))) | R92: =IF(ISNA(VLOOKUP(Tableau_Lancer_la_requête_à_partir_de_CEGID[[#This Row],[wob_codecomposant]]&" N°5",Feuil2!D:E,2,FALSE)),"",(VLOOKUP(Tableau_Lancer_la_requête_à_partir_de_CEGID[[#This Row],[wob_codecomposant]]&" N°5",Feuil2!D:E,2,FALSE))) | S92: =IF(ISNA(VLOOKUP(Tableau_Lancer_la_requête_à_partir_de_CEGID[[#This Row],[wob_codecomposant]]&" N°6",Feuil2!D:E,2,FALSE)),"",(VLOOKUP(Tableau_Lancer_la_requête_à_partir_de_CEGID[[#This Row],[wob_codecomposant]]&" N°16",Feuil2!D:E,2,FALSE))) | T92: =IF(ISNA(VLOOKUP(Tableau_Lancer_la_requête_à_partir_de_CEGID[[#This Row],[wob_codecomposant]]&" N°7",Feuil2!D:E,2,FALSE)),"",(VLOOKUP(Tableau_Lancer_la_requête_à_partir_de_CEGID[[#This Row],[wob_codecomposant]]&" N°7",Feuil2!D:E,2,FALSE))) | U92: =MID(Tableau_Lancer_la_requête_à_partir_de_CEGID[[#This Row],[libcomposant]],1,5) -> C2059
... A99: C241 | B99: 44708 | C99: DEC | D99: 154865 | E99: ACC | F99: 9902124801 | G99: CORPS MOUSQUETON DE SECURITE 50 | H99: C241 OUTIL DE FORGE | I99: 20000 | J99: 130 | K99: =_xlfn.ISOWEEKNUM(Tableau_Lancer_la_requête_à_partir_de_CEGID[[#This Row],[wop_dateacc]]) -> 21 | M99: =IF(ISNA(VLOOKUP(Tableau_Lancer_la_requête_à_partir_de_CEGID[[#This Row],[wob_codecomposant]]&" N°1",Feuil2!D:E,2,FALSE)),"",(VLOOKUP(Tableau_Lancer_la_requête_à_partir_de_CEGID[[#This Row],[wob_codecomposant]]&" N°1",Feuil2!D:E,2,FALSE))) | N99: =IF(OR(VLOOKUP(M99,Feuil2!E:F,2,FALSE)>1,VLOOKUP(Feuil1!M99,Feuil2!E:I,4,)+7<Tableau_Lancer_la_requête_à_partir_de_CEGID[[#This Row],[wop_dateacc]]),Feuil1!M99,"") -> #N/A | O99: =IF(ISNA(VLOOKUP(Tableau_Lancer_la_requête_à_partir_de_CEGID[[#This Row],[wob_codecomposant]]&" N°2",Feuil2!D:E,2,FALSE)),"",(VLOOKUP(Tableau_Lancer_la_requête_à_partir_de_CEGID[[#This Row],[wob_codecomposant]]&" N°2",Feuil2!D:E,2,FALSE))) | P99: =IF(ISNA(VLOOKUP(Tableau_Lancer_la_requête_à_partir_de_CEGID[[#This Row],[wob_codecomposant]]&" N°3",Feuil2!D:E,2,FALSE)),"",(VLOOKUP(Tableau_Lancer_la_requête_à_partir_de_CEGID[[#This Row],[wob_codecomposant]]&" N°3",Feuil2!D:E,2,FALSE))) | Q99: =IF(ISNA(VLOOKUP(Tableau_Lancer_la_requête_à_partir_de_CEGID[[#This Row],[wob_codecomposant]]&" N°4",Feuil2!D:E,2,FALSE)),"",(VLOOKUP(Tableau_Lancer_la_requête_à_partir_de_CEGID[[#This Row],[wob_codecomposant]]&" N°4",Feuil2!D:E,2,FALSE))) | R99: =IF(ISNA(VLOOKUP(Tableau_Lancer_la_requête_à_partir_de_CEGID[[#This Row],[wob_codecomposant]]&" N°5",Feuil2!D:E,2,FALSE)),"",(VLOOKUP(Tableau_Lancer_la_requête_à_partir_de_CEGID[[#This Row],[wob_codecomposant]]&" N°5",Feuil2!D:E,2,FALSE))) | S99: =IF(ISNA(VLOOKUP(Tableau_Lancer_la_requête_à_partir_de_CEGID[[#This Row],[wob_codecomposant]]&" N°6",Feuil2!D:E,2,FALSE)),"",(VLOOKUP(Tableau_Lancer_la_requête_à_partir_de_CEGID[[#This Row],[wob_codecomposant]]&" N°16",Feuil2!D:E,2,FALSE))) | T99: =IF(ISNA(VLOOKUP(Tableau_Lancer_la_requête_à_partir_de_CEGID[[#This Row],[wob_codecomposant]]&" N°7",Feuil2!D:E,2,FALSE)),"",(VLOOKUP(Tableau_Lancer_la_requête_à_partir_de_CEGID[[#This Row],[wob_codecomposant]]&" N°7",Feuil2!D:E,2,FALSE))) | U99: =MID(Tableau_Lancer_la_requête_à_partir_de_CEGID[[#This Row],[libcomposant]],1,5) -> C241
B100: 44707 | C100: DEC | D100: 154767 | E100: IND | F100: 1060110041 | G100: PASSANT N° 4 ARZ 302189-0 | I100: 1430 | J100: 130 | K100: =_xlfn.ISOWEEKNUM(Tableau_Lancer_la_requête_à_partir_de_CEGID[[#This Row],[wop_dateacc]]) -> 21 | M100: =IF(ISNA(VLOOKUP(Tableau_Lancer_la_requête_à_partir_de_CEGID[[#This Row],[wob_codecomposant]]&" N°1",Feuil2!D:E,2,FALSE)),"",(VLOOKUP(Tableau_Lancer_la_requête_à_partir_de_CEGID[[#This Row],[wob_codecomposant]]&" N°1",Feuil2!D:E,2,FALSE))) | N100: =IF(OR(VLOOKUP(M100,Feuil2!E:F,2,FALSE)>1,VLOOKUP(Feuil1!M100,Feuil2!E:I,4,)+7<Tableau_Lancer_la_requête_à_partir_de_CEGID[[#This Row],[wop_dateacc]]),Feuil1!M100,"") -> #N/A | O100: =IF(ISNA(VLOOKUP(Tableau_Lancer_la_requête_à_partir_de_CEGID[[#This Row],[wob_codecomposant]]&" N°2",Feuil2!D:E,2,FALSE)),"",(VLOOKUP(Tableau_Lancer_la_requête_à_partir_de_CEGID[[#This Row],[wob_codecomposant]]&" N°2",Feuil2!D:E,2,FALSE))) | P100: =IF(ISNA(VLOOKUP(Tableau_Lancer_la_requête_à_partir_de_CEGID[[#This Row],[wob_codecomposant]]&" N°3",Feuil2!D:E,2,FALSE)),"",(VLOOKUP(Tableau_Lancer_la_requête_à_partir_de_CEGID[[#This Row],[wob_codecomposant]]&" N°3",Feuil2!D:E,2,FALSE))) | Q100: =IF(ISNA(VLOOKUP(Tableau_Lancer_la_requête_à_partir_de_CEGID[[#This Row],[wob_codecomposant]]&" N°4",Feuil2!D:E,2,FALSE)),"",(VLOOKUP(Tableau_Lancer_la_requête_à_partir_de_CEGID[[#This Row],[wob_codecomposant]]&" N°4",Feuil2!D:E,2,FALSE))) | R100: =IF(ISNA(VLOOKUP(Tableau_Lancer_la_requête_à_partir_de_CEGID[[#This Row],[wob_codecomposant]]&" N°5",Feuil2!D:E,2,FALSE)),"",(VLOOKUP(Tableau_Lancer_la_requête_à_partir_de_CEGID[[#This Row],[wob_codecomposant]]&" N°5",Feuil2!D:E,2,FALSE))) | S100: =IF(ISNA(VLOOKUP(Tableau_Lancer_la_requête_à_partir_de_CEGID[[#This Row],[wob_codecomposant]]&" N°6",Feuil2!D:E,2,FALSE)),"",(VLOOKUP(Tableau_Lancer_la_requête_à_partir_de_CEGID[[#This Row],[wob_codecomposant]]&" N°16",Feuil2!D:E,2,FALSE))) | T100: =IF(ISNA(VLOOKUP(Tableau_Lancer_la_requête_à_partir_de_CEGID[[#This Row],[wob_codecomposant]]&" N°7",Feuil2!D:E,2,FALSE)),"",(VLOOKUP(Tableau_Lancer_la_requête_à_partir_de_CEGID[[#This Row],[wob_codecomposant]]&" N°7",Feuil2!D:E,2,FALSE))) | U100: =MID(Tableau_Lancer_la_requête_à_partir_de_CEGID[[#This Row],[libcomposant]],1,5)
A101: 9906126841_04 | B101: 44706 | C101: DEC | D101: 153456 | E101: ACC | F101: 9906126841PILON | G101: EMBASE DE CADENE SIMPLE Ø6MM 316L PILON | H101: C494 OUTIL DE FORGE PILON | I101: 7500 | J101: 120 | K101: =_xlfn.ISOWEEKNUM(Tableau_Lancer_la_requête_à_partir_de_CEGID[[#This Row],[wop_dateacc]]) -> 21 | M101: =IF(ISNA(VLOOKUP(Tableau_Lancer_la_requête_à_partir_de_CEGID[[#This Row],[wob_codecomposant]]&" N°1",Feuil2!D:E,2,FALSE)),"",(VLOOKUP(Tableau_Lancer_la_requête_à_partir_de_CEGID[[#This Row],[wob_codecomposant]]&" N°1",Feuil2!D:E,2,FALSE))) -> 002121 | N101: =IF(OR(VLOOKUP(M101,Feuil2!E:F,2,FALSE)>1,VLOOKUP(Feuil1!M101,Feuil2!E:I,4,)+7<Tableau_Lancer_la_requête_à_partir_de_CEGID[[#This Row],[wop_dateacc]]),Feuil1!M101,"") -> 002121 | O101: =IF(ISNA(VLOOKUP(Tableau_Lancer_la_requête_à_partir_de_CEGID[[#This Row],[wob_codecomposant]]&" N°2",Feuil2!D:E,2,FALSE)),"",(VLOOKUP(Tableau_Lancer_la_requête_à_partir_de_CEGID[[#This Row],[wob_codecomposant]]&" N°2",Feuil2!D:E,2,FALSE))) -> 008821 | P101: =IF(ISNA(VLOOKUP(Tableau_Lancer_la_requête_à_partir_de_CEGID[[#This Row],[wob_codecomposant]]&" N°3",Feuil2!D:E,2,FALSE)),"",(VLOOKUP(Tableau_Lancer_la_requête_à_partir_de_CEGID[[#This Row],[wob_codecomposant]]&" N°3",Feuil2!D:E,2,FALSE))) -> 014919 | Q101: =IF(ISNA(VLOOKUP(Tableau_Lancer_la_requête_à_partir_de_CEGID[[#This Row],[wob_codecomposant]]&" N°4",Feuil2!D:E,2,FALSE)),"",(VLOOKUP(Tableau_Lancer_la_requête_à_partir_de_CEGID[[#This Row],[wob_codecomposant]]&" N°4",Feuil2!D:E,2,FALSE))) -> 019822 | R101: =IF(ISNA(VLOOKUP(Tableau_Lancer_la_requête_à_partir_de_CEGID[[#This Row],[wob_codecomposant]]&" N°5",Feuil2!D:E,2,FALSE)),"",(VLOOKUP(Tableau_Lancer_la_requête_à_partir_de_CEGID[[#This Row],[wob_codecomposant]]&" N°5",Feuil2!D:E,2,FALSE))) -> 023919 | S101: =IF(ISNA(VLOOKUP(Tableau_Lancer_la_requête_à_partir_de_CEGID[[#This Row],[wob_codecomposant]]&" N°6",Feuil2!D:E,2,FALSE)),"",(VLOOKUP(Tableau_Lancer_la_requête_à_partir_de_CEGID[[#This Row],[wob_codecomposant]]&" N°16",Feuil2!D:E,2,FALSE))) | T101: =IF(ISNA(VLOOKUP(Tableau_Lancer_la_requête_à_partir_de_CEGID[[#This Row],[wob_codecomposant]]&" N°7",Feuil2!D:E,2,FALSE)),"",(VLOOKUP(Tableau_Lancer_la_requête_à_partir_de_CEGID[[#This Row],[wob_codecomposant]]&" N°7",Feuil2!D:E,2,FALSE))) | U101: =MID(Tableau_Lancer_la_requête_à_partir_de_CEGID[[#This Row],[libcomposant]],1,5) -> C494
A102: 9912124761_04 | B102: 44706 | C102: DEC | D102: 152647 | E102: ACC | F102: 9912124761 | G102: EMERILLON MANILLE BRUT Réf : 2-4761 | H102: C37 OUTIL DE FORGE | I102: 3000 | J102: 120 | K102: =_xlfn.ISOWEEKNUM(Tableau_Lancer_la_requête_à_partir_de_CEGID[[#This Row],[wop_dateacc]]) -> 21 | M102: =IF(ISNA(VLOOKUP(Tableau_Lancer_la_requête_à_partir_de_CEGID[[#This Row],[wob_codecomposant]]&" N°1",Feuil2!D:E,2,FALSE)),"",(VLOOKUP(Tableau_Lancer_la_requête_à_partir_de_CEGID[[#This Row],[wob_codecomposant]]&" N°1",Feuil2!D:E,2,FALSE))) -> 014021 | N102: =IF(OR(VLOOKUP(M102,Feuil2!E:F,2,FALSE)>1,VLOOKUP(Feuil1!M102,Feuil2!E:I,4,)+7<Tableau_Lancer_la_requête_à_partir_de_CEGID[[#This Row],[wop_dateacc]]),Feuil1!M102,"") -> 014021 | O102: =IF(ISNA(VLOOKUP(Tableau_Lancer_la_requête_à_partir_de_CEGID[[#This Row],[wob_codecomposant]]&" N°2",Feuil2!D:E,2,FALSE)),"",(VLOOKUP(Tableau_Lancer_la_requête_à_partir_de_CEGID[[#This Row],[wob_codecomposant]]&" N°2",Feuil2!D:E,2,FALSE))) -> 020915 | P102: =IF(ISNA(VLOOKUP(Tableau_Lancer_la_requête_à_partir_de_CEGID[[#This Row],[wob_codecomposant]]&" N°3",Feuil2!D:E,2,FALSE)),"",(VLOOKUP(Tableau_Lancer_la_requête_à_partir_de_CEGID[[#This Row],[wob_codecomposant]]&" N°3",Feuil2!D:E,2,FALSE))) | Q102: =IF(ISNA(VLOOKUP(Tableau_Lancer_la_requête_à_partir_de_CEGID[[#This Row],[wob_codecomposant]]&" N°4",Feuil2!D:E,2,FALSE)),"",(VLOOKUP(Tableau_Lancer_la_requête_à_partir_de_CEGID[[#This Row],[wob_codecomposant]]&" N°4",Feuil2!D:E,2,FALSE))) | R102: =IF(ISNA(VLOOKUP(Tableau_Lancer_la_requête_à_partir_de_CEGID[[#This Row],[wob_codecomposant]]&" N°5",Feuil2!D:E,2,FALSE)),"",(VLOOKUP(Tableau_Lancer_la_requête_à_partir_de_CEGID[[#This Row],[wob_codecomposant]]&" N°5",Feuil2!D:E,2,FALSE))) | S102: =IF(ISNA(VLOOKUP(Tableau_Lancer_la_requête_à_partir_de_CEGID[[#This Row],[wob_codecomposant]]&" N°6",Feuil2!D:E,2,FALSE)),"",(VLOOKUP(Tableau_Lancer_la_requête_à_partir_de_CEGID[[#This Row],[wob_codecomposant]]&" N°16",Feuil2!D:E,2,FALSE))) | T102: =IF(ISNA(VLOOKUP(Tableau_Lancer_la_requête_à_partir_de_CEGID[[#This Row],[wob_codecomposant]]&" N°7",Feuil2!D:E,2,FALSE)),"",(VLOOKUP(Tableau_Lancer_la_requête_à_partir_de_CEGID[[#This Row],[wob_codecomposant]]&" N°7",Feuil2!D:E,2,FALSE))) | U102: =MID(Tableau_Lancer_la_requête_à_partir_de_CEGID[[#This Row],[libcomposant]],1,5) -> C37 O
A103: C479 | B103: 44706 | C103: DEC | D103: 154843 | E103: ACC | F103: 9901124342 | G103: AXE MAN. RAPIDE o8MM | H103: C479 OUTIL DE FORGE | I103: 2500 | J103: 120 | K103: =_xlfn.ISOWEEKNUM(Tableau_Lancer_la_requête_à_partir_de_CEGID[[#This Row],[wop_dateacc]]) -> 21 | M103: =IF(ISNA(VLOOKUP(Tableau_Lancer_la_requête_à_partir_de_CEGID[[#This Row],[wob_codecomposant]]&" N°1",Feuil2!D:E,2,FALSE)),"",(VLOOKUP(Tableau_Lancer_la_requête_à_partir_de_CEGID[[#This Row],[wob_codecomposant]]&" N°1",Feuil2!D:E,2,FALSE))) -> 001021 | N103: =IF(OR(VLOOKUP(M103,Feuil2!E:F,2,FALSE)>1,VLOOKUP(Feuil1!M103,Feuil2!E:I,4,)+7<Tableau_Lancer_la_requête_à_partir_de_CEGID[[#This Row],[wop_dateacc]]),Feuil1!M103,"") -> 001021 | O103: =IF(ISNA(VLOOKUP(Tableau_Lancer_la_requête_à_partir_de_CEGID[[#This Row],[wob_codecomposant]]&" N°2",Feuil2!D:E,2,FALSE)),"",(VLOOKUP(Tableau_Lancer_la_requête_à_partir_de_CEGID[[#This Row],[wob_codecomposant]]&" N°2",Feuil2!D:E,2,FALSE))) -> 001319 | P103: =IF(ISNA(VLOOKUP(Tableau_Lancer_la_requête_à_partir_de_CEGID[[#This Row],[wob_codecomposant]]&" N°3",Feuil2!D:E,2,FALSE)),"",(VLOOKUP(Tableau_Lancer_la_requête_à_partir_de_CEGID[[#This Row],[wob_codecomposant]]&" N°3",Feuil2!D:E,2,FALSE))) -> 001419 | Q103: =IF(ISNA(VLOOKUP(Tableau_Lancer_la_requête_à_partir_de_CEGID[[#This Row],[wob_codecomposant]]&" N°4",Feuil2!D:E,2,FALSE)),"",(VLOOKUP(Tableau_Lancer_la_requête_à_partir_de_CEGID[[#This Row],[wob_codecomposant]]&" N°4",Feuil2!D:E,2,FALSE))) | R103: =IF(ISNA(VLOOKUP(Tableau_Lancer_la_requête_à_partir_de_CEGID[[#This Row],[wob_codecomposant]]&" N°5",Feuil2!D:E,2,FALSE)),"",(VLOOKUP(Tableau_Lancer_la_requête_à_partir_de_CEGID[[#This Row],[wob_codecomposant]]&" N°5",Feuil2!D:E,2,FALSE))) | S103: =IF(ISNA(VLOOKUP(Tableau_Lancer_la_requête_à_partir_de_CEGID[[#This Row],[wob_codecomposant]]&" N°6",Feuil2!D:E,2,FALSE)),"",(VLOOKUP(Tableau_Lancer_la_requête_à_partir_de_CEGID[[#This Row],[wob_codecomposant]]&" N°16",Feuil2!D:E,2,FALSE))) | T103: =IF(ISNA(VLOOKUP(Tableau_Lancer_la_requête_à_partir_de_CEGID[[#This Row],[wob_codecomposant]]&" N°7",Feuil2!D:E,2,FALSE)),"",(VLOOKUP(Tableau_Lancer_la_requête_à_partir_de_CEGID[[#This Row],[wob_codecomposant]]&" N°7",Feuil2!D:E,2,FALSE))) | U103: =MID(Tableau_Lancer_la_requête_à_partir_de_CEGID[[#This Row],[libcomposant]],1,5) -> C479
A104: 5720190001_04 | B104: 44705 | C104: DEC | D104: 151199 | E104: MED | F104: 5720190001 | G104: BRANCHE DE PINCE A OS | H104: C364 OUTIL DE FORGE Eb | I104: 1050 | J104: 130 | K104: =_xlfn.ISOWEEKNUM(Tableau_Lancer_la_requête_à_partir_de_CEGID[[#This Row],[wop_dateacc]]) -> 21 | M104: =IF(ISNA(VLOOKUP(Tableau_Lancer_la_requête_à_partir_de_CEGID[[#This Row],[wob_codecomposant]]&" N°1",Feuil2!D:E,2,FALSE)),"",(VLOOKUP(Tableau_Lancer_la_requête_à_partir_de_CEGID[[#This Row],[wob_codecomposant]]&" N°1",Feuil2!D:E,2,FALSE))) -> 019519 | N104: =IF(OR(VLOOKUP(M104,Feuil2!E:F,2,FALSE)>1,VLOOKUP(Feuil1!M104,Feuil2!E:I,4,)+7<Tableau_Lancer_la_requête_à_partir_de_CEGID[[#This Row],[wop_dateacc]]),Feuil1!M104,"") -> 019519 | O104: =IF(ISNA(VLOOKUP(Tableau_Lancer_la_requête_à_partir_de_CEGID[[#This Row],[wob_codecomposant]]&" N°2",Feuil2!D:E,2,FALSE)),"",(VLOOKUP(Tableau_Lancer_la_requête_à_partir_de_CEGID[[#This Row],[wob_codecomposant]]&" N°2",Feuil2!D:E,2,FALSE))) | P104: =IF(ISNA(VLOOKUP(Tableau_Lancer_la_requête_à_partir_de_CEGID[[#This Row],[wob_codecomposant]]&" N°3",Feuil2!D:E,2,FALSE)),"",(VLOOKUP(Tableau_Lancer_la_requête_à_partir_de_CEGID[[#This Row],[wob_codecomposant]]&" N°3",Feuil2!D:E,2,FALSE))) | Q104: =IF(ISNA(VLOOKUP(Tableau_Lancer_la_requête_à_partir_de_CEGID[[#This Row],[wob_codecomposant]]&" N°4",Feuil2!D:E,2,FALSE)),"",(VLOOKUP(Tableau_Lancer_la_requête_à_partir_de_CEGID[[#This Row],[wob_codecomposant]]&" N°4",Feuil2!D:E,2,FALSE))) | R104: =IF(ISNA(VLOOKUP(Tableau_Lancer_la_requête_à_partir_de_CEGID[[#This Row],[wob_codecomposant]]&" N°5",Feuil2!D:E,2,FALSE)),"",(VLOOKUP(Tableau_Lancer_la_requête_à_partir_de_CEGID[[#This Row],[wob_codecomposant]]&" N°5",Feuil2!D:E,2,FALSE))) | S104: =IF(ISNA(VLOOKUP(Tableau_Lancer_la_requête_à_partir_de_CEGID[[#This Row],[wob_codecomposant]]&" N°6",Feuil2!D:E,2,FALSE)),"",(VLOOKUP(Tableau_Lancer_la_requête_à_partir_de_CEGID[[#This Row],[wob_codecomposant]]&" N°16",Feuil2!D:E,2,FALSE))) | T104: =IF(ISNA(VLOOKUP(Tableau_Lancer_la_requête_à_partir_de_CEGID[[#This Row],[wob_codecomposant]]&" N°7",Feuil2!D:E,2,FALSE)),"",(VLOOKUP(Tableau_Lancer_la_requête_à_partir_de_CEGID[[#This Row],[wob_codecomposant]]&" N°7",Feuil2!D:E,2,FALSE))) | U104: =MID(Tableau_Lancer_la_requête_à_partir_de_CEGID[[#This Row],[libcomposant]],1,5) -> C364
A105: 2994_04 | B105: 44705 | C105: DEC | D105: 153429 | E105: ACC | F105: 2994 | G105: Main de fer - Pour chaine de 8 mm - Long: 85 mm | H105: C2062 OUTIL DE FORGE Finition | I105: 1000 | J105: 150 | K105: =_xlfn.ISOWEEKNUM(Tableau_Lancer_la_requête_à_partir_de_CEGID[[#This Row],[wop_dateacc]]) -> 21 | M105: =IF(ISNA(VLOOKUP(Tableau_Lancer_la_requête_à_partir_de_CEGID[[#This Row],[wob_codecomposant]]&" N°1",Feuil2!D:E,2,FALSE)),"",(VLOOKUP(Tableau_Lancer_la_requête_à_partir_de_CEGID[[#This Row],[wob_codecomposant]]&" N°1",Feuil2!D:E,2,FALSE))) -> 031119 | N105: =IF(OR(VLOOKUP(M105,Feuil2!E:F,2,FALSE)>1,VLOOKUP(Feuil1!M105,Feuil2!E:I,4,)+7<Tableau_Lancer_la_requête_à_partir_de_CEGID[[#This Row],[wop_dateacc]]),Feuil1!M105,"") -> 031119 | O105: =IF(ISNA(VLOOKUP(Tableau_Lancer_la_requête_à_partir_de_CEGID[[#This Row],[wob_codecomposant]]&" N°2",Feuil2!D:E,2,FALSE)),"",(VLOOKUP(Tableau_Lancer_la_requête_à_partir_de_CEGID[[#This Row],[wob_codecomposant]]&" N°2",Feuil2!D:E,2,FALSE))) | P105: =IF(ISNA(VLOOKUP(Tableau_Lancer_la_requête_à_partir_de_CEGID[[#This Row],[wob_codecomposant]]&" N°3",Feuil2!D:E,2,FALSE)),"",(VLOOKUP(Tableau_Lancer_la_requête_à_partir_de_CEGID[[#This Row],[wob_codecomposant]]&" N°3",Feuil2!D:E,2,FALSE))) | Q105: =IF(ISNA(VLOOKUP(Tableau_Lancer_la_requête_à_partir_de_CEGID[[#This Row],[wob_codecomposant]]&" N°4",Feuil2!D:E,2,FALSE)),"",(VLOOKUP(Tableau_Lancer_la_requête_à_partir_de_CEGID[[#This Row],[wob_codecomposant]]&" N°4",Feuil2!D:E,2,FALSE))) | R105: =IF(ISNA(VLOOKUP(Tableau_Lancer_la_requête_à_partir_de_CEGID[[#This Row],[wob_codecomposant]]&" N°5",Feuil2!D:E,2,FALSE)),"",(VLOOKUP(Tableau_Lancer_la_requête_à_partir_de_CEGID[[#This Row],[wob_codecomposant]]&" N°5",Feuil2!D:E,2,FALSE))) | S105: =IF(ISNA(VLOOKUP(Tableau_Lancer_la_requête_à_partir_de_CEGID[[#This Row],[wob_codecomposant]]&" N°6",Feuil2!D:E,2,FALSE)),"",(VLOOKUP(Tableau_Lancer_la_requête_à_partir_de_CEGID[[#This Row],[wob_codecomposant]]&" N°16",Feuil2!D:E,2,FALSE))) | T105: =IF(ISNA(VLOOKUP(Tableau_Lancer_la_requête_à_partir_de_CEGID[[#This Row],[wob_codecomposant]]&" N°7",Feuil2!D:E,2,FALSE)),"",(VLOOKUP(Tableau_Lancer_la_requête_à_partir_de_CEGID[[#This Row],[wob_codecomposant]]&" N°7",Feuil2!D:E,2,FALSE))) | U105: =MID(Tableau_Lancer_la_requête_à_partir_de_CEGID[[#This Row],[libcomposant]],1,5) -> C2062
A106: C70A | B106: 44705 | C106: DEC | D106: 148285 | E106: ACC | F106: 9902123842A | G106: EMER. OEIL GD PASS. 2384 | H106: C70A OUTIL DE FORGE | I106: 1500 | J106: 130 | K106: =_xlfn.ISOWEEKNUM(Tableau_Lancer_la_requête_à_partir_de_CEGID[[#This Row],[wop_dateacc]]) -> 21 | M106: =IF(ISNA(VLOOKUP(Tableau_Lancer_la_requête_à_partir_de_CEGID[[#This Row],[wob_codecomposant]]&" N°1",Feuil2!D:E,2,FALSE)),"",(VLOOKUP(Tableau_Lancer_la_requête_à_partir_de_CEGID[[#This Row],[wob_codecomposant]]&" N°1",Feuil2!D:E,2,FALSE))) -> 019616 | N106: =IF(OR(VLOOKUP(M106,Feuil2!E:F,2,FALSE)>1,VLOOKUP(Feuil1!M106,Feuil2!E:I,4,)+7<Tableau_Lancer_la_requête_à_partir_de_CEGID[[#This Row],[wop_dateacc]]),Feuil1!M106,"") -> 019616 | O106: =IF(ISNA(VLOOKUP(Tableau_Lancer_la_requête_à_partir_de_CEGID[[#This Row],[wob_codecomposant]]&" N°2",Feuil2!D:E,2,FALSE)),"",(VLOOKUP(Tableau_Lancer_la_requête_à_partir_de_CEGID[[#This Row],[wob_codecomposant]]&" N°2",Feuil2!D:E,2,FALSE))) | P106: =IF(ISNA(VLOOKUP(Tableau_Lancer_la_requête_à_partir_de_CEGID[[#This Row],[wob_codecomposant]]&" N°3",Feuil2!D:E,2,FALSE)),"",(VLOOKUP(Tableau_Lancer_la_requête_à_partir_de_CEGID[[#This Row],[wob_codecomposant]]&" N°3",Feuil2!D:E,2,FALSE))) | Q106: =IF(ISNA(VLOOKUP(Tableau_Lancer_la_requête_à_partir_de_CEGID[[#This Row],[wob_codecomposant]]&" N°4",Feuil2!D:E,2,FALSE)),"",(VLOOKUP(Tableau_Lancer_la_requête_à_partir_de_CEGID[[#This Row],[wob_codecomposant]]&" N°4",Feuil2!D:E,2,FALSE))) | R106: =IF(ISNA(VLOOKUP(Tableau_Lancer_la_requête_à_partir_de_CEGID[[#This Row],[wob_codecomposant]]&" N°5",Feuil2!D:E,2,FALSE)),"",(VLOOKUP(Tableau_Lancer_la_requête_à_partir_de_CEGID[[#This Row],[wob_codecomposant]]&" N°5",Feuil2!D:E,2,FALSE))) | S106: =IF(ISNA(VLOOKUP(Tableau_Lancer_la_requête_à_partir_de_CEGID[[#This Row],[wob_codecomposant]]&" N°6",Feuil2!D:E,2,FALSE)),"",(VLOOKUP(Tableau_Lancer_la_requête_à_partir_de_CEGID[[#This Row],[wob_codecomposant]]&" N°16",Feuil2!D:E,2,FALSE))) | T106: =IF(ISNA(VLOOKUP(Tableau_Lancer_la_requête_à_partir_de_CEGID[[#This Row],[wob_codecomposant]]&" N°7",Feuil2!D:E,2,FALSE)),"",(VLOOKUP(Tableau_Lancer_la_requête_à_partir_de_CEGID[[#This Row],[wob_codecomposant]]&" N°7",Feuil2!D:E,2,FALSE))) | U106: =MID(Tableau_Lancer_la_requête_à_partir_de_CEGID[[#This Row],[libcomposant]],1,5) -> C70A
A107: 6246150007_24 | B107: 44705 | C107: DEC | D107: 149681 | E107: IND | F107: 6246150007 | G107: TETE SUMMIT BRUT | H107: C4Panne - OUTIL DE FORGE panne | I107: 1273 | J107: 200 | K107: =_xlfn.ISOWEEKNUM(Tableau_Lancer_la_requête_à_partir_de_CEGID[[#This Row],[wop_dateacc]]) -> 21 | M107: =IF(ISNA(VLOOKUP(Tableau_Lancer_la_requête_à_partir_de_CEGID[[#This Row],[wob_codecomposant]]&" N°1",Feuil2!D:E,2,FALSE)),"",(VLOOKUP(Tableau_Lancer_la_requête_à_partir_de_CEGID[[#This Row],[wob_codecomposant]]&" N°1",Feuil2!D:E,2,FALSE))) -> 008619 | N107: =IF(OR(VLOOKUP(M107,Feuil2!E:F,2,FALSE)>1,VLOOKUP(Feuil1!M107,Feuil2!E:I,4,)+7<Tableau_Lancer_la_requête_à_partir_de_CEGID[[#This Row],[wop_dateacc]]),Feuil1!M107,"") -> 008619 | O107: =IF(ISNA(VLOOKUP(Tableau_Lancer_la_requête_à_partir_de_CEGID[[#This Row],[wob_codecomposant]]&" N°2",Feuil2!D:E,2,FALSE)),"",(VLOOKUP(Tableau_Lancer_la_requête_à_partir_de_CEGID[[#This Row],[wob_codecomposant]]&" N°2",Feuil2!D:E,2,FALSE))) -> 014219 | P107: =IF(ISNA(VLOOKUP(Tableau_Lancer_la_requête_à_partir_de_CEGID[[#This Row],[wob_codecomposant]]&" N°3",Feuil2!D:E,2,FALSE)),"",(VLOOKUP(Tableau_Lancer_la_requête_à_partir_de_CEGID[[#This Row],[wob_codecomposant]]&" N°3",Feuil2!D:E,2,FALSE))) -> 017121 | Q107: =IF(ISNA(VLOOKUP(Tableau_Lancer_la_requête_à_partir_de_CEGID[[#This Row],[wob_codecomposant]]&" N°4",Feuil2!D:E,2,FALSE)),"",(VLOOKUP(Tableau_Lancer_la_requête_à_partir_de_CEGID[[#This Row],[wob_codecomposant]]&" N°4",Feuil2!D:E,2,FALSE))) | R107: =IF(ISNA(VLOOKUP(Tableau_Lancer_la_requête_à_partir_de_CEGID[[#This Row],[wob_codecomposant]]&" N°5",Feuil2!D:E,2,FALSE)),"",(VLOOKUP(Tableau_Lancer_la_requête_à_partir_de_CEGID[[#This Row],[wob_codecomposant]]&" N°5",Feuil2!D:E,2,FALSE))) | S107: =IF(ISNA(VLOOKUP(Tableau_Lancer_la_requête_à_partir_de_CEGID[[#This Row],[wob_codecomposant]]&" N°6",Feuil2!D:E,2,FALSE)),"",(VLOOKUP(Tableau_Lancer_la_requête_à_partir_de_CEGID[[#This Row],[wob_codecomposant]]&" N°16",Feuil2!D:E,2,FALSE))) | T107: =IF(ISNA(VLOOKUP(Tableau_Lancer_la_requête_à_partir_de_CEGID[[#This Row],[wob_codecomposant]]&" N°7",Feuil2!D:E,2,FALSE)),"",(VLOOKUP(Tableau_Lancer_la_requête_à_partir_de_CEGID[[#This Row],[wob_codecomposant]]&" N°7",Feuil2!D:E,2,FALSE))) | U107: =MID(Tableau_Lancer_la_requête_à_partir_de_CEGID[[#This Row],[libcomposant]],1,5) -> C4Pan
A108: C842 | B108: 44705 | C108: DEC | D108: 152626 | E108: ACC | F108: 9901122461A | G108: CORPS MAN. LYRE Ø12MM LIBRE | H108: C842 OUTIL DE FORGE | I108: 1500 | J108: 120 | K108: =_xlfn.ISOWEEKNUM(Tableau_Lancer_la_requête_à_partir_de_CEGID[[#This Row],[wop_dateacc]]) -> 21 | M108: =IF(ISNA(VLOOKUP(Tableau_Lancer_la_requête_à_partir_de_CEGID[[#This Row],[wob_codecomposant]]&" N°1",Feuil2!D:E,2,FALSE)),"",(VLOOKUP(Tableau_Lancer_la_requête_à_partir_de_CEGID[[#This Row],[wob_codecomposant]]&" N°1",Feuil2!D:E,2,FALSE))) -> 002216 | N108: =IF(OR(VLOOKUP(M108,Feuil2!E:F,2,FALSE)>1,VLOOKUP(Feuil1!M108,Feuil2!E:I,4,)+7<Tableau_Lancer_la_requête_à_partir_de_CEGID[[#This Row],[wop_dateacc]]),Feuil1!M108,"") -> 002216 | O108: =IF(ISNA(VLOOKUP(Tableau_Lancer_la_requête_à_partir_de_CEGID[[#This Row],[wob_codecomposant]]&" N°2",Feuil2!D:E,2,FALSE)),"",(VLOOKUP(Tableau_Lancer_la_requête_à_partir_de_CEGID[[#This Row],[wob_codecomposant]]&" N°2",Feuil2!D:E,2,FALSE))) -> 011317 | P108: =IF(ISNA(VLOOKUP(Tableau_Lancer_la_requête_à_partir_de_CEGID[[#This Row],[wob_codecomposant]]&" N°3",Feuil2!D:E,2,FALSE)),"",(VLOOKUP(Tableau_Lancer_la_requête_à_partir_de_CEGID[[#This Row],[wob_codecomposant]]&" N°3",Feuil2!D:E,2,FALSE))) | Q108: =IF(ISNA(VLOOKUP(Tableau_Lancer_la_requête_à_partir_de_CEGID[[#This Row],[wob_codecomposant]]&" N°4",Feuil2!D:E,2,FALSE)),"",(VLOOKUP(Tableau_Lancer_la_requête_à_partir_de_CEGID[[#This Row],[wob_codecomposant]]&" N°4",Feuil2!D:E,2,FALSE))) | R108: =IF(ISNA(VLOOKUP(Tableau_Lancer_la_requête_à_partir_de_CEGID[[#This Row],[wob_codecomposant]]&" N°5",Feuil2!D:E,2,FALSE)),"",(VLOOKUP(Tableau_Lancer_la_requête_à_partir_de_CEGID[[#This Row],[wob_codecomposant]]&" N°5",Feuil2!D:E,2,FALSE))) | S108: =IF(ISNA(VLOOKUP(Tableau_Lancer_la_requête_à_partir_de_CEGID[[#This Row],[wob_codecomposant]]&" N°6",Feuil2!D:E,2,FALSE)),"",(VLOOKUP(Tableau_Lancer_la_requête_à_partir_de_CEGID[[#This Row],[wob_codecomposant]]&" N°16",Feuil2!D:E,2,FALSE))) | T108: =IF(ISNA(VLOOKUP(Tableau_Lancer_la_requête_à_partir_de_CEGID[[#This Row],[wob_codecomposant]]&" N°7",Feuil2!D:E,2,FALSE)),"",(VLOOKUP(Tableau_Lancer_la_requête_à_partir_de_CEGID[[#This Row],[wob_codecomposant]]&" N°7",Feuil2!D:E,2,FALSE))) | U108: =MID(Tableau_Lancer_la_requête_à_partir_de_CEGID[[#This Row],[libcomposant]],1,5) -> C842
A109: C305 | B109: 44705 | C109: DEC | D109: 153311 | E109: IND | F109: 6897150001 | G109: NOIX DENTEE Ø25 ND25 WICHA | H109: C305 OUTIL DE FORGE | I109: 6300 | J109: 120 | K109: =_xlfn.ISOWEEKNUM(Tableau_Lancer_la_requête_à_partir_de_CEGID[[#This Row],[wop_dateacc]]) -> 21 | M109: =IF(ISNA(VLOOKUP(Tableau_Lancer_la_requête_à_partir_de_CEGID[[#This Row],[wob_codecomposant]]&" N°1",Feuil2!D:E,2,FALSE)),"",(VLOOKUP(Tableau_Lancer_la_requête_à_partir_de_CEGID[[#This Row],[wob_codecomposant]]&" N°1",Feuil2!D:E,2,FALSE))) -> 004419 | N109: =IF(OR(VLOOKUP(M109,Feuil2!E:F,2,FALSE)>1,VLOOKUP(Feuil1!M109,Feuil2!E:I,4,)+7<Tableau_Lancer_la_requête_à_partir_de_CEGID[[#This Row],[wop_dateacc]]),Feuil1!M109,"") -> 004419 | O109: =IF(ISNA(VLOOKUP(Tableau_Lancer_la_requête_à_partir_de_CEGID[[#This Row],[wob_codecomposant]]&" N°2",Feuil2!D:E,2,FALSE)),"",(VLOOKUP(Tableau_Lancer_la_requête_à_partir_de_CEGID[[#This Row],[wob_codecomposant]]&" N°2",Feuil2!D:E,2,FALSE))) -> 013021 | P109: =IF(ISNA(VLOOKUP(Tableau_Lancer_la_requête_à_partir_de_CEGID[[#This Row],[wob_codecomposant]]&" N°3",Feuil2!D:E,2,FALSE)),"",(VLOOKUP(Tableau_Lancer_la_requête_à_partir_de_CEGID[[#This Row],[wob_codecomposant]]&" N°3",Feuil2!D:E,2,FALSE))) -> 013121 | Q109: =IF(ISNA(VLOOKUP(Tableau_Lancer_la_requête_à_partir_de_CEGID[[#This Row],[wob_codecomposant]]&" N°4",Feuil2!D:E,2,FALSE)),"",(VLOOKUP(Tableau_Lancer_la_requête_à_partir_de_CEGID[[#This Row],[wob_codecomposant]]&" N°4",Feuil2!D:E,2,FALSE))) -> 039616 | R109: =IF(ISNA(VLOOKUP(Tableau_Lancer_la_requête_à_partir_de_CEGID[[#This Row],[wob_codecomposant]]&" N°5",Feuil2!D:E,2,FALSE)),"",(VLOOKUP(Tableau_Lancer_la_requête_à_partir_de_CEGID[[#This Row],[wob_codecomposant]]&" N°5",Feuil2!D:E,2,FALSE))) | S109: =IF(ISNA(VLOOKUP(Tableau_Lancer_la_requête_à_partir_de_CEGID[[#This Row],[wob_codecomposant]]&" N°6",Feuil2!D:E,2,FALSE)),"",(VLOOKUP(Tableau_Lancer_la_requête_à_partir_de_CEGID[[#This Row],[wob_codecomposant]]&" N°16",Feuil2!D:E,2,FALSE))) | T109: =IF(ISNA(VLOOKUP(Tableau_Lancer_la_requête_à_partir_de_CEGID[[#This Row],[wob_codecomposant]]&" N°7",Feuil2!D:E,2,FALSE)),"",(VLOOKUP(Tableau_Lancer_la_requête_à_partir_de_CEGID[[#This Row],[wob_codecomposant]]&" N°7",Feuil2!D:E,2,FALSE))) | U109: =MID(Tableau_Lancer_la_requête_à_partir_de_CEGID[[#This Row],[libcomposant]],1,5) -> C305
A110: 9927120500_04 | B110: 44705 | C110: DEC | D110: 153476 | E110: ACC | F110: 9927120500EBFIN | G110: PASSANT POUR SANGLE 25X2.5 LIGNE DE VIE | H110: C35 OUTIL DE FORGE PASSANT POUR SANGLE 25x2.5 | I110: 1000 | J110: 120 | K110: =_xlfn.ISOWEEKNUM(Tableau_Lancer_la_requête_à_partir_de_CEGID[[#This Row],[wop_dateacc]]) -> 21 | M110: =IF(ISNA(VLOOKUP(Tableau_Lancer_la_requête_à_partir_de_CEGID[[#This Row],[wob_codecomposant]]&" N°1",Feuil2!D:E,2,FALSE)),"",(VLOOKUP(Tableau_Lancer_la_requête_à_partir_de_CEGID[[#This Row],[wob_codecomposant]]&" N°1",Feuil2!D:E,2,FALSE))) -> 003421 | N110: =IF(OR(VLOOKUP(M110,Feuil2!E:F,2,FALSE)>1,VLOOKUP(Feuil1!M110,Feuil2!E:I,4,)+7<Tableau_Lancer_la_requête_à_partir_de_CEGID[[#This Row],[wop_dateacc]]),Feuil1!M110,"") -> 003421 | O110: =IF(ISNA(VLOOKUP(Tableau_Lancer_la_requête_à_partir_de_CEGID[[#This Row],[wob_codecomposant]]&" N°2",Feuil2!D:E,2,FALSE)),"",(VLOOKUP(Tableau_Lancer_la_requête_à_partir_de_CEGID[[#This Row],[wob_codecomposant]]&" N°2",Feuil2!D:E,2,FALSE))) -> 010517 | P110: =IF(ISNA(VLOOKUP(Tableau_Lancer_la_requête_à_partir_de_CEGID[[#This Row],[wob_codecomposant]]&" N°3",Feuil2!D:E,2,FALSE)),"",(VLOOKUP(Tableau_Lancer_la_requête_à_partir_de_CEGID[[#This Row],[wob_codecomposant]]&" N°3",Feuil2!D:E,2,FALSE))) | Q110: =IF(ISNA(VLOOKUP(Tableau_Lancer_la_requête_à_partir_de_CEGID[[#This Row],[wob_codecomposant]]&" N°4",Feuil2!D:E,2,FALSE)),"",(VLOOKUP(Tableau_Lancer_la_requête_à_partir_de_CEGID[[#This Row],[wob_codecomposant]]&" N°4",Feuil2!D:E,2,FALSE))) | R110: =IF(ISNA(VLOOKUP(Tableau_Lancer_la_requête_à_partir_de_CEGID[[#This Row],[wob_codecomposant]]&" N°5",Feuil2!D:E,2,FALSE)),"",(VLOOKUP(Tableau_Lancer_la_requête_à_partir_de_CEGID[[#This Row],[wob_codecomposant]]&" N°5",Feuil2!D:E,2,FALSE))) | S110: =IF(ISNA(VLOOKUP(Tableau_Lancer_la_requête_à_partir_de_CEGID[[#This Row],[wob_codecomposant]]&" N°6",Feuil2!D:E,2,FALSE)),"",(VLOOKUP(Tableau_Lancer_la_requête_à_partir_de_CEGID[[#This Row],[wob_codecomposant]]&" N°16",Feuil2!D:E,2,FALSE))) | T110: =IF(ISNA(VLOOKUP(Tableau_Lancer_la_requête_à_partir_de_CEGID[[#This Row],[wob_codecomposant]]&" N°7",Feuil2!D:E,2,FALSE)),"",(VLOOKUP(Tableau_Lancer_la_requête_à_partir_de_CEGID[[#This Row],[wob_codecomposant]]&" N°7",Feuil2!D:E,2,FALSE))) | U110: =MID(Tableau_Lancer_la_requête_à_partir_de_CEGID[[#This Row],[libcomposant]],1,5) -> C35 O
A111: C483 | B111: 44705 | C111: DEC | D111: 152640 | E111: ACC | F111: 9907124851 | G111: CORPS DE PRE FEEDER BRUT | H111: C483 OUTIL DE FORGE | I111: 1000 | J111: 120 | K111: =_xlfn.ISOWEEKNUM(Tableau_Lancer_la_requête_à_partir_de_CEGID[[#This Row],[wop_dateacc]]) -> 21 | M111: =IF(ISNA(VLOOKUP(Tableau_Lancer_la_requête_à_partir_de_CEGID[[#This Row],[wob_codecomposant]]&" N°1",Feuil2!D:E,2,FALSE)),"",(VLOOKUP(Tableau_Lancer_la_requête_à_partir_de_CEGID[[#This Row],[wob_codecomposant]]&" N°1",Feuil2!D:E,2,FALSE))) -> 005817 | N111: =IF(OR(VLOOKUP(M111,Feuil2!E:F,2,FALSE)>1,VLOOKUP(Feuil1!M111,Feuil2!E:I,4,)+7<Tableau_Lancer_la_requête_à_partir_de_CEGID[[#This Row],[wop_dateacc]]),Feuil1!M111,"") -> 005817 | O111: =IF(ISNA(VLOOKUP(Tableau_Lancer_la_requête_à_partir_de_CEGID[[#This Row],[wob_codecomposant]]&" N°2",Feuil2!D:E,2,FALSE)),"",(VLOOKUP(Tableau_Lancer_la_requête_à_partir_de_CEGID[[#This Row],[wob_codecomposant]]&" N°2",Feuil2!D:E,2,FALSE))) -> 012721 | P111: =IF(ISNA(VLOOKUP(Tableau_Lancer_la_requête_à_partir_de_CEGID[[#This Row],[wob_codecomposant]]&" N°3",Feuil2!D:E,2,FALSE)),"",(VLOOKUP(Tableau_Lancer_la_requête_à_partir_de_CEGID[[#This Row],[wob_codecomposant]]&" N°3",Feuil2!D:E,2,FALSE))) | Q111: =IF(ISNA(VLOOKUP(Tableau_Lancer_la_requête_à_partir_de_CEGID[[#This Row],[wob_codecomposant]]&" N°4",Feuil2!D:E,2,FALSE)),"",(VLOOKUP(Tableau_Lancer_la_requête_à_partir_de_CEGID[[#This Row],[wob_codecomposant]]&" N°4",Feuil2!D:E,2,FALSE))) | R111: =IF(ISNA(VLOOKUP(Tableau_Lancer_la_requête_à_partir_de_CEGID[[#This Row],[wob_codecomposant]]&" N°5",Feuil2!D:E,2,FALSE)),"",(VLOOKUP(Tableau_Lancer_la_requête_à_partir_de_CEGID[[#This Row],[wob_codecomposant]]&" N°5",Feuil2!D:E,2,FALSE))) | S111: =IF(ISNA(VLOOKUP(Tableau_Lancer_la_requête_à_partir_de_CEGID[[#This Row],[wob_codecomposant]]&" N°6",Feuil2!D:E,2,FALSE)),"",(VLOOKUP(Tableau_Lancer_la_requête_à_partir_de_CEGID[[#This Row],[wob_codecomposant]]&" N°16",Feuil2!D:E,2,FALSE))) | T111: =IF(ISNA(VLOOKUP(Tableau_Lancer_la_requête_à_partir_de_CEGID[[#This Row],[wob_codecomposant]]&" N°7",Feuil2!D:E,2,FALSE)),"",(VLOOKUP(Tableau_Lancer_la_requête_à_partir_de_CEGID[[#This Row],[wob_codecomposant]]&" N°7",Feuil2!D:E,2,FALSE))) | U111: =MID(Tableau_Lancer_la_requête_à_partir_de_CEGID[[#This Row],[libcomposant]],1,5) -> C483
A112: C1182 | B112: 44704 | C112: DEC | D112: 153313 | E112: IND | F112: 2880070052 | G112: SPATULE D. 137-01 | H112: C1182 OUTIL DE FORGE | I112: 3150 | J112: 130 | K112: =_xlfn.ISOWEEKNUM(Tableau_Lancer_la_requête_à_partir_de_CEGID[[#This Row],[wop_dateacc]]) -> 21 | M112: =IF(ISNA(VLOOKUP(Tableau_Lancer_la_requête_à_partir_de_CEGID[[#This Row],[wob_codecomposant]]&" N°1",Feuil2!D:E,2,FALSE)),"",(VLOOKUP(Tableau_Lancer_la_requête_à_partir_de_CEGID[[#This Row],[wob_codecomposant]]&" N°1",Feuil2!D:E,2,FALSE))) -> 003721 | N112: =IF(OR(VLOOKUP(M112,Feuil2!E:F,2,FALSE)>1,VLOOKUP(Feuil1!M112,Feuil2!E:I,4,)+7<Tableau_Lancer_la_requête_à_partir_de_CEGID[[#This Row],[wop_dateacc]]),Feuil1!M112,"") -> 003721 | O112: =IF(ISNA(VLOOKUP(Tableau_Lancer_la_requête_à_partir_de_CEGID[[#This Row],[wob_codecomposant]]&" N°2",Feuil2!D:E,2,FALSE)),"",(VLOOKUP(Tableau_Lancer_la_requête_à_partir_de_CEGID[[#This Row],[wob_codecomposant]]&" N°2",Feuil2!D:E,2,FALSE))) -> 027519 | P112: =IF(ISNA(VLOOKUP(Tableau_Lancer_la_requête_à_partir_de_CEGID[[#This Row],[wob_codecomposant]]&" N°3",Feuil2!D:E,2,FALSE)),"",(VLOOKUP(Tableau_Lancer_la_requête_à_partir_de_CEGID[[#This Row],[wob_codecomposant]]&" N°3",Feuil2!D:E,2,FALSE))) | Q112: =IF(ISNA(VLOOKUP(Tableau_Lancer_la_requête_à_partir_de_CEGID[[#This Row],[wob_codecomposant]]&" N°4",Feuil2!D:E,2,FALSE)),"",(VLOOKUP(Tableau_Lancer_la_requête_à_partir_de_CEGID[[#This Row],[wob_codecomposant]]&" N°4",Feuil2!D:E,2,FALSE))) | R112: =IF(ISNA(VLOOKUP(Tableau_Lancer_la_requête_à_partir_de_CEGID[[#This Row],[wob_codecomposant]]&" N°5",Feuil2!D:E,2,FALSE)),"",(VLOOKUP(Tableau_Lancer_la_requête_à_partir_de_CEGID[[#This Row],[wob_codecomposant]]&" N°5",Feuil2!D:E,2,FALSE))) | S112: =IF(ISNA(VLOOKUP(Tableau_Lancer_la_requête_à_partir_de_CEGID[[#This Row],[wob_codecomposant]]&" N°6",Feuil2!D:E,2,FALSE)),"",(VLOOKUP(Tableau_Lancer_la_requête_à_partir_de_CEGID[[#This Row],[wob_codecomposant]]&" N°16",Feuil2!D:E,2,FALSE))) | T112: =IF(ISNA(VLOOKUP(Tableau_Lancer_la_requête_à_partir_de_CEGID[[#This Row],[wob_codecomposant]]&" N°7",Feuil2!D:E,2,FALSE)),"",(VLOOKUP(Tableau_Lancer_la_requête_à_partir_de_CEGID[[#This Row],[wob_codecomposant]]&" N°7",Feuil2!D:E,2,FALSE))) | U112: =MID(Tableau_Lancer_la_requête_à_partir_de_CEGID[[#This Row],[libcomposant]],1,5) -> C1182
... A134: C800 | B134: 44697 | C134: DEC | D134: 152656 | E134: ACC | F134: 9956125042 | G134: ETR. CAD. ARTIC. TA6V o6MM | H134: C800 OUTIL DE FORGE | I134: 200 | J134: 130 | K134: =_xlfn.ISOWEEKNUM(Tableau_Lancer_la_requête_à_partir_de_CEGID[[#This Row],[wop_dateacc]]) -> 20 | M134: =IF(ISNA(VLOOKUP(Tableau_Lancer_la_requête_à_partir_de_CEGID[[#This Row],[wob_codecomposant]]&" N°1",Feuil2!D:E,2,FALSE)),"",(VLOOKUP(Tableau_Lancer_la_requête_à_partir_de_CEGID[[#This Row],[wob_codecomposant]]&" N°1",Feuil2!D:E,2,FALSE))) -> 016516 | N134: =IF(OR(VLOOKUP(M134,Feuil2!E:F,2,FALSE)>1,VLOOKUP(Feuil1!M134,Feuil2!E:I,4,)+7<Tableau_Lancer_la_requête_à_partir_de_CEGID[[#This Row],[wop_dateacc]]),Feuil1!M134,"") -> 016516 | O134: =IF(ISNA(VLOOKUP(Tableau_Lancer_la_requête_à_partir_de_CEGID[[#This Row],[wob_codecomposant]]&" N°2",Feuil2!D:E,2,FALSE)),"",(VLOOKUP(Tableau_Lancer_la_requête_à_partir_de_CEGID[[#This Row],[wob_codecomposant]]&" N°2",Feuil2!D:E,2,FALSE))) | P134: =IF(ISNA(VLOOKUP(Tableau_Lancer_la_requête_à_partir_de_CEGID[[#This Row],[wob_codecomposant]]&" N°3",Feuil2!D:E,2,FALSE)),"",(VLOOKUP(Tableau_Lancer_la_requête_à_partir_de_CEGID[[#This Row],[wob_codecomposant]]&" N°3",Feuil2!D:E,2,FALSE))) | Q134: =IF(ISNA(VLOOKUP(Tableau_Lancer_la_requête_à_partir_de_CEGID[[#This Row],[wob_codecomposant]]&" N°4",Feuil2!D:E,2,FALSE)),"",(VLOOKUP(Tableau_Lancer_la_requête_à_partir_de_CEGID[[#This Row],[wob_codecomposant]]&" N°4",Feuil2!D:E,2,FALSE))) | R134: =IF(ISNA(VLOOKUP(Tableau_Lancer_la_requête_à_partir_de_CEGID[[#This Row],[wob_codecomposant]]&" N°5",Feuil2!D:E,2,FALSE)),"",(VLOOKUP(Tableau_Lancer_la_requête_à_partir_de_CEGID[[#This Row],[wob_codecomposant]]&" N°5",Feuil2!D:E,2,FALSE))) | S134: =IF(ISNA(VLOOKUP(Tableau_Lancer_la_requête_à_partir_de_CEGID[[#This Row],[wob_codecomposant]]&" N°6",Feuil2!D:E,2,FALSE)),"",(VLOOKUP(Tableau_Lancer_la_requête_à_partir_de_CEGID[[#This Row],[wob_codecomposant]]&" N°16",Feuil2!D:E,2,FALSE))) | T134: =IF(ISNA(VLOOKUP(Tableau_Lancer_la_requête_à_partir_de_CEGID[[#This Row],[wob_codecomposant]]&" N°7",Feuil2!D:E,2,FALSE)),"",(VLOOKUP(Tableau_Lancer_la_requête_à_partir_de_CEGID[[#This Row],[wob_codecomposant]]&" N°7",Feuil2!D:E,2,FALSE))) | U134: =MID(Tableau_Lancer_la_requête_à_partir_de_CEGID[[#This Row],[libcomposant]],1,5) -> C800
B135: 44697 | C135: DEC | D135: 149060 | E135: IND | F135: 1250160003 | G135: BOUCLE D'ACCROCHAGE 90008441 | I135: 2100 | J135: 120 | K135: =_xlfn.ISOWEEKNUM(Tableau_Lancer_la_requête_à_partir_de_CEGID[[#This Row],[wop_dateacc]]) -> 20 | M135: =IF(ISNA(VLOOKUP(Tableau_Lancer_la_requête_à_partir_de_CEGID[[#This Row],[wob_codecomposant]]&" N°1",Feuil2!D:E,2,FALSE)),"",(VLOOKUP(Tableau_Lancer_la_requête_à_partir_de_CEGID[[#This Row],[wob_codecomposant]]&" N°1",Feuil2!D:E,2,FALSE))) | N135: =IF(OR(VLOOKUP(M135,Feuil2!E:F,2,FALSE)>1,VLOOKUP(Feuil1!M135,Feuil2!E:I,4,)+7<Tableau_Lancer_la_requête_à_partir_de_CEGID[[#This Row],[wop_dateacc]]),Feuil1!M135,"") -> #N/A | O135: =IF(ISNA(VLOOKUP(Tableau_Lancer_la_requête_à_partir_de_CEGID[[#This Row],[wob_codecomposant]]&" N°2",Feuil2!D:E,2,FALSE)),"",(VLOOKUP(Tableau_Lancer_la_requête_à_partir_de_CEGID[[#This Row],[wob_codecomposant]]&" N°2",Feuil2!D:E,2,FALSE))) | P135: =IF(ISNA(VLOOKUP(Tableau_Lancer_la_requête_à_partir_de_CEGID[[#This Row],[wob_codecomposant]]&" N°3",Feuil2!D:E,2,FALSE)),"",(VLOOKUP(Tableau_Lancer_la_requête_à_partir_de_CEGID[[#This Row],[wob_codecomposant]]&" N°3",Feuil2!D:E,2,FALSE))) | Q135: =IF(ISNA(VLOOKUP(Tableau_Lancer_la_requête_à_partir_de_CEGID[[#This Row],[wob_codecomposant]]&" N°4",Feuil2!D:E,2,FALSE)),"",(VLOOKUP(Tableau_Lancer_la_requête_à_partir_de_CEGID[[#This Row],[wob_codecomposant]]&" N°4",Feuil2!D:E,2,FALSE))) | R135: =IF(ISNA(VLOOKUP(Tableau_Lancer_la_requête_à_partir_de_CEGID[[#This Row],[wob_codecomposant]]&" N°5",Feuil2!D:E,2,FALSE)),"",(VLOOKUP(Tableau_Lancer_la_requête_à_partir_de_CEGID[[#This Row],[wob_codecomposant]]&" N°5",Feuil2!D:E,2,FALSE))) | S135: =IF(ISNA(VLOOKUP(Tableau_Lancer_la_requête_à_partir_de_CEGID[[#This Row],[wob_codecomposant]]&" N°6",Feuil2!D:E,2,FALSE)),"",(VLOOKUP(Tableau_Lancer_la_requête_à_partir_de_CEGID[[#This Row],[wob_codecomposant]]&" N°16",Feuil2!D:E,2,FALSE))) | T135: =IF(ISNA(VLOOKUP(Tableau_Lancer_la_requête_à_partir_de_CEGID[[#This Row],[wob_codecomposant]]&" N°7",Feuil2!D:E,2,FALSE)),"",(VLOOKUP(Tableau_Lancer_la_requête_à_partir_de_CEGID[[#This Row],[wob_codecomposant]]&" N°7",Feuil2!D:E,2,FALSE))) | U135: =MID(Tableau_Lancer_la_requête_à_partir_de_CEGID[[#This Row],[libcomposant]],1,5)
A136: 2994_14 | B136: 44694 | C136: DEC | D136: 153429 | E136: ACC | F136: 2994 | G136: Main de fer - Pour chaine de 8 mm - Long: 85 mm | H136: C2062 OUTIL DE FORGE Ebauche | I136: 1000 | J136: 130 | K136: =_xlfn.ISOWEEKNUM(Tableau_Lancer_la_requête_à_partir_de_CEGID[[#This Row],[wop_dateacc]]) -> 19 | M136: =IF(ISNA(VLOOKUP(Tableau_Lancer_la_requête_à_partir_de_CEGID[[#This Row],[wob_codecomposant]]&" N°1",Feuil2!D:E,2,FALSE)),"",(VLOOKUP(Tableau_Lancer_la_requête_à_partir_de_CEGID[[#This Row],[wob_codecomposant]]&" N°1",Feuil2!D:E,2,FALSE))) -> 031019 | N136: =IF(OR(VLOOKUP(M136,Feuil2!E:F,2,FALSE)>1,VLOOKUP(Feuil1!M136,Feuil2!E:I,4,)+7<Tableau_Lancer_la_requête_à_partir_de_CEGID[[#This Row],[wop_dateacc]]),Feuil1!M136,"") -> 031019 | O136: =IF(ISNA(VLOOKUP(Tableau_Lancer_la_requête_à_partir_de_CEGID[[#This Row],[wob_codecomposant]]&" N°2",Feuil2!D:E,2,FALSE)),"",(VLOOKUP(Tableau_Lancer_la_requête_à_partir_de_CEGID[[#This Row],[wob_codecomposant]]&" N°2",Feuil2!D:E,2,FALSE))) | P136: =IF(ISNA(VLOOKUP(Tableau_Lancer_la_requête_à_partir_de_CEGID[[#This Row],[wob_codecomposant]]&" N°3",Feuil2!D:E,2,FALSE)),"",(VLOOKUP(Tableau_Lancer_la_requête_à_partir_de_CEGID[[#This Row],[wob_codecomposant]]&" N°3",Feuil2!D:E,2,FALSE))) | Q136: =IF(ISNA(VLOOKUP(Tableau_Lancer_la_requête_à_partir_de_CEGID[[#This Row],[wob_codecomposant]]&" N°4",Feuil2!D:E,2,FALSE)),"",(VLOOKUP(Tableau_Lancer_la_requête_à_partir_de_CEGID[[#This Row],[wob_codecomposant]]&" N°4",Feuil2!D:E,2,FALSE))) | R136: =IF(ISNA(VLOOKUP(Tableau_Lancer_la_requête_à_partir_de_CEGID[[#This Row],[wob_codecomposant]]&" N°5",Feuil2!D:E,2,FALSE)),"",(VLOOKUP(Tableau_Lancer_la_requête_à_partir_de_CEGID[[#This Row],[wob_codecomposant]]&" N°5",Feuil2!D:E,2,FALSE))) | S136: =IF(ISNA(VLOOKUP(Tableau_Lancer_la_requête_à_partir_de_CEGID[[#This Row],[wob_codecomposant]]&" N°6",Feuil2!D:E,2,FALSE)),"",(VLOOKUP(Tableau_Lancer_la_requête_à_partir_de_CEGID[[#This Row],[wob_codecomposant]]&" N°16",Feuil2!D:E,2,FALSE))) | T136: =IF(ISNA(VLOOKUP(Tableau_Lancer_la_requête_à_partir_de_CEGID[[#This Row],[wob_codecomposant]]&" N°7",Feuil2!D:E,2,FALSE)),"",(VLOOKUP(Tableau_Lancer_la_requête_à_partir_de_CEGID[[#This Row],[wob_codecomposant]]&" N°7",Feuil2!D:E,2,FALSE))) | U136: =MID(Tableau_Lancer_la_requête_à_partir_de_CEGID[[#This Row],[libcomposant]],1,5) -> C2062
A137: C1416 | B137: 44694 | C137: DEC | D137: 151173 | E137: ACC | F137: 9911122032A | G137: AXE DE MANILLE Ø6MM 17-4 PH | H137: C1416 OUTIL DE FORGE (PLAQUETTES 66*29) | I137: 500 | J137: 120 | K137: =_xlfn.ISOWEEKNUM(Tableau_Lancer_la_requête_à_partir_de_CEGID[[#This Row],[wop_dateacc]]) -> 19 | M137: =IF(ISNA(VLOOKUP(Tableau_Lancer_la_requête_à_partir_de_CEGID[[#This Row],[wob_codecomposant]]&" N°1",Feuil2!D:E,2,FALSE)),"",(VLOOKUP(Tableau_Lancer_la_requête_à_partir_de_CEGID[[#This Row],[wob_codecomposant]]&" N°1",Feuil2!D:E,2,FALSE))) -> 005316 | N137: =IF(OR(VLOOKUP(M137,Feuil2!E:F,2,FALSE)>1,VLOOKUP(Feuil1!M137,Feuil2!E:I,4,)+7<Tableau_Lancer_la_requête_à_partir_de_CEGID[[#This Row],[wop_dateacc]]),Feuil1!M137,"") -> 005316 | O137: =IF(ISNA(VLOOKUP(Tableau_Lancer_la_requête_à_partir_de_CEGID[[#This Row],[wob_codecomposant]]&" N°2",Feuil2!D:E,2,FALSE)),"",(VLOOKUP(Tableau_Lancer_la_requête_à_partir_de_CEGID[[#This Row],[wob_codecomposant]]&" N°2",Feuil2!D:E,2,FALSE))) -> 017819 | P137: =IF(ISNA(VLOOKUP(Tableau_Lancer_la_requête_à_partir_de_CEGID[[#This Row],[wob_codecomposant]]&" N°3",Feuil2!D:E,2,FALSE)),"",(VLOOKUP(Tableau_Lancer_la_requête_à_partir_de_CEGID[[#This Row],[wob_codecomposant]]&" N°3",Feuil2!D:E,2,FALSE))) | Q137: =IF(ISNA(VLOOKUP(Tableau_Lancer_la_requête_à_partir_de_CEGID[[#This Row],[wob_codecomposant]]&" N°4",Feuil2!D:E,2,FALSE)),"",(VLOOKUP(Tableau_Lancer_la_requête_à_partir_de_CEGID[[#This Row],[wob_codecomposant]]&" N°4",Feuil2!D:E,2,FALSE))) | R137: =IF(ISNA(VLOOKUP(Tableau_Lancer_la_requête_à_partir_de_CEGID[[#This Row],[wob_codecomposant]]&" N°5",Feuil2!D:E,2,FALSE)),"",(VLOOKUP(Tableau_Lancer_la_requête_à_partir_de_CEGID[[#This Row],[wob_codecomposant]]&" N°5",Feuil2!D:E,2,FALSE))) | S137: =IF(ISNA(VLOOKUP(Tableau_Lancer_la_requête_à_partir_de_CEGID[[#This Row],[wob_codecomposant]]&" N°6",Feuil2!D:E,2,FALSE)),"",(VLOOKUP(Tableau_Lancer_la_requête_à_partir_de_CEGID[[#This Row],[wob_codecomposant]]&" N°16",Feuil2!D:E,2,FALSE))) | T137: =IF(ISNA(VLOOKUP(Tableau_Lancer_la_requête_à_partir_de_CEGID[[#This Row],[wob_codecomposant]]&" N°7",Feuil2!D:E,2,FALSE)),"",(VLOOKUP(Tableau_Lancer_la_requête_à_partir_de_CEGID[[#This Row],[wob_codecomposant]]&" N°7",Feuil2!D:E,2,FALSE))) | U137: =MID(Tableau_Lancer_la_requête_à_partir_de_CEGID[[#This Row],[libcomposant]],1,5) -> C1416
A138: C1990 | B138: 44694 | C138: DEC | D138: 149692 | E138: IND | F138: 3025010011 | G138: MANCHE TABLE LAGUIOLE | H138: C1990 OUTIL DE FORGE | I138: 1030 | J138: 120 | K138: =_xlfn.ISOWEEKNUM(Tableau_Lancer_la_requête_à_partir_de_CEGID[[#This Row],[wop_dateacc]]) -> 19 | M138: =IF(ISNA(VLOOKUP(Tableau_Lancer_la_requête_à_partir_de_CEGID[[#This Row],[wob_codecomposant]]&" N°1",Feuil2!D:E,2,FALSE)),"",(VLOOKUP(Tableau_Lancer_la_requête_à_partir_de_CEGID[[#This Row],[wob_codecomposant]]&" N°1",Feuil2!D:E,2,FALSE))) -> 026319 | N138: =IF(OR(VLOOKUP(M138,Feuil2!E:F,2,FALSE)>1,VLOOKUP(Feuil1!M138,Feuil2!E:I,4,)+7<Tableau_Lancer_la_requête_à_partir_de_CEGID[[#This Row],[wop_dateacc]]),Feuil1!M138,"") -> 026319 | O138: =IF(ISNA(VLOOKUP(Tableau_Lancer_la_requête_à_partir_de_CEGID[[#This Row],[wob_codecomposant]]&" N°2",Feuil2!D:E,2,FALSE)),"",(VLOOKUP(Tableau_Lancer_la_requête_à_partir_de_CEGID[[#This Row],[wob_codecomposant]]&" N°2",Feuil2!D:E,2,FALSE))) | P138: =IF(ISNA(VLOOKUP(Tableau_Lancer_la_requête_à_partir_de_CEGID[[#This Row],[wob_codecomposant]]&" N°3",Feuil2!D:E,2,FALSE)),"",(VLOOKUP(Tableau_Lancer_la_requête_à_partir_de_CEGID[[#This Row],[wob_codecomposant]]&" N°3",Feuil2!D:E,2,FALSE))) | Q138: =IF(ISNA(VLOOKUP(Tableau_Lancer_la_requête_à_partir_de_CEGID[[#This Row],[wob_codecomposant]]&" N°4",Feuil2!D:E,2,FALSE)),"",(VLOOKUP(Tableau_Lancer_la_requête_à_partir_de_CEGID[[#This Row],[wob_codecomposant]]&" N°4",Feuil2!D:E,2,FALSE))) | R138: =IF(ISNA(VLOOKUP(Tableau_Lancer_la_requête_à_partir_de_CEGID[[#This Row],[wob_codecomposant]]&" N°5",Feuil2!D:E,2,FALSE)),"",(VLOOKUP(Tableau_Lancer_la_requête_à_partir_de_CEGID[[#This Row],[wob_codecomposant]]&" N°5",Feuil2!D:E,2,FALSE))) | S138: =IF(ISNA(VLOOKUP(Tableau_Lancer_la_requête_à_partir_de_CEGID[[#This Row],[wob_codecomposant]]&" N°6",Feuil2!D:E,2,FALSE)),"",(VLOOKUP(Tableau_Lancer_la_requête_à_partir_de_CEGID[[#This Row],[wob_codecomposant]]&" N°16",Feuil2!D:E,2,FALSE))) | T138: =IF(ISNA(VLOOKUP(Tableau_Lancer_la_requête_à_partir_de_CEGID[[#This Row],[wob_codecomposant]]&" N°7",Feuil2!D:E,2,FALSE)),"",(VLOOKUP(Tableau_Lancer_la_requête_à_partir_de_CEGID[[#This Row],[wob_codecomposant]]&" N°7",Feuil2!D:E,2,FALSE))) | U138: =MID(Tableau_Lancer_la_requête_à_partir_de_CEGID[[#This Row],[libcomposant]],1,5) -> C1990
A139: C1170W2 | B139: 44693 | C139: DEC | D139: 152497 | E139: MED | F139: 2453090027 | G139: BRUT DE METAPHYSE DE REV MONO SFPH27 0077 | H139: C1170W2 - OUTIL DE FORGE | I139: 62 | J139: 190 | K139: =_xlfn.ISOWEEKNUM(Tableau_Lancer_la_requête_à_partir_de_CEGID[[#This Row],[wop_dateacc]]) -> 19 | M139: =IF(ISNA(VLOOKUP(Tableau_Lancer_la_requête_à_partir_de_CEGID[[#This Row],[wob_codecomposant]]&" N°1",Feuil2!D:E,2,FALSE)),"",(VLOOKUP(Tableau_Lancer_la_requête_à_partir_de_CEGID[[#This Row],[wob_codecomposant]]&" N°1",Feuil2!D:E,2,FALSE))) | N139: =IF(OR(VLOOKUP(M139,Feuil2!E:F,2,FALSE)>1,VLOOKUP(Feuil1!M139,Feuil2!E:I,4,)+7<Tableau_Lancer_la_requête_à_partir_de_CEGID[[#This Row],[wop_dateacc]]),Feuil1!M139,"") -> #N/A | O139: =IF(ISNA(VLOOKUP(Tableau_Lancer_la_requête_à_partir_de_CEGID[[#This Row],[wob_codecomposant]]&" N°2",Feuil2!D:E,2,FALSE)),"",(VLOOKUP(Tableau_Lancer_la_requête_à_partir_de_CEGID[[#This Row],[wob_codecomposant]]&" N°2",Feuil2!D:E,2,FALSE))) | P139: =IF(ISNA(VLOOKUP(Tableau_Lancer_la_requête_à_partir_de_CEGID[[#This Row],[wob_codecomposant]]&" N°3",Feuil2!D:E,2,FALSE)),"",(VLOOKUP(Tableau_Lancer_la_requête_à_partir_de_CEGID[[#This Row],[wob_codecomposant]]&" N°3",Feuil2!D:E,2,FALSE))) | Q139: =IF(ISNA(VLOOKUP(Tableau_Lancer_la_requête_à_partir_de_CEGID[[#This Row],[wob_codecomposant]]&" N°4",Feuil2!D:E,2,FALSE)),"",(VLOOKUP(Tableau_Lancer_la_requête_à_partir_de_CEGID[[#This Row],[wob_codecomposant]]&" N°4",Feuil2!D:E,2,FALSE))) | R139: =IF(ISNA(VLOOKUP(Tableau_Lancer_la_requête_à_partir_de_CEGID[[#This Row],[wob_codecomposant]]&" N°5",Feuil2!D:E,2,FALSE)),"",(VLOOKUP(Tableau_Lancer_la_requête_à_partir_de_CEGID[[#This Row],[wob_codecomposant]]&" N°5",Feuil2!D:E,2,FALSE))) | S139: =IF(ISNA(VLOOKUP(Tableau_Lancer_la_requête_à_partir_de_CEGID[[#This Row],[wob_codecomposant]]&" N°6",Feuil2!D:E,2,FALSE)),"",(VLOOKUP(Tableau_Lancer_la_requête_à_partir_de_CEGID[[#This Row],[wob_codecomposant]]&" N°16",Feuil2!D:E,2,FALSE))) | T139: =IF(ISNA(VLOOKUP(Tableau_Lancer_la_requête_à_partir_de_CEGID[[#This Row],[wob_codecomposant]]&" N°7",Feuil2!D:E,2,FALSE)),"",(VLOOKUP(Tableau_Lancer_la_requête_à_partir_de_CEGID[[#This Row],[wob_codecomposant]]&" N°7",Feuil2!D:E,2,FALSE))) | U139: =MID(Tableau_Lancer_la_requête_à_partir_de_CEGID[[#This Row],[libcomposant]],1,5) -> C1170
A140: C175 | B140: 44693 | C140: DEC | D140: 154866 | E140: ACC | F140: 9902124811A | G140: CORPS MOUSQ. SECU. 75MM | H140: C175 OUTIL DE FORGE | I140: 3000 | J140: 140 | K140: =_xlfn.ISOWEEKNUM(Tableau_Lancer_la_requête_à_partir_de_CEGID[[#This Row],[wop_dateacc]]) -> 19 | M140: =IF(ISNA(VLOOKUP(Tableau_Lancer_la_requête_à_partir_de_CEGID[[#This Row],[wob_codecomposant]]&" N°1",Feuil2!D:E,2,FALSE)),"",(VLOOKUP(Tableau_Lancer_la_requête_à_partir_de_CEGID[[#This Row],[wob_codecomposant]]&" N°1",Feuil2!D:E,2,FALSE))) -> 003221 | N140: =IF(OR(VLOOKUP(M140,Feuil2!E:F,2,FALSE)>1,VLOOKUP(Feuil1!M140,Feuil2!E:I,4,)+7<Tableau_Lancer_la_requête_à_partir_de_CEGID[[#This Row],[wop_dateacc]]),Feuil1!M140,"") -> 003221 | O140: =IF(ISNA(VLOOKUP(Tableau_Lancer_la_requête_à_partir_de_CEGID[[#This Row],[wob_codecomposant]]&" N°2",Feuil2!D:E,2,FALSE)),"",(VLOOKUP(Tableau_Lancer_la_requête_à_partir_de_CEGID[[#This Row],[wob_codecomposant]]&" N°2",Feuil2!D:E,2,FALSE))) -> 010621 | P140: =IF(ISNA(VLOOKUP(Tableau_Lancer_la_requête_à_partir_de_CEGID[[#This Row],[wob_codecomposant]]&" N°3",Feuil2!D:E,2,FALSE)),"",(VLOOKUP(Tableau_Lancer_la_requête_à_partir_de_CEGID[[#This Row],[wob_codecomposant]]&" N°3",Feuil2!D:E,2,FALSE))) -> 010721 | Q140: =IF(ISNA(VLOOKUP(Tableau_Lancer_la_requête_à_partir_de_CEGID[[#This Row],[wob_codecomposant]]&" N°4",Feuil2!D:E,2,FALSE)),"",(VLOOKUP(Tableau_Lancer_la_requête_à_partir_de_CEGID[[#This Row],[wob_codecomposant]]&" N°4",Feuil2!D:E,2,FALSE))) | R140: =IF(ISNA(VLOOKUP(Tableau_Lancer_la_requête_à_partir_de_CEGID[[#This Row],[wob_codecomposant]]&" N°5",Feuil2!D:E,2,FALSE)),"",(VLOOKUP(Tableau_Lancer_la_requête_à_partir_de_CEGID[[#This Row],[wob_codecomposant]]&" N°5",Feuil2!D:E,2,FALSE))) | S140: =IF(ISNA(VLOOKUP(Tableau_Lancer_la_requête_à_partir_de_CEGID[[#This Row],[wob_codecomposant]]&" N°6",Feuil2!D:E,2,FALSE)),"",(VLOOKUP(Tableau_Lancer_la_requête_à_partir_de_CEGID[[#This Row],[wob_codecomposant]]&" N°16",Feuil2!D:E,2,FALSE))) | T140: =IF(ISNA(VLOOKUP(Tableau_Lancer_la_requête_à_partir_de_CEGID[[#This Row],[wob_codecomposant]]&" N°7",Feuil2!D:E,2,FALSE)),"",(VLOOKUP(Tableau_Lancer_la_requête_à_partir_de_CEGID[[#This Row],[wob_codecomposant]]&" N°7",Feuil2!D:E,2,FALSE))) | U140: =MID(Tableau_Lancer_la_requête_à_partir_de_CEGID[[#This Row],[libcomposant]],1,5) -> C175
A141: C869B | B141: 44693 | C141: DEC | D141: 153502 | E141: IND | F141: 6246151001 | G141: COLLINOX AMARRAGE ESCALADE P550000 OGA | H141: C869B OUTIL DE FORGE | I141: 2100 | J141: 120 | K141: =_xlfn.ISOWEEKNUM(Tableau_Lancer_la_requête_à_partir_de_CEGID[[#This Row],[wop_dateacc]]) -> 19 | M141: =IF(ISNA(VLOOKUP(Tableau_Lancer_la_requête_à_partir_de_CEGID[[#This Row],[wob_codecomposant]]&" N°1",Feuil2!D:E,2,FALSE)),"",(VLOOKUP(Tableau_Lancer_la_requête_à_partir_de_CEGID[[#This Row],[wob_codecomposant]]&" N°1",Feuil2!D:E,2,FALSE))) -> 002621 | N141: =IF(OR(VLOOKUP(M141,Feuil2!E:F,2,FALSE)>1,VLOOKUP(Feuil1!M141,Feuil2!E:I,4,)+7<Tableau_Lancer_la_requête_à_partir_de_CEGID[[#This Row],[wop_dateacc]]),Feuil1!M141,"") -> 002621 | O141: =IF(ISNA(VLOOKUP(Tableau_Lancer_la_requête_à_partir_de_CEGID[[#This Row],[wob_codecomposant]]&" N°2",Feuil2!D:E,2,FALSE)),"",(VLOOKUP(Tableau_Lancer_la_requête_à_partir_de_CEGID[[#This Row],[wob_codecomposant]]&" N°2",Feuil2!D:E,2,FALSE))) -> 012216 | P141: =IF(ISNA(VLOOKUP(Tableau_Lancer_la_requête_à_partir_de_CEGID[[#This Row],[wob_codecomposant]]&" N°3",Feuil2!D:E,2,FALSE)),"",(VLOOKUP(Tableau_Lancer_la_requête_à_partir_de_CEGID[[#This Row],[wob_codecomposant]]&" N°3",Feuil2!D:E,2,FALSE))) | Q141: =IF(ISNA(VLOOKUP(Tableau_Lancer_la_requête_à_partir_de_CEGID[[#This Row],[wob_codecomposant]]&" N°4",Feuil2!D:E,2,FALSE)),"",(VLOOKUP(Tableau_Lancer_la_requête_à_partir_de_CEGID[[#This Row],[wob_codecomposant]]&" N°4",Feuil2!D:E,2,FALSE))) | R141: =IF(ISNA(VLOOKUP(Tableau_Lancer_la_requête_à_partir_de_CEGID[[#This Row],[wob_codecomposant]]&" N°5",Feuil2!D:E,2,FALSE)),"",(VLOOKUP(Tableau_Lancer_la_requête_à_partir_de_CEGID[[#This Row],[wob_codecomposant]]&" N°5",Feuil2!D:E,2,FALSE))) | S141: =IF(ISNA(VLOOKUP(Tableau_Lancer_la_requête_à_partir_de_CEGID[[#This Row],[wob_codecomposant]]&" N°6",Feuil2!D:E,2,FALSE)),"",(VLOOKUP(Tableau_Lancer_la_requête_à_partir_de_CEGID[[#This Row],[wob_codecomposant]]&" N°16",Feuil2!D:E,2,FALSE))) | T141: =IF(ISNA(VLOOKUP(Tableau_Lancer_la_requête_à_partir_de_CEGID[[#This Row],[wob_codecomposant]]&" N°7",Feuil2!D:E,2,FALSE)),"",(VLOOKUP(Tableau_Lancer_la_requête_à_partir_de_CEGID[[#This Row],[wob_codecomposant]]&" N°7",Feuil2!D:E,2,FALSE))) | U141: =MID(Tableau_Lancer_la_requête_à_partir_de_CEGID[[#This Row],[libcomposant]],1,5) -> C869B
A142: C950B | B142: 44693 | C142: DEC | D142: 154768 | E142: IND | F142: 1060110024 | G142: DE TRIANGULAIRE DTAT AB 511 | H142: C950B - OUTIL DE FORGE Eb+Fin | I142: 210 | J142: 140 | K142: =_xlfn.ISOWEEKNUM(Tableau_Lancer_la_requête_à_partir_de_CEGID[[#This Row],[wop_dateacc]]) -> 19 | M142: =IF(ISNA(VLOOKUP(Tableau_Lancer_la_requête_à_partir_de_CEGID[[#This Row],[wob_codecomposant]]&" N°1",Feuil2!D:E,2,FALSE)),"",(VLOOKUP(Tableau_Lancer_la_requête_à_partir_de_CEGID[[#This Row],[wob_codecomposant]]&" N°1",Feuil2!D:E,2,FALSE))) -> 005616 | N142: =IF(OR(VLOOKUP(M142,Feuil2!E:F,2,FALSE)>1,VLOOKUP(Feuil1!M142,Feuil2!E:I,4,)+7<Tableau_Lancer_la_requête_à_partir_de_CEGID[[#This Row],[wop_dateacc]]),Feuil1!M142,"") -> 005616 | O142: =IF(ISNA(VLOOKUP(Tableau_Lancer_la_requête_à_partir_de_CEGID[[#This Row],[wob_codecomposant]]&" N°2",Feuil2!D:E,2,FALSE)),"",(VLOOKUP(Tableau_Lancer_la_requête_à_partir_de_CEGID[[#This Row],[wob_codecomposant]]&" N°2",Feuil2!D:E,2,FALSE))) | P142: =IF(ISNA(VLOOKUP(Tableau_Lancer_la_requête_à_partir_de_CEGID[[#This Row],[wob_codecomposant]]&" N°3",Feuil2!D:E,2,FALSE)),"",(VLOOKUP(Tableau_Lancer_la_requête_à_partir_de_CEGID[[#This Row],[wob_codecomposant]]&" N°3",Feuil2!D:E,2,FALSE))) | Q142: =IF(ISNA(VLOOKUP(Tableau_Lancer_la_requête_à_partir_de_CEGID[[#This Row],[wob_codecomposant]]&" N°4",Feuil2!D:E,2,FALSE)),"",(VLOOKUP(Tableau_Lancer_la_requête_à_partir_de_CEGID[[#This Row],[wob_codecomposant]]&" N°4",Feuil2!D:E,2,FALSE))) | R142: =IF(ISNA(VLOOKUP(Tableau_Lancer_la_requête_à_partir_de_CEGID[[#This Row],[wob_codecomposant]]&" N°5",Feuil2!D:E,2,FALSE)),"",(VLOOKUP(Tableau_Lancer_la_requête_à_partir_de_CEGID[[#This Row],[wob_codecomposant]]&" N°5",Feuil2!D:E,2,FALSE))) | S142: =IF(ISNA(VLOOKUP(Tableau_Lancer_la_requête_à_partir_de_CEGID[[#This Row],[wob_codecomposant]]&" N°6",Feuil2!D:E,2,FALSE)),"",(VLOOKUP(Tableau_Lancer_la_requête_à_partir_de_CEGID[[#This Row],[wob_codecomposant]]&" N°16",Feuil2!D:E,2,FALSE))) | T142: =IF(ISNA(VLOOKUP(Tableau_Lancer_la_requête_à_partir_de_CEGID[[#This Row],[wob_codecomposant]]&" N°7",Feuil2!D:E,2,FALSE)),"",(VLOOKUP(Tableau_Lancer_la_requête_à_partir_de_CEGID[[#This Row],[wob_codecomposant]]&" N°7",Feuil2!D:E,2,FALSE))) | U142: =MID(Tableau_Lancer_la_requête_à_partir_de_CEGID[[#This Row],[libcomposant]],1,5) -> C950B
A143: C1438W2 | B143: 44692 | C143: DEC | D143: 153480 | E143: ACC | F143: 9942126541 | G143: CORPS DE MOUSQUETON BRUT SPEEDLINK SL 2.9 | H143: C1438W2 OUTIL DE FORGE | I143: 1000 | J143: 120 | K143: =_xlfn.ISOWEEKNUM(Tableau_Lancer_la_requête_à_partir_de_CEGID[[#This Row],[wop_dateacc]]) -> 19 | M143: =IF(ISNA(VLOOKUP(Tableau_Lancer_la_requête_à_partir_de_CEGID[[#This Row],[wob_codecomposant]]&" N°1",Feuil2!D:E,2,FALSE)),"",(VLOOKUP(Tableau_Lancer_la_requête_à_partir_de_CEGID[[#This Row],[wob_codecomposant]]&" N°1",Feuil2!D:E,2,FALSE))) -> 038416 | N143: =IF(OR(VLOOKUP(M143,Feuil2!E:F,2,FALSE)>1,VLOOKUP(Feuil1!M143,Feuil2!E:I,4,)+7<Tableau_Lancer_la_requête_à_partir_de_CEGID[[#This Row],[wop_dateacc]]),Feuil1!M143,"") -> 038416 | O143: =IF(ISNA(VLOOKUP(Tableau_Lancer_la_requête_à_partir_de_CEGID[[#This Row],[wob_codecomposant]]&" N°2",Feuil2!D:E,2,FALSE)),"",(VLOOKUP(Tableau_Lancer_la_requête_à_partir_de_CEGID[[#This Row],[wob_codecomposant]]&" N°2",Feuil2!D:E,2,FALSE))) | P143: =IF(ISNA(VLOOKUP(Tableau_Lancer_la_requête_à_partir_de_CEGID[[#This Row],[wob_codecomposant]]&" N°3",Feuil2!D:E,2,FALSE)),"",(VLOOKUP(Tableau_Lancer_la_requête_à_partir_de_CEGID[[#This Row],[wob_codecomposant]]&" N°3",Feuil2!D:E,2,FALSE))) | Q143: =IF(ISNA(VLOOKUP(Tableau_Lancer_la_requête_à_partir_de_CEGID[[#This Row],[wob_codecomposant]]&" N°4",Feuil2!D:E,2,FALSE)),"",(VLOOKUP(Tableau_Lancer_la_requête_à_partir_de_CEGID[[#This Row],[wob_codecomposant]]&" N°4",Feuil2!D:E,2,FALSE))) | R143: =IF(ISNA(VLOOKUP(Tableau_Lancer_la_requête_à_partir_de_CEGID[[#This Row],[wob_codecomposant]]&" N°5",Feuil2!D:E,2,FALSE)),"",(VLOOKUP(Tableau_Lancer_la_requête_à_partir_de_CEGID[[#This Row],[wob_codecomposant]]&" N°5",Feuil2!D:E,2,FALSE))) | S143: =IF(ISNA(VLOOKUP(Tableau_Lancer_la_requête_à_partir_de_CEGID[[#This Row],[wob_codecomposant]]&" N°6",Feuil2!D:E,2,FALSE)),"",(VLOOKUP(Tableau_Lancer_la_requête_à_partir_de_CEGID[[#This Row],[wob_codecomposant]]&" N°16",Feuil2!D:E,2,FALSE))) | T143: =IF(ISNA(VLOOKUP(Tableau_Lancer_la_requête_à_partir_de_CEGID[[#This Row],[wob_codecomposant]]&" N°7",Feuil2!D:E,2,FALSE)),"",(VLOOKUP(Tableau_Lancer_la_requête_à_partir_de_CEGID[[#This Row],[wob_codecomposant]]&" N°7",Feuil2!D:E,2,FALSE))) | U143: =MID(Tableau_Lancer_la_requête_à_partir_de_CEGID[[#This Row],[libcomposant]],1,5) -> C1438
A144: C79 | B144: 44692 | C144: DEC | D144: 153445 | E144: ACC | F144: 9901124131A | G144: CORPS MAN. LONGUE o6MM IMPER. | H144: C79 OUTIL DE FORGE | I144: 2500 | J144: 130 | K144: =_xlfn.ISOWEEKNUM(Tableau_Lancer_la_requête_à_partir_de_CEGID[[#This Row],[wop_dateacc]]) -> 19 | M144: =IF(ISNA(VLOOKUP(Tableau_Lancer_la_requête_à_partir_de_CEGID[[#This Row],[wob_codecomposant]]&" N°1",Feuil2!D:E,2,FALSE)),"",(VLOOKUP(Tableau_Lancer_la_requête_à_partir_de_CEGID[[#This Row],[wob_codecomposant]]&" N°1",Feuil2!D:E,2,FALSE))) -> 010415 | N144: =IF(OR(VLOOKUP(M144,Feuil2!E:F,2,FALSE)>1,VLOOKUP(Feuil1!M144,Feuil2!E:I,4,)+7<Tableau_Lancer_la_requête_à_partir_de_CEGID[[#This Row],[wop_dateacc]]),Feuil1!M144,"") -> 010415 | O144: =IF(ISNA(VLOOKUP(Tableau_Lancer_la_requête_à_partir_de_CEGID[[#This Row],[wob_codecomposant]]&" N°2",Feuil2!D:E,2,FALSE)),"",(VLOOKUP(Tableau_Lancer_la_requête_à_partir_de_CEGID[[#This Row],[wob_codecomposant]]&" N°2",Feuil2!D:E,2,FALSE))) -> 021419 | P144: =IF(ISNA(VLOOKUP(Tableau_Lancer_la_requête_à_partir_de_CEGID[[#This Row],[wob_codecomposant]]&" N°3",Feuil2!D:E,2,FALSE)),"",(VLOOKUP(Tableau_Lancer_la_requête_à_partir_de_CEGID[[#This Row],[wob_codecomposant]]&" N°3",Feuil2!D:E,2,FALSE))) | Q144: =IF(ISNA(VLOOKUP(Tableau_Lancer_la_requête_à_partir_de_CEGID[[#This Row],[wob_codecomposant]]&" N°4",Feuil2!D:E,2,FALSE)),"",(VLOOKUP(Tableau_Lancer_la_requête_à_partir_de_CEGID[[#This Row],[wob_codecomposant]]&" N°4",Feuil2!D:E,2,FALSE))) | R144: =IF(ISNA(VLOOKUP(Tableau_Lancer_la_requête_à_partir_de_CEGID[[#This Row],[wob_codecomposant]]&" N°5",Feuil2!D:E,2,FALSE)),"",(VLOOKUP(Tableau_Lancer_la_requête_à_partir_de_CEGID[[#This Row],[wob_codecomposant]]&" N°5",Feuil2!D:E,2,FALSE))) | S144: =IF(ISNA(VLOOKUP(Tableau_Lancer_la_requête_à_partir_de_CEGID[[#This Row],[wob_codecomposant]]&" N°6",Feuil2!D:E,2,FALSE)),"",(VLOOKUP(Tableau_Lancer_la_requête_à_partir_de_CEGID[[#This Row],[wob_codecomposant]]&" N°16",Feuil2!D:E,2,FALSE))) | T144: =IF(ISNA(VLOOKUP(Tableau_Lancer_la_requête_à_partir_de_CEGID[[#This Row],[wob_codecomposant]]&" N°7",Feuil2!D:E,2,FALSE)),"",(VLOOKUP(Tableau_Lancer_la_requête_à_partir_de_CEGID[[#This Row],[wob_codecomposant]]&" N°7",Feuil2!D:E,2,FALSE))) | U144: =MID(Tableau_Lancer_la_requête_à_partir_de_CEGID[[#This Row],[libcomposant]],1,5) -> C79 O
B145: 44692 | C145: DEC | D145: 152656 | E145: ACC | F145: 9956125042 | G145: ETR. CAD. ARTIC. TA6V o6MM | I145: 200 | J145: 120 | K145: =_xlfn.ISOWEEKNUM(Tableau_Lancer_la_requête_à_partir_de_CEGID[[#This Row],[wop_dateacc]]) -> 19 | M145: =IF(ISNA(VLOOKUP(Tableau_Lancer_la_requête_à_partir_de_CEGID[[#This Row],[wob_codecomposant]]&" N°1",Feuil2!D:E,2,FALSE)),"",(VLOOKUP(Tableau_Lancer_la_requête_à_partir_de_CEGID[[#This Row],[wob_codecomposant]]&" N°1",Feuil2!D:E,2,FALSE))) | N145: =IF(OR(VLOOKUP(M145,Feuil2!E:F,2,FALSE)>1,VLOOKUP(Feuil1!M145,Feuil2!E:I,4,)+7<Tableau_Lancer_la_requête_à_partir_de_CEGID[[#This Row],[wop_dateacc]]),Feuil1!M145,"") -> #N/A | O145: =IF(ISNA(VLOOKUP(Tableau_Lancer_la_requête_à_partir_de_CEGID[[#This Row],[wob_codecomposant]]&" N°2",Feuil2!D:E,2,FALSE)),"",(VLOOKUP(Tableau_Lancer_la_requête_à_partir_de_CEGID[[#This Row],[wob_codecomposant]]&" N°2",Feuil2!D:E,2,FALSE))) | P145: =IF(ISNA(VLOOKUP(Tableau_Lancer_la_requête_à_partir_de_CEGID[[#This Row],[wob_codecomposant]]&" N°3",Feuil2!D:E,2,FALSE)),"",(VLOOKUP(Tableau_Lancer_la_requête_à_partir_de_CEGID[[#This Row],[wob_codecomposant]]&" N°3",Feuil2!D:E,2,FALSE))) | Q145: =IF(ISNA(VLOOKUP(Tableau_Lancer_la_requête_à_partir_de_CEGID[[#This Row],[wob_codecomposant]]&" N°4",Feuil2!D:E,2,FALSE)),"",(VLOOKUP(Tableau_Lancer_la_requête_à_partir_de_CEGID[[#This Row],[wob_codecomposant]]&" N°4",Feuil2!D:E,2,FALSE))) | R145: =IF(ISNA(VLOOKUP(Tableau_Lancer_la_requête_à_partir_de_CEGID[[#This Row],[wob_codecomposant]]&" N°5",Feuil2!D:E,2,FALSE)),"",(VLOOKUP(Tableau_Lancer_la_requête_à_partir_de_CEGID[[#This Row],[wob_codecomposant]]&" N°5",Feuil2!D:E,2,FALSE))) | S145: =IF(ISNA(VLOOKUP(Tableau_Lancer_la_requête_à_partir_de_CEGID[[#This Row],[wob_codecomposant]]&" N°6",Feuil2!D:E,2,FALSE)),"",(VLOOKUP(Tableau_Lancer_la_requête_à_partir_de_CEGID[[#This Row],[wob_codecomposant]]&" N°16",Feuil2!D:E,2,FALSE))) | T145: =IF(ISNA(VLOOKUP(Tableau_Lancer_la_requête_à_partir_de_CEGID[[#This Row],[wob_codecomposant]]&" N°7",Feuil2!D:E,2,FALSE)),"",(VLOOKUP(Tableau_Lancer_la_requête_à_partir_de_CEGID[[#This Row],[wob_codecomposant]]&" N°7",Feuil2!D:E,2,FALSE))) | U145: =MID(Tableau_Lancer_la_requête_à_partir_de_CEGID[[#This Row],[libcomposant]],1,5)
A146: 6246150007_24 | B146: 44691 | C146: DEC | D146: 149679 | E146: IND | F146: 6246150007 | G146: TETE SUMMIT BRUT | H146: C4Panne - OUTIL DE FORGE panne | I146: 1267 | J146: 200 | K146: =_xlfn.ISOWEEKNUM(Tableau_Lancer_la_requête_à_partir_de_CEGID[[#This Row],[wop_dateacc]]) -> 19 | M146: =IF(ISNA(VLOOKUP(Tableau_Lancer_la_requête_à_partir_de_CEGID[[#This Row],[wob_codecomposant]]&" N°1",Feuil2!D:E,2,FALSE)),"",(VLOOKUP(Tableau_Lancer_la_requête_à_partir_de_CEGID[[#This Row],[wob_codecomposant]]&" N°1",Feuil2!D:E,2,FALSE))) -> 008619 | N146: =IF(OR(VLOOKUP(M146,Feuil2!E:F,2,FALSE)>1,VLOOKUP(Feuil1!M146,Feuil2!E:I,4,)+7<Tableau_Lancer_la_requête_à_partir_de_CEGID[[#This Row],[wop_dateacc]]),Feuil1!M146,"") -> 008619 | O146: =IF(ISNA(VLOOKUP(Tableau_Lancer_la_requête_à_partir_de_CEGID[[#This Row],[wob_codecomposant]]&" N°2",Feuil2!D:E,2,FALSE)),"",(VLOOKUP(Tableau_Lancer_la_requête_à_partir_de_CEGID[[#This Row],[wob_codecomposant]]&" N°2",Feuil2!D:E,2,FALSE))) -> 014219 | P146: =IF(ISNA(VLOOKUP(Tableau_Lancer_la_requête_à_partir_de_CEGID[[#This Row],[wob_codecomposant]]&" N°3",Feuil2!D:E,2,FALSE)),"",(VLOOKUP(Tableau_Lancer_la_requête_à_partir_de_CEGID[[#This Row],[wob_codecomposant]]&" N°3",Feuil2!D:E,2,FALSE))) -> 017121 | Q146: =IF(ISNA(VLOOKUP(Tableau_Lancer_la_requête_à_partir_de_CEGID[[#This Row],[wob_codecomposant]]&" N°4",Feuil2!D:E,2,FALSE)),"",(VLOOKUP(Tableau_Lancer_la_requête_à_partir_de_CEGID[[#This Row],[wob_codecomposant]]&" N°4",Feuil2!D:E,2,FALSE))) | R146: =IF(ISNA(VLOOKUP(Tableau_Lancer_la_requête_à_partir_de_CEGID[[#This Row],[wob_codecomposant]]&" N°5",Feuil2!D:E,2,FALSE)),"",(VLOOKUP(Tableau_Lancer_la_requête_à_partir_de_CEGID[[#This Row],[wob_codecomposant]]&" N°5",Feuil2!D:E,2,FALSE))) | S146: =IF(ISNA(VLOOKUP(Tableau_Lancer_la_requête_à_partir_de_CEGID[[#This Row],[wob_codecomposant]]&" N°6",Feuil2!D:E,2,FALSE)),"",(VLOOKUP(Tableau_Lancer_la_requête_à_partir_de_CEGID[[#This Row],[wob_codecomposant]]&" N°16",Feuil2!D:E,2,FALSE))) | T146: =IF(ISNA(VLOOKUP(Tableau_Lancer_la_requête_à_partir_de_CEGID[[#This Row],[wob_codecomposant]]&" N°7",Feuil2!D:E,2,FALSE)),"",(VLOOKUP(Tableau_Lancer_la_requête_à_partir_de_CEGID[[#This Row],[wob_codecomposant]]&" N°7",Feuil2!D:E,2,FALSE))) | U146: =MID(Tableau_Lancer_la_requête_à_partir_de_CEGID[[#This Row],[libcomposant]],1,5) -> C4Pan
A147: 2996_04 | B147: 44691 | C147: DEC | D147: 153432 | E147: ACC | F147: 2996 | G147: Main de fer - Pour chaine de 12 mm - Long: 125 mm | H147: C2063 OUTIL DE FORGE Finition | I147: 500 | J147: 150 | K147: =_xlfn.ISOWEEKNUM(Tableau_Lancer_la_requête_à_partir_de_CEGID[[#This Row],[wop_dateacc]]) -> 19 | M147: =IF(ISNA(VLOOKUP(Tableau_Lancer_la_requête_à_partir_de_CEGID[[#This Row],[wob_codecomposant]]&" N°1",Feuil2!D:E,2,FALSE)),"",(VLOOKUP(Tableau_Lancer_la_requête_à_partir_de_CEGID[[#This Row],[wob_codecomposant]]&" N°1",Feuil2!D:E,2,FALSE))) -> 031319 | N147: =IF(OR(VLOOKUP(M147,Feuil2!E:F,2,FALSE)>1,VLOOKUP(Feuil1!M147,Feuil2!E:I,4,)+7<Tableau_Lancer_la_requête_à_partir_de_CEGID[[#This Row],[wop_dateacc]]),Feuil1!M147,"") -> 031319 | O147: =IF(ISNA(VLOOKUP(Tableau_Lancer_la_requête_à_partir_de_CEGID[[#This Row],[wob_codecomposant]]&" N°2",Feuil2!D:E,2,FALSE)),"",(VLOOKUP(Tableau_Lancer_la_requête_à_partir_de_CEGID[[#This Row],[wob_codecomposant]]&" N°2",Feuil2!D:E,2,FALSE))) | P147: =IF(ISNA(VLOOKUP(Tableau_Lancer_la_requête_à_partir_de_CEGID[[#This Row],[wob_codecomposant]]&" N°3",Feuil2!D:E,2,FALSE)),"",(VLOOKUP(Tableau_Lancer_la_requête_à_partir_de_CEGID[[#This Row],[wob_codecomposant]]&" N°3",Feuil2!D:E,2,FALSE))) | Q147: =IF(ISNA(VLOOKUP(Tableau_Lancer_la_requête_à_partir_de_CEGID[[#This Row],[wob_codecomposant]]&" N°4",Feuil2!D:E,2,FALSE)),"",(VLOOKUP(Tableau_Lancer_la_requête_à_partir_de_CEGID[[#This Row],[wob_codecomposant]]&" N°4",Feuil2!D:E,2,FALSE))) | R147: =IF(ISNA(VLOOKUP(Tableau_Lancer_la_requête_à_partir_de_CEGID[[#This Row],[wob_codecomposant]]&" N°5",Feuil2!D:E,2,FALSE)),"",(VLOOKUP(Tableau_Lancer_la_requête_à_partir_de_CEGID[[#This Row],[wob_codecomposant]]&" N°5",Feuil2!D:E,2,FALSE))) | S147: =IF(ISNA(VLOOKUP(Tableau_Lancer_la_requête_à_partir_de_CEGID[[#This Row],[wob_codecomposant]]&" N°6",Feuil2!D:E,2,FALSE)),"",(VLOOKUP(Tableau_Lancer_la_requête_à_partir_de_CEGID[[#This Row],[wob_codecomposant]]&" N°16",Feuil2!D:E,2,FALSE))) | T147: =IF(ISNA(VLOOKUP(Tableau_Lancer_la_requête_à_partir_de_CEGID[[#This Row],[wob_codecomposant]]&" N°7",Feuil2!D:E,2,FALSE)),"",(VLOOKUP(Tableau_Lancer_la_requête_à_partir_de_CEGID[[#This Row],[wob_codecomposant]]&" N°7",Feuil2!D:E,2,FALSE))) | U147: =MID(Tableau_Lancer_la_requête_à_partir_de_CEGID[[#This Row],[libcomposant]],1,5) -> C2063
A148: 9906126041_14 | B148: 44691 | C148: DEC | D148: 151141 | E148: ACC | F148: 9906126041APILON | G148: EMBASE CADENE ARTICULEE Ø6 V2 | H148: C680A - OUTIL DE FORGE Pilon | I148: 7000 | J148: 120 | K148: =_xlfn.ISOWEEKNUM(Tableau_Lancer_la_requête_à_partir_de_CEGID[[#This Row],[wop_dateacc]]) -> 19 | M148: =IF(ISNA(VLOOKUP(Tableau_Lancer_la_requête_à_partir_de_CEGID[[#This Row],[wob_codecomposant]]&" N°1",Feuil2!D:E,2,FALSE)),"",(VLOOKUP(Tableau_Lancer_la_requête_à_partir_de_CEGID[[#This Row],[wob_codecomposant]]&" N°1",Feuil2!D:E,2,FALSE))) -> 015717 | N148: =IF(OR(VLOOKUP(M148,Feuil2!E:F,2,FALSE)>1,VLOOKUP(Feuil1!M148,Feuil2!E:I,4,)+7<Tableau_Lancer_la_requête_à_partir_de_CEGID[[#This Row],[wop_dateacc]]),Feuil1!M148,"") -> 015717 | O148: =IF(ISNA(VLOOKUP(Tableau_Lancer_la_requête_à_partir_de_CEGID[[#This Row],[wob_codecomposant]]&" N°2",Feuil2!D:E,2,FALSE)),"",(VLOOKUP(Tableau_Lancer_la_requête_à_partir_de_CEGID[[#This Row],[wob_codecomposant]]&" N°2",Feuil2!D:E,2,FALSE))) -> 019515 | P148: =IF(ISNA(VLOOKUP(Tableau_Lancer_la_requête_à_partir_de_CEGID[[#This Row],[wob_codecomposant]]&" N°3",Feuil2!D:E,2,FALSE)),"",(VLOOKUP(Tableau_Lancer_la_requête_à_partir_de_CEGID[[#This Row],[wob_codecomposant]]&" N°3",Feuil2!D:E,2,FALSE))) -> 026019 | Q148: =IF(ISNA(VLOOKUP(Tableau_Lancer_la_requête_à_partir_de_CEGID[[#This Row],[wob_codecomposant]]&" N°4",Feuil2!D:E,2,FALSE)),"",(VLOOKUP(Tableau_Lancer_la_requête_à_partir_de_CEGID[[#This Row],[wob_codecomposant]]&" N°4",Feuil2!D:E,2,FALSE))) -> 039516 | R148: =IF(ISNA(VLOOKUP(Tableau_Lancer_la_requête_à_partir_de_CEGID[[#This Row],[wob_codecomposant]]&" N°5",Feuil2!D:E,2,FALSE)),"",(VLOOKUP(Tableau_Lancer_la_requête_à_partir_de_CEGID[[#This Row],[wob_codecomposant]]&" N°5",Feuil2!D:E,2,FALSE))) | S148: =IF(ISNA(VLOOKUP(Tableau_Lancer_la_requête_à_partir_de_CEGID[[#This Row],[wob_codecomposant]]&" N°6",Feuil2!D:E,2,FALSE)),"",(VLOOKUP(Tableau_Lancer_la_requête_à_partir_de_CEGID[[#This Row],[wob_codecomposant]]&" N°16",Feuil2!D:E,2,FALSE))) | T148: =IF(ISNA(VLOOKUP(Tableau_Lancer_la_requête_à_partir_de_CEGID[[#This Row],[wob_codecomposant]]&" N°7",Feuil2!D:E,2,FALSE)),"",(VLOOKUP(Tableau_Lancer_la_requête_à_partir_de_CEGID[[#This Row],[wob_codecomposant]]&" N°7",Feuil2!D:E,2,FALSE))) | U148: =MID(Tableau_Lancer_la_requête_à_partir_de_CEGID[[#This Row],[libcomposant]],1,5) -> C680A
A149: 9902124701_14 | B149: 44691 | C149: DEC | D149: 154861 | E149: ACC | F149: 9902124701A | G149: CORPS MOUSQ. DRISSE OEIL 2470 | H149: C47 OUTIL DE FORGE PPPG | I149: 4000 | J149: 120 | K149: =_xlfn.ISOWEEKNUM(Tableau_Lancer_la_requête_à_partir_de_CEGID[[#This Row],[wop_dateacc]]) -> 19 | M149: =IF(ISNA(VLOOKUP(Tableau_Lancer_la_requête_à_partir_de_CEGID[[#This Row],[wob_codecomposant]]&" N°1",Feuil2!D:E,2,FALSE)),"",(VLOOKUP(Tableau_Lancer_la_requête_à_partir_de_CEGID[[#This Row],[wob_codecomposant]]&" N°1",Feuil2!D:E,2,FALSE))) -> 003121 | N149: =IF(OR(VLOOKUP(M149,Feuil2!E:F,2,FALSE)>1,VLOOKUP(Feuil1!M149,Feuil2!E:I,4,)+7<Tableau_Lancer_la_requête_à_partir_de_CEGID[[#This Row],[wop_dateacc]]),Feuil1!M149,"") -> 003121 | O149: =IF(ISNA(VLOOKUP(Tableau_Lancer_la_requête_à_partir_de_CEGID[[#This Row],[wob_codecomposant]]&" N°2",Feuil2!D:E,2,FALSE)),"",(VLOOKUP(Tableau_Lancer_la_requête_à_partir_de_CEGID[[#This Row],[wob_codecomposant]]&" N°2",Feuil2!D:E,2,FALSE))) -> 024222 | P149: =IF(ISNA(VLOOKUP(Tableau_Lancer_la_requête_à_partir_de_CEGID[[#This Row],[wob_codecomposant]]&" N°3",Feuil2!D:E,2,FALSE)),"",(VLOOKUP(Tableau_Lancer_la_requête_à_partir_de_CEGID[[#This Row],[wob_codecomposant]]&" N°3",Feuil2!D:E,2,FALSE))) | Q149: =IF(ISNA(VLOOKUP(Tableau_Lancer_la_requête_à_partir_de_CEGID[[#This Row],[wob_codecomposant]]&" N°4",Feuil2!D:E,2,FALSE)),"",(VLOOKUP(Tableau_Lancer_la_requête_à_partir_de_CEGID[[#This Row],[wob_codecomposant]]&" N°4",Feuil2!D:E,2,FALSE))) | R149: =IF(ISNA(VLOOKUP(Tableau_Lancer_la_requête_à_partir_de_CEGID[[#This Row],[wob_codecomposant]]&" N°5",Feuil2!D:E,2,FALSE)),"",(VLOOKUP(Tableau_Lancer_la_requête_à_partir_de_CEGID[[#This Row],[wob_codecomposant]]&" N°5",Feuil2!D:E,2,FALSE))) | S149: =IF(ISNA(VLOOKUP(Tableau_Lancer_la_requête_à_partir_de_CEGID[[#This Row],[wob_codecomposant]]&" N°6",Feuil2!D:E,2,FALSE)),"",(VLOOKUP(Tableau_Lancer_la_requête_à_partir_de_CEGID[[#This Row],[wob_codecomposant]]&" N°16",Feuil2!D:E,2,FALSE))) | T149: =IF(ISNA(VLOOKUP(Tableau_Lancer_la_requête_à_partir_de_CEGID[[#This Row],[wob_codecomposant]]&" N°7",Feuil2!D:E,2,FALSE)),"",(VLOOKUP(Tableau_Lancer_la_requête_à_partir_de_CEGID[[#This Row],[wob_codecomposant]]&" N°7",Feuil2!D:E,2,FALSE))) | U149: =MID(Tableau_Lancer_la_requête_à_partir_de_CEGID[[#This Row],[libcomposant]],1,5) -> C47 O
A150: C1992 | B150: 44691 | C150: DEC | D150: 149700 | E150: IND | F150: 3025010010 | G150: MANCHE GOYON N°3 | H150: C1992 OUTIL DE FORGE | I150: 1030 | J150: 120 | K150: =_xlfn.ISOWEEKNUM(Tableau_Lancer_la_requête_à_partir_de_CEGID[[#This Row],[wop_dateacc]]) -> 19 | M150: =IF(ISNA(VLOOKUP(Tableau_Lancer_la_requête_à_partir_de_CEGID[[#This Row],[wob_codecomposant]]&" N°1",Feuil2!D:E,2,FALSE)),"",(VLOOKUP(Tableau_Lancer_la_requête_à_partir_de_CEGID[[#This Row],[wob_codecomposant]]&" N°1",Feuil2!D:E,2,FALSE))) -> 019321 | N150: =IF(OR(VLOOKUP(M150,Feuil2!E:F,2,FALSE)>1,VLOOKUP(Feuil1!M150,Feuil2!E:I,4,)+7<Tableau_Lancer_la_requête_à_partir_de_CEGID[[#This Row],[wop_dateacc]]),Feuil1!M150,"") -> 019321 | O150: =IF(ISNA(VLOOKUP(Tableau_Lancer_la_requête_à_partir_de_CEGID[[#This Row],[wob_codecomposant]]&" N°2",Feuil2!D:E,2,FALSE)),"",(VLOOKUP(Tableau_Lancer_la_requête_à_partir_de_CEGID[[#This Row],[wob_codecomposant]]&" N°2",Feuil2!D:E,2,FALSE))) -> 031017 | P150: =IF(ISNA(VLOOKUP(Tableau_Lancer_la_requête_à_partir_de_CEGID[[#This Row],[wob_codecomposant]]&" N°3",Feuil2!D:E,2,FALSE)),"",(VLOOKUP(Tableau_Lancer_la_requête_à_partir_de_CEGID[[#This Row],[wob_codecomposant]]&" N°3",Feuil2!D:E,2,FALSE))) | Q150: =IF(ISNA(VLOOKUP(Tableau_Lancer_la_requête_à_partir_de_CEGID[[#This Row],[wob_codecomposant]]&" N°4",Feuil2!D:E,2,FALSE)),"",(VLOOKUP(Tableau_Lancer_la_requête_à_partir_de_CEGID[[#This Row],[wob_codecomposant]]&" N°4",Feuil2!D:E,2,FALSE))) | R150: =IF(ISNA(VLOOKUP(Tableau_Lancer_la_requête_à_partir_de_CEGID[[#This Row],[wob_codecomposant]]&" N°5",Feuil2!D:E,2,FALSE)),"",(VLOOKUP(Tableau_Lancer_la_requête_à_partir_de_CEGID[[#This Row],[wob_codecomposant]]&" N°5",Feuil2!D:E,2,FALSE))) | S150: =IF(ISNA(VLOOKUP(Tableau_Lancer_la_requête_à_partir_de_CEGID[[#This Row],[wob_codecomposant]]&" N°6",Feuil2!D:E,2,FALSE)),"",(VLOOKUP(Tableau_Lancer_la_requête_à_partir_de_CEGID[[#This Row],[wob_codecomposant]]&" N°16",Feuil2!D:E,2,FALSE))) | T150: =IF(ISNA(VLOOKUP(Tableau_Lancer_la_requête_à_partir_de_CEGID[[#This Row],[wob_codecomposant]]&" N°7",Feuil2!D:E,2,FALSE)),"",(VLOOKUP(Tableau_Lancer_la_requête_à_partir_de_CEGID[[#This Row],[wob_codecomposant]]&" N°7",Feuil2!D:E,2,FALSE))) | U150: =MID(Tableau_Lancer_la_requête_à_partir_de_CEGID[[#This Row],[libcomposant]],1,5) -> C1992
A151: 6246150007_24 | B151: 44690 | C151: DEC | D151: 149680 | E151: IND | F151: 6246150007 | G151: TETE SUMMIT BRUT | H151: C4Panne - OUTIL DE FORGE panne | I151: 1287 | J151: 200 | K151: =_xlfn.ISOWEEKNUM(Tableau_Lancer_la_requête_à_partir_de_CEGID[[#This Row],[wop_dateacc]]) -> 19 | M151: =IF(ISNA(VLOOKUP(Tableau_Lancer_la_requête_à_partir_de_CEGID[[#This Row],[wob_codecomposant]]&" N°1",Feuil2!D:E,2,FALSE)),"",(VLOOKUP(Tableau_Lancer_la_requête_à_partir_de_CEGID[[#This Row],[wob_codecomposant]]&" N°1",Feuil2!D:E,2,FALSE))) -> 008619 | N151: =IF(OR(VLOOKUP(M151,Feuil2!E:F,2,FALSE)>1,VLOOKUP(Feuil1!M151,Feuil2!E:I,4,)+7<Tableau_Lancer_la_requête_à_partir_de_CEGID[[#This Row],[wop_dateacc]]),Feuil1!M151,"") -> 008619 | O151: =IF(ISNA(VLOOKUP(Tableau_Lancer_la_requête_à_partir_de_CEGID[[#This Row],[wob_codecomposant]]&" N°2",Feuil2!D:E,2,FALSE)),"",(VLOOKUP(Tableau_Lancer_la_requête_à_partir_de_CEGID[[#This Row],[wob_codecomposant]]&" N°2",Feuil2!D:E,2,FALSE))) -> 014219 | P151: =IF(ISNA(VLOOKUP(Tableau_Lancer_la_requête_à_partir_de_CEGID[[#This Row],[wob_codecomposant]]&" N°3",Feuil2!D:E,2,FALSE)),"",(VLOOKUP(Tableau_Lancer_la_requête_à_partir_de_CEGID[[#This Row],[wob_codecomposant]]&" N°3",Feuil2!D:E,2,FALSE))) -> 017121 | Q151: =IF(ISNA(VLOOKUP(Tableau_Lancer_la_requête_à_partir_de_CEGID[[#This Row],[wob_codecomposant]]&" N°4",Feuil2!D:E,2,FALSE)),"",(VLOOKUP(Tableau_Lancer_la_requête_à_partir_de_CEGID[[#This Row],[wob_codecomposant]]&" N°4",Feuil2!D:E,2,FALSE))) | R151: =IF(ISNA(VLOOKUP(Tableau_Lancer_la_requête_à_partir_de_CEGID[[#This Row],[wob_codecomposant]]&" N°5",Feuil2!D:E,2,FALSE)),"",(VLOOKUP(Tableau_Lancer_la_requête_à_partir_de_CEGID[[#This Row],[wob_codecomposant]]&" N°5",Feuil2!D:E,2,FALSE))) | S151: =IF(ISNA(VLOOKUP(Tableau_Lancer_la_requête_à_partir_de_CEGID[[#This Row],[wob_codecomposant]]&" N°6",Feuil2!D:E,2,FALSE)),"",(VLOOKUP(Tableau_Lancer_la_requête_à_partir_de_CEGID[[#This Row],[wob_codecomposant]]&" N°16",Feuil2!D:E,2,FALSE))) | T151: =IF(ISNA(VLOOKUP(Tableau_Lancer_la_requête_à_partir_de_CEGID[[#This Row],[wob_codecomposant]]&" N°7",Feuil2!D:E,2,FALSE)),"",(VLOOKUP(Tableau_Lancer_la_requête_à_partir_de_CEGID[[#This Row],[wob_codecomposant]]&" N°7",Feuil2!D:E,2,FALSE))) | U151: =MID(Tableau_Lancer_la_requête_à_partir_de_CEGID[[#This Row],[libcomposant]],1,5) -> C4Pan
