Workbook
Name NomArticle2: OFFSET(#REF!,0,0,COUNTIF(#REF!,"*"),-1)

Sheet CHIFFRAGE
A2: FOURNITURE | B2: Indiquer un mot clé et proposition déroulante avec les différentes références portant le mot clé
D3: 1 | E3: =VLOOKUP(CHIFFRAGE!A3,'BASE ARTICLE'!A:D,4,FALSE) -> #N/A | F3: =D3*E3 -> #N/A
D4: 1 | E4: =VLOOKUP(CHIFFRAGE!A4,'BASE ARTICLE'!A:D,4,FALSE) -> #N/A | F4: =D4*E4 -> #N/A | G4: Ajout de ligne automatique
D5: 1 | E5: =VLOOKUP(CHIFFRAGE!A5,'BASE ARTICLE'!A:D,4,FALSE) -> #N/A | F5: =D5*E5 -> #N/A
D6: 0 | E6: =VLOOKUP(CHIFFRAGE!A6,'BASE ARTICLE'!A:D,4,FALSE) -> #N/A | F6: =D6*E6 -> #N/A
D7: 0 | E7: =VLOOKUP(CHIFFRAGE!A7,'BASE ARTICLE'!A:D,4,FALSE) -> #N/A | F7: =D7*E7 -> #N/A
D8: 0 | E8: =VLOOKUP(CHIFFRAGE!A8,'BASE ARTICLE'!A:D,4,FALSE) -> #N/A | F8: =D8*E8 -> #N/A
D9: 1 | E9: =VLOOKUP(CHIFFRAGE!A9,'BASE ARTICLE'!A:D,4,FALSE) -> #N/A | F9: =D9*E9 -> #N/A
A11: Montant FO | F11: =SUM(F3:F8) -> #N/A

Sheet BASE ARTICLE
A1: Description article | B1: Article acheté | C1: Article vendu | D1: TARIF FOURNISSEUR | F1: Chercher la lettre | G1: Fréquence | H1: La Valeur | I1: Tableau nécessaire pour un article et à décupler si l'on veut ajouter un article. Est-ce possible d'ajouter des articles autrement?
A2: Article 1 | B2: N | C2: Y | D2: 0 | F2: =IF(ISNUMBER(SEARCH([1]PRC!$A$3,A2,1)),1,"") -> 1 | G2: =IF(F2<>"",COUNTIF(F$2:$F2,1),"") -> 1 | H2: =IFERROR(INDEX(A:A,MATCH(ROW(G1),G:G,0)),1) -> Article 1
A3: Article 2 | B3: Y | C3: N | D3: 1 | F3: =IF(ISNUMBER(SEARCH([1]PRC!$A$3,A3,1)),1,"") -> 1 | G3: =IF(F3<>"",COUNTIF(F$2:$F3,1),"") -> 2 | H3: =IFERROR(INDEX(A:A,MATCH(ROW(G2),G:G,0)),1) -> Article 2
A4: Article 3 | B4: Y | C4: N | D4: 1 | F4: =IF(ISNUMBER(SEARCH([1]PRC!$A$3,A4,1)),1,"") -> 1 | G4: =IF(F4<>"",COUNTIF(F$2:$F4,1),"") -> 3 | H4: =IFERROR(INDEX(A:A,MATCH(ROW(G3),G:G,0)),1) -> Article 3
A5: Article 4 | B5: Y | C5: N | D5: 1 | F5: =IF(ISNUMBER(SEARCH([1]PRC!$A$3,A5,1)),1,"") -> 1 | G5: =IF(F5<>"",COUNTIF(F$2:$F5,1),"") -> 4 | H5: =IFERROR(INDEX(A:A,MATCH(ROW(G4),G:G,0)),1) -> Article 4
A6: Article 5 | B6: Y | C6: N | D6: 5.9 | F6: =IF(ISNUMBER(SEARCH([1]PRC!$A$3,A6,1)),1,"") -> 1 | G6: =IF(F6<>"",COUNTIF(F$2:$F6,1),"") -> 5 | H6: =IFERROR(INDEX(A:A,MATCH(ROW(G5),G:G,0)),1) -> Article 5
A7: Article 6 | B7: Y | C7: N | D7: 10.16 | F7: =IF(ISNUMBER(SEARCH([1]PRC!$A$3,A7,1)),1,"") -> 1 | G7: =IF(F7<>"",COUNTIF(F$2:$F7,1),"") -> 6 | H7: =IFERROR(INDEX(A:A,MATCH(ROW(G6),G:G,0)),1) -> Article 6
A8: Article 7 | B8: Y | C8: N | D8: 13.42 | F8: =IF(ISNUMBER(SEARCH([1]PRC!$A$3,A8,1)),1,"") -> 1 | G8: =IF(F8<>"",COUNTIF(F$2:$F8,1),"") -> 7 | H8: =IFERROR(INDEX(A:A,MATCH(ROW(G7),G:G,0)),1) -> Article 7
A9: Article 8 | B9: Y | C9: Y | D9: 375.5 | F9: =IF(ISNUMBER(SEARCH([1]PRC!$A$3,A9,1)),1,"") -> 1 | G9: =IF(F9<>"",COUNTIF(F$2:$F9,1),"") -> 8 | H9: =IFERROR(INDEX(A:A,MATCH(ROW(G8),G:G,0)),1) -> Article 8
A10: Article 9 | B10: Y | C10: Y | D10: 413.03 | F10: =IF(ISNUMBER(SEARCH([1]PRC!$A$3,A10,1)),1,"") -> 1 | G10: =IF(F10<>"",COUNTIF(F$2:$F10,1),"") -> 9 | H10: =IFERROR(INDEX(A:A,MATCH(ROW(G9),G:G,0)),1) -> Article 9
A11: Article 10 | B11: Y | C11: N | D11: 17.3 | F11: =IF(ISNUMBER(SEARCH([1]PRC!$A$3,A11,1)),1,"") -> 1 | G11: =IF(F11<>"",COUNTIF(F$2:$F11,1),"") -> 10 | H11: =IFERROR(INDEX(A:A,MATCH(ROW(G10),G:G,0)),1) -> Article 10
A12: Article 11 | B12: Y | C12: N | D12: 9.3 | F12: =IF(ISNUMBER(SEARCH([1]PRC!$A$3,A12,1)),1,"") -> 1 | G12: =IF(F12<>"",COUNTIF(F$2:$F12,1),"") -> 11 | H12: =IFERROR(INDEX(A:A,MATCH(ROW(G11),G:G,0)),1) -> Article 11
A13: Article 12 | B13: Y | C13: N | D13: 9.3 | F13: =IF(ISNUMBER(SEARCH([1]PRC!$A$3,A13,1)),1,"") -> 1 | G13: =IF(F13<>"",COUNTIF(F$2:$F13,1),"") -> 12 | H13: =IFERROR(INDEX(A:A,MATCH(ROW(G12),G:G,0)),1) -> Article 12
... A53: Machine 14 | B53: Y | C53: Y | D53: 507 | F53: =IF(ISNUMBER(SEARCH([1]PRC!$A$3,A53,1)),1,"") -> 1 | G53: =IF(F53<>"",COUNTIF(F$2:$F53,1),"") -> 52 | H53: =IFERROR(INDEX(A:A,MATCH(ROW(G52),G:G,0)),1) -> Machine 14
