Workbook

Sheet Feuil1
B2: N° client | C2: Marque | D2: Modèle | E2: Année | F2: VH | G2: Tarif | H2: A faire
B3: 154 | C3: FIAT | D3: 500X | E3: 2015 | F3: TRUE | G3: 2700 | H3: Oui
B4: 159 | C4: HONDA | D4: CR-Z | E4: 2012 | F4: FALSE | G4: 4000 | H4: Oui
B5: 301 | C5: DACIA | D5: DUSTER | E5: 2017 | F5: FALSE | G5: 3500 | H5: Non
B6: 164 | C6: AUDI | D6: A3 | E6: 2018 | F6: TRUE | G6: 4000 | H6: Non
B7: 192 | C7: MERCEDES | D7: CLASSE A | E7: 2019 | F7: FALSE | G7: 6500 | H7: Oui | M7: Oui
B8: 171 | C8: MINI | D8: MINI | E8: 2017 | F8: FALSE | G8: 4400 | H8: Oui | M8: Non
B9: 144 | C9: AUDI | D9: Q5 | E9: 2017 | F9: TRUE | G9: 5250 | H9: Non
B10: 287 | C10: PEUGEOT | D10: 407 | E10: 2012 | F10: FALSE | G10: 1800 | H10: Non
B11: 180 | C11: OPEL | D11: CORSA | E11: 2015 | F11: TRUE | G11: 3000 | H11: Non
B12: 409 | C12: AUDI | D12: A3 | E12: 2019 | F12: FALSE | G12: 4600 | H12: Non
B13: 354 | C13: SEAT | D13: LEON | E13: 2015 | F13: TRUE | G13: 4400 | H13: Oui
B14: 85 | C14: RENAULT | D14: CLIO | E14: 2018 | F14: TRUE | G14: 2850 | H14: Non
B15: 18 | C15: DACIA | D15: SANDERO | E15: 2014 | F15: FALSE | G15: 2100 | H15: Oui
B16: 90 | C16: AUDI | D16: A6 | E16: 2017 | F16: TRUE | G16: 3700 | H16: Oui
B17: 81 | C17: MERCEDES | D17: AMG | E17: 2019 | F17: TRUE | G17: 9500 | H17: Non
B18: 282 | C18: TOYOTA | D18: YARIS | E18: 2013 | F18: TRUE | G18: 1750 | H18: Oui
B19: 33 | C19: SEAT | D19: IBIZA | E19: 2017 | F19: FALSE | G19: 4800 | H19: Non
B20: 500 | C20: ALFA ROMEO | D20: GIULIETTA | E20: 2019 | F20: FALSE | G20: 6450 | H20: Oui
B21: 77 | C21: FIAT | D21: PANDA | E21: 2015 | F21: FALSE | G21: 2800 | H21: Non
B22: 128 | C22: BMW | D22: SERIE 3 | E22: 2014 | F22: FALSE | G22: 4800 | H22: Non
... B30: 195 | C30: OPEL | D30: ASTRA | E30: 2016 | F30: TRUE | G30: 2900 | H30: Non
B31: 202 | C31: PEUGEOT | D31: 5008 | E31: 2018 | F31: FALSE | G31: 6800 | H31: Non
B32: 99 | C32: CITROEN | D32: C4 | E32: 2017 | F32: TRUE | G32: 4200 | H32: Non
B33: 40 | C33: PEUGEOT | D33: 407 | E33: 2012 | F33: TRUE | G33: 1800 | H33: Oui

Sheet Feuil2
B2: N° client | C2: Marque | D2: Modèle | E2: Année | F2: VH | G2: Tarif
B3: =IF(Feuil1!$H3="OUI",Feuil1!B3,"") -> 154 | C3: =IF(Feuil1!$H3="OUI",Feuil1!C3,"") -> FIAT | D3: =IF(Feuil1!$H3="OUI",Feuil1!D3,"") -> 500X | E3: =IF(Feuil1!$H3="OUI",Feuil1!E3,"") -> 2015 | F3: =IF(Feuil1!$H3="OUI",Feuil1!F3,"") -> TRUE | G3: =IF(Feuil1!$H3="OUI",Feuil1!G3,"") -> 2700
B4: =IF(Feuil1!$H4="OUI",Feuil1!B4,"") -> 159 | C4: =IF(Feuil1!$H4="OUI",Feuil1!C4,"") -> HONDA | D4: =IF(Feuil1!$H4="OUI",Feuil1!D4,"") -> CR-Z | E4: =IF(Feuil1!$H4="OUI",Feuil1!E4,"") -> 2012 | F4: =IF(Feuil1!$H4="OUI",Feuil1!F4,"") -> FALSE | G4: =IF(Feuil1!$H4="OUI",Feuil1!G4,"") -> 4000
B5: =IF(Feuil1!$H5="OUI",Feuil1!B5,"") | C5: =IF(Feuil1!$H5="OUI",Feuil1!C5,"") | D5: =IF(Feuil1!$H5="OUI",Feuil1!D5,"") | E5: =IF(Feuil1!$H5="OUI",Feuil1!E5,"") | F5: =IF(Feuil1!$H5="OUI",Feuil1!F5,"") | G5: =IF(Feuil1!$H5="OUI",Feuil1!G5,"")
B6: =IF(Feuil1!$H6="OUI",Feuil1!B6,"") | C6: =IF(Feuil1!$H6="OUI",Feuil1!C6,"") | D6: =IF(Feuil1!$H6="OUI",Feuil1!D6,"") | E6: =IF(Feuil1!$H6="OUI",Feuil1!E6,"") | F6: =IF(Feuil1!$H6="OUI",Feuil1!F6,"") | G6: =IF(Feuil1!$H6="OUI",Feuil1!G6,"")
B7: =IF(Feuil1!$H7="OUI",Feuil1!B7,"") -> 192 | C7: =IF(Feuil1!$H7="OUI",Feuil1!C7,"") -> MERCEDES | D7: =IF(Feuil1!$H7="OUI",Feuil1!D7,"") -> CLASSE A | E7: =IF(Feuil1!$H7="OUI",Feuil1!E7,"") -> 2019 | F7: =IF(Feuil1!$H7="OUI",Feuil1!F7,"") -> FALSE | G7: =IF(Feuil1!$H7="OUI",Feuil1!G7,"") -> 6500
B8: =IF(Feuil1!$H8="OUI",Feuil1!B8,"") -> 171 | C8: =IF(Feuil1!$H8="OUI",Feuil1!C8,"") -> MINI | D8: =IF(Feuil1!$H8="OUI",Feuil1!D8,"") -> MINI | E8: =IF(Feuil1!$H8="OUI",Feuil1!E8,"") -> 2017 | F8: =IF(Feuil1!$H8="OUI",Feuil1!F8,"") -> FALSE | G8: =IF(Feuil1!$H8="OUI",Feuil1!G8,"") -> 4400
B9: =IF(Feuil1!$H9="OUI",Feuil1!B9,"") | C9: =IF(Feuil1!$H9="OUI",Feuil1!C9,"") | D9: =IF(Feuil1!$H9="OUI",Feuil1!D9,"") | E9: =IF(Feuil1!$H9="OUI",Feuil1!E9,"") | F9: =IF(Feuil1!$H9="OUI",Feuil1!F9,"") | G9: =IF(Feuil1!$H9="OUI",Feuil1!G9,"")
B10: =IF(Feuil1!$H10="OUI",Feuil1!B10,"") | C10: =IF(Feuil1!$H10="OUI",Feuil1!C10,"") | D10: =IF(Feuil1!$H10="OUI",Feuil1!D10,"") | E10: =IF(Feuil1!$H10="OUI",Feuil1!E10,"") | F10: =IF(Feuil1!$H10="OUI",Feuil1!F10,"") | G10: =IF(Feuil1!$H10="OUI",Feuil1!G10,"")
B11: =IF(Feuil1!$H11="OUI",Feuil1!B11,"") | C11: =IF(Feuil1!$H11="OUI",Feuil1!C11,"") | D11: =IF(Feuil1!$H11="OUI",Feuil1!D11,"") | E11: =IF(Feuil1!$H11="OUI",Feuil1!E11,"") | F11: =IF(Feuil1!$H11="OUI",Feuil1!F11,"") | G11: =IF(Feuil1!$H11="OUI",Feuil1!G11,"")
B12: =IF(Feuil1!$H12="OUI",Feuil1!B12,"") | C12: =IF(Feuil1!$H12="OUI",Feuil1!C12,"") | D12: =IF(Feuil1!$H12="OUI",Feuil1!D12,"") | E12: =IF(Feuil1!$H12="OUI",Feuil1!E12,"") | F12: =IF(Feuil1!$H12="OUI",Feuil1!F12,"") | G12: =IF(Feuil1!$H12="OUI",Feuil1!G12,"")
B13: =IF(Feuil1!$H13="OUI",Feuil1!B13,"") -> 354 | C13: =IF(Feuil1!$H13="OUI",Feuil1!C13,"") -> SEAT | D13: =IF(Feuil1!$H13="OUI",Feuil1!D13,"") -> LEON | E13: =IF(Feuil1!$H13="OUI",Feuil1!E13,"") -> 2015 | F13: =IF(Feuil1!$H13="OUI",Feuil1!F13,"") -> TRUE | G13: =IF(Feuil1!$H13="OUI",Feuil1!G13,"") -> 4400
B14: =IF(Feuil1!$H14="OUI",Feuil1!B14,"") | C14: =IF(Feuil1!$H14="OUI",Feuil1!C14,"") | D14: =IF(Feuil1!$H14="OUI",Feuil1!D14,"") | E14: =IF(Feuil1!$H14="OUI",Feuil1!E14,"") | F14: =IF(Feuil1!$H14="OUI",Feuil1!F14,"") | G14: =IF(Feuil1!$H14="OUI",Feuil1!G14,"")
... B33: =IF(Feuil1!$H33="OUI",Feuil1!B33,"") -> 40 | C33: =IF(Feuil1!$H33="OUI",Feuil1!C33,"") -> PEUGEOT | D33: =IF(Feuil1!$H33="OUI",Feuil1!D33,"") -> 407 | E33: =IF(Feuil1!$H33="OUI",Feuil1!E33,"") -> 2012 | F33: =IF(Feuil1!$H33="OUI",Feuil1!F33,"") -> TRUE | G33: =IF(Feuil1!$H33="OUI",Feuil1!G33,"") -> 1800
