Workbook

Sheet base
D2: heures annueltravail | E2: 66.125 | F2: H travail + congés | G2: =SUM(travail!M3:M366)+O34 -> 101.33333 | H2: jour travail | I2: =SUM(travail!H3:H366) -> 140 | K2: Congés | L2: 2022 | N2: date | O2: H | P2: J | R2: CP
D3: amplitude du temps | E3: 0.41666667 | F3: H travail | G3: =G2-M3 -> 91.861111 | H3: jour récup | I3: =SUM(travail!D3:D367) -> 38 | L3: congés pris | M3: =SUM(I4*E4)+O34 -> 9.4722222 | R3: date | S3: Jour
D4: heure jour | E4: 0.30555556 | F4: reste H travail | G4: =G3-E2 -> 25.736111 | H4: jour congés | I4: =SUM(travail!C3:C366)+P34 -> 31 | L4: reste | M4: =E11-M3 -> 0.65277778 | S4: 1
D5: la durée de travail jour | E5: 0.41666667 | H5: congé CP | I5: =SUM(travail!E3:E366) -> 0 | S5: 2
D6: repos quotidien | E6: 0.45833333 | H6: férié | I6: =SUM(travail!F3:F366) -> 9 | S6: 3
D7: durée du travail hebdomadaire | E7: 1.5 | H7: férié travail | I7: =SUM(travail!G3:G366) -> 0
D8: durée du travail hebdomadaire max | E8: 2
D9: repos hebdomadaire | E9: 1.4583333
D10: heures sup mensuel max par mois | E10: 1.0416667 | H10: Total HC travail annuel | I10: =IF(G3-E2<0,0,G3-E2) -> 25.736111 | R10: date
D11: congés | E11: 10.125 | H11: Total HC travail jour | I11: =SUM(travail!O3:O366) -> 12.527778 | S11: 1
D12: heures sup 1 à 14 | E12: 0.052083333 | H12: Total HC travail amplitude | I12: =SUM(travail!R3:R366) -> 0 | S12: 2
D13: heures sup 15 à 25 | E13: 0.0625 | H13: Total HC hedbomadaire | I13: =SUM(travail!W3:W366) -> 8.0555556 | S13: 3
D14: début H nuit | E14: 21 | H14: Toatl HC heure sup mois | I14: =SUM(K18:K29) -> 7.1527778 | S14: 4
D15: heures de nuit | E15: 0.10416667 | S15: 5
D16: heures de dimanche | E16: 0.083333333 | S16: 6
D17: Férié travaillé | E17: 0.083333333 | I17: H SUP | J17: HC | L17: récup | S17: 7
D18: récup 2016 | E18: 15.130556 | H18: janvier | J18: =IF(I18<=E$10,"","Faux") | K18: =IF(SUM(I18-E$10)<0,0,SUM(I18-E$10)) -> 0 | L18: =IF(I18<0.625,I18*$E$12,(0.583333*$E$12)+(I18-0.583333)*$E$13)*24 -> 0 | S18: 8
H19: février | J19: =IF(I19<=E$10,"","Faux") | K19: =IF(SUM(I19-E$10)<0,0,SUM(I19-E$10)) -> 0 | L19: =IF(I19<0.625,I19*$E$12,(0.583333*$E$12)+(I19-0.583333)*$E$13)*24 -> 0 | S19: 9
H20: mars | J20: =IF(I20<=E$10,"","Faux") | K20: =IF(SUM(I20-E$10)<0,0,SUM(I20-E$10)) -> 0 | L20: =IF(I20<0.625,I20*$E$12,(0.583333*$E$12)+(I20-0.583333)*$E$13)*24 -> 0 | S20: 10
H21: avril | J21: =IF(I21<=E$10,"","Faux") | K21: =IF(SUM(I21-E$10)<0,0,SUM(I21-E$10)) -> 0 | L21: =IF(I21<0.625,I21*$E$12,(0.583333*$E$12)+(I21-0.583333)*$E$13)*24 -> 0 | S21: 11
H22: mai | J22: =IF(I22<=E$10,"","Faux") | K22: =IF(SUM(I22-E$10)<0,0,SUM(I22-E$10)) -> 0 | L22: =IF(I22<0.625,I22*$E$12,(0.583333*$E$12)+(I22-0.583333)*$E$13)*24 -> 0
H23: juin | J23: =IF(I23<=E$10,"","Faux") | K23: =IF(SUM(I23-E$10)<0,0,SUM(I23-E$10)) -> 0 | L23: =IF(I23<0.625,I23*$E$12,(0.583333*$E$12)+(I23-0.583333)*$E$13)*24 -> 0
H24: juillet | J24: =IF(I24<=E$10,"","Faux") | K24: =IF(SUM(I24-E$10)<0,0,SUM(I24-E$10)) -> 0 | L24: =IF(I24<0.625,I24*$E$12,(0.583333*$E$12)+(I24-0.583333)*$E$13)*24 -> 0
H25: août | J25: =IF(I25<=E$10,"","Faux") | K25: =IF(SUM(I25-E$10)<0,0,SUM(I25-E$10)) -> 0 | L25: =IF(I25<0.625,I25*$E$12,(0.583333*$E$12)+(I25-0.583333)*$E$13)*24 -> 0
H26: septembre | J26: =IF(I26<=E$10,"","Faux") | K26: =IF(SUM(I26-E$10)<0,0,SUM(I26-E$10)) -> 0 | L26: =IF(I26<0.625,I26*$E$12,(0.583333*$E$12)+(I26-0.583333)*$E$13)*24 -> 0
H27: octobre | I27: =SUM(travail!T276:T306) -> 2.4444444 | J27: =IF(I27<=E$10,"","Faux") -> Faux | K27: =IF(SUM(I27-E$10)<0,0,SUM(I27-E$10)) -> 1.4027778 | L27: =IF(I27<0.625,I27*$E$12,(0.583333*$E$12)+(I27-0.583333)*$E$13)*24 -> 3.5208334
H28: novembre | I28: =SUM(travail!T307:T336) -> 1.5277778 | J28: =IF(I28<=E$10,"","Faux") -> Faux | K28: =IF(SUM(I28-E$10)<0,0,SUM(I28-E$10)) -> 0.48611111 | L28: =IF(I28<0.625,I28*$E$12,(0.583333*$E$12)+(I28-0.583333)*$E$13)*24 -> 2.1458334
H29: décembre | I29: =SUM(travail!T336:T366) -> 6.3055556 | J29: =IF(I29<=E$10,"","Faux") -> Faux | K29: =IF(SUM(I29-E$10)<0,0,SUM(I29-E$10)) -> 5.2638889 | L29: =IF(I29<0.625,I29*$E$12,(0.583333*$E$12)+(I29-0.583333)*$E$13)*24 -> 9.3125001
I31: H récup
H32: 1 à 25 | I32: =SUM(L18:L29) -> 14.979167
H33: nuit | I33: =SUM(travail!AD3:AD366)*E15*24 -> 0
H34: dimanche | I34: =SUM(travail!AE3:AE366)*E16*24 -> 0 | N34: total | O34: =SUM(O3:O16) -> 0 | P34: =SUM(P3:P33) -> 0
H35: férié | I35: =SUM(travail!AF3:AF366)*E17*24 -> 0
H36: HS 2016 | I36: =SUM(E18) -> 15.130556
H37: Total | I37: =SUM(I32:I36) -> 30.109722
I38: =SUM(I3*E4) -> 11.611111
H39: Résultat en H | I39: =I37-I38 -> 18.498611

Sheet travail
A1: 2022
A2: jour | B2: date | C2: C | D2: R | E2: CP | F2: F | G2: FT | H2: J | I2: Début | J2: pause | K2: Fin | M2: h Jour | N2: HC | P2: h amp | Q2: HC | T2: HS jour | U2: h semaine | V2: HC | X2: HS semaine | AD2: H nuit | AE2: H dim | AF2: H férié
A3: dimanche | B3: 41274 | L3: =C3+D3+E3+F3+G3+H3 -> 0 | M3: =K3-I3+IF(I3>K3,1)-J3+(E3*base!E$4)+(D3*base!E$4)+(C3*base!E$4)+(F3*base!E$4) -> 0 | N3: =IF(M3<=base!E$5,"","Faux") | O3: =IF(SUM(M3-base!E$5)<0,0,SUM(M3-base!E$5)) -> 0 | P3: =K3-I3+IF(I3>K3,1) -> 0 | Q3: =IF(P3<=base!E$3,"","Faux") | R3: =IF(SUM(P3-base!E$3)<0,0,SUM(P3-base!E$3)) -> 0 | S3: =L3*SUM(M3:M3) -> 0 | T3: =IF(S3>("36:00"*1),S3-("36:00"*1),0) -> 0 | U3: =SUM(M3:M3) -> 0 | V3: =IF(travail!U3<=base!E$8,"","Faux") | W3: =IF(SUM(U3-base!E$8)<0,0,SUM(U3-base!E$8)) -> 0 | X3: =IF(base!E$7<U3,U3-base!E$7,0) -> 0 | AD3: =IF(SUM(MOD(K3-I3,1)-IF(K3>I3,MAX(0,MIN(K3,base!E$14/24)-MAX(I3,7/24)),MAX(0,base!E$14/24-MAX(I3,7/24))+MAX(0,MIN(K3,base!E$14/24)-7/24)))<0,0,SUM(MOD(K3-I3,1)-IF(K3>I3,MAX(0,MIN(K3,base!E$14/24)-MAX(I3,7/24)),MAX(0,base!E$14/24-MAX(I3,7/24))+MAX(0,MIN(K3,base!E$14/24)-7/24)))) -> 0 | AE3: =M3 -> 0
A4: lundi | B4: 41275 | H4: 1 | I4: 0.30208333 | J4: 0.03125 | K4: 0.75 | L4: =C4+D4+E4+F4+G4+H4 -> 1 | M4: =K4-I4+IF(I4>K4,1)-J4+(E4*base!E$4)+(D4*base!E$4)+(C4*base!E$4)+(F4*base!E$4) -> 0.41666667 | N4: =IF(M4<=base!E$5,"","Faux") | O4: =IF(SUM(M4-base!E$5)<0,0,SUM(M4-base!E$5)) -> 0 | Q4: =IF(P4<=base!E$3,"","Faux") | R4: =IF(SUM(P4-base!E$3)<0,0,SUM(P4-base!E$3)) -> 0 | V4: =IF(travail!U4<=base!E$8,"","Faux") | AD4: =IF(SUM(MOD(K4-I4,1)-IF(K4>I4,MAX(0,MIN(K4,base!E$14/24)-MAX(I4,7/24)),MAX(0,base!E$14/24-MAX(I4,7/24))+MAX(0,MIN(K4,base!E$14/24)-7/24)))<0,0,SUM(MOD(K4-I4,1)-IF(K4>I4,MAX(0,MIN(K4,base!E$14/24)-MAX(I4,7/24)),MAX(0,base!E$14/24-MAX(I4,7/24))+MAX(0,MIN(K4,base!E$14/24)-7/24)))) -> 0 | AF4: =M4*G4*1 -> 0
A5: mardi | B5: 41276 | H5: 1 | I5: 0.30208333 | J5: 0.03125 | K5: 0.75 | L5: =C5+D5+E5+F5+G5+H5 -> 1 | M5: =K5-I5+IF(I5>K5,1)-J5+(E5*base!E$4)+(D5*base!E$4)+(C5*base!E$4)+(F5*base!E$4) -> 0.41666667 | N5: =IF(M5<=base!E$5,"","Faux") | O5: =IF(SUM(M5-base!E$5)<0,0,SUM(M5-base!E$5)) -> 0 | Q5: =IF(P5<=base!E$3,"","Faux") | R5: =IF(SUM(P5-base!E$3)<0,0,SUM(P5-base!E$3)) -> 0 | S5: =L5*SUM(M4:M5) -> 0.83333333 | T5: =IF(S5>("36:00"*1),S5-("36:00"*1),0)-T4 -> 0 | V5: =IF(travail!U5<=base!E$8,"","Faux") | AD5: =IF(SUM(MOD(K5-I5,1)-IF(K5>I5,MAX(0,MIN(K5,base!E$14/24)-MAX(I5,7/24)),MAX(0,base!E$14/24-MAX(I5,7/24))+MAX(0,MIN(K5,base!E$14/24)-7/24)))<0,0,SUM(MOD(K5-I5,1)-IF(K5>I5,MAX(0,MIN(K5,base!E$14/24)-MAX(I5,7/24)),MAX(0,base!E$14/24-MAX(I5,7/24))+MAX(0,MIN(K5,base!E$14/24)-7/24)))) -> 0 | AF5: =M5*G5*1 -> 0
A6: mercredi | B6: 41277 | L6: =C6+D6+E6+F6+G6+H6 -> 0 | M6: =K6-I6+IF(I6>K6,1)-J6+(E6*base!E$4)+(D6*base!E$4)+(C6*base!E$4)+(F6*base!E$4) -> 0 | N6: =IF(M6<=base!E$5,"","Faux") | O6: =IF(SUM(M6-base!E$5)<0,0,SUM(M6-base!E$5)) -> 0 | P6: =K6-I6+IF(I6>K6,1) -> 0 | Q6: =IF(P6<=base!E$3,"","Faux") | R6: =IF(SUM(P6-base!E$3)<0,0,SUM(P6-base!E$3)) -> 0 | S6: =L6*SUM(M4:M6) -> 0 | T6: =IF(S6>("36:00"*1),S6-("36:00"*1),0)-T5 -> 0 | V6: =IF(travail!U6<=base!E$8,"","Faux") | AD6: =IF(SUM(MOD(K6-I6,1)-IF(K6>I6,MAX(0,MIN(K6,base!E$14/24)-MAX(I6,7/24)),MAX(0,base!E$14/24-MAX(I6,7/24))+MAX(0,MIN(K6,base!E$14/24)-7/24)))<0,0,SUM(MOD(K6-I6,1)-IF(K6>I6,MAX(0,MIN(K6,base!E$14/24)-MAX(I6,7/24)),MAX(0,base!E$14/24-MAX(I6,7/24))+MAX(0,MIN(K6,base!E$14/24)-7/24)))) -> 0 | AF6: =M6*G6*1 -> 0
A7: jeudi | B7: 41278 | H7: 1 | I7: 0.30208333 | J7: 0.03125 | K7: 0.75 | L7: =C7+D7+E7+F7+G7+H7 -> 1 | M7: =K7-I7+IF(I7>K7,1)-J7+(E7*base!E$4)+(D7*base!E$4)+(C7*base!E$4)+(F7*base!E$4) -> 0.41666667 | N7: =IF(M7<=base!E$5,"","Faux") | O7: =IF(SUM(M7-base!E$5)<0,0,SUM(M7-base!E$5)) -> 0 | S7: =L7*SUM(M4:M7) -> 1.25 | T7: =IF(S7>("36:00"*1),S7-("36:00"*1),0)-T6 -> 0 | V7: =IF(travail!U7<=base!E$8,"","Faux") | AD7: =IF(SUM(MOD(K7-I7,1)-IF(K7>I7,MAX(0,MIN(K7,base!E$14/24)-MAX(I7,7/24)),MAX(0,base!E$14/24-MAX(I7,7/24))+MAX(0,MIN(K7,base!E$14/24)-7/24)))<0,0,SUM(MOD(K7-I7,1)-IF(K7>I7,MAX(0,MIN(K7,base!E$14/24)-MAX(I7,7/24)),MAX(0,base!E$14/24-MAX(I7,7/24))+MAX(0,MIN(K7,base!E$14/24)-7/24)))) -> 0 | AF7: =M7*G7*1 -> 0
A8: vendredi | B8: 41279 | H8: 1 | I8: 0.30208333 | J8: 0.03125 | K8: 0.75 | L8: =C8+D8+E8+F8+G8+H8 -> 1 | M8: =K8-I8+IF(I8>K8,1)-J8+(E8*base!E$4)+(D8*base!E$4)+(C8*base!E$4)+(F8*base!E$4) -> 0.41666667 | N8: =IF(M8<=base!E$5,"","Faux") | O8: =IF(SUM(M8-base!E$5)<0,0,SUM(M8-base!E$5)) -> 0 | Q8: =IF(P8<=base!E$3,"","Faux") | S8: =L8*SUM(M4:M8) -> 1.6666667 | T8: =IF(S8>("36:00"*1),S8-("36:00"*1),0)-T7 -> 0.16666667 | V8: =IF(travail!U8<=base!E$8,"","Faux") | AD8: =IF(SUM(MOD(K8-I8,1)-IF(K8>I8,MAX(0,MIN(K8,base!E$14/24)-MAX(I8,7/24)),MAX(0,base!E$14/24-MAX(I8,7/24))+MAX(0,MIN(K8,base!E$14/24)-7/24)))<0,0,SUM(MOD(K8-I8,1)-IF(K8>I8,MAX(0,MIN(K8,base!E$14/24)-MAX(I8,7/24)),MAX(0,base!E$14/24-MAX(I8,7/24))+MAX(0,MIN(K8,base!E$14/24)-7/24)))) -> 0 | AF8: =M8*G8*1 -> 0
A9: samedi | B9: 41280 | L9: =C9+D9+E9+F9+G9+H9 -> 0 | M9: =K9-I9+IF(I9>K9,1)-J9+(E9*base!E$4)+(D9*base!E$4)+(C9*base!E$4)+(F9*base!E$4) -> 0 | N9: =IF(M9<=base!E$5,"","Faux") | O9: =IF(SUM(M9-base!E$5)<0,0,SUM(M9-base!E$5)) -> 0 | P9: =K9-I9+IF(I9>K9,1) -> 0 | Q9: =IF(P9<=base!E$3,"","Faux") | R9: =IF(SUM(P9-base!E$3)<0,0,SUM(P9-base!E$3)) -> 0 | S9: =L9*SUM(M4:M9) -> 0 | T9: =IF(SUM(IF(S9>("36:00"*1),S9-("36:00"*1),0)-T7-T8)<0,0,SUM(IF(S9>("36:00"*1),S9-("36:00"*1),0)-T7-T8)) -> 0 | V9: =IF(travail!U9<=base!E$8,"","Faux") | AD9: =IF(SUM(MOD(K9-I9,1)-IF(K9>I9,MAX(0,MIN(K9,base!E$14/24)-MAX(I9,7/24)),MAX(0,base!E$14/24-MAX(I9,7/24))+MAX(0,MIN(K9,base!E$14/24)-7/24)))<0,0,SUM(MOD(K9-I9,1)-IF(K9>I9,MAX(0,MIN(K9,base!E$14/24)-MAX(I9,7/24)),MAX(0,base!E$14/24-MAX(I9,7/24))+MAX(0,MIN(K9,base!E$14/24)-7/24)))) -> 0
A10: dimanche | B10: 41281 | L10: =C10+D10+E10+F10+G10+H10 -> 0 | M10: =K10-I10+IF(I10>K10,1)-J10+(E10*base!E$4)+(D10*base!E$4)+(C10*base!E$4)+(F10*base!E$4) -> 0 | N10: =IF(M10<=base!E$5,"","Faux") | O10: =IF(SUM(M10-base!E$5)<0,0,SUM(M10-base!E$5)) -> 0 | P10: =K10-I10+IF(I10>K10,1) -> 0 | Q10: =IF(P10<=base!E$3,"","Faux") | R10: =IF(SUM(P10-base!E$3)<0,0,SUM(P10-base!E$3)) -> 0 | S10: =L10*SUM(M4:M10) -> 0 | T10: =IF(SUM(IF(S10>("36:00"*1),S10-("36:00"*1),0)-T8-T9)<0,0,SUM(IF(S10>("36:00"*1),S10-("36:00"*1),0)-T8-T9)) -> 0 | U10: =SUM(M4:M10) -> 1.6666667 | V10: =IF(travail!U10<=base!E$8,"","Faux") | W10: =IF(SUM(U10-base!E$8)<0,0,SUM(U10-base!E$8)) -> 0 | X10: =IF(base!E$7<U10,U10-base!E$7,0) -> 0.16666667 | AD10: =IF(SUM(MOD(K10-I10,1)-IF(K10>I10,MAX(0,MIN(K10,base!E$14/24)-MAX(I10,7/24)),MAX(0,base!E$14/24-MAX(I10,7/24))+MAX(0,MIN(K10,base!E$14/24)-7/24)))<0,0,SUM(MOD(K10-I10,1)-IF(K10>I10,MAX(0,MIN(K10,base!E$14/24)-MAX(I10,7/24)),MAX(0,base!E$14/24-MAX(I10,7/24))+MAX(0,MIN(K10,base!E$14/24)-7/24)))) -> 0 | AE10: =M10 -> 0
A11: lundi | B11: 41282 | H11: 1 | I11: 0.30208333 | J11: 0.03125 | K11: 0.75 | L11: =C11+D11+E11+F11+G11+H11 -> 1 | M11: =K11-I11+IF(I11>K11,1)-J11+(E11*base!E$4)+(D11*base!E$4)+(C11*base!E$4)+(F11*base!E$4) -> 0.41666667 | N11: =IF(M11<=base!E$5,"","Faux") | O11: =IF(SUM(M11-base!E$5)<0,0,SUM(M11-base!E$5)) -> 0 | Q11: =IF(P11<=base!E$3,"","Faux") | V11: =IF(travail!U11<=base!E$8,"","Faux") | AD11: =IF(SUM(MOD(K11-I11,1)-IF(K11>I11,MAX(0,MIN(K11,base!E$14/24)-MAX(I11,7/24)),MAX(0,base!E$14/24-MAX(I11,7/24))+MAX(0,MIN(K11,base!E$14/24)-7/24)))<0,0,SUM(MOD(K11-I11,1)-IF(K11>I11,MAX(0,MIN(K11,base!E$14/24)-MAX(I11,7/24)),MAX(0,base!E$14/24-MAX(I11,7/24))+MAX(0,MIN(K11,base!E$14/24)-7/24)))) -> 0 | AF11: =M11*G11*1 -> 0
A12: mardi | B12: 41283 | H12: 1 | I12: 0.30208333 | J12: 0.03125 | K12: 0.75 | L12: =C12+D12+E12+F12+G12+H12 -> 1 | M12: =K12-I12+IF(I12>K12,1)-J12+(E12*base!E$4)+(D12*base!E$4)+(C12*base!E$4)+(F12*base!E$4) -> 0.41666667 | N12: =IF(M12<=base!E$5,"","Faux") | O12: =IF(SUM(M12-base!E$5)<0,0,SUM(M12-base!E$5)) -> 0 | Q12: =IF(P12<=base!E$3,"","Faux") | S12: =L12*SUM(M11:M12) -> 0.83333333 | T12: =IF(S12>("36:00"*1),S12-("36:00"*1),0)-T11 -> 0 | V12: =IF(travail!U12<=base!E$8,"","Faux") | AD12: =IF(SUM(MOD(K12-I12,1)-IF(K12>I12,MAX(0,MIN(K12,base!E$14/24)-MAX(I12,7/24)),MAX(0,base!E$14/24-MAX(I12,7/24))+MAX(0,MIN(K12,base!E$14/24)-7/24)))<0,0,SUM(MOD(K12-I12,1)-IF(K12>I12,MAX(0,MIN(K12,base!E$14/24)-MAX(I12,7/24)),MAX(0,base!E$14/24-MAX(I12,7/24))+MAX(0,MIN(K12,base!E$14/24)-7/24)))) -> 0 | AF12: =M12*G12*1 -> 0
A13: mercredi | B13: 41284 | L13: =C13+D13+E13+F13+G13+H13 -> 0 | M13: =K13-I13+IF(I13>K13,1)-J13+(E13*base!E$4)+(D13*base!E$4)+(C13*base!E$4)+(F13*base!E$4) -> 0 | N13: =IF(M13<=base!E$5,"","Faux") | O13: =IF(SUM(M13-base!E$5)<0,0,SUM(M13-base!E$5)) -> 0 | P13: =K13-I13+IF(I13>K13,1) -> 0 | Q13: =IF(P13<=base!E$3,"","Faux") | R13: =IF(SUM(P13-base!E$3)<0,0,SUM(P13-base!E$3)) -> 0 | S13: =L13*SUM(M11:M13) -> 0 | T13: =IF(S13>("36:00"*1),S13-("36:00"*1),0)-T12 -> 0 | V13: =IF(travail!U13<=base!E$8,"","Faux") | AD13: =IF(SUM(MOD(K13-I13,1)-IF(K13>I13,MAX(0,MIN(K13,base!E$14/24)-MAX(I13,7/24)),MAX(0,base!E$14/24-MAX(I13,7/24))+MAX(0,MIN(K13,base!E$14/24)-7/24)))<0,0,SUM(MOD(K13-I13,1)-IF(K13>I13,MAX(0,MIN(K13,base!E$14/24)-MAX(I13,7/24)),MAX(0,base!E$14/24-MAX(I13,7/24))+MAX(0,MIN(K13,base!E$14/24)-7/24)))) -> 0 | AF13: =M13*G13*1 -> 0
A14: jeudi | B14: 41285 | H14: 1 | I14: 0.30208333 | J14: 0.03125 | K14: 0.75 | L14: =C14+D14+E14+F14+G14+H14 -> 1 | M14: =K14-I14+IF(I14>K14,1)-J14+(E14*base!E$4)+(D14*base!E$4)+(C14*base!E$4)+(F14*base!E$4) -> 0.41666667 | N14: =IF(M14<=base!E$5,"","Faux") | O14: =IF(SUM(M14-base!E$5)<0,0,SUM(M14-base!E$5)) -> 0 | Q14: =IF(P14<=base!E$3,"","Faux") | S14: =L14*SUM(M11:M14) -> 1.25 | T14: =IF(S14>("36:00"*1),S14-("36:00"*1),0)-T13 -> 0 | V14: =IF(travail!U14<=base!E$8,"","Faux") | AD14: =IF(SUM(MOD(K14-I14,1)-IF(K14>I14,MAX(0,MIN(K14,base!E$14/24)-MAX(I14,7/24)),MAX(0,base!E$14/24-MAX(I14,7/24))+MAX(0,MIN(K14,base!E$14/24)-7/24)))<0,0,SUM(MOD(K14-I14,1)-IF(K14>I14,MAX(0,MIN(K14,base!E$14/24)-MAX(I14,7/24)),MAX(0,base!E$14/24-MAX(I14,7/24))+MAX(0,MIN(K14,base!E$14/24)-7/24)))) -> 0 | AF14: =M14*G14*1 -> 0
A15: vendredi | B15: 41286 | H15: 1 | I15: 0.30208333 | J15: 0.03125 | K15: 0.75 | L15: =C15+D15+E15+F15+G15+H15 -> 1 | M15: =K15-I15+IF(I15>K15,1)-J15+(E15*base!E$4)+(D15*base!E$4)+(C15*base!E$4)+(F15*base!E$4) -> 0.41666667 | N15: =IF(M15<=base!E$5,"","Faux") | O15: =IF(SUM(M15-base!E$5)<0,0,SUM(M15-base!E$5)) -> 0 | Q15: =IF(P15<=base!E$3,"","Faux") | S15: =L15*SUM(M11:M15) -> 1.6666667 | T15: =IF(S15>("36:00"*1),S15-("36:00"*1),0)-T14 -> 0.16666667 | V15: =IF(travail!U15<=base!E$8,"","Faux") | AD15: =IF(SUM(MOD(K15-I15,1)-IF(K15>I15,MAX(0,MIN(K15,base!E$14/24)-MAX(I15,7/24)),MAX(0,base!E$14/24-MAX(I15,7/24))+MAX(0,MIN(K15,base!E$14/24)-7/24)))<0,0,SUM(MOD(K15-I15,1)-IF(K15>I15,MAX(0,MIN(K15,base!E$14/24)-MAX(I15,7/24)),MAX(0,base!E$14/24-MAX(I15,7/24))+MAX(0,MIN(K15,base!E$14/24)-7/24)))) -> 0 | AF15: =M15*G15*1 -> 0
A16: samedi | B16: 41287 | L16: =C16+D16+E16+F16+G16+H16 -> 0 | M16: =K16-I16+IF(I16>K16,1)-J16+(E16*base!E$4)+(D16*base!E$4)+(C16*base!E$4)+(F16*base!E$4) -> 0 | N16: =IF(M16<=base!E$5,"","Faux") | O16: =IF(SUM(M16-base!E$5)<0,0,SUM(M16-base!E$5)) -> 0 | P16: =K16-I16+IF(I16>K16,1) -> 0 | Q16: =IF(P16<=base!E$3,"","Faux") | R16: =IF(SUM(P16-base!E$3)<0,0,SUM(P16-base!E$3)) -> 0 | S16: =L16*SUM(M11:M16) -> 0 | T16: =IF(SUM(IF(S16>("36:00"*1),S16-("36:00"*1),0)-T14-T15)<0,0,SUM(IF(S16>("36:00"*1),S16-("36:00"*1),0)-T14-T15)) -> 0 | V16: =IF(travail!U16<=base!E$8,"","Faux") | AD16: =IF(SUM(MOD(K16-I16,1)-IF(K16>I16,MAX(0,MIN(K16,base!E$14/24)-MAX(I16,7/24)),MAX(0,base!E$14/24-MAX(I16,7/24))+MAX(0,MIN(K16,base!E$14/24)-7/24)))<0,0,SUM(MOD(K16-I16,1)-IF(K16>I16,MAX(0,MIN(K16,base!E$14/24)-MAX(I16,7/24)),MAX(0,base!E$14/24-MAX(I16,7/24))+MAX(0,MIN(K16,base!E$14/24)-7/24)))) -> 0
A17: dimanche | B17: 41288 | L17: =C17+D17+E17+F17+G17+H17 -> 0 | M17: =K17-I17+IF(I17>K17,1)-J17+(E17*base!E$4)+(D17*base!E$4)+(C17*base!E$4)+(F17*base!E$4) -> 0 | N17: =IF(M17<=base!E$5,"","Faux") | O17: =IF(SUM(M17-base!E$5)<0,0,SUM(M17-base!E$5)) -> 0 | P17: =K17-I17+IF(I17>K17,1) -> 0 | Q17: =IF(P17<=base!E$3,"","Faux") | R17: =IF(SUM(P17-base!E$3)<0,0,SUM(P17-base!E$3)) -> 0 | S17: =L17*SUM(M11:M17) -> 0 | T17: =IF(SUM(IF(S17>("36:00"*1),S17-("36:00"*1),0)-T15-T16)<0,0,SUM(IF(S17>("36:00"*1),S17-("36:00"*1),0)-T15-T16)) -> 0 | U17: =SUM(M11:M17) -> 1.6666667 | V17: =IF(travail!U17<=base!E$8,"","Faux") | W17: =IF(SUM(U17-base!E$8)<0,0,SUM(U17-base!E$8)) -> 0 | X17: =IF(base!E$7<U17,U17-base!E$7,0) -> 0.16666667 | AD17: =IF(SUM(MOD(K17-I17,1)-IF(K17>I17,MAX(0,MIN(K17,base!E$14/24)-MAX(I17,7/24)),MAX(0,base!E$14/24-MAX(I17,7/24))+MAX(0,MIN(K17,base!E$14/24)-7/24)))<0,0,SUM(MOD(K17-I17,1)-IF(K17>I17,MAX(0,MIN(K17,base!E$14/24)-MAX(I17,7/24)),MAX(0,base!E$14/24-MAX(I17,7/24))+MAX(0,MIN(K17,base!E$14/24)-7/24)))) -> 0 | AE17: =K17-I17+IF(I17>K17,1) -> 0
A18: lundi | B18: 41289 | H18: 1 | I18: 0.30208333 | J18: 0.03125 | K18: 0.75 | L18: =C18+D18+E18+F18+G18+H18 -> 1 | M18: =K18-I18+IF(I18>K18,1)-J18+(E18*base!E$4)+(D18*base!E$4)+(C18*base!E$4)+(F18*base!E$4) -> 0.41666667 | N18: =IF(M18<=base!E$5,"","Faux") | O18: =IF(SUM(M18-base!E$5)<0,0,SUM(M18-base!E$5)) -> 0 | Q18: =IF(P18<=base!E$3,"","Faux") | V18: =IF(travail!U18<=base!E$8,"","Faux") | AD18: =IF(SUM(MOD(K18-I18,1)-IF(K18>I18,MAX(0,MIN(K18,base!E$14/24)-MAX(I18,7/24)),MAX(0,base!E$14/24-MAX(I18,7/24))+MAX(0,MIN(K18,base!E$14/24)-7/24)))<0,0,SUM(MOD(K18-I18,1)-IF(K18>I18,MAX(0,MIN(K18,base!E$14/24)-MAX(I18,7/24)),MAX(0,base!E$14/24-MAX(I18,7/24))+MAX(0,MIN(K18,base!E$14/24)-7/24)))) -> 0 | AF18: =M18*G18*1 -> 0
A19: mardi | B19: 41290 | H19: 1 | I19: 0.30208333 | J19: 0.03125 | K19: 0.75 | L19: =C19+D19+E19+F19+G19+H19 -> 1 | M19: =K19-I19+IF(I19>K19,1)-J19+(E19*base!E$4)+(D19*base!E$4)+(C19*base!E$4)+(F19*base!E$4) -> 0.41666667 | N19: =IF(M19<=base!E$5,"","Faux") | O19: =IF(SUM(M19-base!E$5)<0,0,SUM(M19-base!E$5)) -> 0 | Q19: =IF(P19<=base!E$3,"","Faux") | S19: =L19*SUM(M18:M19) -> 0.83333333 | T19: =IF(S19>("36:00"*1),S19-("36:00"*1),0)-T18 -> 0 | V19: =IF(travail!U19<=base!E$8,"","Faux") | AD19: =IF(SUM(MOD(K19-I19,1)-IF(K19>I19,MAX(0,MIN(K19,base!E$14/24)-MAX(I19,7/24)),MAX(0,base!E$14/24-MAX(I19,7/24))+MAX(0,MIN(K19,base!E$14/24)-7/24)))<0,0,SUM(MOD(K19-I19,1)-IF(K19>I19,MAX(0,MIN(K19,base!E$14/24)-MAX(I19,7/24)),MAX(0,base!E$14/24-MAX(I19,7/24))+MAX(0,MIN(K19,base!E$14/24)-7/24)))) -> 0 | AF19: =M19*G19*1 -> 0
A20: mercredi | B20: 41291 | L20: =C20+D20+E20+F20+G20+H20 -> 0 | M20: =K20-I20+IF(I20>K20,1)-J20+(E20*base!E$4)+(D20*base!E$4)+(C20*base!E$4)+(F20*base!E$4) -> 0 | N20: =IF(M20<=base!E$5,"","Faux") | O20: =IF(SUM(M20-base!E$5)<0,0,SUM(M20-base!E$5)) -> 0 | P20: =K20-I20+IF(I20>K20,1) -> 0 | Q20: =IF(P20<=base!E$3,"","Faux") | R20: =IF(SUM(P20-base!E$3)<0,0,SUM(P20-base!E$3)) -> 0 | S20: =L20*SUM(M18:M20) -> 0 | T20: =IF(S20>("36:00"*1),S20-("36:00"*1),0)-T19 -> 0 | V20: =IF(travail!U20<=base!E$8,"","Faux") | AD20: =IF(SUM(MOD(K20-I20,1)-IF(K20>I20,MAX(0,MIN(K20,base!E$14/24)-MAX(I20,7/24)),MAX(0,base!E$14/24-MAX(I20,7/24))+MAX(0,MIN(K20,base!E$14/24)-7/24)))<0,0,SUM(MOD(K20-I20,1)-IF(K20>I20,MAX(0,MIN(K20,base!E$14/24)-MAX(I20,7/24)),MAX(0,base!E$14/24-MAX(I20,7/24))+MAX(0,MIN(K20,base!E$14/24)-7/24)))) -> 0 | AF20: =M20*G20*1 -> 0
A21: jeudi | B21: 41292 | H21: 1 | I21: 0.30208333 | J21: 0.03125 | K21: 0.75 | L21: =C21+D21+E21+F21+G21+H21 -> 1 | M21: =K21-I21+IF(I21>K21,1)-J21+(E21*base!E$4)+(D21*base!E$4)+(C21*base!E$4)+(F21*base!E$4) -> 0.41666667 | N21: =IF(M21<=base!E$5,"","Faux") | O21: =IF(SUM(M21-base!E$5)<0,0,SUM(M21-base!E$5)) -> 0 | Q21: =IF(P21<=base!E$3,"","Faux") | S21: =L21*SUM(M18:M21) -> 1.25 | T21: =IF(S21>("36:00"*1),S21-("36:00"*1),0)-T20 -> 0 | V21: =IF(travail!U21<=base!E$8,"","Faux") | AD21: =IF(SUM(MOD(K21-I21,1)-IF(K21>I21,MAX(0,MIN(K21,base!E$14/24)-MAX(I21,7/24)),MAX(0,base!E$14/24-MAX(I21,7/24))+MAX(0,MIN(K21,base!E$14/24)-7/24)))<0,0,SUM(MOD(K21-I21,1)-IF(K21>I21,MAX(0,MIN(K21,base!E$14/24)-MAX(I21,7/24)),MAX(0,base!E$14/24-MAX(I21,7/24))+MAX(0,MIN(K21,base!E$14/24)-7/24)))) -> 0 | AF21: =M21*G21*1 -> 0
A22: vendredi | B22: 41293 | H22: 1 | I22: 0.30208333 | J22: 0.03125 | K22: 0.75 | L22: =C22+D22+E22+F22+G22+H22 -> 1 | M22: =K22-I22+IF(I22>K22,1)-J22+(E22*base!E$4)+(D22*base!E$4)+(C22*base!E$4)+(F22*base!E$4) -> 0.41666667 | N22: =IF(M22<=base!E$5,"","Faux") | O22: =IF(SUM(M22-base!E$5)<0,0,SUM(M22-base!E$5)) -> 0 | Q22: =IF(P22<=base!E$3,"","Faux") | S22: =L22*SUM(M18:M22) -> 1.6666667 | T22: =IF(S22>("36:00"*1),S22-("36:00"*1),0)-T21 -> 0.16666667 | V22: =IF(travail!U22<=base!E$8,"","Faux") | AD22: =IF(SUM(MOD(K22-I22,1)-IF(K22>I22,MAX(0,MIN(K22,base!E$14/24)-MAX(I22,7/24)),MAX(0,base!E$14/24-MAX(I22,7/24))+MAX(0,MIN(K22,base!E$14/24)-7/24)))<0,0,SUM(MOD(K22-I22,1)-IF(K22>I22,MAX(0,MIN(K22,base!E$14/24)-MAX(I22,7/24)),MAX(0,base!E$14/24-MAX(I22,7/24))+MAX(0,MIN(K22,base!E$14/24)-7/24)))) -> 0 | AF22: =M22*G22*1 -> 0
A23: samedi | B23: 41294 | L23: =C23+D23+E23+F23+G23+H23 -> 0 | M23: =K23-I23+IF(I23>K23,1)-J23+(E23*base!E$4)+(D23*base!E$4)+(C23*base!E$4)+(F23*base!E$4) -> 0 | N23: =IF(M23<=base!E$5,"","Faux") | O23: =IF(SUM(M23-base!E$5)<0,0,SUM(M23-base!E$5)) -> 0 | P23: =K23-I23+IF(I23>K23,1) -> 0 | Q23: =IF(P23<=base!E$3,"","Faux") | R23: =IF(SUM(P23-base!E$3)<0,0,SUM(P23-base!E$3)) -> 0 | S23: =L23*SUM(M18:M23) -> 0 | T23: =IF(SUM(IF(S23>("36:00"*1),S23-("36:00"*1),0)-T21-T22)<0,0,SUM(IF(S23>("36:00"*1),S23-("36:00"*1),0)-T21-T22)) -> 0 | V23: =IF(travail!U23<=base!E$8,"","Faux") | AD23: =IF(SUM(MOD(K23-I23,1)-IF(K23>I23,MAX(0,MIN(K23,base!E$14/24)-MAX(I23,7/24)),MAX(0,base!E$14/24-MAX(I23,7/24))+MAX(0,MIN(K23,base!E$14/24)-7/24)))<0,0,SUM(MOD(K23-I23,1)-IF(K23>I23,MAX(0,MIN(K23,base!E$14/24)-MAX(I23,7/24)),MAX(0,base!E$14/24-MAX(I23,7/24))+MAX(0,MIN(K23,base!E$14/24)-7/24)))) -> 0
A24: dimanche | B24: 41295 | L24: =C24+D24+E24+F24+G24+H24 -> 0 | M24: =K24-I24+IF(I24>K24,1)-J24+(E24*base!E$4)+(D24*base!E$4)+(C24*base!E$4)+(F24*base!E$4) -> 0 | N24: =IF(M24<=base!E$5,"","Faux") | O24: =IF(SUM(M24-base!E$5)<0,0,SUM(M24-base!E$5)) -> 0 | P24: =K24-I24+IF(I24>K24,1) -> 0 | Q24: =IF(P24<=base!E$3,"","Faux") | R24: =IF(SUM(P24-base!E$3)<0,0,SUM(P24-base!E$3)) -> 0 | S24: =L24*SUM(M18:M24) -> 0 | T24: =IF(SUM(IF(S24>("36:00"*1),S24-("36:00"*1),0)-T22-T23)<0,0,SUM(IF(S24>("36:00"*1),S24-("36:00"*1),0)-T22-T23)) -> 0 | U24: =SUM(M18:M24) -> 1.6666667 | V24: =IF(travail!U24<=base!E$8,"","Faux") | W24: =IF(SUM(U24-base!E$8)<0,0,SUM(U24-base!E$8)) -> 0 | X24: =IF(base!E$7<U24,U24-base!E$7,0) -> 0.16666667 | AD24: =IF(SUM(MOD(K24-I24,1)-IF(K24>I24,MAX(0,MIN(K24,base!E$14/24)-MAX(I24,7/24)),MAX(0,base!E$14/24-MAX(I24,7/24))+MAX(0,MIN(K24,base!E$14/24)-7/24)))<0,0,SUM(MOD(K24-I24,1)-IF(K24>I24,MAX(0,MIN(K24,base!E$14/24)-MAX(I24,7/24)),MAX(0,base!E$14/24-MAX(I24,7/24))+MAX(0,MIN(K24,base!E$14/24)-7/24)))) -> 0 | AE24: =M24 -> 0
A25: lundi | B25: 41296 | H25: 1 | I25: 0.30208333 | J25: 0.03125 | K25: 0.75 | L25: =C25+D25+E25+F25+G25+H25 -> 1 | M25: =K25-I25+IF(I25>K25,1)-J25+(E25*base!E$4)+(D25*base!E$4)+(C25*base!E$4)+(F25*base!E$4) -> 0.41666667 | N25: =IF(M25<=base!E$5,"","Faux") | O25: =IF(SUM(M25-base!E$5)<0,0,SUM(M25-base!E$5)) -> 0 | Q25: =IF(P25<=base!E$3,"","Faux") | V25: =IF(travail!U25<=base!E$8,"","Faux") | AD25: =IF(SUM(MOD(K25-I25,1)-IF(K25>I25,MAX(0,MIN(K25,base!E$14/24)-MAX(I25,7/24)),MAX(0,base!E$14/24-MAX(I25,7/24))+MAX(0,MIN(K25,base!E$14/24)-7/24)))<0,0,SUM(MOD(K25-I25,1)-IF(K25>I25,MAX(0,MIN(K25,base!E$14/24)-MAX(I25,7/24)),MAX(0,base!E$14/24-MAX(I25,7/24))+MAX(0,MIN(K25,base!E$14/24)-7/24)))) -> 0 | AF25: =M25*G25*1 -> 0
A26: mardi | B26: 41297 | H26: 1 | I26: 0.30208333 | J26: 0.03125 | K26: 0.75 | L26: =C26+D26+E26+F26+G26+H26 -> 1 | M26: =K26-I26+IF(I26>K26,1)-J26+(E26*base!E$4)+(D26*base!E$4)+(C26*base!E$4)+(F26*base!E$4) -> 0.41666667 | N26: =IF(M26<=base!E$5,"","Faux") | O26: =IF(SUM(M26-base!E$5)<0,0,SUM(M26-base!E$5)) -> 0 | Q26: =IF(P26<=base!E$3,"","Faux") | S26: =L26*SUM(M25:M26) -> 0.83333333 | T26: =IF(S26>("36:00"*1),S26-("36:00"*1),0)-T25 -> 0 | V26: =IF(travail!U26<=base!E$8,"","Faux") | AD26: =IF(SUM(MOD(K26-I26,1)-IF(K26>I26,MAX(0,MIN(K26,base!E$14/24)-MAX(I26,7/24)),MAX(0,base!E$14/24-MAX(I26,7/24))+MAX(0,MIN(K26,base!E$14/24)-7/24)))<0,0,SUM(MOD(K26-I26,1)-IF(K26>I26,MAX(0,MIN(K26,base!E$14/24)-MAX(I26,7/24)),MAX(0,base!E$14/24-MAX(I26,7/24))+MAX(0,MIN(K26,base!E$14/24)-7/24)))) -> 0 | AF26: =M26*G26*1 -> 0
A27: mercredi | B27: 41298 | L27: =C27+D27+E27+F27+G27+H27 -> 0 | M27: =K27-I27+IF(I27>K27,1)-J27+(E27*base!E$4)+(D27*base!E$4)+(C27*base!E$4)+(F27*base!E$4) -> 0 | N27: =IF(M27<=base!E$5,"","Faux") | O27: =IF(SUM(M27-base!E$5)<0,0,SUM(M27-base!E$5)) -> 0 | P27: =K27-I27+IF(I27>K27,1) -> 0 | Q27: =IF(P27<=base!E$3,"","Faux") | R27: =IF(SUM(P27-base!E$3)<0,0,SUM(P27-base!E$3)) -> 0 | S27: =L27*SUM(M25:M27) -> 0 | T27: =IF(S27>("36:00"*1),S27-("36:00"*1),0)-T26 -> 0 | V27: =IF(travail!U27<=base!E$8,"","Faux") | AD27: =IF(SUM(MOD(K27-I27,1)-IF(K27>I27,MAX(0,MIN(K27,base!E$14/24)-MAX(I27,7/24)),MAX(0,base!E$14/24-MAX(I27,7/24))+MAX(0,MIN(K27,base!E$14/24)-7/24)))<0,0,SUM(MOD(K27-I27,1)-IF(K27>I27,MAX(0,MIN(K27,base!E$14/24)-MAX(I27,7/24)),MAX(0,base!E$14/24-MAX(I27,7/24))+MAX(0,MIN(K27,base!E$14/24)-7/24)))) -> 0 | AF27: =M27*G27*1 -> 0
A28: jeudi | B28: 41299 | I28: 0.30208333 | J28: 0.03125 | K28: 0.75 | L28: =C28+D28+E28+F28+G28+H28 -> 0 | M28: =K28-I28+IF(I28>K28,1)-J28+(E28*base!E$4)+(D28*base!E$4)+(C28*base!E$4)+(F28*base!E$4) -> 0.41666667 | N28: =IF(M28<=base!E$5,"","Faux") | O28: =IF(SUM(M28-base!E$5)<0,0,SUM(M28-base!E$5)) -> 0 | Q28: =IF(P28<=base!E$3,"","Faux") | S28: =L28*SUM(M25:M28) -> 0 | T28: =IF(S28>("36:00"*1),S28-("36:00"*1),0)-T27 -> 0 | V28: =IF(travail!U28<=base!E$8,"","Faux") | AD28: =IF(SUM(MOD(K28-I28,1)-IF(K28>I28,MAX(0,MIN(K28,base!E$14/24)-MAX(I28,7/24)),MAX(0,base!E$14/24-MAX(I28,7/24))+MAX(0,MIN(K28,base!E$14/24)-7/24)))<0,0,SUM(MOD(K28-I28,1)-IF(K28>I28,MAX(0,MIN(K28,base!E$14/24)-MAX(I28,7/24)),MAX(0,base!E$14/24-MAX(I28,7/24))+MAX(0,MIN(K28,base!E$14/24)-7/24)))) -> 0 | AF28: =M28*G28*1 -> 0
A29: vendredi | B29: 41300 | H29: 1 | I29: 0.30208333 | J29: 0.03125 | K29: 0.75 | L29: =C29+D29+E29+F29+G29+H29 -> 1 | M29: =K29-I29+IF(I29>K29,1)-J29+(E29*base!E$4)+(D29*base!E$4)+(C29*base!E$4)+(F29*base!E$4) -> 0.41666667 | N29: =IF(M29<=base!E$5,"","Faux") | O29: =IF(SUM(M29-base!E$5)<0,0,SUM(M29-base!E$5)) -> 0 | Q29: =IF(P29<=base!E$3,"","Faux") | S29: =L29*SUM(M25:M29) -> 1.6666667 | T29: =IF(S29>("36:00"*1),S29-("36:00"*1),0)-T28 -> 0.16666667 | V29: =IF(travail!U29<=base!E$8,"","Faux") | AD29: =IF(SUM(MOD(K29-I29,1)-IF(K29>I29,MAX(0,MIN(K29,base!E$14/24)-MAX(I29,7/24)),MAX(0,base!E$14/24-MAX(I29,7/24))+MAX(0,MIN(K29,base!E$14/24)-7/24)))<0,0,SUM(MOD(K29-I29,1)-IF(K29>I29,MAX(0,MIN(K29,base!E$14/24)-MAX(I29,7/24)),MAX(0,base!E$14/24-MAX(I29,7/24))+MAX(0,MIN(K29,base!E$14/24)-7/24)))) -> 0 | AF29: =M29*G29*1 -> 0
A30: samedi | B30: 41301 | L30: =C30+D30+E30+F30+G30+H30 -> 0 | M30: =K30-I30+IF(I30>K30,1)-J30+(E30*base!E$4)+(D30*base!E$4)+(C30*base!E$4)+(F30*base!E$4) -> 0 | N30: =IF(M30<=base!E$5,"","Faux") | O30: =IF(SUM(M30-base!E$5)<0,0,SUM(M30-base!E$5)) -> 0 | P30: =K30-I30+IF(I30>K30,1) -> 0 | Q30: =IF(P30<=base!E$3,"","Faux") | R30: =IF(SUM(P30-base!E$3)<0,0,SUM(P30-base!E$3)) -> 0 | S30: =L30*SUM(M25:M30) -> 0 | T30: =IF(SUM(IF(S30>("36:00"*1),S30-("36:00"*1),0)-T28-T29)<0,0,SUM(IF(S30>("36:00"*1),S30-("36:00"*1),0)-T28-T29)) -> 0 | V30: =IF(travail!U30<=base!E$8,"","Faux") | AD30: =IF(SUM(MOD(K30-I30,1)-IF(K30>I30,MAX(0,MIN(K30,base!E$14/24)-MAX(I30,7/24)),MAX(0,base!E$14/24-MAX(I30,7/24))+MAX(0,MIN(K30,base!E$14/24)-7/24)))<0,0,SUM(MOD(K30-I30,1)-IF(K30>I30,MAX(0,MIN(K30,base!E$14/24)-MAX(I30,7/24)),MAX(0,base!E$14/24-MAX(I30,7/24))+MAX(0,MIN(K30,base!E$14/24)-7/24)))) -> 0
A31: dimanche | B31: 41302 | L31: =C31+D31+E31+F31+G31+H31 -> 0 | M31: =K31-I31+IF(I31>K31,1)-J31+(E31*base!E$4)+(D31*base!E$4)+(C31*base!E$4)+(F31*base!E$4) -> 0 | N31: =IF(M31<=base!E$5,"","Faux") | O31: =IF(SUM(M31-base!E$5)<0,0,SUM(M31-base!E$5)) -> 0 | P31: =K31-I31+IF(I31>K31,1) -> 0 | Q31: =IF(P31<=base!E$3,"","Faux") | R31: =IF(SUM(P31-base!E$3)<0,0,SUM(P31-base!E$3)) -> 0 | S31: =L31*SUM(M25:M31) -> 0 | T31: =IF(SUM(IF(S31>("36:00"*1),S31-("36:00"*1),0)-T29-T30)<0,0,SUM(IF(S31>("36:00"*1),S31-("36:00"*1),0)-T29-T30)) -> 0 | U31: =SUM(M25:M31) -> 1.6666667 | V31: =IF(travail!U31<=base!E$8,"","Faux") | W31: =IF(SUM(U31-base!E$8)<0,0,SUM(U31-base!E$8)) -> 0 | X31: =IF(base!E$7<U31,U31-base!E$7,0) -> 0.16666667 | AD31: =IF(SUM(MOD(K31-I31,1)-IF(K31>I31,MAX(0,MIN(K31,base!E$14/24)-MAX(I31,7/24)),MAX(0,base!E$14/24-MAX(I31,7/24))+MAX(0,MIN(K31,base!E$14/24)-7/24)))<0,0,SUM(MOD(K31-I31,1)-IF(K31>I31,MAX(0,MIN(K31,base!E$14/24)-MAX(I31,7/24)),MAX(0,base!E$14/24-MAX(I31,7/24))+MAX(0,MIN(K31,base!E$14/24)-7/24)))) -> 0 | AE31: =M31 -> 0
A32: lundi | B32: 41303 | I32: 0.30208333 | J32: 0.03125 | K32: 0.75 | L32: =C32+D32+E32+F32+G32+H32 -> 0 | M32: =K32-I32+IF(I32>K32,1)-J32+(E32*base!E$4)+(D32*base!E$4)+(C32*base!E$4)+(F32*base!E$4) -> 0.41666667 | N32: =IF(M32<=base!E$5,"","Faux") | O32: =IF(SUM(M32-base!E$5)<0,0,SUM(M32-base!E$5)) -> 0 | V32: =IF(travail!U32<=base!E$8,"","Faux") | AD32: =IF(SUM(MOD(K32-I32,1)-IF(K32>I32,MAX(0,MIN(K32,base!E$14/24)-MAX(I32,7/24)),MAX(0,base!E$14/24-MAX(I32,7/24))+MAX(0,MIN(K32,base!E$14/24)-7/24)))<0,0,SUM(MOD(K32-I32,1)-IF(K32>I32,MAX(0,MIN(K32,base!E$14/24)-MAX(I32,7/24)),MAX(0,base!E$14/24-MAX(I32,7/24))+MAX(0,MIN(K32,base!E$14/24)-7/24)))) -> 0 | AF32: =M32*G32*1 -> 0
A33: mardi | B33: 41304 | H33: 1 | I33: 0.30208333 | J33: 0.03125 | K33: 0.75 | L33: =C33+D33+E33+F33+G33+H33 -> 1 | M33: =K33-I33+IF(I33>K33,1)-J33+(E33*base!E$4)+(D33*base!E$4)+(C33*base!E$4)+(F33*base!E$4) -> 0.41666667 | N33: =IF(M33<=base!E$5,"","Faux") | O33: =IF(SUM(M33-base!E$5)<0,0,SUM(M33-base!E$5)) -> 0 | S33: =L33*SUM(M32:M33) -> 0.83333333 | T33: =IF(S33>("36:00"*1),S33-("36:00"*1),0)-T32 -> 0 | V33: =IF(travail!U33<=base!E$8,"","Faux") | AD33: =IF(SUM(MOD(K33-I33,1)-IF(K33>I33,MAX(0,MIN(K33,base!E$14/24)-MAX(I33,7/24)),MAX(0,base!E$14/24-MAX(I33,7/24))+MAX(0,MIN(K33,base!E$14/24)-7/24)))<0,0,SUM(MOD(K33-I33,1)-IF(K33>I33,MAX(0,MIN(K33,base!E$14/24)-MAX(I33,7/24)),MAX(0,base!E$14/24-MAX(I33,7/24))+MAX(0,MIN(K33,base!E$14/24)-7/24)))) -> 0 | AF33: =M33*G33*1 -> 0
A34: mercredi | B34: 41305 | L34: =C34+D34+E34+F34+G34+H34 -> 0 | M34: =K34-I34+IF(I34>K34,1)-J34+(E34*base!E$4)+(D34*base!E$4)+(C34*base!E$4)+(F34*base!E$4) -> 0 | N34: =IF(M34<=base!E$5,"","Faux") | O34: =IF(SUM(M34-base!E$5)<0,0,SUM(M34-base!E$5)) -> 0 | P34: =K34-I34+IF(I34>K34,1) -> 0 | Q34: =IF(P34<=base!E$3,"","Faux") | R34: =IF(SUM(P34-base!E$3)<0,0,SUM(P34-base!E$3)) -> 0 | S34: =L34*SUM(M32:M34) -> 0 | T34: =IF(S34>("36:00"*1),S34-("36:00"*1),0)-T33 -> 0 | V34: =IF(travail!U34<=base!E$8,"","Faux") | AD34: =IF(SUM(MOD(K34-I34,1)-IF(K34>I34,MAX(0,MIN(K34,base!E$14/24)-MAX(I34,7/24)),MAX(0,base!E$14/24-MAX(I34,7/24))+MAX(0,MIN(K34,base!E$14/24)-7/24)))<0,0,SUM(MOD(K34-I34,1)-IF(K34>I34,MAX(0,MIN(K34,base!E$14/24)-MAX(I34,7/24)),MAX(0,base!E$14/24-MAX(I34,7/24))+MAX(0,MIN(K34,base!E$14/24)-7/24)))) -> 0 | AF34: =M34*G34*1 -> 0
A35: jeudi | B35: 41306 | I35: 0.30208333 | J35: 0.03125 | K35: 0.75 | L35: =C35+D35+E35+F35+G35+H35 -> 0 | M35: =K35-I35+IF(I35>K35,1)-J35+(E35*base!E$4)+(D35*base!E$4)+(C35*base!E$4)+(F35*base!E$4) -> 0.41666667 | N35: =IF(M35<=base!E$5,"","Faux") | O35: =IF(SUM(M35-base!E$5)<0,0,SUM(M35-base!E$5)) -> 0 | S35: =L35*SUM(M32:M35) -> 0 | T35: =IF(S35>("36:00"*1),S35-("36:00"*1),0)-T34 -> 0 | V35: =IF(travail!U35<=base!E$8,"","Faux") | AD35: =IF(SUM(MOD(K35-I35,1)-IF(K35>I35,MAX(0,MIN(K35,base!E$14/24)-MAX(I35,7/24)),MAX(0,base!E$14/24-MAX(I35,7/24))+MAX(0,MIN(K35,base!E$14/24)-7/24)))<0,0,SUM(MOD(K35-I35,1)-IF(K35>I35,MAX(0,MIN(K35,base!E$14/24)-MAX(I35,7/24)),MAX(0,base!E$14/24-MAX(I35,7/24))+MAX(0,MIN(K35,base!E$14/24)-7/24)))) -> 0 | AF35: =M35*G35*1 -> 0
A36: vendredi | B36: 41307 | H36: 1 | I36: 0.30208333 | J36: 0.03125 | K36: 0.75 | L36: =C36+D36+E36+F36+G36+H36 -> 1 | M36: =K36-I36+IF(I36>K36,1)-J36+(E36*base!E$4)+(D36*base!E$4)+(C36*base!E$4)+(F36*base!E$4) -> 0.41666667 | N36: =IF(M36<=base!E$5,"","Faux") | O36: =IF(SUM(M36-base!E$5)<0,0,SUM(M36-base!E$5)) -> 0 | R36: =IF(SUM(P36-base!E$3)<0,0,SUM(P36-base!E$3)) -> 0 | S36: =L36*SUM(M32:M36) -> 1.6666667 | T36: =IF(S36>("36:00"*1),S36-("36:00"*1),0)-T35 -> 0.16666667 | V36: =IF(travail!U36<=base!E$8,"","Faux") | AD36: =IF(SUM(MOD(K36-I36,1)-IF(K36>I36,MAX(0,MIN(K36,base!E$14/24)-MAX(I36,7/24)),MAX(0,base!E$14/24-MAX(I36,7/24))+MAX(0,MIN(K36,base!E$14/24)-7/24)))<0,0,SUM(MOD(K36-I36,1)-IF(K36>I36,MAX(0,MIN(K36,base!E$14/24)-MAX(I36,7/24)),MAX(0,base!E$14/24-MAX(I36,7/24))+MAX(0,MIN(K36,base!E$14/24)-7/24)))) -> 0 | AF36: =M36*G36*1 -> 0
A37: samedi | B37: 41308 | L37: =C37+D37+E37+F37+G37+H37 -> 0 | M37: =K37-I37+IF(I37>K37,1)-J37+(E37*base!E$4)+(D37*base!E$4)+(C37*base!E$4)+(F37*base!E$4) -> 0 | N37: =IF(M37<=base!E$5,"","Faux") | O37: =IF(SUM(M37-base!E$5)<0,0,SUM(M37-base!E$5)) -> 0 | P37: =K37-I37+IF(I37>K37,1) -> 0 | Q37: =IF(P37<=base!E$3,"","Faux") | R37: =IF(SUM(P37-base!E$3)<0,0,SUM(P37-base!E$3)) -> 0 | S37: =L37*SUM(M32:M37) -> 0 | T37: =IF(SUM(IF(S37>("36:00"*1),S37-("36:00"*1),0)-T35-T36)<0,0,SUM(IF(S37>("36:00"*1),S37-("36:00"*1),0)-T35-T36)) -> 0 | V37: =IF(travail!U37<=base!E$8,"","Faux") | AD37: =IF(SUM(MOD(K37-I37,1)-IF(K37>I37,MAX(0,MIN(K37,base!E$14/24)-MAX(I37,7/24)),MAX(0,base!E$14/24-MAX(I37,7/24))+MAX(0,MIN(K37,base!E$14/24)-7/24)))<0,0,SUM(MOD(K37-I37,1)-IF(K37>I37,MAX(0,MIN(K37,base!E$14/24)-MAX(I37,7/24)),MAX(0,base!E$14/24-MAX(I37,7/24))+MAX(0,MIN(K37,base!E$14/24)-7/24)))) -> 0
A38: dimanche | B38: 41309 | L38: =C38+D38+E38+F38+G38+H38 -> 0 | M38: =K38-I38+IF(I38>K38,1)-J38+(E38*base!E$4)+(D38*base!E$4)+(C38*base!E$4)+(F38*base!E$4) -> 0 | N38: =IF(M38<=base!E$5,"","Faux") | O38: =IF(SUM(M38-base!E$5)<0,0,SUM(M38-base!E$5)) -> 0 | P38: =K38-I38+IF(I38>K38,1) -> 0 | Q38: =IF(P38<=base!E$3,"","Faux") | R38: =IF(SUM(P38-base!E$3)<0,0,SUM(P38-base!E$3)) -> 0 | S38: =L38*SUM(M32:M38) -> 0 | T38: =IF(SUM(IF(S38>("36:00"*1),S38-("36:00"*1),0)-T36-T37)<0,0,SUM(IF(S38>("36:00"*1),S38-("36:00"*1),0)-T36-T37)) -> 0 | U38: =SUM(M32:M38) -> 1.6666667 | V38: =IF(travail!U38<=base!E$8,"","Faux") | W38: =IF(SUM(U38-base!E$8)<0,0,SUM(U38-base!E$8)) -> 0 | X38: =IF(base!E$7<U38,U38-base!E$7,0) -> 0.16666667 | AD38: =IF(SUM(MOD(K38-I38,1)-IF(K38>I38,MAX(0,MIN(K38,base!E$14/24)-MAX(I38,7/24)),MAX(0,base!E$14/24-MAX(I38,7/24))+MAX(0,MIN(K38,base!E$14/24)-7/24)))<0,0,SUM(MOD(K38-I38,1)-IF(K38>I38,MAX(0,MIN(K38,base!E$14/24)-MAX(I38,7/24)),MAX(0,base!E$14/24-MAX(I38,7/24))+MAX(0,MIN(K38,base!E$14/24)-7/24)))) -> 0 | AE38: =M38 -> 0
A39: lundi | B39: 41310 | H39: 1 | I39: 0.30208333 | J39: 0.03125 | K39: 0.75 | L39: =C39+D39+E39+F39+G39+H39 -> 1 | M39: =K39-I39+IF(I39>K39,1)-J39+(E39*base!E$4)+(D39*base!E$4)+(C39*base!E$4)+(F39*base!E$4) -> 0.41666667 | N39: =IF(M39<=base!E$5,"","Faux") | O39: =IF(SUM(M39-base!E$5)<0,0,SUM(M39-base!E$5)) -> 0 | V39: =IF(travail!U39<=base!E$8,"","Faux") | AD39: =IF(SUM(MOD(K39-I39,1)-IF(K39>I39,MAX(0,MIN(K39,base!E$14/24)-MAX(I39,7/24)),MAX(0,base!E$14/24-MAX(I39,7/24))+MAX(0,MIN(K39,base!E$14/24)-7/24)))<0,0,SUM(MOD(K39-I39,1)-IF(K39>I39,MAX(0,MIN(K39,base!E$14/24)-MAX(I39,7/24)),MAX(0,base!E$14/24-MAX(I39,7/24))+MAX(0,MIN(K39,base!E$14/24)-7/24)))) -> 0 | AF39: =M39*G39*1 -> 0
A40: mardi | B40: 41311 | D40: 1 | I40: 0.30208333 | J40: 0.03125 | K40: 0.75 | L40: =C40+D40+E40+F40+G40+H40 -> 1 | M40: =K40-I40+IF(I40>K40,1)-J40+(E40*base!E$4)+(D40*base!E$4)+(C40*base!E$4)+(F40*base!E$4) -> 0.72222222 | O40: =IF(SUM(M40-base!E$5)<0,0,SUM(M40-base!E$5)) -> 0.30555556 | S40: =L40*SUM(M39:M40) -> 1.1388889 | T40: =IF(S40>("36:00"*1),S40-("36:00"*1),0)-T39 -> 0 | V40: =IF(travail!U40<=base!E$8,"","Faux") | AD40: =IF(SUM(MOD(K40-I40,1)-IF(K40>I40,MAX(0,MIN(K40,base!E$14/24)-MAX(I40,7/24)),MAX(0,base!E$14/24-MAX(I40,7/24))+MAX(0,MIN(K40,base!E$14/24)-7/24)))<0,0,SUM(MOD(K40-I40,1)-IF(K40>I40,MAX(0,MIN(K40,base!E$14/24)-MAX(I40,7/24)),MAX(0,base!E$14/24-MAX(I40,7/24))+MAX(0,MIN(K40,base!E$14/24)-7/24)))) -> 0 | AF40: =M40*G40*1 -> 0
A41: mercredi | B41: 41312 | L41: =C41+D41+E41+F41+G41+H41 -> 0 | M41: =K41-I41+IF(I41>K41,1)-J41+(E41*base!E$4)+(D41*base!E$4)+(C41*base!E$4)+(F41*base!E$4) -> 0 | N41: =IF(M41<=base!E$5,"","Faux") | O41: =IF(SUM(M41-base!E$5)<0,0,SUM(M41-base!E$5)) -> 0 | P41: =K41-I41+IF(I41>K41,1) -> 0 | Q41: =IF(P41<=base!E$3,"","Faux") | R41: =IF(SUM(P41-base!E$3)<0,0,SUM(P41-base!E$3)) -> 0 | S41: =L41*SUM(M39:M41) -> 0 | T41: =IF(S41>("36:00"*1),S41-("36:00"*1),0)-T40 -> 0 | V41: =IF(travail!U41<=base!E$8,"","Faux") | AD41: =IF(SUM(MOD(K41-I41,1)-IF(K41>I41,MAX(0,MIN(K41,base!E$14/24)-MAX(I41,7/24)),MAX(0,base!E$14/24-MAX(I41,7/24))+MAX(0,MIN(K41,base!E$14/24)-7/24)))<0,0,SUM(MOD(K41-I41,1)-IF(K41>I41,MAX(0,MIN(K41,base!E$14/24)-MAX(I41,7/24)),MAX(0,base!E$14/24-MAX(I41,7/24))+MAX(0,MIN(K41,base!E$14/24)-7/24)))) -> 0 | AF41: =M41*G41*1 -> 0
A42: jeudi | B42: 41313 | D42: 1 | I42: 0.30208333 | J42: 0.03125 | K42: 0.75 | L42: =C42+D42+E42+F42+G42+H42 -> 1 | M42: =K42-I42+IF(I42>K42,1)-J42+(E42*base!E$4)+(D42*base!E$4)+(C42*base!E$4)+(F42*base!E$4) -> 0.72222222 | O42: =IF(SUM(M42-base!E$5)<0,0,SUM(M42-base!E$5)) -> 0.30555556 | S42: =L42*SUM(M39:M42) -> 1.8611111 | T42: =IF(S42>("36:00"*1),S42-("36:00"*1),0)-T41 -> 0.36111111 | V42: =IF(travail!U42<=base!E$8,"","Faux") | AD42: =IF(SUM(MOD(K42-I42,1)-IF(K42>I42,MAX(0,MIN(K42,base!E$14/24)-MAX(I42,7/24)),MAX(0,base!E$14/24-MAX(I42,7/24))+MAX(0,MIN(K42,base!E$14/24)-7/24)))<0,0,SUM(MOD(K42-I42,1)-IF(K42>I42,MAX(0,MIN(K42,base!E$14/24)-MAX(I42,7/24)),MAX(0,base!E$14/24-MAX(I42,7/24))+MAX(0,MIN(K42,base!E$14/24)-7/24)))) -> 0 | AF42: =M42*G42*1 -> 0
A43: vendredi | B43: 41314 | H43: 1 | I43: 0.30208333 | J43: 0.03125 | K43: 0.75 | L43: =C43+D43+E43+F43+G43+H43 -> 1 | M43: =K43-I43+IF(I43>K43,1)-J43+(E43*base!E$4)+(D43*base!E$4)+(C43*base!E$4)+(F43*base!E$4) -> 0.41666667 | N43: =IF(M43<=base!E$5,"","Faux") | O43: =IF(SUM(M43-base!E$5)<0,0,SUM(M43-base!E$5)) -> 0 | S43: =L43*SUM(M39:M43) -> 2.2777778 | T43: =IF(S43>("36:00"*1),S43-("36:00"*1),0)-T42 -> 0.41666667 | V43: =IF(travail!U43<=base!E$8,"","Faux") | AD43: =IF(SUM(MOD(K43-I43,1)-IF(K43>I43,MAX(0,MIN(K43,base!E$14/24)-MAX(I43,7/24)),MAX(0,base!E$14/24-MAX(I43,7/24))+MAX(0,MIN(K43,base!E$14/24)-7/24)))<0,0,SUM(MOD(K43-I43,1)-IF(K43>I43,MAX(0,MIN(K43,base!E$14/24)-MAX(I43,7/24)),MAX(0,base!E$14/24-MAX(I43,7/24))+MAX(0,MIN(K43,base!E$14/24)-7/24)))) -> 0 | AF43: =M43*G43*1 -> 0
A44: samedi | B44: 41315 | L44: =C44+D44+E44+F44+G44+H44 -> 0 | M44: =K44-I44+IF(I44>K44,1)-J44+(E44*base!E$4)+(D44*base!E$4)+(C44*base!E$4)+(F44*base!E$4) -> 0 | N44: =IF(M44<=base!E$5,"","Faux") | O44: =IF(SUM(M44-base!E$5)<0,0,SUM(M44-base!E$5)) -> 0 | P44: =K44-I44+IF(I44>K44,1) -> 0 | Q44: =IF(P44<=base!E$3,"","Faux") | R44: =IF(SUM(P44-base!E$3)<0,0,SUM(P44-base!E$3)) -> 0 | S44: =L44*SUM(M39:M44) -> 0 | T44: =IF(SUM(IF(S44>("36:00"*1),S44-("36:00"*1),0)-T42-T43)<0,0,SUM(IF(S44>("36:00"*1),S44-("36:00"*1),0)-T42-T43)) -> 0 | V44: =IF(travail!U44<=base!E$8,"","Faux") | AD44: =IF(SUM(MOD(K44-I44,1)-IF(K44>I44,MAX(0,MIN(K44,base!E$14/24)-MAX(I44,7/24)),MAX(0,base!E$14/24-MAX(I44,7/24))+MAX(0,MIN(K44,base!E$14/24)-7/24)))<0,0,SUM(MOD(K44-I44,1)-IF(K44>I44,MAX(0,MIN(K44,base!E$14/24)-MAX(I44,7/24)),MAX(0,base!E$14/24-MAX(I44,7/24))+MAX(0,MIN(K44,base!E$14/24)-7/24)))) -> 0
A45: dimanche | B45: 41316 | L45: =C45+D45+E45+F45+G45+H45 -> 0 | M45: =K45-I45+IF(I45>K45,1)-J45+(E45*base!E$4)+(D45*base!E$4)+(C45*base!E$4)+(F45*base!E$4) -> 0 | N45: =IF(M45<=base!E$5,"","Faux") | O45: =IF(SUM(M45-base!E$5)<0,0,SUM(M45-base!E$5)) -> 0 | P45: =K45-I45+IF(I45>K45,1) -> 0 | Q45: =IF(P45<=base!E$3,"","Faux") | R45: =IF(SUM(P45-base!E$3)<0,0,SUM(P45-base!E$3)) -> 0 | S45: =L45*SUM(M39:M45) -> 0 | T45: =IF(SUM(IF(S45>("36:00"*1),S45-("36:00"*1),0)-T43-T44)<0,0,SUM(IF(S45>("36:00"*1),S45-("36:00"*1),0)-T43-T44)) -> 0 | U45: =SUM(M39:M45) -> 2.2777778 | V45: =IF(travail!U45<=base!E$8,"","Faux") -> Faux | W45: =IF(SUM(U45-base!E$8)<0,0,SUM(U45-base!E$8)) -> 0.27777778 | X45: =IF(base!E$7<U45,U45-base!E$7,0) -> 0.77777778 | AD45: =IF(SUM(MOD(K45-I45,1)-IF(K45>I45,MAX(0,MIN(K45,base!E$14/24)-MAX(I45,7/24)),MAX(0,base!E$14/24-MAX(I45,7/24))+MAX(0,MIN(K45,base!E$14/24)-7/24)))<0,0,SUM(MOD(K45-I45,1)-IF(K45>I45,MAX(0,MIN(K45,base!E$14/24)-MAX(I45,7/24)),MAX(0,base!E$14/24-MAX(I45,7/24))+MAX(0,MIN(K45,base!E$14/24)-7/24)))) -> 0 | AE45: =M45 -> 0
A46: lundi | B46: 41317 | H46: 1 | I46: 0.30208333 | J46: 0.03125 | K46: 0.75 | L46: =C46+D46+E46+F46+G46+H46 -> 1 | M46: =K46-I46+IF(I46>K46,1)-J46+(E46*base!E$4)+(D46*base!E$4)+(C46*base!E$4)+(F46*base!E$4) -> 0.41666667 | N46: =IF(M46<=base!E$5,"","Faux") | O46: =IF(SUM(M46-base!E$5)<0,0,SUM(M46-base!E$5)) -> 0 | V46: =IF(travail!U46<=base!E$8,"","Faux") | AD46: =IF(SUM(MOD(K46-I46,1)-IF(K46>I46,MAX(0,MIN(K46,base!E$14/24)-MAX(I46,7/24)),MAX(0,base!E$14/24-MAX(I46,7/24))+MAX(0,MIN(K46,base!E$14/24)-7/24)))<0,0,SUM(MOD(K46-I46,1)-IF(K46>I46,MAX(0,MIN(K46,base!E$14/24)-MAX(I46,7/24)),MAX(0,base!E$14/24-MAX(I46,7/24))+MAX(0,MIN(K46,base!E$14/24)-7/24)))) -> 0 | AF46: =M46*G46*1 -> 0
A47: mardi | B47: 41318 | H47: 1 | I47: 0.30208333 | J47: 0.03125 | K47: 0.75 | L47: =C47+D47+E47+F47+G47+H47 -> 1 | M47: =K47-I47+IF(I47>K47,1)-J47+(E47*base!E$4)+(D47*base!E$4)+(C47*base!E$4)+(F47*base!E$4) -> 0.41666667 | N47: =IF(M47<=base!E$5,"","Faux") | O47: =IF(SUM(M47-base!E$5)<0,0,SUM(M47-base!E$5)) -> 0 | S47: =L47*SUM(M46:M47) -> 0.83333333 | T47: =IF(S47>("36:00"*1),S47-("36:00"*1),0)-T46 -> 0 | V47: =IF(travail!U47<=base!E$8,"","Faux") | AD47: =IF(SUM(MOD(K47-I47,1)-IF(K47>I47,MAX(0,MIN(K47,base!E$14/24)-MAX(I47,7/24)),MAX(0,base!E$14/24-MAX(I47,7/24))+MAX(0,MIN(K47,base!E$14/24)-7/24)))<0,0,SUM(MOD(K47-I47,1)-IF(K47>I47,MAX(0,MIN(K47,base!E$14/24)-MAX(I47,7/24)),MAX(0,base!E$14/24-MAX(I47,7/24))+MAX(0,MIN(K47,base!E$14/24)-7/24)))) -> 0 | AF47: =M47*G47*1 -> 0
A48: mercredi | B48: 41319 | L48: =C48+D48+E48+F48+G48+H48 -> 0 | M48: =K48-I48+IF(I48>K48,1)-J48+(E48*base!E$4)+(D48*base!E$4)+(C48*base!E$4)+(F48*base!E$4) -> 0 | N48: =IF(M48<=base!E$5,"","Faux") | O48: =IF(SUM(M48-base!E$5)<0,0,SUM(M48-base!E$5)) -> 0 | P48: =K48-I48+IF(I48>K48,1) -> 0 | Q48: =IF(P48<=base!E$3,"","Faux") | R48: =IF(SUM(P48-base!E$3)<0,0,SUM(P48-base!E$3)) -> 0 | S48: =L48*SUM(M46:M48) -> 0 | T48: =IF(S48>("36:00"*1),S48-("36:00"*1),0)-T47 -> 0 | V48: =IF(travail!U48<=base!E$8,"","Faux") | AD48: =IF(SUM(MOD(K48-I48,1)-IF(K48>I48,MAX(0,MIN(K48,base!E$14/24)-MAX(I48,7/24)),MAX(0,base!E$14/24-MAX(I48,7/24))+MAX(0,MIN(K48,base!E$14/24)-7/24)))<0,0,SUM(MOD(K48-I48,1)-IF(K48>I48,MAX(0,MIN(K48,base!E$14/24)-MAX(I48,7/24)),MAX(0,base!E$14/24-MAX(I48,7/24))+MAX(0,MIN(K48,base!E$14/24)-7/24)))) -> 0 | AF48: =M48*G48*1 -> 0
A49: jeudi | B49: 41320 | H49: 1 | I49: 0.30208333 | J49: 0.03125 | K49: 0.75 | L49: =C49+D49+E49+F49+G49+H49 -> 1 | M49: =K49-I49+IF(I49>K49,1)-J49+(E49*base!E$4)+(D49*base!E$4)+(C49*base!E$4)+(F49*base!E$4) -> 0.41666667 | N49: =IF(M49<=base!E$5,"","Faux") | O49: =IF(SUM(M49-base!E$5)<0,0,SUM(M49-base!E$5)) -> 0 | S49: =L49*SUM(M46:M49) -> 1.25 | T49: =IF(S49>("36:00"*1),S49-("36:00"*1),0)-T48 -> 0 | V49: =IF(travail!U49<=base!E$8,"","Faux") | AD49: =IF(SUM(MOD(K49-I49,1)-IF(K49>I49,MAX(0,MIN(K49,base!E$14/24)-MAX(I49,7/24)),MAX(0,base!E$14/24-MAX(I49,7/24))+MAX(0,MIN(K49,base!E$14/24)-7/24)))<0,0,SUM(MOD(K49-I49,1)-IF(K49>I49,MAX(0,MIN(K49,base!E$14/24)-MAX(I49,7/24)),MAX(0,base!E$14/24-MAX(I49,7/24))+MAX(0,MIN(K49,base!E$14/24)-7/24)))) -> 0 | AF49: =M49*G49*1 -> 0
A50: vendredi | B50: 41321 | H50: 1 | I50: 0.30208333 | J50: 0.03125 | K50: 0.75 | L50: =C50+D50+E50+F50+G50+H50 -> 1 | M50: =K50-I50+IF(I50>K50,1)-J50+(E50*base!E$4)+(D50*base!E$4)+(C50*base!E$4)+(F50*base!E$4) -> 0.41666667 | N50: =IF(M50<=base!E$5,"","Faux") | O50: =IF(SUM(M50-base!E$5)<0,0,SUM(M50-base!E$5)) -> 0 | S50: =L50*SUM(M46:M50) -> 1.6666667 | T50: =IF(S50>("36:00"*1),S50-("36:00"*1),0)-T49 -> 0.16666667 | V50: =IF(travail!U50<=base!E$8,"","Faux") | AD50: =IF(SUM(MOD(K50-I50,1)-IF(K50>I50,MAX(0,MIN(K50,base!E$14/24)-MAX(I50,7/24)),MAX(0,base!E$14/24-MAX(I50,7/24))+MAX(0,MIN(K50,base!E$14/24)-7/24)))<0,0,SUM(MOD(K50-I50,1)-IF(K50>I50,MAX(0,MIN(K50,base!E$14/24)-MAX(I50,7/24)),MAX(0,base!E$14/24-MAX(I50,7/24))+MAX(0,MIN(K50,base!E$14/24)-7/24)))) -> 0 | AF50: =M50*G50*1 -> 0
A51: samedi | B51: 41322 | L51: =C51+D51+E51+F51+G51+H51 -> 0 | M51: =K51-I51+IF(I51>K51,1)-J51+(E51*base!E$4)+(D51*base!E$4)+(C51*base!E$4)+(F51*base!E$4) -> 0 | N51: =IF(M51<=base!E$5,"","Faux") | O51: =IF(SUM(M51-base!E$5)<0,0,SUM(M51-base!E$5)) -> 0 | P51: =K51-I51+IF(I51>K51,1) -> 0 | Q51: =IF(P51<=base!E$3,"","Faux") | R51: =IF(SUM(P51-base!E$3)<0,0,SUM(P51-base!E$3)) -> 0 | S51: =L51*SUM(M46:M51) -> 0 | T51: =IF(SUM(IF(S51>("36:00"*1),S51-("36:00"*1),0)-T49-T50)<0,0,SUM(IF(S51>("36:00"*1),S51-("36:00"*1),0)-T49-T50)) -> 0 | V51: =IF(travail!U51<=base!E$8,"","Faux") | AD51: =IF(SUM(MOD(K51-I51,1)-IF(K51>I51,MAX(0,MIN(K51,base!E$14/24)-MAX(I51,7/24)),MAX(0,base!E$14/24-MAX(I51,7/24))+MAX(0,MIN(K51,base!E$14/24)-7/24)))<0,0,SUM(MOD(K51-I51,1)-IF(K51>I51,MAX(0,MIN(K51,base!E$14/24)-MAX(I51,7/24)),MAX(0,base!E$14/24-MAX(I51,7/24))+MAX(0,MIN(K51,base!E$14/24)-7/24)))) -> 0
A52: dimanche | B52: 41323 | L52: =C52+D52+E52+F52+G52+H52 -> 0 | M52: =K52-I52+IF(I52>K52,1)-J52+(E52*base!E$4)+(D52*base!E$4)+(C52*base!E$4)+(F52*base!E$4) -> 0 | N52: =IF(M52<=base!E$5,"","Faux") | O52: =IF(SUM(M52-base!E$5)<0,0,SUM(M52-base!E$5)) -> 0 | P52: =K52-I52+IF(I52>K52,1) -> 0 | Q52: =IF(P52<=base!E$3,"","Faux") | R52: =IF(SUM(P52-base!E$3)<0,0,SUM(P52-base!E$3)) -> 0 | S52: =L52*SUM(M46:M52) -> 0 | T52: =IF(SUM(IF(S52>("36:00"*1),S52-("36:00"*1),0)-T50-T51)<0,0,SUM(IF(S52>("36:00"*1),S52-("36:00"*1),0)-T50-T51)) -> 0 | U52: =SUM(M46:M52) -> 1.6666667 | V52: =IF(travail!U52<=base!E$8,"","Faux") | W52: =IF(SUM(U52-base!E$8)<0,0,SUM(U52-base!E$8)) -> 0 | X52: =IF(base!E$7<U52,U52-base!E$7,0) -> 0.16666667 | AD52: =IF(SUM(MOD(K52-I52,1)-IF(K52>I52,MAX(0,MIN(K52,base!E$14/24)-MAX(I52,7/24)),MAX(0,base!E$14/24-MAX(I52,7/24))+MAX(0,MIN(K52,base!E$14/24)-7/24)))<0,0,SUM(MOD(K52-I52,1)-IF(K52>I52,MAX(0,MIN(K52,base!E$14/24)-MAX(I52,7/24)),MAX(0,base!E$14/24-MAX(I52,7/24))+MAX(0,MIN(K52,base!E$14/24)-7/24)))) -> 0 | AE52: =M52 -> 0
A53: lundi | B53: 41324 | H53: 1 | I53: 0.30208333 | J53: 0.03125 | K53: 0.75 | L53: =C53+D53+E53+F53+G53+H53 -> 1 | M53: =K53-I53+IF(I53>K53,1)-J53+(E53*base!E$4)+(D53*base!E$4)+(C53*base!E$4)+(F53*base!E$4) -> 0.41666667 | N53: =IF(M53<=base!E$5,"","Faux") | O53: =IF(SUM(M53-base!E$5)<0,0,SUM(M53-base!E$5)) -> 0 | V53: =IF(travail!U53<=base!E$8,"","Faux") | AD53: =IF(SUM(MOD(K53-I53,1)-IF(K53>I53,MAX(0,MIN(K53,base!E$14/24)-MAX(I53,7/24)),MAX(0,base!E$14/24-MAX(I53,7/24))+MAX(0,MIN(K53,base!E$14/24)-7/24)))<0,0,SUM(MOD(K53-I53,1)-IF(K53>I53,MAX(0,MIN(K53,base!E$14/24)-MAX(I53,7/24)),MAX(0,base!E$14/24-MAX(I53,7/24))+MAX(0,MIN(K53,base!E$14/24)-7/24)))) -> 0 | AF53: =M53*G53*1 -> 0
A54: mardi | B54: 41325 | H54: 1 | I54: 0.30208333 | J54: 0.03125 | K54: 0.75 | L54: =C54+D54+E54+F54+G54+H54 -> 1 | M54: =K54-I54+IF(I54>K54,1)-J54+(E54*base!E$4)+(D54*base!E$4)+(C54*base!E$4)+(F54*base!E$4) -> 0.41666667 | N54: =IF(M54<=base!E$5,"","Faux") | O54: =IF(SUM(M54-base!E$5)<0,0,SUM(M54-base!E$5)) -> 0 | S54: =L54*SUM(M53:M54) -> 0.83333333 | T54: =IF(S54>("36:00"*1),S54-("36:00"*1),0)-T53 -> 0 | V54: =IF(travail!U54<=base!E$8,"","Faux") | AD54: =IF(SUM(MOD(K54-I54,1)-IF(K54>I54,MAX(0,MIN(K54,base!E$14/24)-MAX(I54,7/24)),MAX(0,base!E$14/24-MAX(I54,7/24))+MAX(0,MIN(K54,base!E$14/24)-7/24)))<0,0,SUM(MOD(K54-I54,1)-IF(K54>I54,MAX(0,MIN(K54,base!E$14/24)-MAX(I54,7/24)),MAX(0,base!E$14/24-MAX(I54,7/24))+MAX(0,MIN(K54,base!E$14/24)-7/24)))) -> 0 | AF54: =M54*G54*1 -> 0
A55: mercredi | B55: 41326 | L55: =C55+D55+E55+F55+G55+H55 -> 0 | M55: =K55-I55+IF(I55>K55,1)-J55+(E55*base!E$4)+(D55*base!E$4)+(C55*base!E$4)+(F55*base!E$4) -> 0 | N55: =IF(M55<=base!E$5,"","Faux") | O55: =IF(SUM(M55-base!E$5)<0,0,SUM(M55-base!E$5)) -> 0 | P55: =K55-I55+IF(I55>K55,1) -> 0 | Q55: =IF(P55<=base!E$3,"","Faux") | S55: =L55*SUM(M53:M55) -> 0 | T55: =IF(S55>("36:00"*1),S55-("36:00"*1),0)-T54 -> 0 | V55: =IF(travail!U55<=base!E$8,"","Faux") | AD55: =IF(SUM(MOD(K55-I55,1)-IF(K55>I55,MAX(0,MIN(K55,base!E$14/24)-MAX(I55,7/24)),MAX(0,base!E$14/24-MAX(I55,7/24))+MAX(0,MIN(K55,base!E$14/24)-7/24)))<0,0,SUM(MOD(K55-I55,1)-IF(K55>I55,MAX(0,MIN(K55,base!E$14/24)-MAX(I55,7/24)),MAX(0,base!E$14/24-MAX(I55,7/24))+MAX(0,MIN(K55,base!E$14/24)-7/24)))) -> 0 | AF55: =M55*G55*1 -> 0
A56: jeudi | B56: 41327 | H56: 1 | I56: 0.30208333 | J56: 0.03125 | K56: 0.75 | L56: =C56+D56+E56+F56+G56+H56 -> 1 | M56: =K56-I56+IF(I56>K56,1)-J56+(E56*base!E$4)+(D56*base!E$4)+(C56*base!E$4)+(F56*base!E$4) -> 0.41666667 | N56: =IF(M56<=base!E$5,"","Faux") | O56: =IF(SUM(M56-base!E$5)<0,0,SUM(M56-base!E$5)) -> 0 | S56: =L56*SUM(M53:M56) -> 1.25 | T56: =IF(S56>("36:00"*1),S56-("36:00"*1),0)-T55 -> 0 | V56: =IF(travail!U56<=base!E$8,"","Faux") | AD56: =IF(SUM(MOD(K56-I56,1)-IF(K56>I56,MAX(0,MIN(K56,base!E$14/24)-MAX(I56,7/24)),MAX(0,base!E$14/24-MAX(I56,7/24))+MAX(0,MIN(K56,base!E$14/24)-7/24)))<0,0,SUM(MOD(K56-I56,1)-IF(K56>I56,MAX(0,MIN(K56,base!E$14/24)-MAX(I56,7/24)),MAX(0,base!E$14/24-MAX(I56,7/24))+MAX(0,MIN(K56,base!E$14/24)-7/24)))) -> 0 | AF56: =M56*G56*1 -> 0
A57: vendredi | B57: 41328 | I57: 0.30208333 | J57: 0.03125 | K57: 0.75 | L57: =C57+D57+E57+F57+G57+H57 -> 0 | M57: =K57-I57+IF(I57>K57,1)-J57+(E57*base!E$4)+(D57*base!E$4)+(C57*base!E$4)+(F57*base!E$4) -> 0.41666667 | N57: =IF(M57<=base!E$5,"","Faux") | O57: =IF(SUM(M57-base!E$5)<0,0,SUM(M57-base!E$5)) -> 0 | S57: =L57*SUM(M53:M57) -> 0 | T57: =IF(S57>("36:00"*1),S57-("36:00"*1),0)-T56 -> 0 | V57: =IF(travail!U57<=base!E$8,"","Faux") | AD57: =IF(SUM(MOD(K57-I57,1)-IF(K57>I57,MAX(0,MIN(K57,base!E$14/24)-MAX(I57,7/24)),MAX(0,base!E$14/24-MAX(I57,7/24))+MAX(0,MIN(K57,base!E$14/24)-7/24)))<0,0,SUM(MOD(K57-I57,1)-IF(K57>I57,MAX(0,MIN(K57,base!E$14/24)-MAX(I57,7/24)),MAX(0,base!E$14/24-MAX(I57,7/24))+MAX(0,MIN(K57,base!E$14/24)-7/24)))) -> 0 | AF57: =M57*G57*1 -> 0
A58: samedi | B58: 41329 | L58: =C58+D58+E58+F58+G58+H58 -> 0 | M58: =K58-I58+IF(I58>K58,1)-J58+(E58*base!E$4)+(D58*base!E$4)+(C58*base!E$4)+(F58*base!E$4) -> 0 | N58: =IF(M58<=base!E$5,"","Faux") | O58: =IF(SUM(M58-base!E$5)<0,0,SUM(M58-base!E$5)) -> 0 | P58: =K58-I58+IF(I58>K58,1) -> 0 | Q58: =IF(P58<=base!E$3,"","Faux") | S58: =L58*SUM(M53:M58) -> 0 | T58: =IF(SUM(IF(S58>("36:00"*1),S58-("36:00"*1),0)-T56-T57)<0,0,SUM(IF(S58>("36:00"*1),S58-("36:00"*1),0)-T56-T57)) -> 0 | V58: =IF(travail!U58<=base!E$8,"","Faux") | AD58: =IF(SUM(MOD(K58-I58,1)-IF(K58>I58,MAX(0,MIN(K58,base!E$14/24)-MAX(I58,7/24)),MAX(0,base!E$14/24-MAX(I58,7/24))+MAX(0,MIN(K58,base!E$14/24)-7/24)))<0,0,SUM(MOD(K58-I58,1)-IF(K58>I58,MAX(0,MIN(K58,base!E$14/24)-MAX(I58,7/24)),MAX(0,base!E$14/24-MAX(I58,7/24))+MAX(0,MIN(K58,base!E$14/24)-7/24)))) -> 0
A59: dimanche | B59: 41330 | L59: =C59+D59+E59+F59+G59+H59 -> 0 | M59: =K59-I59+IF(I59>K59,1)-J59+(E59*base!E$4)+(D59*base!E$4)+(C59*base!E$4)+(F59*base!E$4) -> 0 | N59: =IF(M59<=base!E$5,"","Faux") | O59: =IF(SUM(M59-base!E$5)<0,0,SUM(M59-base!E$5)) -> 0 | P59: =K59-I59+IF(I59>K59,1) -> 0 | Q59: =IF(P59<=base!E$3,"","Faux") | R59: =IF(SUM(P59-base!E$3)<0,0,SUM(P59-base!E$3)) -> 0 | S59: =L59*SUM(M53:M59) -> 0 | T59: =IF(SUM(IF(S59>("36:00"*1),S59-("36:00"*1),0)-T57-T58)<0,0,SUM(IF(S59>("36:00"*1),S59-("36:00"*1),0)-T57-T58)) -> 0 | U59: =SUM(M53:M59) -> 1.6666667 | V59: =IF(travail!U59<=base!E$8,"","Faux") | W59: =IF(SUM(U59-base!E$8)<0,0,SUM(U59-base!E$8)) -> 0 | X59: =IF(base!E$7<U59,U59-base!E$7,0) -> 0.16666667 | AD59: =IF(SUM(MOD(K59-I59,1)-IF(K59>I59,MAX(0,MIN(K59,base!E$14/24)-MAX(I59,7/24)),MAX(0,base!E$14/24-MAX(I59,7/24))+MAX(0,MIN(K59,base!E$14/24)-7/24)))<0,0,SUM(MOD(K59-I59,1)-IF(K59>I59,MAX(0,MIN(K59,base!E$14/24)-MAX(I59,7/24)),MAX(0,base!E$14/24-MAX(I59,7/24))+MAX(0,MIN(K59,base!E$14/24)-7/24)))) -> 0 | AE59: =M59 -> 0
A60: lundi | B60: 41331 | H60: 1 | I60: 0.30208333 | J60: 0.03125 | K60: 0.75 | L60: =C60+D60+E60+F60+G60+H60 -> 1 | M60: =K60-I60+IF(I60>K60,1)-J60+(E60*base!E$4)+(D60*base!E$4)+(C60*base!E$4)+(F60*base!E$4) -> 0.41666667 | N60: =IF(M60<=base!E$5,"","Faux") | O60: =IF(SUM(M60-base!E$5)<0,0,SUM(M60-base!E$5)) -> 0 | V60: =IF(travail!U60<=base!E$8,"","Faux") | AD60: =IF(SUM(MOD(K60-I60,1)-IF(K60>I60,MAX(0,MIN(K60,base!E$14/24)-MAX(I60,7/24)),MAX(0,base!E$14/24-MAX(I60,7/24))+MAX(0,MIN(K60,base!E$14/24)-7/24)))<0,0,SUM(MOD(K60-I60,1)-IF(K60>I60,MAX(0,MIN(K60,base!E$14/24)-MAX(I60,7/24)),MAX(0,base!E$14/24-MAX(I60,7/24))+MAX(0,MIN(K60,base!E$14/24)-7/24)))) -> 0 | AF60: =M60*G60*1 -> 0
A61: mardi | B61: 41332 | H61: 1 | I61: 0.30208333 | J61: 0.03125 | K61: 0.75 | L61: =C61+D61+E61+F61+G61+H61 -> 1 | M61: =K61-I61+IF(I61>K61,1)-J61+(E61*base!E$4)+(D61*base!E$4)+(C61*base!E$4)+(F61*base!E$4) -> 0.41666667 | N61: =IF(M61<=base!E$5,"","Faux") | O61: =IF(SUM(M61-base!E$5)<0,0,SUM(M61-base!E$5)) -> 0 | S61: =L61*SUM(M60:M61) -> 0.83333333 | T61: =IF(S61>("36:00"*1),S61-("36:00"*1),0)-T60 -> 0 | V61: =IF(travail!U61<=base!E$8,"","Faux") | AD61: =IF(SUM(MOD(K61-I61,1)-IF(K61>I61,MAX(0,MIN(K61,base!E$14/24)-MAX(I61,7/24)),MAX(0,base!E$14/24-MAX(I61,7/24))+MAX(0,MIN(K61,base!E$14/24)-7/24)))<0,0,SUM(MOD(K61-I61,1)-IF(K61>I61,MAX(0,MIN(K61,base!E$14/24)-MAX(I61,7/24)),MAX(0,base!E$14/24-MAX(I61,7/24))+MAX(0,MIN(K61,base!E$14/24)-7/24)))) -> 0 | AF61: =M61*G61*1 -> 0
A62: mercredi | B62: 41333 | L62: =C62+D62+E62+F62+G62+H62 -> 0 | M62: =K62-I62+IF(I62>K62,1)-J62+(E62*base!E$4)+(D62*base!E$4)+(C62*base!E$4)+(F62*base!E$4) -> 0 | N62: =IF(M62<=base!E$5,"","Faux") | O62: =IF(SUM(M62-base!E$5)<0,0,SUM(M62-base!E$5)) -> 0 | P62: =K62-I62+IF(I62>K62,1) -> 0 | Q62: =IF(P62<=base!E$3,"","Faux") | R62: =IF(SUM(P62-base!E$3)<0,0,SUM(P62-base!E$3)) -> 0 | S62: =L62*SUM(M60:M62) -> 0 | T62: =IF(S62>("36:00"*1),S62-("36:00"*1),0)-T61 -> 0 | V62: =IF(travail!U62<=base!E$8,"","Faux") | AD62: =IF(SUM(MOD(K62-I62,1)-IF(K62>I62,MAX(0,MIN(K62,base!E$14/24)-MAX(I62,7/24)),MAX(0,base!E$14/24-MAX(I62,7/24))+MAX(0,MIN(K62,base!E$14/24)-7/24)))<0,0,SUM(MOD(K62-I62,1)-IF(K62>I62,MAX(0,MIN(K62,base!E$14/24)-MAX(I62,7/24)),MAX(0,base!E$14/24-MAX(I62,7/24))+MAX(0,MIN(K62,base!E$14/24)-7/24)))) -> 0 | AF62: =M62*G62*1 -> 0
A63: jeudi | B63: 41334 | I63: 0.30208333 | J63: 0.03125 | K63: 0.75 | L63: =C63+D63+E63+F63+G63+H63 -> 0 | M63: =K63-I63+IF(I63>K63,1)-J63+(E63*base!E$4)+(D63*base!E$4)+(C63*base!E$4)+(F63*base!E$4) -> 0.41666667 | N63: =IF(M63<=base!E$5,"","Faux") | O63: =IF(SUM(M63-base!E$5)<0,0,SUM(M63-base!E$5)) -> 0 | S63: =L63*SUM(M60:M63) -> 0 | T63: =IF(S63>("36:00"*1),S63-("36:00"*1),0)-T62 -> 0 | V63: =IF(travail!U63<=base!E$8,"","Faux") | AD63: =IF(SUM(MOD(K63-I63,1)-IF(K63>I63,MAX(0,MIN(K63,base!E$14/24)-MAX(I63,7/24)),MAX(0,base!E$14/24-MAX(I63,7/24))+MAX(0,MIN(K63,base!E$14/24)-7/24)))<0,0,SUM(MOD(K63-I63,1)-IF(K63>I63,MAX(0,MIN(K63,base!E$14/24)-MAX(I63,7/24)),MAX(0,base!E$14/24-MAX(I63,7/24))+MAX(0,MIN(K63,base!E$14/24)-7/24)))) -> 0 | AF63: =M63*G63*1 -> 0
A64: vendredi | B64: 41335 | H64: 1 | I64: 0.30208333 | J64: 0.03125 | K64: 0.75 | L64: =C64+D64+E64+F64+G64+H64 -> 1 | M64: =K64-I64+IF(I64>K64,1)-J64+(E64*base!E$4)+(D64*base!E$4)+(C64*base!E$4)+(F64*base!E$4) -> 0.41666667 | N64: =IF(M64<=base!E$5,"","Faux") | O64: =IF(SUM(M64-base!E$5)<0,0,SUM(M64-base!E$5)) -> 0 | S64: =L64*SUM(M60:M64) -> 1.6666667 | T64: =IF(S64>("36:00"*1),S64-("36:00"*1),0)-T63 -> 0.16666667 | V64: =IF(travail!U64<=base!E$8,"","Faux") | AD64: =IF(SUM(MOD(K64-I64,1)-IF(K64>I64,MAX(0,MIN(K64,base!E$14/24)-MAX(I64,7/24)),MAX(0,base!E$14/24-MAX(I64,7/24))+MAX(0,MIN(K64,base!E$14/24)-7/24)))<0,0,SUM(MOD(K64-I64,1)-IF(K64>I64,MAX(0,MIN(K64,base!E$14/24)-MAX(I64,7/24)),MAX(0,base!E$14/24-MAX(I64,7/24))+MAX(0,MIN(K64,base!E$14/24)-7/24)))) -> 0 | AF64: =M64*G64*1 -> 0
A65: samedi | B65: 41336 | L65: =C65+D65+E65+F65+G65+H65 -> 0 | M65: =K65-I65+IF(I65>K65,1)-J65+(E65*base!E$4)+(D65*base!E$4)+(C65*base!E$4)+(F65*base!E$4) -> 0 | N65: =IF(M65<=base!E$5,"","Faux") | O65: =IF(SUM(M65-base!E$5)<0,0,SUM(M65-base!E$5)) -> 0 | P65: =K65-I65+IF(I65>K65,1) -> 0 | Q65: =IF(P65<=base!E$3,"","Faux") | R65: =IF(SUM(P65-base!E$3)<0,0,SUM(P65-base!E$3)) -> 0 | S65: =L65*SUM(M60:M65) -> 0 | T65: =IF(SUM(IF(S65>("36:00"*1),S65-("36:00"*1),0)-T63-T64)<0,0,SUM(IF(S65>("36:00"*1),S65-("36:00"*1),0)-T63-T64)) -> 0 | V65: =IF(travail!U65<=base!E$8,"","Faux") | AD65: =IF(SUM(MOD(K65-I65,1)-IF(K65>I65,MAX(0,MIN(K65,base!E$14/24)-MAX(I65,7/24)),MAX(0,base!E$14/24-MAX(I65,7/24))+MAX(0,MIN(K65,base!E$14/24)-7/24)))<0,0,SUM(MOD(K65-I65,1)-IF(K65>I65,MAX(0,MIN(K65,base!E$14/24)-MAX(I65,7/24)),MAX(0,base!E$14/24-MAX(I65,7/24))+MAX(0,MIN(K65,base!E$14/24)-7/24)))) -> 0
A66: dimanche | B66: 41337 | L66: =C66+D66+E66+F66+G66+H66 -> 0 | M66: =K66-I66+IF(I66>K66,1)-J66+(E66*base!E$4)+(D66*base!E$4)+(C66*base!E$4)+(F66*base!E$4) -> 0 | N66: =IF(M66<=base!E$5,"","Faux") | O66: =IF(SUM(M66-base!E$5)<0,0,SUM(M66-base!E$5)) -> 0 | P66: =K66-I66+IF(I66>K66,1) -> 0 | Q66: =IF(P66<=base!E$3,"","Faux") | R66: =IF(SUM(P66-base!E$3)<0,0,SUM(P66-base!E$3)) -> 0 | S66: =L66*SUM(M60:M66) -> 0 | T66: =IF(SUM(IF(S66>("36:00"*1),S66-("36:00"*1),0)-T64-T65)<0,0,SUM(IF(S66>("36:00"*1),S66-("36:00"*1),0)-T64-T65)) -> 0 | U66: =SUM(M60:M66) -> 1.6666667 | V66: =IF(travail!U66<=base!E$8,"","Faux") | W66: =IF(SUM(U66-base!E$8)<0,0,SUM(U66-base!E$8)) -> 0 | X66: =IF(base!E$7<U66,U66-base!E$7,0) -> 0.16666667 | AD66: =IF(SUM(MOD(K66-I66,1)-IF(K66>I66,MAX(0,MIN(K66,base!E$14/24)-MAX(I66,7/24)),MAX(0,base!E$14/24-MAX(I66,7/24))+MAX(0,MIN(K66,base!E$14/24)-7/24)))<0,0,SUM(MOD(K66-I66,1)-IF(K66>I66,MAX(0,MIN(K66,base!E$14/24)-MAX(I66,7/24)),MAX(0,base!E$14/24-MAX(I66,7/24))+MAX(0,MIN(K66,base!E$14/24)-7/24)))) -> 0 | AE66: =M66 -> 0
A67: lundi | B67: 41338 | H67: 1 | I67: 0.30208333 | J67: 0.03125 | K67: 0.75 | L67: =C67+D67+E67+F67+G67+H67 -> 1 | M67: =K67-I67+IF(I67>K67,1)-J67+(E67*base!E$4)+(D67*base!E$4)+(C67*base!E$4)+(F67*base!E$4) -> 0.41666667 | N67: =IF(M67<=base!E$5,"","Faux") | O67: =IF(SUM(M67-base!E$5)<0,0,SUM(M67-base!E$5)) -> 0 | V67: =IF(travail!U67<=base!E$8,"","Faux") | AD67: =IF(SUM(MOD(K67-I67,1)-IF(K67>I67,MAX(0,MIN(K67,base!E$14/24)-MAX(I67,7/24)),MAX(0,base!E$14/24-MAX(I67,7/24))+MAX(0,MIN(K67,base!E$14/24)-7/24)))<0,0,SUM(MOD(K67-I67,1)-IF(K67>I67,MAX(0,MIN(K67,base!E$14/24)-MAX(I67,7/24)),MAX(0,base!E$14/24-MAX(I67,7/24))+MAX(0,MIN(K67,base!E$14/24)-7/24)))) -> 0 | AF67: =M67*G67*1 -> 0
A68: mardi | B68: 41339 | H68: 1 | I68: 0.30208333 | J68: 0.03125 | K68: 0.75 | L68: =C68+D68+E68+F68+G68+H68 -> 1 | M68: =K68-I68+IF(I68>K68,1)-J68+(E68*base!E$4)+(D68*base!E$4)+(C68*base!E$4)+(F68*base!E$4) -> 0.41666667 | N68: =IF(M68<=base!E$5,"","Faux") | O68: =IF(SUM(M68-base!E$5)<0,0,SUM(M68-base!E$5)) -> 0 | S68: =L68*SUM(M67:M68) -> 0.83333333 | T68: =IF(S68>("36:00"*1),S68-("36:00"*1),0)-T67 -> 0 | V68: =IF(travail!U68<=base!E$8,"","Faux") | AD68: =IF(SUM(MOD(K68-I68,1)-IF(K68>I68,MAX(0,MIN(K68,base!E$14/24)-MAX(I68,7/24)),MAX(0,base!E$14/24-MAX(I68,7/24))+MAX(0,MIN(K68,base!E$14/24)-7/24)))<0,0,SUM(MOD(K68-I68,1)-IF(K68>I68,MAX(0,MIN(K68,base!E$14/24)-MAX(I68,7/24)),MAX(0,base!E$14/24-MAX(I68,7/24))+MAX(0,MIN(K68,base!E$14/24)-7/24)))) -> 0 | AF68: =M68*G68*1 -> 0
A69: mercredi | B69: 41340 | L69: =C69+D69+E69+F69+G69+H69 -> 0 | M69: =K69-I69+IF(I69>K69,1)-J69+(E69*base!E$4)+(D69*base!E$4)+(C69*base!E$4)+(F69*base!E$4) -> 0 | N69: =IF(M69<=base!E$5,"","Faux") | O69: =IF(SUM(M69-base!E$5)<0,0,SUM(M69-base!E$5)) -> 0 | P69: =K69-I69+IF(I69>K69,1) -> 0 | Q69: =IF(P69<=base!E$3,"","Faux") | R69: =IF(SUM(P69-base!E$3)<0,0,SUM(P69-base!E$3)) -> 0 | S69: =L69*SUM(M67:M69) -> 0 | T69: =IF(S69>("36:00"*1),S69-("36:00"*1),0)-T68 -> 0 | V69: =IF(travail!U69<=base!E$8,"","Faux") | AD69: =IF(SUM(MOD(K69-I69,1)-IF(K69>I69,MAX(0,MIN(K69,base!E$14/24)-MAX(I69,7/24)),MAX(0,base!E$14/24-MAX(I69,7/24))+MAX(0,MIN(K69,base!E$14/24)-7/24)))<0,0,SUM(MOD(K69-I69,1)-IF(K69>I69,MAX(0,MIN(K69,base!E$14/24)-MAX(I69,7/24)),MAX(0,base!E$14/24-MAX(I69,7/24))+MAX(0,MIN(K69,base!E$14/24)-7/24)))) -> 0 | AF69: =M69*G69*1 -> 0
A70: jeudi | B70: 41341 | H70: 1 | I70: 0.30208333 | J70: 0.03125 | K70: 0.75 | L70: =C70+D70+E70+F70+G70+H70 -> 1 | M70: =K70-I70+IF(I70>K70,1)-J70+(E70*base!E$4)+(D70*base!E$4)+(C70*base!E$4)+(F70*base!E$4) -> 0.41666667 | N70: =IF(M70<=base!E$5,"","Faux") | O70: =IF(SUM(M70-base!E$5)<0,0,SUM(M70-base!E$5)) -> 0 | S70: =L70*SUM(M67:M70) -> 1.25 | T70: =IF(S70>("36:00"*1),S70-("36:00"*1),0)-T69 -> 0 | V70: =IF(travail!U70<=base!E$8,"","Faux") | AD70: =IF(SUM(MOD(K70-I70,1)-IF(K70>I70,MAX(0,MIN(K70,base!E$14/24)-MAX(I70,7/24)),MAX(0,base!E$14/24-MAX(I70,7/24))+MAX(0,MIN(K70,base!E$14/24)-7/24)))<0,0,SUM(MOD(K70-I70,1)-IF(K70>I70,MAX(0,MIN(K70,base!E$14/24)-MAX(I70,7/24)),MAX(0,base!E$14/24-MAX(I70,7/24))+MAX(0,MIN(K70,base!E$14/24)-7/24)))) -> 0 | AF70: =M70*G70*1 -> 0
A71: vendredi | B71: 41342 | H71: 1 | I71: 0.30208333 | J71: 0.03125 | K71: 0.75 | L71: =C71+D71+E71+F71+G71+H71 -> 1 | M71: =K71-I71+IF(I71>K71,1)-J71+(E71*base!E$4)+(D71*base!E$4)+(C71*base!E$4)+(F71*base!E$4) -> 0.41666667 | N71: =IF(M71<=base!E$5,"","Faux") | O71: =IF(SUM(M71-base!E$5)<0,0,SUM(M71-base!E$5)) -> 0 | S71: =L71*SUM(M67:M71) -> 1.6666667 | T71: =IF(S71>("36:00"*1),S71-("36:00"*1),0)-T70 -> 0.16666667 | V71: =IF(travail!U71<=base!E$8,"","Faux") | AD71: =IF(SUM(MOD(K71-I71,1)-IF(K71>I71,MAX(0,MIN(K71,base!E$14/24)-MAX(I71,7/24)),MAX(0,base!E$14/24-MAX(I71,7/24))+MAX(0,MIN(K71,base!E$14/24)-7/24)))<0,0,SUM(MOD(K71-I71,1)-IF(K71>I71,MAX(0,MIN(K71,base!E$14/24)-MAX(I71,7/24)),MAX(0,base!E$14/24-MAX(I71,7/24))+MAX(0,MIN(K71,base!E$14/24)-7/24)))) -> 0 | AF71: =M71*G71*1 -> 0
A72: samedi | B72: 41343 | L72: =C72+D72+E72+F72+G72+H72 -> 0 | M72: =K72-I72+IF(I72>K72,1)-J72+(E72*base!E$4)+(D72*base!E$4)+(C72*base!E$4)+(F72*base!E$4) -> 0 | N72: =IF(M72<=base!E$5,"","Faux") | O72: =IF(SUM(M72-base!E$5)<0,0,SUM(M72-base!E$5)) -> 0 | P72: =K72-I72+IF(I72>K72,1) -> 0 | Q72: =IF(P72<=base!E$3,"","Faux") | R72: =IF(SUM(P72-base!E$3)<0,0,SUM(P72-base!E$3)) -> 0 | S72: =L72*SUM(M67:M72) -> 0 | T72: =IF(SUM(IF(S72>("36:00"*1),S72-("36:00"*1),0)-T70-T71)<0,0,SUM(IF(S72>("36:00"*1),S72-("36:00"*1),0)-T70-T71)) -> 0 | V72: =IF(travail!U72<=base!E$8,"","Faux") | AD72: =IF(SUM(MOD(K72-I72,1)-IF(K72>I72,MAX(0,MIN(K72,base!E$14/24)-MAX(I72,7/24)),MAX(0,base!E$14/24-MAX(I72,7/24))+MAX(0,MIN(K72,base!E$14/24)-7/24)))<0,0,SUM(MOD(K72-I72,1)-IF(K72>I72,MAX(0,MIN(K72,base!E$14/24)-MAX(I72,7/24)),MAX(0,base!E$14/24-MAX(I72,7/24))+MAX(0,MIN(K72,base!E$14/24)-7/24)))) -> 0
A73: dimanche | B73: 41344 | L73: =C73+D73+E73+F73+G73+H73 -> 0 | M73: =K73-I73+IF(I73>K73,1)-J73+(E73*base!E$4)+(D73*base!E$4)+(C73*base!E$4)+(F73*base!E$4) -> 0 | N73: =IF(M73<=base!E$5,"","Faux") | O73: =IF(SUM(M73-base!E$5)<0,0,SUM(M73-base!E$5)) -> 0 | P73: =K73-I73+IF(I73>K73,1) -> 0 | Q73: =IF(P73<=base!E$3,"","Faux") | R73: =IF(SUM(P73-base!E$3)<0,0,SUM(P73-base!E$3)) -> 0 | S73: =L73*SUM(M67:M73) -> 0 | T73: =IF(SUM(IF(S73>("36:00"*1),S73-("36:00"*1),0)-T71-T72)<0,0,SUM(IF(S73>("36:00"*1),S73-("36:00"*1),0)-T71-T72)) -> 0 | U73: =SUM(M67:M73) -> 1.6666667 | V73: =IF(travail!U73<=base!E$8,"","Faux") | W73: =IF(SUM(U73-base!E$8)<0,0,SUM(U73-base!E$8)) -> 0 | X73: =IF(base!E$7<U73,U73-base!E$7,0) -> 0.16666667 | AD73: =IF(SUM(MOD(K73-I73,1)-IF(K73>I73,MAX(0,MIN(K73,base!E$14/24)-MAX(I73,7/24)),MAX(0,base!E$14/24-MAX(I73,7/24))+MAX(0,MIN(K73,base!E$14/24)-7/24)))<0,0,SUM(MOD(K73-I73,1)-IF(K73>I73,MAX(0,MIN(K73,base!E$14/24)-MAX(I73,7/24)),MAX(0,base!E$14/24-MAX(I73,7/24))+MAX(0,MIN(K73,base!E$14/24)-7/24)))) -> 0 | AE73: =M73 -> 0
A74: lundi | B74: 41345 | H74: 1 | I74: 0.30208333 | J74: 0.03125 | K74: 0.75 | L74: =C74+D74+E74+F74+G74+H74 -> 1 | M74: =K74-I74+IF(I74>K74,1)-J74+(E74*base!E$4)+(D74*base!E$4)+(C74*base!E$4)+(F74*base!E$4) -> 0.41666667 | N74: =IF(M74<=base!E$5,"","Faux") | O74: =IF(SUM(M74-base!E$5)<0,0,SUM(M74-base!E$5)) -> 0 | V74: =IF(travail!U74<=base!E$8,"","Faux") | AD74: =IF(SUM(MOD(K74-I74,1)-IF(K74>I74,MAX(0,MIN(K74,base!E$14/24)-MAX(I74,7/24)),MAX(0,base!E$14/24-MAX(I74,7/24))+MAX(0,MIN(K74,base!E$14/24)-7/24)))<0,0,SUM(MOD(K74-I74,1)-IF(K74>I74,MAX(0,MIN(K74,base!E$14/24)-MAX(I74,7/24)),MAX(0,base!E$14/24-MAX(I74,7/24))+MAX(0,MIN(K74,base!E$14/24)-7/24)))) -> 0 | AF74: =M74*G74*1 -> 0
A75: mardi | B75: 41346 | H75: 1 | I75: 0.30208333 | J75: 0.03125 | K75: 0.75 | L75: =C75+D75+E75+F75+G75+H75 -> 1 | M75: =K75-I75+IF(I75>K75,1)-J75+(E75*base!E$4)+(D75*base!E$4)+(C75*base!E$4)+(F75*base!E$4) -> 0.41666667 | N75: =IF(M75<=base!E$5,"","Faux") | O75: =IF(SUM(M75-base!E$5)<0,0,SUM(M75-base!E$5)) -> 0 | S75: =L75*SUM(M74:M75) -> 0.83333333 | T75: =IF(S75>("36:00"*1),S75-("36:00"*1),0)-T74 -> 0 | V75: =IF(travail!U75<=base!E$8,"","Faux") | AD75: =IF(SUM(MOD(K75-I75,1)-IF(K75>I75,MAX(0,MIN(K75,base!E$14/24)-MAX(I75,7/24)),MAX(0,base!E$14/24-MAX(I75,7/24))+MAX(0,MIN(K75,base!E$14/24)-7/24)))<0,0,SUM(MOD(K75-I75,1)-IF(K75>I75,MAX(0,MIN(K75,base!E$14/24)-MAX(I75,7/24)),MAX(0,base!E$14/24-MAX(I75,7/24))+MAX(0,MIN(K75,base!E$14/24)-7/24)))) -> 0 | AF75: =M75*G75*1 -> 0
A76: mercredi | B76: 41347 | L76: =C76+D76+E76+F76+G76+H76 -> 0 | M76: =K76-I76+IF(I76>K76,1)-J76+(E76*base!E$4)+(D76*base!E$4)+(C76*base!E$4)+(F76*base!E$4) -> 0 | N76: =IF(M76<=base!E$5,"","Faux") | O76: =IF(SUM(M76-base!E$5)<0,0,SUM(M76-base!E$5)) -> 0 | P76: =K76-I76+IF(I76>K76,1) -> 0 | Q76: =IF(P76<=base!E$3,"","Faux") | R76: =IF(SUM(P76-base!E$3)<0,0,SUM(P76-base!E$3)) -> 0 | S76: =L76*SUM(M74:M76) -> 0 | T76: =IF(S76>("36:00"*1),S76-("36:00"*1),0)-T75 -> 0 | V76: =IF(travail!U76<=base!E$8,"","Faux") | AD76: =IF(SUM(MOD(K76-I76,1)-IF(K76>I76,MAX(0,MIN(K76,base!E$14/24)-MAX(I76,7/24)),MAX(0,base!E$14/24-MAX(I76,7/24))+MAX(0,MIN(K76,base!E$14/24)-7/24)))<0,0,SUM(MOD(K76-I76,1)-IF(K76>I76,MAX(0,MIN(K76,base!E$14/24)-MAX(I76,7/24)),MAX(0,base!E$14/24-MAX(I76,7/24))+MAX(0,MIN(K76,base!E$14/24)-7/24)))) -> 0 | AF76: =M76*G76*1 -> 0
A77: jeudi | B77: 41348 | I77: 0.30208333 | J77: 0.03125 | K77: 0.75 | L77: =C77+D77+E77+F77+G77+H77 -> 0 | M77: =K77-I77+IF(I77>K77,1)-J77+(E77*base!E$4)+(D77*base!E$4)+(C77*base!E$4)+(F77*base!E$4) -> 0.41666667 | N77: =IF(M77<=base!E$5,"","Faux") | O77: =IF(SUM(M77-base!E$5)<0,0,SUM(M77-base!E$5)) -> 0 | S77: =L77*SUM(M74:M77) -> 0 | T77: =IF(S77>("36:00"*1),S77-("36:00"*1),0)-T76 -> 0 | V77: =IF(travail!U77<=base!E$8,"","Faux") | AD77: =IF(SUM(MOD(K77-I77,1)-IF(K77>I77,MAX(0,MIN(K77,base!E$14/24)-MAX(I77,7/24)),MAX(0,base!E$14/24-MAX(I77,7/24))+MAX(0,MIN(K77,base!E$14/24)-7/24)))<0,0,SUM(MOD(K77-I77,1)-IF(K77>I77,MAX(0,MIN(K77,base!E$14/24)-MAX(I77,7/24)),MAX(0,base!E$14/24-MAX(I77,7/24))+MAX(0,MIN(K77,base!E$14/24)-7/24)))) -> 0 | AF77: =M77*G77*1 -> 0
A78: vendredi | B78: 41349 | H78: 1 | I78: 0.30208333 | J78: 0.03125 | K78: 0.75 | L78: =C78+D78+E78+F78+G78+H78 -> 1 | M78: =K78-I78+IF(I78>K78,1)-J78+(E78*base!E$4)+(D78*base!E$4)+(C78*base!E$4)+(F78*base!E$4) -> 0.41666667 | N78: =IF(M78<=base!E$5,"","Faux") | O78: =IF(SUM(M78-base!E$5)<0,0,SUM(M78-base!E$5)) -> 0 | S78: =L78*SUM(M74:M78) -> 1.6666667 | T78: =IF(S78>("36:00"*1),S78-("36:00"*1),0)-T77 -> 0.16666667 | V78: =IF(travail!U78<=base!E$8,"","Faux") | AD78: =IF(SUM(MOD(K78-I78,1)-IF(K78>I78,MAX(0,MIN(K78,base!E$14/24)-MAX(I78,7/24)),MAX(0,base!E$14/24-MAX(I78,7/24))+MAX(0,MIN(K78,base!E$14/24)-7/24)))<0,0,SUM(MOD(K78-I78,1)-IF(K78>I78,MAX(0,MIN(K78,base!E$14/24)-MAX(I78,7/24)),MAX(0,base!E$14/24-MAX(I78,7/24))+MAX(0,MIN(K78,base!E$14/24)-7/24)))) -> 0 | AF78: =M78*G78*1 -> 0
A79: samedi | B79: 41350 | L79: =C79+D79+E79+F79+G79+H79 -> 0 | M79: =K79-I79+IF(I79>K79,1)-J79+(E79*base!E$4)+(D79*base!E$4)+(C79*base!E$4)+(F79*base!E$4) -> 0 | N79: =IF(M79<=base!E$5,"","Faux") | O79: =IF(SUM(M79-base!E$5)<0,0,SUM(M79-base!E$5)) -> 0 | P79: =K79-I79+IF(I79>K79,1) -> 0 | Q79: =IF(P79<=base!E$3,"","Faux") | R79: =IF(SUM(P79-base!E$3)<0,0,SUM(P79-base!E$3)) -> 0 | S79: =L79*SUM(M74:M79) -> 0 | T79: =IF(SUM(IF(S79>("36:00"*1),S79-("36:00"*1),0)-T77-T78)<0,0,SUM(IF(S79>("36:00"*1),S79-("36:00"*1),0)-T77-T78)) -> 0 | V79: =IF(travail!U79<=base!E$8,"","Faux") | AD79: =IF(SUM(MOD(K79-I79,1)-IF(K79>I79,MAX(0,MIN(K79,base!E$14/24)-MAX(I79,7/24)),MAX(0,base!E$14/24-MAX(I79,7/24))+MAX(0,MIN(K79,base!E$14/24)-7/24)))<0,0,SUM(MOD(K79-I79,1)-IF(K79>I79,MAX(0,MIN(K79,base!E$14/24)-MAX(I79,7/24)),MAX(0,base!E$14/24-MAX(I79,7/24))+MAX(0,MIN(K79,base!E$14/24)-7/24)))) -> 0
A80: dimanche | B80: 41351 | L80: =C80+D80+E80+F80+G80+H80 -> 0 | M80: =K80-I80+IF(I80>K80,1)-J80+(E80*base!E$4)+(D80*base!E$4)+(C80*base!E$4)+(F80*base!E$4) -> 0 | N80: =IF(M80<=base!E$5,"","Faux") | O80: =IF(SUM(M80-base!E$5)<0,0,SUM(M80-base!E$5)) -> 0 | P80: =K80-I80+IF(I80>K80,1) -> 0 | Q80: =IF(P80<=base!E$3,"","Faux") | R80: =IF(SUM(P80-base!E$3)<0,0,SUM(P80-base!E$3)) -> 0 | S80: =L80*SUM(M74:M80) -> 0 | T80: =IF(SUM(IF(S80>("36:00"*1),S80-("36:00"*1),0)-T78-T79)<0,0,SUM(IF(S80>("36:00"*1),S80-("36:00"*1),0)-T78-T79)) -> 0 | U80: =SUM(M74:M80) -> 1.6666667 | V80: =IF(travail!U80<=base!E$8,"","Faux") | W80: =IF(SUM(U80-base!E$8)<0,0,SUM(U80-base!E$8)) -> 0 | X80: =IF(base!E$7<U80,U80-base!E$7,0) -> 0.16666667 | AD80: =IF(SUM(MOD(K80-I80,1)-IF(K80>I80,MAX(0,MIN(K80,base!E$14/24)-MAX(I80,7/24)),MAX(0,base!E$14/24-MAX(I80,7/24))+MAX(0,MIN(K80,base!E$14/24)-7/24)))<0,0,SUM(MOD(K80-I80,1)-IF(K80>I80,MAX(0,MIN(K80,base!E$14/24)-MAX(I80,7/24)),MAX(0,base!E$14/24-MAX(I80,7/24))+MAX(0,MIN(K80,base!E$14/24)-7/24)))) -> 0 | AE80: =M80 -> 0
A81: lundi | B81: 41352 | H81: 1 | I81: 0.30208333 | J81: 0.03125 | K81: 0.75 | L81: =C81+D81+E81+F81+G81+H81 -> 1 | M81: =K81-I81+IF(I81>K81,1)-J81+(E81*base!E$4)+(D81*base!E$4)+(C81*base!E$4)+(F81*base!E$4) -> 0.41666667 | N81: =IF(M81<=base!E$5,"","Faux") | O81: =IF(SUM(M81-base!E$5)<0,0,SUM(M81-base!E$5)) -> 0 | V81: =IF(travail!U81<=base!E$8,"","Faux") | AD81: =IF(SUM(MOD(K81-I81,1)-IF(K81>I81,MAX(0,MIN(K81,base!E$14/24)-MAX(I81,7/24)),MAX(0,base!E$14/24-MAX(I81,7/24))+MAX(0,MIN(K81,base!E$14/24)-7/24)))<0,0,SUM(MOD(K81-I81,1)-IF(K81>I81,MAX(0,MIN(K81,base!E$14/24)-MAX(I81,7/24)),MAX(0,base!E$14/24-MAX(I81,7/24))+MAX(0,MIN(K81,base!E$14/24)-7/24)))) -> 0 | AF81: =M81*G81*1 -> 0
A82: mardi | B82: 41353 | H82: 1 | I82: 0.30208333 | J82: 0.03125 | K82: 0.75 | L82: =C82+D82+E82+F82+G82+H82 -> 1 | M82: =K82-I82+IF(I82>K82,1)-J82+(E82*base!E$4)+(D82*base!E$4)+(C82*base!E$4)+(F82*base!E$4) -> 0.41666667 | N82: =IF(M82<=base!E$5,"","Faux") | O82: =IF(SUM(M82-base!E$5)<0,0,SUM(M82-base!E$5)) -> 0 | S82: =L82*SUM(M81:M82) -> 0.83333333 | T82: =IF(S82>("36:00"*1),S82-("36:00"*1),0)-T81 -> 0 | V82: =IF(travail!U82<=base!E$8,"","Faux") | AD82: =IF(SUM(MOD(K82-I82,1)-IF(K82>I82,MAX(0,MIN(K82,base!E$14/24)-MAX(I82,7/24)),MAX(0,base!E$14/24-MAX(I82,7/24))+MAX(0,MIN(K82,base!E$14/24)-7/24)))<0,0,SUM(MOD(K82-I82,1)-IF(K82>I82,MAX(0,MIN(K82,base!E$14/24)-MAX(I82,7/24)),MAX(0,base!E$14/24-MAX(I82,7/24))+MAX(0,MIN(K82,base!E$14/24)-7/24)))) -> 0 | AF82: =M82*G82*1 -> 0
A83: mercredi | B83: 41354 | L83: =C83+D83+E83+F83+G83+H83 -> 0 | M83: =K83-I83+IF(I83>K83,1)-J83+(E83*base!E$4)+(D83*base!E$4)+(C83*base!E$4)+(F83*base!E$4) -> 0 | N83: =IF(M83<=base!E$5,"","Faux") | O83: =IF(SUM(M83-base!E$5)<0,0,SUM(M83-base!E$5)) -> 0 | P83: =K83-I83+IF(I83>K83,1) -> 0 | Q83: =IF(P83<=base!E$3,"","Faux") | R83: =IF(SUM(P83-base!E$3)<0,0,SUM(P83-base!E$3)) -> 0 | S83: =L83*SUM(M81:M83) -> 0 | T83: =IF(S83>("36:00"*1),S83-("36:00"*1),0)-T82 -> 0 | V83: =IF(travail!U83<=base!E$8,"","Faux") | AD83: =IF(SUM(MOD(K83-I83,1)-IF(K83>I83,MAX(0,MIN(K83,base!E$14/24)-MAX(I83,7/24)),MAX(0,base!E$14/24-MAX(I83,7/24))+MAX(0,MIN(K83,base!E$14/24)-7/24)))<0,0,SUM(MOD(K83-I83,1)-IF(K83>I83,MAX(0,MIN(K83,base!E$14/24)-MAX(I83,7/24)),MAX(0,base!E$14/24-MAX(I83,7/24))+MAX(0,MIN(K83,base!E$14/24)-7/24)))) -> 0 | AF83: =M83*G83*1 -> 0
A84: jeudi | B84: 41355 | H84: 1 | I84: 0.30208333 | J84: 0.03125 | K84: 0.75 | L84: =C84+D84+E84+F84+G84+H84 -> 1 | M84: =K84-I84+IF(I84>K84,1)-J84+(E84*base!E$4)+(D84*base!E$4)+(C84*base!E$4)+(F84*base!E$4) -> 0.41666667 | N84: =IF(M84<=base!E$5,"","Faux") | O84: =IF(SUM(M84-base!E$5)<0,0,SUM(M84-base!E$5)) -> 0 | S84: =L84*SUM(M81:M84) -> 1.25 | T84: =IF(S84>("36:00"*1),S84-("36:00"*1),0)-T83 -> 0 | V84: =IF(travail!U84<=base!E$8,"","Faux") | AD84: =IF(SUM(MOD(K84-I84,1)-IF(K84>I84,MAX(0,MIN(K84,base!E$14/24)-MAX(I84,7/24)),MAX(0,base!E$14/24-MAX(I84,7/24))+MAX(0,MIN(K84,base!E$14/24)-7/24)))<0,0,SUM(MOD(K84-I84,1)-IF(K84>I84,MAX(0,MIN(K84,base!E$14/24)-MAX(I84,7/24)),MAX(0,base!E$14/24-MAX(I84,7/24))+MAX(0,MIN(K84,base!E$14/24)-7/24)))) -> 0 | AF84: =M84*G84*1 -> 0
A85: vendredi | B85: 41356 | H85: 1 | I85: 0.30208333 | J85: 0.03125 | K85: 0.75 | L85: =C85+D85+E85+F85+G85+H85 -> 1 | M85: =K85-I85+IF(I85>K85,1)-J85+(E85*base!E$4)+(D85*base!E$4)+(C85*base!E$4)+(F85*base!E$4) -> 0.41666667 | N85: =IF(M85<=base!E$5,"","Faux") | O85: =IF(SUM(M85-base!E$5)<0,0,SUM(M85-base!E$5)) -> 0 | S85: =L85*SUM(M81:M85) -> 1.6666667 | T85: =IF(S85>("36:00"*1),S85-("36:00"*1),0)-T84 -> 0.16666667 | V85: =IF(travail!U85<=base!E$8,"","Faux") | AD85: =IF(SUM(MOD(K85-I85,1)-IF(K85>I85,MAX(0,MIN(K85,base!E$14/24)-MAX(I85,7/24)),MAX(0,base!E$14/24-MAX(I85,7/24))+MAX(0,MIN(K85,base!E$14/24)-7/24)))<0,0,SUM(MOD(K85-I85,1)-IF(K85>I85,MAX(0,MIN(K85,base!E$14/24)-MAX(I85,7/24)),MAX(0,base!E$14/24-MAX(I85,7/24))+MAX(0,MIN(K85,base!E$14/24)-7/24)))) -> 0 | AF85: =M85*G85*1 -> 0
A86: samedi | B86: 41357 | L86: =C86+D86+E86+F86+G86+H86 -> 0 | M86: =K86-I86+IF(I86>K86,1)-J86+(E86*base!E$4)+(D86*base!E$4)+(C86*base!E$4)+(F86*base!E$4) -> 0 | N86: =IF(M86<=base!E$5,"","Faux") | O86: =IF(SUM(M86-base!E$5)<0,0,SUM(M86-base!E$5)) -> 0 | P86: =K86-I86+IF(I86>K86,1) -> 0 | Q86: =IF(P86<=base!E$3,"","Faux") | R86: =IF(SUM(P86-base!E$3)<0,0,SUM(P86-base!E$3)) -> 0 | S86: =L86*SUM(M81:M86) -> 0 | T86: =IF(SUM(IF(S86>("36:00"*1),S86-("36:00"*1),0)-T84-T85)<0,0,SUM(IF(S86>("36:00"*1),S86-("36:00"*1),0)-T84-T85)) -> 0 | V86: =IF(travail!U86<=base!E$8,"","Faux") | AD86: =IF(SUM(MOD(K86-I86,1)-IF(K86>I86,MAX(0,MIN(K86,base!E$14/24)-MAX(I86,7/24)),MAX(0,base!E$14/24-MAX(I86,7/24))+MAX(0,MIN(K86,base!E$14/24)-7/24)))<0,0,SUM(MOD(K86-I86,1)-IF(K86>I86,MAX(0,MIN(K86,base!E$14/24)-MAX(I86,7/24)),MAX(0,base!E$14/24-MAX(I86,7/24))+MAX(0,MIN(K86,base!E$14/24)-7/24)))) -> 0
A87: dimanche | B87: 41358 | L87: =C87+D87+E87+F87+G87+H87 -> 0 | M87: =K87-I87+IF(I87>K87,1)-J87+(E87*base!E$4)+(D87*base!E$4)+(C87*base!E$4)+(F87*base!E$4) -> 0 | N87: =IF(M87<=base!E$5,"","Faux") | O87: =IF(SUM(M87-base!E$5)<0,0,SUM(M87-base!E$5)) -> 0 | P87: =K87-I87+IF(I87>K87,1) -> 0 | Q87: =IF(P87<=base!E$3,"","Faux") | R87: =IF(SUM(P87-base!E$3)<0,0,SUM(P87-base!E$3)) -> 0 | S87: =L87*SUM(M81:M87) -> 0 | T87: =IF(SUM(IF(S87>("36:00"*1),S87-("36:00"*1),0)-T85-T86)<0,0,SUM(IF(S87>("36:00"*1),S87-("36:00"*1),0)-T85-T86)) -> 0 | U87: =SUM(M81:M87) -> 1.6666667 | V87: =IF(travail!U87<=base!E$8,"","Faux") | W87: =IF(SUM(U87-base!E$8)<0,0,SUM(U87-base!E$8)) -> 0 | X87: =IF(base!E$7<U87,U87-base!E$7,0) -> 0.16666667 | AD87: =IF(SUM(MOD(K87-I87,1)-IF(K87>I87,MAX(0,MIN(K87,base!E$14/24)-MAX(I87,7/24)),MAX(0,base!E$14/24-MAX(I87,7/24))+MAX(0,MIN(K87,base!E$14/24)-7/24)))<0,0,SUM(MOD(K87-I87,1)-IF(K87>I87,MAX(0,MIN(K87,base!E$14/24)-MAX(I87,7/24)),MAX(0,base!E$14/24-MAX(I87,7/24))+MAX(0,MIN(K87,base!E$14/24)-7/24)))) -> 0 | AE87: =M87 -> 0
A88: lundi | B88: 41359 | H88: 1 | I88: 0.30208333 | J88: 0.03125 | K88: 0.75 | L88: =C88+D88+E88+F88+G88+H88 -> 1 | M88: =K88-I88+IF(I88>K88,1)-J88+(E88*base!E$4)+(D88*base!E$4)+(C88*base!E$4)+(F88*base!E$4) -> 0.41666667 | N88: =IF(M88<=base!E$5,"","Faux") | O88: =IF(SUM(M88-base!E$5)<0,0,SUM(M88-base!E$5)) -> 0 | V88: =IF(travail!U88<=base!E$8,"","Faux") | AD88: =IF(SUM(MOD(K88-I88,1)-IF(K88>I88,MAX(0,MIN(K88,base!E$14/24)-MAX(I88,7/24)),MAX(0,base!E$14/24-MAX(I88,7/24))+MAX(0,MIN(K88,base!E$14/24)-7/24)))<0,0,SUM(MOD(K88-I88,1)-IF(K88>I88,MAX(0,MIN(K88,base!E$14/24)-MAX(I88,7/24)),MAX(0,base!E$14/24-MAX(I88,7/24))+MAX(0,MIN(K88,base!E$14/24)-7/24)))) -> 0 | AF88: =M88*G88*1 -> 0
A89: mardi | B89: 41360 | H89: 1 | I89: 0.30208333 | J89: 0.03125 | K89: 0.75 | L89: =C89+D89+E89+F89+G89+H89 -> 1 | M89: =K89-I89+IF(I89>K89,1)-J89+(E89*base!E$4)+(D89*base!E$4)+(C89*base!E$4)+(F89*base!E$4) -> 0.41666667 | N89: =IF(M89<=base!E$5,"","Faux") | O89: =IF(SUM(M89-base!E$5)<0,0,SUM(M89-base!E$5)) -> 0 | S89: =L89*SUM(M88:M89) -> 0.83333333 | T89: =IF(S89>("36:00"*1),S89-("36:00"*1),0)-T88 -> 0 | V89: =IF(travail!U89<=base!E$8,"","Faux") | AD89: =IF(SUM(MOD(K89-I89,1)-IF(K89>I89,MAX(0,MIN(K89,base!E$14/24)-MAX(I89,7/24)),MAX(0,base!E$14/24-MAX(I89,7/24))+MAX(0,MIN(K89,base!E$14/24)-7/24)))<0,0,SUM(MOD(K89-I89,1)-IF(K89>I89,MAX(0,MIN(K89,base!E$14/24)-MAX(I89,7/24)),MAX(0,base!E$14/24-MAX(I89,7/24))+MAX(0,MIN(K89,base!E$14/24)-7/24)))) -> 0 | AF89: =M89*G89*1 -> 0
A90: mercredi | B90: 41361 | L90: =C90+D90+E90+F90+G90+H90 -> 0 | M90: =K90-I90+IF(I90>K90,1)-J90+(E90*base!E$4)+(D90*base!E$4)+(C90*base!E$4)+(F90*base!E$4) -> 0 | N90: =IF(M90<=base!E$5,"","Faux") | O90: =IF(SUM(M90-base!E$5)<0,0,SUM(M90-base!E$5)) -> 0 | P90: =K90-I90+IF(I90>K90,1) -> 0 | Q90: =IF(P90<=base!E$3,"","Faux") | R90: =IF(SUM(P90-base!E$3)<0,0,SUM(P90-base!E$3)) -> 0 | S90: =L90*SUM(M88:M90) -> 0 | T90: =IF(S90>("36:00"*1),S90-("36:00"*1),0)-T89 -> 0 | V90: =IF(travail!U90<=base!E$8,"","Faux") | AD90: =IF(SUM(MOD(K90-I90,1)-IF(K90>I90,MAX(0,MIN(K90,base!E$14/24)-MAX(I90,7/24)),MAX(0,base!E$14/24-MAX(I90,7/24))+MAX(0,MIN(K90,base!E$14/24)-7/24)))<0,0,SUM(MOD(K90-I90,1)-IF(K90>I90,MAX(0,MIN(K90,base!E$14/24)-MAX(I90,7/24)),MAX(0,base!E$14/24-MAX(I90,7/24))+MAX(0,MIN(K90,base!E$14/24)-7/24)))) -> 0 | AF90: =M90*G90*1 -> 0
A91: jeudi | B91: 41362 | H91: 1 | I91: 0.30208333 | J91: 0.03125 | K91: 0.75 | L91: =C91+D91+E91+F91+G91+H91 -> 1 | M91: =K91-I91+IF(I91>K91,1)-J91+(E91*base!E$4)+(D91*base!E$4)+(C91*base!E$4)+(F91*base!E$4) -> 0.41666667 | N91: =IF(M91<=base!E$5,"","Faux") | O91: =IF(SUM(M91-base!E$5)<0,0,SUM(M91-base!E$5)) -> 0 | S91: =L91*SUM(M88:M91) -> 1.25 | T91: =IF(S91>("36:00"*1),S91-("36:00"*1),0)-T90 -> 0 | V91: =IF(travail!U91<=base!E$8,"","Faux") | AD91: =IF(SUM(MOD(K91-I91,1)-IF(K91>I91,MAX(0,MIN(K91,base!E$14/24)-MAX(I91,7/24)),MAX(0,base!E$14/24-MAX(I91,7/24))+MAX(0,MIN(K91,base!E$14/24)-7/24)))<0,0,SUM(MOD(K91-I91,1)-IF(K91>I91,MAX(0,MIN(K91,base!E$14/24)-MAX(I91,7/24)),MAX(0,base!E$14/24-MAX(I91,7/24))+MAX(0,MIN(K91,base!E$14/24)-7/24)))) -> 0 | AF91: =M91*G91*1 -> 0
A92: vendredi | B92: 41363 | H92: 1 | I92: 0.30208333 | J92: 0.03125 | K92: 0.75 | L92: =C92+D92+E92+F92+G92+H92 -> 1 | M92: =K92-I92+IF(I92>K92,1)-J92+(E92*base!E$4)+(D92*base!E$4)+(C92*base!E$4)+(F92*base!E$4) -> 0.41666667 | N92: =IF(M92<=base!E$5,"","Faux") | O92: =IF(SUM(M92-base!E$5)<0,0,SUM(M92-base!E$5)) -> 0 | S92: =L92*SUM(M88:M92) -> 1.6666667 | T92: =IF(S92>("36:00"*1),S92-("36:00"*1),0)-T91 -> 0.16666667 | V92: =IF(travail!U92<=base!E$8,"","Faux") | AD92: =IF(SUM(MOD(K92-I92,1)-IF(K92>I92,MAX(0,MIN(K92,base!E$14/24)-MAX(I92,7/24)),MAX(0,base!E$14/24-MAX(I92,7/24))+MAX(0,MIN(K92,base!E$14/24)-7/24)))<0,0,SUM(MOD(K92-I92,1)-IF(K92>I92,MAX(0,MIN(K92,base!E$14/24)-MAX(I92,7/24)),MAX(0,base!E$14/24-MAX(I92,7/24))+MAX(0,MIN(K92,base!E$14/24)-7/24)))) -> 0 | AF92: =M92*G92*1 -> 0
A93: samedi | B93: 41364 | L93: =C93+D93+E93+F93+G93+H93 -> 0 | M93: =K93-I93+IF(I93>K93,1)-J93+(E93*base!E$4)+(D93*base!E$4)+(C93*base!E$4)+(F93*base!E$4) -> 0 | N93: =IF(M93<=base!E$5,"","Faux") | O93: =IF(SUM(M93-base!E$5)<0,0,SUM(M93-base!E$5)) -> 0 | P93: =K93-I93+IF(I93>K93,1) -> 0 | Q93: =IF(P93<=base!E$3,"","Faux") | R93: =IF(SUM(P93-base!E$3)<0,0,SUM(P93-base!E$3)) -> 0 | S93: =L93*SUM(M88:M93) -> 0 | T93: =IF(SUM(IF(S93>("36:00"*1),S93-("36:00"*1),0)-T91-T92)<0,0,SUM(IF(S93>("36:00"*1),S93-("36:00"*1),0)-T91-T92)) -> 0 | V93: =IF(travail!U93<=base!E$8,"","Faux") | AD93: =IF(SUM(MOD(K93-I93,1)-IF(K93>I93,MAX(0,MIN(K93,base!E$14/24)-MAX(I93,7/24)),MAX(0,base!E$14/24-MAX(I93,7/24))+MAX(0,MIN(K93,base!E$14/24)-7/24)))<0,0,SUM(MOD(K93-I93,1)-IF(K93>I93,MAX(0,MIN(K93,base!E$14/24)-MAX(I93,7/24)),MAX(0,base!E$14/24-MAX(I93,7/24))+MAX(0,MIN(K93,base!E$14/24)-7/24)))) -> 0
A94: dimanche | B94: 41365 | L94: =C94+D94+E94+F94+G94+H94 -> 0 | M94: =K94-I94+IF(I94>K94,1)-J94+(E94*base!E$4)+(D94*base!E$4)+(C94*base!E$4)+(F94*base!E$4) -> 0 | N94: =IF(M94<=base!E$5,"","Faux") | O94: =IF(SUM(M94-base!E$5)<0,0,SUM(M94-base!E$5)) -> 0 | P94: =K94-I94+IF(I94>K94,1) -> 0 | Q94: =IF(P94<=base!E$3,"","Faux") | R94: =IF(SUM(P94-base!E$3)<0,0,SUM(P94-base!E$3)) -> 0 | S94: =L94*SUM(M88:M94) -> 0 | T94: =IF(SUM(IF(S94>("36:00"*1),S94-("36:00"*1),0)-T92-T93)<0,0,SUM(IF(S94>("36:00"*1),S94-("36:00"*1),0)-T92-T93)) -> 0 | U94: =SUM(M88:M94) -> 1.6666667 | V94: =IF(travail!U94<=base!E$8,"","Faux") | W94: =IF(SUM(U94-base!E$8)<0,0,SUM(U94-base!E$8)) -> 0 | X94: =IF(base!E$7<U94,U94-base!E$7,0) -> 0.16666667 | AD94: =IF(SUM(MOD(K94-I94,1)-IF(K94>I94,MAX(0,MIN(K94,base!E$14/24)-MAX(I94,7/24)),MAX(0,base!E$14/24-MAX(I94,7/24))+MAX(0,MIN(K94,base!E$14/24)-7/24)))<0,0,SUM(MOD(K94-I94,1)-IF(K94>I94,MAX(0,MIN(K94,base!E$14/24)-MAX(I94,7/24)),MAX(0,base!E$14/24-MAX(I94,7/24))+MAX(0,MIN(K94,base!E$14/24)-7/24)))) -> 0 | AE94: =M94 -> 0
A95: lundi | B95: 41366 | H95: 1 | I95: 0.30208333 | J95: 0.03125 | K95: 0.75 | L95: =C95+D95+E95+F95+G95+H95 -> 1 | M95: =K95-I95+IF(I95>K95,1)-J95+(E95*base!E$4)+(D95*base!E$4)+(C95*base!E$4)+(F95*base!E$4) -> 0.41666667 | N95: =IF(M95<=base!E$5,"","Faux") | O95: =IF(SUM(M95-base!E$5)<0,0,SUM(M95-base!E$5)) -> 0 | V95: =IF(travail!U95<=base!E$8,"","Faux") | AD95: =IF(SUM(MOD(K95-I95,1)-IF(K95>I95,MAX(0,MIN(K95,base!E$14/24)-MAX(I95,7/24)),MAX(0,base!E$14/24-MAX(I95,7/24))+MAX(0,MIN(K95,base!E$14/24)-7/24)))<0,0,SUM(MOD(K95-I95,1)-IF(K95>I95,MAX(0,MIN(K95,base!E$14/24)-MAX(I95,7/24)),MAX(0,base!E$14/24-MAX(I95,7/24))+MAX(0,MIN(K95,base!E$14/24)-7/24)))) -> 0 | AF95: =M95*G95*1 -> 0
A96: mardi | B96: 41367 | H96: 1 | I96: 0.30208333 | J96: 0.03125 | K96: 0.75 | L96: =C96+D96+E96+F96+G96+H96 -> 1 | M96: =K96-I96+IF(I96>K96,1)-J96+(E96*base!E$4)+(D96*base!E$4)+(C96*base!E$4)+(F96*base!E$4) -> 0.41666667 | N96: =IF(M96<=base!E$5,"","Faux") | O96: =IF(SUM(M96-base!E$5)<0,0,SUM(M96-base!E$5)) -> 0 | S96: =L96*SUM(M95:M96) -> 0.83333333 | T96: =IF(SUM(IF(S96>("36:00"*1),S96-("36:00"*1),0)-T94-T95)<0,0,SUM(IF(S96>("36:00"*1),S96-("36:00"*1),0)-T94-T95)) -> 0 | V96: =IF(travail!U96<=base!E$8,"","Faux") | AD96: =IF(SUM(MOD(K96-I96,1)-IF(K96>I96,MAX(0,MIN(K96,base!E$14/24)-MAX(I96,7/24)),MAX(0,base!E$14/24-MAX(I96,7/24))+MAX(0,MIN(K96,base!E$14/24)-7/24)))<0,0,SUM(MOD(K96-I96,1)-IF(K96>I96,MAX(0,MIN(K96,base!E$14/24)-MAX(I96,7/24)),MAX(0,base!E$14/24-MAX(I96,7/24))+MAX(0,MIN(K96,base!E$14/24)-7/24)))) -> 0 | AF96: =M96*G96*1 -> 0
A97: mercredi | B97: 41368 | L97: =C97+D97+E97+F97+G97+H97 -> 0 | M97: =K97-I97+IF(I97>K97,1)-J97+(E97*base!E$4)+(D97*base!E$4)+(C97*base!E$4)+(F97*base!E$4) -> 0 | N97: =IF(M97<=base!E$5,"","Faux") | O97: =IF(SUM(M97-base!E$5)<0,0,SUM(M97-base!E$5)) -> 0 | P97: =K97-I97+IF(I97>K97,1) -> 0 | Q97: =IF(P97<=base!E$3,"","Faux") | R97: =IF(SUM(P97-base!E$3)<0,0,SUM(P97-base!E$3)) -> 0 | S97: =L97*SUM(M95:M97) -> 0 | T97: =IF(SUM(IF(S97>("36:00"*1),S97-("36:00"*1),0)-T95-T96)<0,0,SUM(IF(S97>("36:00"*1),S97-("36:00"*1),0)-T95-T96)) -> 0 | V97: =IF(travail!U97<=base!E$8,"","Faux") | AD97: =IF(SUM(MOD(K97-I97,1)-IF(K97>I97,MAX(0,MIN(K97,base!E$14/24)-MAX(I97,7/24)),MAX(0,base!E$14/24-MAX(I97,7/24))+MAX(0,MIN(K97,base!E$14/24)-7/24)))<0,0,SUM(MOD(K97-I97,1)-IF(K97>I97,MAX(0,MIN(K97,base!E$14/24)-MAX(I97,7/24)),MAX(0,base!E$14/24-MAX(I97,7/24))+MAX(0,MIN(K97,base!E$14/24)-7/24)))) -> 0 | AF97: =M97*G97*1 -> 0
A98: jeudi | B98: 41369 | H98: 1 | I98: 0.30208333 | J98: 0.03125 | K98: 0.75 | L98: =C98+D98+E98+F98+G98+H98 -> 1 | M98: =K98-I98+IF(I98>K98,1)-J98+(E98*base!E$4)+(D98*base!E$4)+(C98*base!E$4)+(F98*base!E$4) -> 0.41666667 | N98: =IF(M98<=base!E$5,"","Faux") | O98: =IF(SUM(M98-base!E$5)<0,0,SUM(M98-base!E$5)) -> 0 | S98: =L98*SUM(M95:M98) -> 1.25 | T98: =IF(SUM(IF(S98>("36:00"*1),S98-("36:00"*1),0)-T96-T97)<0,0,SUM(IF(S98>("36:00"*1),S98-("36:00"*1),0)-T96-T97)) -> 0 | V98: =IF(travail!U98<=base!E$8,"","Faux") | AD98: =IF(SUM(MOD(K98-I98,1)-IF(K98>I98,MAX(0,MIN(K98,base!E$14/24)-MAX(I98,7/24)),MAX(0,base!E$14/24-MAX(I98,7/24))+MAX(0,MIN(K98,base!E$14/24)-7/24)))<0,0,SUM(MOD(K98-I98,1)-IF(K98>I98,MAX(0,MIN(K98,base!E$14/24)-MAX(I98,7/24)),MAX(0,base!E$14/24-MAX(I98,7/24))+MAX(0,MIN(K98,base!E$14/24)-7/24)))) -> 0 | AF98: =M98*G98*1 -> 0
A99: vendredi | B99: 41370 | I99: 0.30208333 | J99: 0.03125 | K99: 0.75 | L99: =C99+D99+E99+F99+G99+H99 -> 0 | M99: =K99-I99+IF(I99>K99,1)-J99+(E99*base!E$4)+(D99*base!E$4)+(C99*base!E$4)+(F99*base!E$4) -> 0.41666667 | N99: =IF(M99<=base!E$5,"","Faux") | O99: =IF(SUM(M99-base!E$5)<0,0,SUM(M99-base!E$5)) -> 0 | S99: =L99*SUM(M95:M99) -> 0 | T99: =IF(SUM(IF(S99>("36:00"*1),S99-("36:00"*1),0)-T97-T98)<0,0,SUM(IF(S99>("36:00"*1),S99-("36:00"*1),0)-T97-T98)) -> 0 | V99: =IF(travail!U99<=base!E$8,"","Faux") | AD99: =IF(SUM(MOD(K99-I99,1)-IF(K99>I99,MAX(0,MIN(K99,base!E$14/24)-MAX(I99,7/24)),MAX(0,base!E$14/24-MAX(I99,7/24))+MAX(0,MIN(K99,base!E$14/24)-7/24)))<0,0,SUM(MOD(K99-I99,1)-IF(K99>I99,MAX(0,MIN(K99,base!E$14/24)-MAX(I99,7/24)),MAX(0,base!E$14/24-MAX(I99,7/24))+MAX(0,MIN(K99,base!E$14/24)-7/24)))) -> 0 | AF99: =M99*G99*1 -> 0
A100: samedi | B100: 41371 | L100: =C100+D100+E100+F100+G100+H100 -> 0 | M100: =K100-I100+IF(I100>K100,1)-J100+(E100*base!E$4)+(D100*base!E$4)+(C100*base!E$4)+(F100*base!E$4) -> 0 | N100: =IF(M100<=base!E$5,"","Faux") | O100: =IF(SUM(M100-base!E$5)<0,0,SUM(M100-base!E$5)) -> 0 | P100: =K100-I100+IF(I100>K100,1) -> 0 | Q100: =IF(P100<=base!E$3,"","Faux") | R100: =IF(SUM(P100-base!E$3)<0,0,SUM(P100-base!E$3)) -> 0 | S100: =L100*SUM(M95:M100) -> 0 | T100: =IF(SUM(IF(S100>("36:00"*1),S100-("36:00"*1),0)-T98-T99)<0,0,SUM(IF(S100>("36:00"*1),S100-("36:00"*1),0)-T98-T99)) -> 0 | V100: =IF(travail!U100<=base!E$8,"","Faux") | AD100: =IF(SUM(MOD(K100-I100,1)-IF(K100>I100,MAX(0,MIN(K100,base!E$14/24)-MAX(I100,7/24)),MAX(0,base!E$14/24-MAX(I100,7/24))+MAX(0,MIN(K100,base!E$14/24)-7/24)))<0,0,SUM(MOD(K100-I100,1)-IF(K100>I100,MAX(0,MIN(K100,base!E$14/24)-MAX(I100,7/24)),MAX(0,base!E$14/24-MAX(I100,7/24))+MAX(0,MIN(K100,base!E$14/24)-7/24)))) -> 0
...
