Workbook

Sheet base
D2: heures annueltravail | E2: 66.125 | F2: H travail + congés | G2: =SUM(travail!M3:M366)+O34 -> 101.33333 | H2: jour travail | I2: =SUM(travail!H3:H366) -> 140 | K2: Congés | L2: 2022 | N2: date | O2: H | P2: J | R2: CP
D3: amplitude du temps | E3: 0.41666667 | F3: H travail | G3: =G2-M3 -> 91.861111 | H3: jour récup | I3: =SUM(travail!D3:D367) -> 38 | L3: congés pris | M3: =SUM(I4*E4)+O34 -> 9.4722222 | R3: date | S3: Jour
D4: heure jour | E4: 0.30555556 | F4: reste H travail | G4: =G3-E2 -> 25.736111 | H4: jour congés | I4: =SUM(travail!C3:C366)+P34 -> 31 | L4: reste | M4: =E11-M3 -> 0.65277778 | S4: 1
D5: la durée de travail jour | E5: 0.41666667 | H5: congé CP | I5: =SUM(travail!E3:E366) -> 0 | S5: 2
D6: repos quotidien | E6: 0.45833333 | H6: férié | I6: =SUM(travail!F3:F366) -> 9 | S6: 3
D7: durée du travail hebdomadaire | E7: 1.5 | H7: férié travail | I7: =SUM(travail!G3:G366) -> 0
D8: durée du travail hebdomadaire max | E8: 2
D9: repos hebdomadaire | E9: 1.4583333
D10: heures sup mensuel max par mois | E10: 1.0416667 | H10: Total HC travail annuel | I10: =IF(G3-E2<0,0,G3-E2) -> 25.736111 | R10: date
D11: congés | E11: 10.125 | H11: Total HC travail jour | I11: =SUM(travail!O3:O366) -> 12.527778 | S11: 1
D12: heures sup 1 à 14 | E12: 0.052083333 | H12: Total HC travail amplitude | I12: =SUM(travail!R3:R366) -> 0 | S12: 2
D13: heures sup 15 à 25 | E13: 0.0625 | H13: Total HC hedbomadaire | I13: =SUM(travail!W3:W366) -> 8.0555556 | S13: 3
D14: début H nuit | E14: 21 | H14: Toatl HC heure sup mois | I14: =SUM(K18:K29) -> 7.1527778 | S14: 4
D15: heures de nuit | E15: 0.10416667 | S15: 5
D16: heures de dimanche | E16: 0.083333333 | S16: 6
D17: Férié travaillé | E17: 0.083333333 | I17: H SUP | J17: HC | L17: récup | S17: 7
D18: récup 2016 | E18: 15.130556 | H18: janvier | J18: =IF(I18<=E$10,"","Faux") | K18: =IF(SUM(I18-E$10)<0,0,SUM(I18-E$10)) -> 0 | L18: =IF(I18<0.625,I18*$E$12,(0.583333*$E$12)+(I18-0.583333)*$E$13)*24 -> 0 | S18: 8
H19: février | J19: =IF(I19<=E$10,"","Faux") | K19: =IF(SUM(I19-E$10)<0,0,SUM(I19-E$10)) -> 0 | L19: =IF(I19<0.625,I19*$E$12,(0.583333*$E$12)+(I19-0.583333)*$E$13)*24 -> 0 | S19: 9
H20: mars | J20: =IF(I20<=E$10,"","Faux") | K20: =IF(SUM(I20-E$10)<0,0,SUM(I20-E$10)) -> 0 | L20: =IF(I20<0.625,I20*$E$12,(0.583333*$E$12)+(I20-0.583333)*$E$13)*24 -> 0 | S20: 10
H21: avril | J21: =IF(I21<=E$10,"","Faux") | K21: =IF(SUM(I21-E$10)<0,0,SUM(I21-E$10)) -> 0 | L21: =IF(I21<0.625,I21*$E$12,(0.583333*$E$12)+(I21-0.583333)*$E$13)*24 -> 0 | S21: 11
H22: mai | J22: =IF(I22<=E$10,"","Faux") | K22: =IF(SUM(I22-E$10)<0,0,SUM(I22-E$10)) -> 0 | L22: =IF(I22<0.625,I22*$E$12,(0.583333*$E$12)+(I22-0.583333)*$E$13)*24 -> 0
H23: juin | J23: =IF(I23<=E$10,"","Faux") | K23: =IF(SUM(I23-E$10)<0,0,SUM(I23-E$10)) -> 0 | L23: =IF(I23<0.625,I23*$E$12,(0.583333*$E$12)+(I23-0.583333)*$E$13)*24 -> 0
H24: juillet | J24: =IF(I24<=E$10,"","Faux") | K24: =IF(SUM(I24-E$10)<0,0,SUM(I24-E$10)) -> 0 | L24: =IF(I24<0.625,I24*$E$12,(0.583333*$E$12)+(I24-0.583333)*$E$13)*24 -> 0
H25: août | J25: =IF(I25<=E$10,"","Faux") | K25: =IF(SUM(I25-E$10)<0,0,SUM(I25-E$10)) -> 0 | L25: =IF(I25<0.625,I25*$E$12,(0.583333*$E$12)+(I25-0.583333)*$E$13)*24 -> 0
H26: septembre | J26: =IF(I26<=E$10,"","Faux") | K26: =IF(SUM(I26-E$10)<0,0,SUM(I26-E$10)) -> 0 | L26: =IF(I26<0.625,I26*$E$12,(0.583333*$E$12)+(I26-0.583333)*$E$13)*24 -> 0
H27: octobre | I27: =SUM(travail!T276:T306) -> 2.4444444 | J27: =IF(I27<=E$10,"","Faux") -> Faux | K27: =IF(SUM(I27-E$10)<0,0,SUM(I27-E$10)) -> 1.4027778 | L27: =IF(I27<0.625,I27*$E$12,(0.583333*$E$12)+(I27-0.583333)*$E$13)*24 -> 3.5208334
H28: novembre | I28: =SUM(travail!T307:T336) -> 1.5277778 | J28: =IF(I28<=E$10,"","Faux") -> Faux | K28: =IF(SUM(I28-E$10)<0,0,SUM(I28-E$10)) -> 0.48611111 | L28: =IF(I28<0.625,I28*$E$12,(0.583333*$E$12)+(I28-0.583333)*$E$13)*24 -> 2.1458334
H29: décembre | I29: =SUM(travail!T336:T366) -> 6.3055556 | J29: =IF(I29<=E$10,"","Faux") -> Faux | K29: =IF(SUM(I29-E$10)<0,0,SUM(I29-E$10)) -> 5.2638889 | L29: =IF(I29<0.625,I29*$E$12,(0.583333*$E$12)+(I29-0.583333)*$E$13)*24 -> 9.3125001
I31: H récup
H32: 1 à 25 | I32: =SUM(L18:L29) -> 14.979167
H33: nuit | I33: =SUM(travail!AD3:AD366)*E15*24 -> 0
H34: dimanche | I34: =SUM(travail!AE3:AE366)*E16*24 -> 0 | N34: total | O34: =SUM(O3:O16) -> 0 | P34: =SUM(P3:P33) -> 0
H35: férié | I35: =SUM(travail!AF3:AF366)*E17*24 -> 0
H36: HS 2016 | I36: =SUM(E18) -> 15.130556
H37: Total | I37: =SUM(I32:I36) -> 30.109722
I38: =SUM(I3*E4) -> 11.611111
H39: Résultat en H | I39: =I37-I38 -> 18.498611

Sheet travail
A1: 2022
A2: jour | B2: date | C2: C | D2: R | E2: CP | F2: F | G2: FT | H2: J | I2: Début | J2: pause | K2: Fin | M2: h Jour | N2: HC | P2: h amp | Q2: HC | T2: HS jour | U2: h semaine | V2: HC | X2: HS semaine | AD2: H nuit | AE2: H dim | AF2: H férié
A3: dimanche | B3: 41274 | L3: =C3+D3+E3+F3+G3+H3 -> 0 | M3: =K3-I3+IF(I3>K3,1)-J3+(E3*base!E$4)+(D3*base!E$4)+(C3*base!E$4)+(F3*base!E$4) -> 0 | N3: =IF(M3<=base!E$5,"","Faux") | O3: =IF(SUM(M3-base!E$5)<0,0,SUM(M3-base!E$5)) -> 0 | P3: =K3-I3+IF(I3>K3,1) -> 0 | Q3: =IF(P3<=base!E$3,"","Faux") | R3: =IF(SUM(P3-base!E$3)<0,0,SUM(P3-base!E$3)) -> 0 | S3: =L3*SUM(M3:M3) -> 0 | T3: =IF(S3>("36:00"*1),S3-("36:00"*1),0) -> 0 | U3: =SUM(M3:M3) -> 0 | V3: =IF(travail!U3<=base!E$8,"","Faux") | W3: =IF(SUM(U3-base!E$8)<0,0,SUM(U3-base!E$8)) -> 0 | X3: =IF(base!E$7<U3,U3-base!E$7,0) -> 0 | AD3: =IF(SUM(MOD(K3-I3,1)-IF(K3>I3,MAX(0,MIN(K3,base!E$14/24)-MAX(I3,7/24)),MAX(0,base!E$14/24-MAX(I3,7/24))+MAX(0,MIN(K3,base!E$14/24)-7/24)))<0,0,SUM(MOD(K3-I3,1)-IF(K3>I3,MAX(0,MIN(K3,base!E$14/24)-MAX(I3,7/24)),MAX(0,base!E$14/24-MAX(I3,7/24))+MAX(0,MIN(K3,base!E$14/24)-7/24)))) -> 0 | AE3: =M3 -> 0
A4: lundi | B4: 41275 | H4: 1 | I4: 0.30208333 | J4: 0.03125 | K4: 0.75 | L4: =C4+D4+E4+F4+G4+H4 -> 1 | M4: =K4-I4+IF(I4>K4,1)-J4+(E4*base!E$4)+(D4*base!E$4)+(C4*base!E$4)+(F4*base!E$4) -> 0.41666667 | N4: =IF(M4<=base!E$5,"","Faux") | O4: =IF(SUM(M4-base!E$5)<0,0,SUM(M4-base!E$5)) -> 0 | Q4: =IF(P4<=base!E$3,"","Faux") | R4: =IF(SUM(P4-base!E$3)<0,0,SUM(P4-base!E$3)) -> 0 | V4: =IF(travail!U4<=base!E$8,"","Faux") | AD4: =IF(SUM(MOD(K4-I4,1)-IF(K4>I4,MAX(0,MIN(K4,base!E$14/24)-MAX(I4,7/24)),MAX(0,base!E$14/24-MAX(I4,7/24))+MAX(0,MIN(K4,base!E$14/24)-7/24)))<0,0,SUM(MOD(K4-I4,1)-IF(K4>I4,MAX(0,MIN(K4,base!E$14/24)-MAX(I4,7/24)),MAX(0,base!E$14/24-MAX(I4,7/24))+MAX(0,MIN(K4,base!E$14/24)-7/24)))) -> 0 | AF4: =M4*G4*1 -> 0
A5: mardi | B5: 41276 | H5: 1 | I5: 0.30208333 | J5: 0.03125 | K5: 0.75 | L5: =C5+D5+E5+F5+G5+H5 -> 1 | M5: =K5-I5+IF(I5>K5,1)-J5+(E5*base!E$4)+(D5*base!E$4)+(C5*base!E$4)+(F5*base!E$4) -> 0.41666667 | N5: =IF(M5<=base!E$5,"","Faux") | O5: =IF(SUM(M5-base!E$5)<0,0,SUM(M5-base!E$5)) -> 0 | Q5: =IF(P5<=base!E$3,"","Faux") | R5: =IF(SUM(P5-base!E$3)<0,0,SUM(P5-base!E$3)) -> 0 | S5: =L5*SUM(M4:M5) -> 0.83333333 | T5: =IF(S5>("36:00"*1),S5-("36:00"*1),0)-T4 -> 0 | V5: =IF(travail!U5<=base!E$8,"","Faux") | AD5: =IF(SUM(MOD(K5-I5,1)-IF(K5>I5,MAX(0,MIN(K5,base!E$14/24)-MAX(I5,7/24)),MAX(0,base!E$14/24-MAX(I5,7/24))+MAX(0,MIN(K5,base!E$14/24)-7/24)))<0,0,SUM(MOD(K5-I5,1)-IF(K5>I5,MAX(0,MIN(K5,base!E$14/24)-MAX(I5,7/24)),MAX(0,base!E$14/24-MAX(I5,7/24))+MAX(0,MIN(K5,base!E$14/24)-7/24)))) -> 0 | AF5: =M5*G5*1 -> 0
A6: mercredi | B6: 41277 | L6: =C6+D6+E6+F6+G6+H6 -> 0 | M6: =K6-I6+IF(I6>K6,1)-J6+(E6*base!E$4)+(D6*base!E$4)+(C6*base!E$4)+(F6*base!E$4) -> 0 | N6: =IF(M6<=base!E$5,"","Faux") | O6: =IF(SUM(M6-base!E$5)<0,0,SUM(M6-base!E$5)) -> 0 | P6: =K6-I6+IF(I6>K6,1) -> 0 | Q6: =IF(P6<=base!E$3,"","Faux") | R6: =IF(SUM(P6-base!E$3)<0,0,SUM(P6-base!E$3)) -> 0 | S6: =L6*SUM(M4:M6) -> 0 | T6: =IF(S6>("36:00"*1),S6-("36:00"*1),0)-T5 -> 0 | V6: =IF(travail!U6<=base!E$8,"","Faux") | AD6: =IF(SUM(MOD(K6-I6,1)-IF(K6>I6,MAX(0,MIN(K6,base!E$14/24)-MAX(I6,7/24)),MAX(0,base!E$14/24-MAX(I6,7/24))+MAX(0,MIN(K6,base!E$14/24)-7/24)))<0,0,SUM(MOD(K6-I6,1)-IF(K6>I6,MAX(0,MIN(K6,base!E$14/24)-MAX(I6,7/24)),MAX(0,base!E$14/24-MAX(I6,7/24))+MAX(0,MIN(K6,base!E$14/24)-7/24)))) -> 0 | AF6: =M6*G6*1 -> 0
A7: jeudi | B7: 41278 | H7: 1 | I7: 0.30208333 | J7: 0.03125 | K7: 0.75 | L7: =C7+D7+E7+F7+G7+H7 -> 1 | M7: =K7-I7+IF(I7>K7,1)-J7+(E7*base!E$4)+(D7*base!E$4)+(C7*base!E$4)+(F7*base!E$4) -> 0.41666667 | N7: =IF(M7<=base!E$5,"","Faux") | O7: =IF(SUM(M7-base!E$5)<0,0,SUM(M7-base!E$5)) -> 0 | S7: =L7*SUM(M4:M7) -> 1.25 | T7: =IF(S7>("36:00"*1),S7-("36:00"*1),0)-T6 -> 0 | V7: =IF(travail!U7<=base!E$8,"","Faux") | AD7: =IF(SUM(MOD(K7-I7,1)-IF(K7>I7,MAX(0,MIN(K7,base!E$14/24)-MAX(I7,7/24)),MAX(0,base!E$14/24-MAX(I7,7/24))+MAX(0,MIN(K7,base!E$14/24)-7/24)))<0,0,SUM(MOD(K7-I7,1)-IF(K7>I7,MAX(0,MIN(K7,base!E$14/24)-MAX(I7,7/24)),MAX(0,base!E$14/24-MAX(I7,7/24))+MAX(0,MIN(K7,base!E$14/24)-7/24)))) -> 0 | AF7: =M7*G7*1 -> 0
A8: vendredi | B8: 41279 | H8: 1 | I8: 0.30208333 | J8: 0.03125 | K8: 0.75 | L8: =C8+D8+E8+F8+G8+H8 -> 1 | M8: =K8-I8+IF(I8>K8,1)-J8+(E8*base!E$4)+(D8*base!E$4)+(C8*base!E$4)+(F8*base!E$4) -> 0.41666667 | N8: =IF(M8<=base!E$5,"","Faux") | O8: =IF(SUM(M8-base!E$5)<0,0,SUM(M8-base!E$5)) -> 0 | Q8: =IF(P8<=base!E$3,"","Faux") | S8: =L8*SUM(M4:M8) -> 1.6666667 | T8: =IF(S8>("36:00"*1),S8-("36:00"*1),0)-T7 -> 0.16666667 | V8: =IF(travail!U8<=base!E$8,"","Faux") | AD8: =IF(SUM(MOD(K8-I8,1)-IF(K8>I8,MAX(0,MIN(K8,base!E$14/24)-MAX(I8,7/24)),MAX(0,base!E$14/24-MAX(I8,7/24))+MAX(0,MIN(K8,base!E$14/24)-7/24)))<0,0,SUM(MOD(K8-I8,1)-IF(K8>I8,MAX(0,MIN(K8,base!E$14/24)-MAX(I8,7/24)),MAX(0,base!E$14/24-MAX(I8,7/24))+MAX(0,MIN(K8,base!E$14/24)-7/24)))) -> 0 | AF8: =M8*G8*1 -> 0
A9: samedi | B9: 41280 | L9: =C9+D9+E9+F9+G9+H9 -> 0 | M9: =K9-I9+IF(I9>K9,1)-J9+(E9*base!E$4)+(D9*base!E$4)+(C9*base!E$4)+(F9*base!E$4) -> 0 | N9: =IF(M9<=base!E$5,"","Faux") | O9: =IF(SUM(M9-base!E$5)<0,0,SUM(M9-base!E$5)) -> 0 | P9: =K9-I9+IF(I9>K9,1) -> 0 | Q9: =IF(P9<=base!E$3,"","Faux") | R9: =IF(SUM(P9-base!E$3)<0,0,SUM(P9-base!E$3)) -> 0 | S9: =L9*SUM(M4:M9) -> 0 | T9: =IF(SUM(IF(S9>("36:00"*1),S9-("36:00"*1),0)-T7-T8)<0,0,SUM(IF(S9>("36:00"*1),S9-("36:00"*1),0)-T7-T8)) -> 0 | V9: =IF(travail!U9<=base!E$8,"","Faux") | AD9: =IF(SUM(MOD(K9-I9,1)-IF(K9>I9,MAX(0,MIN(K9,base!E$14/24)-MAX(I9,7/24)),MAX(0,base!E$14/24-MAX(I9,7/24))+MAX(0,MIN(K9,base!E$14/24)-7/24)))<0,0,SUM(MOD(K9-I9,1)-IF(K9>I9,MAX(0,MIN(K9,base!E$14/24)-MAX(I9,7/24)),MAX(0,base!E$14/24-MAX(I9,7/24))+MAX(0,MIN(K9,base!E$14/24)-7/24)))) -> 0
A10: dimanche | B10: 41281 | L10: =C10+D10+E10+F10+G10+H10 -> 0 | M10: =K10-I10+IF(I10>K10,1)-J10+(E10*base!E$4)+(D10*base!E$4)+(C10*base!E$4)+(F10*base!E$4) -> 0 | N10: =IF(M10<=base!E$5,"","Faux") | O10: =IF(SUM(M10-base!E$5)<0,0,SUM(M10-base!E$5)) -> 0 | P10: =K10-I10+IF(I10>K10,1) -> 0 | Q10: =IF(P10<=base!E$3,"","Faux") | R10: =IF(SUM(P10-base!E$3)<0,0,SUM(P10-base!E$3)) -> 0 | S10: =L10*SUM(M4:M10) -> 0 | T10: =IF(SUM(IF(S10>("36:00"*1),S10-("36:00"*1),0)-T8-T9)<0,0,SUM(IF(S10>("36:00"*1),S10-("36:00"*1),0)-T8-T9)) -> 0 | U10: =SUM(M4:M10) -> 1.6666667 | V10: =IF(travail!U10<=base!E$8,"","Faux") | W10: =IF(SUM(U10-base!E$8)<0,0,SUM(U10-base!E$8)) -> 0 | X10: =IF(base!E$7<U10,U10-base!E$7,0) -> 0.16666667 | AD10: =IF(SUM(MOD(K10-I10,1)-IF(K10>I10,MAX(0,MIN(K10,base!E$14/24)-MAX(I10,7/24)),MAX(0,base!E$14/24-MAX(I10,7/24))+MAX(0,MIN(K10,base!E$14/24)-7/24)))<0,0,SUM(MOD(K10-I10,1)-IF(K10>I10,MAX(0,MIN(K10,base!E$14/24)-MAX(I10,7/24)),MAX(0,base!E$14/24-MAX(I10,7/24))+MAX(0,MIN(K10,base!E$14/24)-7/24)))) -> 0 | AE10: =M10 -> 0
A11: lundi | B11: 41282 | H11: 1 | I11: 0.30208333 | J11: 0.03125 | K11: 0.75 | L11: =C11+D11+E11+F11+G11+H11 -> 1 | M11: =K11-I11+IF(I11>K11,1)-J11+(E11*base!E$4)+(D11*base!E$4)+(C11*base!E$4)+(F11*base!E$4) -> 0.41666667 | N11: =IF(M11<=base!E$5,"","Faux") | O11: =IF(SUM(M11-base!E$5)<0,0,SUM(M11-base!E$5)) -> 0 | Q11: =IF(P11<=base!E$3,"","Faux") | V11: =IF(travail!U11<=base!E$8,"","Faux") | AD11: =IF(SUM(MOD(K11-I11,1)-IF(K11>I11,MAX(0,MIN(K11,base!E$14/24)-MAX(I11,7/24)),MAX(0,base!E$14/24-MAX(I11,7/24))+MAX(0,MIN(K11,base!E$14/24)-7/24)))<0,0,SUM(MOD(K11-I11,1)-IF(K11>I11,MAX(0,MIN(K11,base!E$14/24)-MAX(I11,7/24)),MAX(0,base!E$14/24-MAX(I11,7/24))+MAX(0,MIN(K11,base!E$14/24)-7/24)))) -> 0 | AF11: =M11*G11*1 -> 0
A12: mardi | B12: 41283 | H12: 1 | I12: 0.30208333 | J12: 0.03125 | K12: 0.75 | L12: =C12+D12+E12+F12+G12+H12 -> 1 | M12: =K12-I12+IF(I12>K12,1)-J12+(E12*base!E$4)+(D12*base!E$4)+(C12*base!E$4)+(F12*base!E$4) -> 0.41666667 | N12: =IF(M12<=base!E$5,"","Faux") | O12: =IF(SUM(M12-base!E$5)<0,0,SUM(M12-base!E$5)) -> 0 | Q12: =IF(P12<=base!E$3,"","Faux") | S12: =L12*SUM(M11:M12) -> 0.83333333 | T12: =IF(S12>("36:00"*1),S12-("36:00"*1),0)-T11 -> 0 | V12: =IF(travail!U12<=base!E$8,"","Faux") | AD12: =IF(SUM(MOD(K12-I12,1)-IF(K12>I12,MAX(0,MIN(K12,base!E$14/24)-MAX(I12,7/24)),MAX(0,base!E$14/24-MAX(I12,7/24))+MAX(0,MIN(K12,base!E$14/24)-7/24)))<0,0,SUM(MOD(K12-I12,1)-IF(K12>I12,MAX(0,MIN(K12,base!E$14/24)-MAX(I12,7/24)),MAX(0,base!E$14/24-MAX(I12,7/24))+MAX(0,MIN(K12,base!E$14/24)-7/24)))) -> 0 | AF12: =M12*G12*1 -> 0
A13: mercredi | B13: 41284 | L13: =C13+D13+E13+F13+G13+H13 -> 0 | M13: =K13-I13+IF(I13>K13,1)-J13+(E13*base!E$4)+(D13*base!E$4)+(C13*base!E$4)+(F13*base!E$4) -> 0 | N13: =IF(M13<=base!E$5,"","Faux") | O13: =IF(SUM(M13-base!E$5)<0,0,SUM(M13-base!E$5)) -> 0 | P13: =K13-I13+IF(I13>K13,1) -> 0 | Q13: =IF(P13<=base!E$3,"","Faux") | R13: =IF(SUM(P13-base!E$3)<0,0,SUM(P13-base!E$3)) -> 0 | S13: =L13*SUM(M11:M13) -> 0 | T13: =IF(S13>("36:00"*1),S13-("36:00"*1),0)-T12 -> 0 | V13: =IF(travail!U13<=base!E$8,"","Faux") | AD13: =IF(SUM(MOD(K13-I13,1)-IF(K13>I13,MAX(0,MIN(K13,base!E$14/24)-MAX(I13,7/24)),MAX(0,base!E$14/24-MAX(I13,7/24))+MAX(0,MIN(K13,base!E$14/24)-7/24)))<0,0,SUM(MOD(K13-I13,1)-IF(K13>I13,MAX(0,MIN(K13,base!E$14/24)-MAX(I13,7/24)),MAX(0,base!E$14/24-MAX(I13,7/24))+MAX(0,MIN(K13,base!E$14/24)-7/24)))) -> 0 | AF13: =M13*G13*1 -> 0
A14: jeudi | B14: 41285 | H14: 1 | I14: 0.30208333 | J14: 0.03125 | K14: 0.75 | L14: =C14+D14+E14+F14+G14+H14 -> 1 | M14: =K14-I14+IF(I14>K14,1)-J14+(E14*base!E$4)+(D14*base!E$4)+(C14*base!E$4)+(F14*base!E$4) -> 0.41666667 | N14: =IF(M14<=base!E$5,"","Faux") | O14: =IF(SUM(M14-base!E$5)<0,0,SUM(M14-base!E$5)) -> 0 | Q14: =IF(P14<=base!E$3,"","Faux") | S14: =L14*SUM(M11:M14) -> 1.25 | T14: =IF(S14>("36:00"*1),S14-("36:00"*1),0)-T13 -> 0 | V14: =IF(travail!U14<=base!E$8,"","Faux") | AD14: =IF(SUM(MOD(K14-I14,1)-IF(K14>I14,MAX(0,MIN(K14,base!E$14/24)-MAX(I14,7/24)),MAX(0,base!E$14/24-MAX(I14,7/24))+MAX(0,MIN(K14,base!E$14/24)-7/24)))<0,0,SUM(MOD(K14-I14,1)-IF(K14>I14,MAX(0,MIN(K14,base!E$14/24)-MAX(I14,7/24)),MAX(0,base!E$14/24-MAX(I14,7/24))+MAX(0,MIN(K14,base!E$14/24)-7/24)))) -> 0 | AF14: =M14*G14*1 -> 0
A15: vendredi | B15: 41286 | H15: 1 | I15: 0.30208333 | J15: 0.03125 | K15: 0.75 | L15: =C15+D15+E15+F15+G15+H15 -> 1 | M15: =K15-I15+IF(I15>K15,1)-J15+(E15*base!E$4)+(D15*base!E$4)+(C15*base!E$4)+(F15*base!E$4) -> 0.41666667 | N15: =IF(M15<=base!E$5,"","Faux") | O15: =IF(SUM(M15-base!E$5)<0,0,SUM(M15-base!E$5)) -> 0 | Q15: =IF(P15<=base!E$3,"","Faux") | S15: =L15*SUM(M11:M15) -> 1.6666667 | T15: =IF(S15>("36:00"*1),S15-("36:00"*1),0)-T14 -> 0.16666667 | V15: =IF(travail!U15<=base!E$8,"","Faux") | AD15: =IF(SUM(MOD(K15-I15,1)-IF(K15>I15,MAX(0,MIN(K15,base!E$14/24)-MAX(I15,7/24)),MAX(0,base!E$14/24-MAX(I15,7/24))+MAX(0,MIN(K15,base!E$14/24)-7/24)))<0,0,SUM(MOD(K15-I15,1)-IF(K15>I15,MAX(0,MIN(K15,base!E$14/24)-MAX(I15,7/24)),MAX(0,base!E$14/24-MAX(I15,7/24))+MAX(0,MIN(K15,base!E$14/24)-7/24)))) -> 0 | AF15: =M15*G15*1 -> 0
A16: samedi | B16: 41287 | L16: =C16+D16+E16+F16+G16+H16 -> 0 | M16: =K16-I16+IF(I16>K16,1)-J16+(E16*base!E$4)+(D16*base!E$4)+(C16*base!E$4)+(F16*base!E$4) -> 0 | N16: =IF(M16<=base!E$5,"","Faux") | O16: =IF(SUM(M16-base!E$5)<0,0,SUM(M16-base!E$5)) -> 0 | P16: =K16-I16+IF(I16>K16,1) -> 0 | Q16: =IF(P16<=base!E$3,"","Faux") | R16: =IF(SUM(P16-base!E$3)<0,0,SUM(P16-base!E$3)) -> 0 | S16: =L16*SUM(M11:M16) -> 0 | T16: =IF(SUM(IF(S16>("36:00"*1),S16-("36:00"*1),0)-T14-T15)<0,0,SUM(IF(S16>("36:00"*1),S16-("36:00"*1),0)-T14-T15)) -> 0 | V16: =IF(travail!U16<=base!E$8,"","Faux") | AD16: =IF(SUM(MOD(K16-I16,1)-IF(K16>I16,MAX(0,MIN(K16,base!E$14/24)-MAX(I16,7/24)),MAX(0,base!E$14/24-MAX(I16,7/24))+MAX(0,MIN(K16,base!E$14/24)-7/24)))<0,0,SUM(MOD(K16-I16,1)-IF(K16>I16,MAX(0,MIN(K16,base!E$14/24)-MAX(I16,7/24)),MAX(0,base!E$14/24-MAX(I16,7/24))+MAX(0,MIN(K16,base!E$14/24)-7/24)))) -> 0
A17: dimanche | B17: 41288 | L17: =C17+D17+E17+F17+G17+H17 -> 0 | M17: =K17-I17+IF(I17>K17,1)-J17+(E17*base!E$4)+(D17*base!E$4)+(C17*base!E$4)+(F17*base!E$4) -> 0 | N17: =IF(M17<=base!E$5,"","Faux") | O17: =IF(SUM(M17-base!E$5)<0,0,SUM(M17-base!E$5)) -> 0 | P17: =K17-I17+IF(I17>K17,1) -> 0 | Q17: =IF(P17<=base!E$3,"","Faux") | R17: =IF(SUM(P17-base!E$3)<0,0,SUM(P17-base!E$3)) -> 0 | S17: =L17*SUM(M11:M17) -> 0 | T17: =IF(SUM(IF(S17>("36:00"*1),S17-("36:00"*1),0)-T15-T16)<0,0,SUM(IF(S17>("36:00"*1),S17-("36:00"*1),0)-T15-T16)) -> 0 | U17: =SUM(M11:M17) -> 1.6666667 | V17: =IF(travail!U17<=base!E$8,"","Faux") | W17: =IF(SUM(U17-base!E$8)<0,0,SUM(U17-base!E$8)) -> 0 | X17: =IF(base!E$7<U17,U17-base!E$7,0) -> 0.16666667 | AD17: =IF(SUM(MOD(K17-I17,1)-IF(K17>I17,MAX(0,MIN(K17,base!E$14/24)-MAX(I17,7/24)),MAX(0,base!E$14/24-MAX(I17,7/24))+MAX(0,MIN(K17,base!E$14/24)-7/24)))<0,0,SUM(MOD(K17-I17,1)-IF(K17>I17,MAX(0,MIN(K17,base!E$14/24)-MAX(I17,7/24)),MAX(0,base!E$14/24-MAX(I17,7/24))+MAX(0,MIN(K17,base!E$14/24)-7/24)))) -> 0 | AE17: =K17-I17+IF(I17>K17,1) -> 0
A18: lundi | B18: 41289 | H18: 1 | I18: 0.30208333 | J18: 0.03125 | K18: 0.75 | L18: =C18+D18+E18+F18+G18+H18 -> 1 | M18: =K18-I18+IF(I18>K18,1)-J18+(E18*base!E$4)+(D18*base!E$4)+(C18*base!E$4)+(F18*base!E$4) -> 0.41666667 | N18: =IF(M18<=base!E$5,"","Faux") | O18: =IF(SUM(M18-base!E$5)<0,0,SUM(M18-base!E$5)) -> 0 | Q18: =IF(P18<=base!E$3,"","Faux") | V18: =IF(travail!U18<=base!E$8,"","Faux") | AD18: =IF(SUM(MOD(K18-I18,1)-IF(K18>I18,MAX(0,MIN(K18,base!E$14/24)-MAX(I18,7/24)),MAX(0,base!E$14/24-MAX(I18,7/24))+MAX(0,MIN(K18,base!E$14/24)-7/24)))<0,0,SUM(MOD(K18-I18,1)-IF(K18>I18,MAX(0,MIN(K18,base!E$14/24)-MAX(I18,7/24)),MAX(0,base!E$14/24-MAX(I18,7/24))+MAX(0,MIN(K18,base!E$14/24)-7/24)))) -> 0 | AF18: =M18*G18*1 -> 0
A19: mardi | B19: 41290 | H19: 1 | I19: 0.30208333 | J19: 0.03125 | K19: 0.75 | L19: =C19+D19+E19+F19+G19+H19 -> 1 | M19: =K19-I19+IF(I19>K19,1)-J19+(E19*base!E$4)+(D19*base!E$4)+(C19*base!E$4)+(F19*base!E$4) -> 0.41666667 | N19: =IF(M19<=base!E$5,"","Faux") | O19: =IF(SUM(M19-base!E$5)<0,0,SUM(M19-base!E$5)) -> 0 | Q19: =IF(P19<=base!E$3,"","Faux") | S19: =L19*SUM(M18:M19) -> 0.83333333 | T19: =IF(S19>("36:00"*1),S19-("36:00"*1),0)-T18 -> 0 | V19: =IF(travail!U19<=base!E$8,"","Faux") | AD19: =IF(SUM(MOD(K19-I19,1)-IF(K19>I19,MAX(0,MIN(K19,base!E$14/24)-MAX(I19,7/24)),MAX(0,base!E$14/24-MAX(I19,7/24))+MAX(0,MIN(K19,base!E$14/24)-7/24)))<0,0,SUM(MOD(K19-I19,1)-IF(K19>I19,MAX(0,MIN(K19,base!E$14/24)-MAX(I19,7/24)),MAX(0,base!E$14/24-MAX(I19,7/24))+MAX(0,MIN(K19,base!E$14/24)-7/24)))) -> 0 | AF19: =M19*G19*1 -> 0
A20: mercredi | B20: 41291 | L20: =C20+D20+E20+F20+G20+H20 -> 0 | M20: =K20-I20+IF(I20>K20,1)-J20+(E20*base!E$4)+(D20*base!E$4)+(C20*base!E$4)+(F20*base!E$4) -> 0 | N20: =IF(M20<=base!E$5,"","Faux") | O20: =IF(SUM(M20-base!E$5)<0,0,SUM(M20-base!E$5)) -> 0 | P20: =K20-I20+IF(I20>K20,1) -> 0 | Q20: =IF(P20<=base!E$3,"","Faux") | R20: =IF(SUM(P20-base!E$3)<0,0,SUM(P20-base!E$3)) -> 0 | S20: =L20*SUM(M18:M20) -> 0 | T20: =IF(S20>("36:00"*1),S20-("36:00"*1),0)-T19 -> 0 | V20: =IF(travail!U20<=base!E$8,"","Faux") | AD20: =IF(SUM(MOD(K20-I20,1)-IF(K20>I20,MAX(0,MIN(K20,base!E$14/24)-MAX(I20,7/24)),MAX(0,base!E$14/24-MAX(I20,7/24))+MAX(0,MIN(K20,base!E$14/24)-7/24)))<0,0,SUM(MOD(K20-I20,1)-IF(K20>I20,MAX(0,MIN(K20,base!E$14/24)-MAX(I20,7/24)),MAX(0,base!E$14/24-MAX(I20,7/24))+MAX(0,MIN(K20,base!E$14/24)-7/24)))) -> 0 | AF20: =M20*G20*1 -> 0
A21: jeudi | B21: 41292 | H21: 1 | I21: 0.30208333 | J21: 0.03125 | K21: 0.75 | L21: =C21+D21+E21+F21+G21+H21 -> 1 | M21: =K21-I21+IF(I21>K21,1)-J21+(E21*base!E$4)+(D21*base!E$4)+(C21*base!E$4)+(F21*base!E$4) -> 0.41666667 | N21: =IF(M21<=base!E$5,"","Faux") | O21: =IF(SUM(M21-base!E$5)<0,0,SUM(M21-base!E$5)) -> 0 | Q21: =IF(P21<=base!E$3,"","Faux") | S21: =L21*SUM(M18:M21) -> 1.25 | T21: =IF(S21>("36:00"*1),S21-("36:00"*1),0)-T20 -> 0 | V21: =IF(travail!U21<=base!E$8,"","Faux") | AD21: =IF(SUM(MOD(K21-I21,1)-IF(K21>I21,MAX(0,MIN(K21,base!E$14/24)-MAX(I21,7/24)),MAX(0,base!E$14/24-MAX(I21,7/24))+MAX(0,MIN(K21,base!E$14/24)-7/24)))<0,0,SUM(MOD(K21-I21,1)-IF(K21>I21,MAX(0,MIN(K21,base!E$14/24)-MAX(I21,7/24)),MAX(0,base!E$14/24-MAX(I21,7/24))+MAX(0,MIN(K21,base!E$14/24)-7/24)))) -> 0 | AF21: =M21*G21*1 -> 0
A22: vendredi | B22: 41293 | H22: 1 | I22: 0.30208333 | J22: 0.03125 | K22: 0.75 | L22: =C22+D22+E22+F22+G22+H22 -> 1 | M22: =K22-I22+IF(I22>K22,1)-J22+(E22*base!E$4)+(D22*base!E$4)+(C22*base!E$4)+(F22*base!E$4) -> 0.41666667 | N22: =IF(M22<=base!E$5,"","Faux") | O22: =IF(SUM(M22-base!E$5)<0,0,SUM(M22-base!E$5)) -> 0 | Q22: =IF(P22<=base!E$3,"","Faux") | S22: =L22*SUM(M18:M22) -> 1.6666667 | T22: =IF(S22>("36:00"*1),S22-("36:00"*1),0)-T21 -> 0.16666667 | V22: =IF(travail!U22<=base!E$8,"","Faux") | AD22: =IF(SUM(MOD(K22-I22,1)-IF(K22>I22,MAX(0,MIN(K22,base!E$14/24)-MAX(I22,7/24)),MAX(0,base!E$14/24-MAX(I22,7/24))+MAX(0,MIN(K22,base!E$14/24)-7/24)))<0,0,SUM(MOD(K22-I22,1)-IF(K22>I22,MAX(0,MIN(K22,base!E$14/24)-MAX(I22,7/24)),MAX(0,base!E$14/24-MAX(I22,7/24))+MAX(0,MIN(K22,base!E$14/24)-7/24)))) -> 0 | AF22: =M22*G22*1 -> 0
A23: samedi | B23: 41294 | L23: =C23+D23+E23+F23+G23+H23 -> 0 | M23: =K23-I23+IF(I23>K23,1)-J23+(E23*base!E$4)+(D23*base!E$4)+(C23*base!E$4)+(F23*base!E$4) -> 0 | N23: =IF(M23<=base!E$5,"","Faux") | O23: =IF(SUM(M23-base!E$5)<0,0,SUM(M23-base!E$5)) -> 0 | P23: =K23-I23+IF(I23>K23,1) -> 0 | Q23: =IF(P23<=base!E$3,"","Faux") | R23: =IF(SUM(P23-base!E$3)<0,0,SUM(P23-base!E$3)) -> 0 | S23: =L23*SUM(M18:M23) -> 0 | T23: =IF(SUM(IF(S23>("36:00"*1),S23-("36:00"*1),0)-T21-T22)<0,0,SUM(IF(S23>("36:00"*1),S23-("36:00"*1),0)-T21-T22)) -> 0 | V23: =IF(travail!U23<=base!E$8,"","Faux") | AD23: =IF(SUM(MOD(K23-I23,1)-IF(K23>I23,MAX(0,MIN(K23,base!E$14/24)-MAX(I23,7/24)),MAX(0,base!E$14/24-MAX(I23,7/24))+MAX(0,MIN(K23,base!E$14/24)-7/24)))<0,0,SUM(MOD(K23-I23,1)-IF(K23>I23,MAX(0,MIN(K23,base!E$14/24)-MAX(I23,7/24)),MAX(0,base!E$14/24-MAX(I23,7/24))+MAX(0,MIN(K23,base!E$14/24)-7/24)))) -> 0
A24: dimanche | B24: 41295 | L24: =C24+D24+E24+F24+G24+H24 -> 0 | M24: =K24-I24+IF(I24>K24,1)-J24+(E24*base!E$4)+(D24*base!E$4)+(C24*base!E$4)+(F24*base!E$4) -> 0 | N24: =IF(M24<=base!E$5,"","Faux") | O24: =IF(SUM(M24-base!E$5)<0,0,SUM(M24-base!E$5)) -> 0 | P24: =K24-I24+IF(I24>K24,1) -> 0 | Q24: =IF(P24<=base!E$3,"","Faux") | R24: =IF(SUM(P24-base!E$3)<0,0,SUM(P24-base!E$3)) -> 0 | S24: =L24*SUM(M18:M24) -> 0 | T24: =IF(SUM(IF(S24>("36:00"*1),S24-("36:00"*1),0)-T22-T23)<0,0,SUM(IF(S24>("36:00"*1),S24-("36:00"*1),0)-T22-T23)) -> 0 | U24: =SUM(M18:M24) -> 1.6666667 | V24: =IF(travail!U24<=base!E$8,"","Faux") | W24: =IF(SUM(U24-base!E$8)<0,0,SUM(U24-base!E$8)) -> 0 | X24: =IF(base!E$7<U24,U24-base!E$7,0) -> 0.16666667 | AD24: =IF(SUM(MOD(K24-I24,1)-IF(K24>I24,MAX(0,MIN(K24,base!E$14/24)-MAX(I24,7/24)),MAX(0,base!E$14/24-MAX(I24,7/24))+MAX(0,MIN(K24,base!E$14/24)-7/24)))<0,0,SUM(MOD(K24-I24,1)-IF(K24>I24,MAX(0,MIN(K24,base!E$14/24)-MAX(I24,7/24)),MAX(0,base!E$14/24-MAX(I24,7/24))+MAX(0,MIN(K24,base!E$14/24)-7/24)))) -> 0 | AE24: =M24 -> 0
A25: lundi | B25: 41296 | H25: 1 | I25: 0.30208333 | J25: 0.03125 | K25: 0.75 | L25: =C25+D25+E25+F25+G25+H25 -> 1 | M25: =K25-I25+IF(I25>K25,1)-J25+(E25*base!E$4)+(D25*base!E$4)+(C25*base!E$4)+(F25*base!E$4) -> 0.41666667 | N25: =IF(M25<=base!E$5,"","Faux") | O25: =IF(SUM(M25-base!E$5)<0,0,SUM(M25-base!E$5)) -> 0 | Q25: =IF(P25<=base!E$3,"","Faux") | V25: =IF(travail!U25<=base!E$8,"","Faux") | AD25: =IF(SUM(MOD(K25-I25,1)-IF(K25>I25,MAX(0,MIN(K25,base!E$14/24)-MAX(I25,7/24)),MAX(0,base!E$14/24-MAX(I25,7/24))+MAX(0,MIN(K25,base!E$14/24)-7/24)))<0,0,SUM(MOD(K25-I25,1)-IF(K25>I25,MAX(0,MIN(K25,base!E$14/24)-MAX(I25,7/24)),MAX(0,base!E$14/24-MAX(I25,7/24))+MAX(0,MIN(K25,base!E$14/24)-7/24)))) -> 0 | AF25: =M25*G25*1 -> 0
A26: mardi | B26: 41297 | H26: 1 | I26: 0.30208333 | J26: 0.03125 | K26: 0.75 | L26: =C26+D26+E26+F26+G26+H26 -> 1 | M26: =K26-I26+IF(I26>K26,1)-J26+(E26*base!E$4)+(D26*base!E$4)+(C26*base!E$4)+(F26*base!E$4) -> 0.41666667 | N26: =IF(M26<=base!E$5,"","Faux") | O26: =IF(SUM(M26-base!E$5)<0,0,SUM(M26-base!E$5)) -> 0 | Q26: =IF(P26<=base!E$3,"","Faux") | S26: =L26*SUM(M25:M26) -> 0.83333333 | T26: =IF(S26>("36:00"*1),S26-("36:00"*1),0)-T25 -> 0 | V26: =IF(travail!U26<=base!E$8,"","Faux") | AD26: =IF(SUM(MOD(K26-I26,1)-IF(K26>I26,MAX(0,MIN(K26,base!E$14/24)-MAX(I26,7/24)),MAX(0,base!E$14/24-MAX(I26,7/24))+MAX(0,MIN(K26,base!E$14/24)-7/24)))<0,0,SUM(MOD(K26-I26,1)-IF(K26>I26,MAX(0,MIN(K26,base!E$14/24)-MAX(I26,7/24)),MAX(0,base!E$14/24-MAX(I26,7/24))+MAX(0,MIN(K26,base!E$14/24)-7/24)))) -> 0 | AF26: =M26*G26*1 -> 0
A27: mercredi | B27: 41298 | L27: =C27+D27+E27+F27+G27+H27 -> 0 | M27: =K27-I27+IF(I27>K27,1)-J27+(E27*base!E$4)+(D27*base!E$4)+(C27*base!E$4)+(F27*base!E$4) -> 0 | N27: =IF(M27<=base!E$5,"","Faux") | O27: =IF(SUM(M27-base!E$5)<0,0,SUM(M27-base!E$5)) -> 0 | P27: =K27-I27+IF(I27>K27,1) -> 0 | Q27: =IF(P27<=base!E$3,"","Faux") | R27: =IF(SUM(P27-base!E$3)<0,0,SUM(P27-base!E$3)) -> 0 | S27: =L27*SUM(M25:M27) -> 0 | T27: =IF(S27>("36:00"*1),S27-("36:00"*1),0)-T26 -> 0 | V27: =IF(travail!U27<=base!E$8,"","Faux") | AD27: =IF(SUM(MOD(K27-I27,1)-IF(K27>I27,MAX(0,MIN(K27,base!E$14/24)-MAX(I27,7/24)),MAX(0,base!E$14/24-MAX(I27,7/24))+MAX(0,MIN(K27,base!E$14/24)-7/24)))<0,0,SUM(MOD(K27-I27,1)-IF(K27>I27,MAX(0,MIN(K27,base!E$14/24)-MAX(I27,7/24)),MAX(0,base!E$14/24-MAX(I27,7/24))+MAX(0,MIN(K27,base!E$14/24)-7/24)))) -> 0 | AF27: =M27*G27*1 -> 0
A28: jeudi | B28: 41299 | I28: 0.30208333 | J28: 0.03125 | K28: 0.75 | L28: =C28+D28+E28+F28+G28+H28 -> 0 | M28: =K28-I28+IF(I28>K28,1)-J28+(E28*base!E$4)+(D28*base!E$4)+(C28*base!E$4)+(F28*base!E$4) -> 0.41666667 | N28: =IF(M28<=base!E$5,"","Faux") | O28: =IF(SUM(M28-base!E$5)<0,0,SUM(M28-base!E$5)) -> 0 | Q28: =IF(P28<=base!E$3,"","Faux") | S28: =L28*SUM(M25:M28) -> 0 | T28: =IF(S28>("36:00"*1),S28-("36:00"*1),0)-T27 -> 0 | V28: =IF(travail!U28<=base!E$8,"","Faux") | AD28: =IF(SUM(MOD(K28-I28,1)-IF(K28>I28,MAX(0,MIN(K28,base!E$14/24)-MAX(I28,7/24)),MAX(0,base!E$14/24-MAX(I28,7/24))+MAX(0,MIN(K28,base!E$14/24)-7/24)))<0,0,SUM(MOD(K28-I28,1)-IF(K28>I28,MAX(0,MIN(K28,base!E$14/24)-MAX(I28,7/24)),MAX(0,base!E$14/24-MAX(I28,7/24))+MAX(0,MIN(K28,base!E$14/24)-7/24)))) -> 0 | AF28: =M28*G28*1 -> 0
A29: vendredi | B29: 41300 | H29: 1 | I29: 0.30208333 | J29: 0.03125 | K29: 0.75 | L29: =C29+D29+E29+F29+G29+H29 -> 1 | M29: =K29-I29+IF(I29>K29,1)-J29+(E29*base!E$4)+(D29*base!E$4)+(C29*base!E$4)+(F29*base!E$4) -> 0.41666667 | N29: =IF(M29<=base!E$5,"","Faux") | O29: =IF(SUM(M29-base!E$5)<0,0,SUM(M29-base!E$5)) -> 0 | Q29: =IF(P29<=base!E$3,"","Faux") | S29: =L29*SUM(M25:M29) -> 1.6666667 | T29: =IF(S29>("36:00"*1),S29-("36:00"*1),0)-T28 -> 0.16666667 | V29: =IF(travail!U29<=base!E$8,"","Faux") | AD29: =IF(SUM(MOD(K29-I29,1)-IF(K29>I29,MAX(0,MIN(K29,base!E$14/24)-MAX(I29,7/24)),MAX(0,base!E$14/24-MAX(I29,7/24))+MAX(0,MIN(K29,base!E$14/24)-7/24)))<0,0,SUM(MOD(K29-I29,1)-IF(K29>I29,MAX(0,MIN(K29,base!E$14/24)-MAX(I29,7/24)),MAX(0,base!E$14/24-MAX(I29,7/24))+MAX(0,MIN(K29,base!E$14/24)-7/24)))) -> 0 | AF29: =M29*G29*1 -> 0
A30: samedi | B30: 41301 | L30: =C30+D30+E30+F30+G30+H30 -> 0 | M30: =K30-I30+IF(I30>K30,1)-J30+(E30*base!E$4)+(D30*base!E$4)+(C30*base!E$4)+(F30*base!E$4) -> 0 | N30: =IF(M30<=base!E$5,"","Faux") | O30: =IF(SUM(M30-base!E$5)<0,0,SUM(M30-base!E$5)) -> 0 | P30: =K30-I30+IF(I30>K30,1) -> 0 | Q30: =IF(P30<=base!E$3,"","Faux") | R30: =IF(SUM(P30-base!E$3)<0,0,SUM(P30-base!E$3)) -> 0 | S30: =L30*SUM(M25:M30) -> 0 | T30: =IF(SUM(IF(S30>("36:00"*1),S30-("36:00"*1),0)-T28-T29)<0,0,SUM(IF(S30>("36:00"*1),S30-("36:00"*1),0)-T28-T29)) -> 0 | V30: =IF(travail!U30<=base!E$8,"","Faux") | AD30: =IF(SUM(MOD(K30-I30,1)-IF(K30>I30,MAX(0,MIN(K30,base!E$14/24)-MAX(I30,7/24)),MAX(0,base!E$14/24-MAX(I30,7/24))+MAX(0,MIN(K30,base!E$14/24)-7/24)))<0,0,SUM(MOD(K30-I30,1)-IF(K30>I30,MAX(0,MIN(K30,base!E$14/24)-MAX(I30,7/24)),MAX(0,base!E$14/24-MAX(I30,7/24))+MAX(0,MIN(K30,base!E$14/24)-7/24)))) -> 0
A31: dimanche | B31: 41302 | L31: =C31+D31+E31+F31+G31+H31 -> 0 | M31: =K31-I31+IF(I31>K31,1)-J31+(E31*base!E$4)+(D31*base!E$4)+(C31*base!E$4)+(F31*base!E$4) -> 0 | N31: =IF(M31<=base!E$5,"","Faux") | O31: =IF(SUM(M31-base!E$5)<0,0,SUM(M31-base!E$5)) -> 0 | P31: =K31-I31+IF(I31>K31,1) -> 0 | Q31: =IF(P31<=base!E$3,"","Faux") | R31: =IF(SUM(P31-base!E$3)<0,0,SUM(P31-base!E$3)) -> 0 | S31: =L31*SUM(M25:M31) -> 0 | T31: =IF(SUM(IF(S31>("36:00"*1),S31-("36:00"*1),0)-T29-T30)<0,0,SUM(IF(S31>("36:00"*1),S31-("36:00"*1),0)-T29-T30)) -> 0 | U31: =SUM(M25:M31) -> 1.6666667 | V31: =IF(travail!U31<=base!E$8,"","Faux") | W31: =IF(SUM(U31-base!E$8)<0,0,SUM(U31-base!E$8)) -> 0 | X31: =IF(base!E$7<U31,U31-base!E$7,0) -> 0.16666667 | AD31: =IF(SUM(MOD(K31-I31,1)-IF(K31>I31,MAX(0,MIN(K31,base!E$14/24)-MAX(I31,7/24)),MAX(0,base!E$14/24-MAX(I31,7/24))+MAX(0,MIN(K31,base!E$14/24)-7/24)))<0,0,SUM(MOD(K31-I31,1)-IF(K31>I31,MAX(0,MIN(K31,base!E$14/24)-MAX(I31,7/24)),MAX(0,base!E$14/24-MAX(I31,7/24))+MAX(0,MIN(K31,base!E$14/24)-7/24)))) -> 0 | AE31: =M31 -> 0
A32: lundi | B32: 41303 | I32: 0.30208333 | J32: 0.03125 | K32: 0.75 | L32: =C32+D32+E32+F32+G32+H32 -> 0 | M32: =K32-I32+IF(I32>K32,1)-J32+(E32*base!E$4)+(D32*base!E$4)+(C32*base!E$4)+(F32*base!E$4) -> 0.41666667 | N32: =IF(M32<=base!E$5,"","Faux") | O32: =IF(SUM(M32-base!E$5)<0,0,SUM(M32-base!E$5)) -> 0 | V32: =IF(travail!U32<=base!E$8,"","Faux") | AD32: =IF(SUM(MOD(K32-I32,1)-IF(K32>I32,MAX(0,MIN(K32,base!E$14/24)-MAX(I32,7/24)),MAX(0,base!E$14/24-MAX(I32,7/24))+MAX(0,MIN(K32,base!E$14/24)-7/24)))<0,0,SUM(MOD(K32-I32,1)-IF(K32>I32,MAX(0,MIN(K32,base!E$14/24)-MAX(I32,7/24)),MAX(0,base!E$14/24-MAX(I32,7/24))+MAX(0,MIN(K32,base!E$14/24)-7/24)))) -> 0 | AF32: =M32*G32*1 -> 0
A33: mardi | B33: 41304 | H33: 1 | I33: 0.30208333 | J33: 0.03125 | K33: 0.75 | L33: =C33+D33+E33+F33+G33+H33 -> 1 | M33: =K33-I33+IF(I33>K33,1)-J33+(E33*base!E$4)+(D33*base!E$4)+(C33*base!E$4)+(F33*base!E$4) -> 0.41666667 | N33: =IF(M33<=base!E$5,"","Faux") | O33: =IF(SUM(M33-base!E$5)<0,0,SUM(M33-base!E$5)) -> 0 | S33: =L33*SUM(M32:M33) -> 0.83333333 | T33: =IF(S33>("36:00"*1),S33-("36:00"*1),0)-T32 -> 0 | V33: =IF(travail!U33<=base!E$8,"","Faux") | AD33: =IF(SUM(MOD(K33-I33,1)-IF(K33>I33,MAX(0,MIN(K33,base!E$14/24)-MAX(I33,7/24)),MAX(0,base!E$14/24-MAX(I33,7/24))+MAX(0,MIN(K33,base!E$14/24)-7/24)))<0,0,SUM(MOD(K33-I33,1)-IF(K33>I33,MAX(0,MIN(K33,base!E$14/24)-MAX(I33,7/24)),MAX(0,base!E$14/24-MAX(I33,7/24))+MAX(0,MIN(K33,base!E$14/24)-7/24)))) -> 0 | AF33: =M33*G33*1 -> 0
A34: mercredi | B34: 41305 | L34: =C34+D34+E34+F34+G34+H34 -> 0 | M34: =K34-I34+IF(I34>K34,1)-J34+(E34*base!E$4)+(D34*base!E$4)+(C34*base!E$4)+(F34*base!E$4) -> 0 | N34: =IF(M34<=base!E$5,"","Faux") | O34: =IF(SUM(M34-base!E$5)<0,0,SUM(M34-base!E$5)) -> 0 | P34: =K34-I34+IF(I34>K34,1) -> 0 | Q34: =IF(P34<=base!E$3,"","Faux") | R34: =IF(SUM(P34-base!E$3)<0,0,SUM(P34-base!E$3)) -> 0 | S34: =L34*SUM(M32:M34) -> 0 | T34: =IF(S34>("36:00"*1),S34-("36:00"*1),0)-T33 -> 0 | V34: =IF(travail!U34<=base!E$8,"","Faux") | AD34: =IF(SUM(MOD(K34-I34,1)-IF(K34>I34,MAX(0,MIN(K34,base!E$14/24)-MAX(I34,7/24)),MAX(0,base!E$14/24-MAX(I34,7/24))+MAX(0,MIN(K34,base!E$14/24)-7/24)))<0,0,SUM(MOD(K34-I34,1)-IF(K34>I34,MAX(0,MIN(K34,base!E$14/24)-MAX(I34,7/24)),MAX(0,base!E$14/24-MAX(I34,7/24))+MAX(0,MIN(K34,base!E$14/24)-7/24)))) -> 0 | AF34: =M34*G34*1 -> 0
A35: jeudi | B35: 41306 | I35: 0.30208333 | J35: 0.03125 | K35: 0.75 | L35: =C35+D35+E35+F35+G35+H35 -> 0 | M35: =K35-I35+IF(I35>K35,1)-J35+(E35*base!E$4)+(D35*base!E$4)+(C35*base!E$4)+(F35*base!E$4) -> 0.41666667 | N35: =IF(M35<=base!E$5,"","Faux") | O35: =IF(SUM(M35-base!E$5)<0,0,SUM(M35-base!E$5)) -> 0 | S35: =L35*SUM(M32:M35) -> 0 | T35: =IF(S35>("36:00"*1),S35-("36:00"*1),0)-T34 -> 0 | V35: =IF(travail!U35<=base!E$8,"","Faux") | AD35: =IF(SUM(MOD(K35-I35,1)-IF(K35>I35,MAX(0,MIN(K35,base!E$14/24)-MAX(I35,7/24)),MAX(0,base!E$14/24-MAX(I35,7/24))+MAX(0,MIN(K35,base!E$14/24)-7/24)))<0,0,SUM(MOD(K35-I35,1)-IF(K35>I35,MAX(0,MIN(K35,base!E$14/24)-MAX(I35,7/24)),MAX(0,base!E$14/24-MAX(I35,7/24))+MAX(0,MIN(K35,base!E$14/24)-7/24)))) -> 0 | AF35: =M35*G35*1 -> 0
A36: vendredi | B36: 41307 | H36: 1 | I36: 0.30208333 | J36: 0.03125 | K36: 0.75 | L36: =C36+D36+E36+F36+G36+H36 -> 1 | M36: =K36-I36+IF(I36>K36,1)-J36+(E36*base!E$4)+(D36*base!E$4)+(C36*base!E$4)+(F36*base!E$4) -> 0.41666667 | N36: =IF(M36<=base!E$5,"","Faux") | O36: =IF(SUM(M36-base!E$5)<0,0,SUM(M36-base!E$5)) -> 0 | R36: =IF(SUM(P36-base!E$3)<0,0,SUM(P36-base!E$3)) -> 0 | S36: =L36*SUM(M32:M36) -> 1.6666667 | T36: =IF(S36>("36:00"*1),S36-("36:00"*1),0)-T35 -> 0.16666667 | V36: =IF(travail!U36<=base!E$8,"","Faux") | AD36: =IF(SUM(MOD(K36-I36,1)-IF(K36>I36,MAX(0,MIN(K36,base!E$14/24)-MAX(I36,7/24)),MAX(0,base!E$14/24-MAX(I36,7/24))+MAX(0,MIN(K36,base!E$14/24)-7/24)))<0,0,SUM(MOD(K36-I36,1)-IF(K36>I36,MAX(0,MIN(K36,base!E$14/24)-MAX(I36,7/24)),MAX(0,base!E$14/24-MAX(I36,7/24))+MAX(0,MIN(K36,base!E$14/24)-7/24)))) -> 0 | AF36: =M36*G36*1 -> 0
A37: samedi | B37: 41308 | L37: =C37+D37+E37+F37+G37+H37 -> 0 | M37: =K37-I37+IF(I37>K37,1)-J37+(E37*base!E$4)+(D37*base!E$4)+(C37*base!E$4)+(F37*base!E$4) -> 0 | N37: =IF(M37<=base!E$5,"","Faux") | O37: =IF(SUM(M37-base!E$5)<0,0,SUM(M37-base!E$5)) -> 0 | P37: =K37-I37+IF(I37>K37,1) -> 0 | Q37: =IF(P37<=base!E$3,"","Faux") | R37: =IF(SUM(P37-base!E$3)<0,0,SUM(P37-base!E$3)) -> 0 | S37: =L37*SUM(M32:M37) -> 0 | T37: =IF(SUM(IF(S37>("36:00"*1),S37-("36:00"*1),0)-T35-T36)<0,0,SUM(IF(S37>("36:00"*1),S37-("36:00"*1),0)-T35-T36)) -> 0 | V37: =IF(travail!U37<=base!E$8,"","Faux") | AD37: =IF(SUM(MOD(K37-I37,1)-IF(K37>I37,MAX(0,MIN(K37,base!E$14/24)-MAX(I37,7/24)),MAX(0,base!E$14/24-MAX(I37,7/24))+MAX(0,MIN(K37,base!E$14/24)-7/24)))<0,0,SUM(MOD(K37-I37,1)-IF(K37>I37,MAX(0,MIN(K37,base!E$14/24)-MAX(I37,7/24)),MAX(0,base!E$14/24-MAX(I37,7/24))+MAX(0,MIN(K37,base!E$14/24)-7/24)))) -> 0
A38: dimanche | B38: 41309 | L38: =C38+D38+E38+F38+G38+H38 -> 0 | M38: =K38-I38+IF(I38>K38,1)-J38+(E38*base!E$4)+(D38*base!E$4)+(C38*base!E$4)+(F38*base!E$4) -> 0 | N38: =IF(M38<=base!E$5,"","Faux") | O38: =IF(SUM(M38-base!E$5)<0,0,SUM(M38-base!E$5)) -> 0 | P38: =K38-I38+IF(I38>K38,1) -> 0 | Q38: =IF(P38<=base!E$3,"","Faux") | R38: =IF(SUM(P38-base!E$3)<0,0,SUM(P38-base!E$3)) -> 0 | S38: =L38*SUM(M32:M38) -> 0 | T38: =IF(SUM(IF(S38>("36:00"*1),S38-("36:00"*1),0)-T36-T37)<0,0,SUM(IF(S38>("36:00"*1),S38-("36:00"*1),0)-T36-T37)) -> 0 | U38: =SUM(M32:M38) -> 1.6666667 | V38: =IF(travail!U38<=base!E$8,"","Faux") | W38: =IF(SUM(U38-base!E$8)<0,0,SUM(U38-base!E$8)) -> 0 | X38: =IF(base!E$7<U38,U38-base!E$7,0) -> 0.16666667 | AD38: =IF(SUM(MOD(K38-I38,1)-IF(K38>I38,MAX(0,MIN(K38,base!E$14/24)-MAX(I38,7/24)),MAX(0,base!E$14/24-MAX(I38,7/24))+MAX(0,MIN(K38,base!E$14/24)-7/24)))<0,0,SUM(MOD(K38-I38,1)-IF(K38>I38,MAX(0,MIN(K38,base!E$14/24)-MAX(I38,7/24)),MAX(0,base!E$14/24-MAX(I38,7/24))+MAX(0,MIN(K38,base!E$14/24)-7/24)))) -> 0 | AE38: =M38 -> 0
A39: lundi | B39: 41310 | H39: 1 | I39: 0.30208333 | J39: 0.03125 | K39: 0.75 | L39: =C39+D39+E39+F39+G39+H39 -> 1 | M39: =K39-I39+IF(I39>K39,1)-J39+(E39*base!E$4)+(D39*base!E$4)+(C39*base!E$4)+(F39*base!E$4) -> 0.41666667 | N39: =IF(M39<=base!E$5,"","Faux") | O39: =IF(SUM(M39-base!E$5)<0,0,SUM(M39-base!E$5)) -> 0 | V39: =IF(travail!U39<=base!E$8,"","Faux") | AD39: =IF(SUM(MOD(K39-I39,1)-IF(K39>I39,MAX(0,MIN(K39,base!E$14/24)-MAX(I39,7/24)),MAX(0,base!E$14/24-MAX(I39,7/24))+MAX(0,MIN(K39,base!E$14/24)-7/24)))<0,0,SUM(MOD(K39-I39,1)-IF(K39>I39,MAX(0,MIN(K39,base!E$14/24)-MAX(I39,7/24)),MAX(0,base!E$14/24-MAX(I39,7/24))+MAX(0,MIN(K39,base!E$14/24)-7/24)))) -> 0 | AF39: =M39*G39*1 -> 0
A40: mardi | B40: 41311 | D40: 1 | I40: 0.30208333 | J40: 0.03125 | K40: 0.75 | L40: =C40+D40+E40+F40+G40+H40 -> 1 | M40: =K40-I40+IF(I40>K40,1)-J40+(E40*base!E$4)+(D40*base!E$4)+(C40*base!E$4)+(F40*base!E$4) -> 0.72222222 | O40: =IF(SUM(M40-base!E$5)<0,0,SUM(M40-base!E$5)) -> 0.30555556 | S40: =L40*SUM(M39:M40) -> 1.1388889 | T40: =IF(S40>("36:00"*1),S40-("36:00"*1),0)-T39 -> 0 | V40: =IF(travail!U40<=base!E$8,"","Faux") | AD40: =IF(SUM(MOD(K40-I40,1)-IF(K40>I40,MAX(0,MIN(K40,base!E$14/24)-MAX(I40,7/24)),MAX(0,base!E$14/24-MAX(I40,7/24))+MAX(0,MIN(K40,base!E$14/24)-7/24)))<0,0,SUM(MOD(K40-I40,1)-IF(K40>I40,MAX(0,MIN(K40,base!E$14/24)-MAX(I40,7/24)),MAX(0,base!E$14/24-MAX(I40,7/24))+MAX(0,MIN(K40,base!E$14/24)-7/24)))) -> 0 | AF40: =M40*G40*1 -> 0
...
