Workbook

Sheet EQUIPES
A6: EQUIPE TEST1 | E6: EQUIPE TEST2 | I6: EQUIPE TEST3 | M6: EQUIPE TEST4
A8: CAPITAINE | B8: JEAN FILE | C8: 06; | E8: CAPITAINE | F8: JEAN FILE | G8: 06; | I8: CAPITAINE | J8: JEAN FILE | K8: 06; | M8: CAPITAINE | N8: JEAN FILE | O8: 06;
A9: JOUEUR 2 | B9: BART ABAC | E9: JOUEUR 2 | F9: BART ABAC | I9: JOUEUR 2 | J9: BART ABAC | M9: JOUEUR 2 | N9: BART ABAC
A10: JOUEUR 3 | E10: JOUEUR 3 | I10: JOUEUR 3 | M10: JOUEUR 3
A11: JOUEUR 4 | E11: JOUEUR 4 | I11: JOUEUR 4 | M11: JOUEUR 4
A12: JOUEUR 5 | E12: JOUEUR 5 | I12: JOUEUR 5 | M12: JOUEUR 5
A13: POINTS | C13: CLASSEMENT | E13: POINTS | G13: CLASSEMENT | I13: POINTS | K13: CLASSEMENT | M13: POINTS | O13: CLASSEMENT
A18: EQUIPE TEST5 | E18: EQUIPE TEST6 | I18: EQUIPE TEST7 | M18: EQUIPE TEST8
A20: CAPITAINE | B20: JEAN FILE | C20: 06; | E20: CAPITAINE | F20: JEAN FILE | G20: 06; | I20: CAPITAINE | J20: JEAN FILE | K20: 06; | M20: CAPITAINE | N20: JEAN FILE | O20: 06;
A21: JOUEUR 2 | B21: BART ABAC | E21: JOUEUR 2 | F21: BART ABAC | I21: JOUEUR 2 | J21: BART ABAC | M21: JOUEUR 2 | N21: BART ABAC
A22: JOUEUR 3 | E22: JOUEUR 3 | I22: JOUEUR 3 | M22: JOUEUR 3
A23: JOUEUR 4 | E23: JOUEUR 4 | I23: JOUEUR 4 | M23: JOUEUR 4
A24: JOUEUR 5 | E24: JOUEUR 5 | I24: JOUEUR 5 | M24: JOUEUR 5
A25: POINTS | C25: CLASSEMENT | E25: POINTS | G25: CLASSEMENT | I25: POINTS | K25: CLASSEMENT | M25: POINTS | O25: CLASSEMENT
A30: EQUIPE TEST9 | E30: EQUIPE TEST10
A32: CAPITAINE | B32: JEAN FILE | C32: 06; | E32: CAPITAINE | F32: JEAN FILE | G32: 06;
A33: JOUEUR 2 | B33: BART ABAC | E33: JOUEUR 2 | F33: BART ABAC
A34: JOUEUR 3 | E34: JOUEUR 3
A35: JOUEUR 4 | E35: JOUEUR 4
A36: JOUEUR 5 | E36: JOUEUR 5
A37: POINTS | C37: CLASSEMENT | E37: POINTS | G37: CLASSEMENT
A41: LISTE
A42: =+A6 -> EQUIPE TEST1
A43: =E6 -> EQUIPE TEST2
A44: =I6 -> EQUIPE TEST3
A45: =M6 -> EQUIPE TEST4
A46: =+A18 -> EQUIPE TEST5
A47: =E18 -> EQUIPE TEST6
A48: =I18 -> EQUIPE TEST7
A49: =M18 -> EQUIPE TEST8
A50: =A30 -> EQUIPE TEST9
A51: =E30 -> EQUIPE TEST10

Sheet TABLE DES MATCHS
A1: TERRAIN BASKET | H1: TERRAIN TCHOUCKBALL | O1: TERRAIN ULTIMATE | V1: TERRAIN HOCKEY | AC1: TERRAIN FOOT | AK1: TERRAIN VOLLEY
A2: EQUIPE | B2: VS | C2: EQUIPE | D2: RESULTAT | E2: POINTS | H2: EQUIPE | I2: VS | J2: EQUIPE | K2: RESULTAT | L2: POINTS | O2: EQUIPE | P2: VS | Q2: EQUIPE | R2: RESULTAT | S2: POINTS | V2: EQUIPE | W2: VS | X2: EQUIPE | Y2: RESULTAT | Z2: POINTS | AC2: EQUIPE | AD2: VS | AE2: EQUIPE | AF2: RESULTAT | AG2: POINTS | AJ2: EQUIPE | AK2: VS | AL2: EQUIPE | AM2: RESULTAT | AN2: POINTS
A3: EQUIPE TEST1 | C3: EQUIPE TEST10 | H3: EQUIPE TEST2 | J3: EQUIPE TEST9 | O3: EQUIPE TEST3 | Q3: EQUIPE TEST8 | V3: EQUIPE TEST4 | X3: EQUIPE TEST7 | AC3: EQUIPE TEST5 | AE3: EQUIPE TEST6
A4: EQUIPE TEST4 | C4: EQUIPE TEST5 | H4: EQUIPE TEST3 | J4: EQUIPE TEST6 | O4: EQUIPE TEST2 | Q4: EQUIPE TEST7 | V4: EQUIPE TEST10 | X4: EQUIPE TEST8 | AC4: EQUIPE TEST1 | AE4: EQUIPE TEST9
A5: EQUIPE TEST9 | C5: EQUIPE TEST7 | H5: EQUIPE TEST1 | J5: EQUIPE TEST8 | O5: EQUIPE TEST10 | Q5: EQUIPE TEST6 | V5: EQUIPE TEST2 | X5: EQUIPE TEST5 | AC5: EQUIPE TEST3 | AE5: EQUIPE TEST4
A6: EQUIPE TEST8 | C6: EQUIPE TEST6 | H6: EQUIPE TEST9 | J6: EQUIPE TEST5 | O6: EQUIPE TEST1 | Q6: EQUIPE TEST7 | V6: EQUIPE TEST10 | X6: EQUIPE TEST4 | AC6: EQUIPE TEST2 | AE6: EQUIPE TEST3
A7: EQUIPE TEST7 | C7: EQUIPE TEST5 | H7: EQUIPE TEST8 | J7: EQUIPE TEST4 | O7: EQUIPE TEST9 | Q7: EQUIPE TEST3 | V7: EQUIPE TEST1 | X7: EQUIPE TEST6 | AC7: EQUIPE TEST10 | AE7: EQUIPE TEST2
A8: EQUIPE TEST1 | C8: EQUIPE TEST5 | H8: EQUIPE TEST6 | J8: EQUIPE TEST4 | O8: EQUIPE TEST7 | Q8: EQUIPE TEST3 | V8: EQUIPE TEST8 | X8: EQUIPE TEST2 | AC8: EQUIPE TEST9 | AE8: EQUIPE TEST10
A9: EQUIPE TEST1 | C9: EQUIPE TEST4 | H9: EQUIPE TEST5 | J9: EQUIPE TEST3 | O9: EQUIPE TEST6 | Q9: EQUIPE TEST2 | V9: EQUIPE TEST7 | X9: EQUIPE TEST10 | AC9: EQUIPE TEST8 | AE9: EQUIPE TEST9
A10: EQUIPE TEST1 | C10: EQUIPE TEST3 | H10: EQUIPE TEST4 | J10: EQUIPE TEST2 | O10: EQUIPE TEST5 | Q10: EQUIPE TEST10 | V10: EQUIPE TEST6 | X10: EQUIPE TEST9 | AC10: EQUIPE TEST7 | AE10: EQUIPE TEST8
A11: EQUIPE TEST3 | C11: EQUIPE TEST10 | H11: EQUIPE TEST1 | J11: EQUIPE TEST2 | O11: EQUIPE TEST4 | Q11: EQUIPE TEST9 | V11: EQUIPE TEST5 | X11: EQUIPE TEST8 | AC11: EQUIPE TEST6 | AE11: EQUIPE TEST7
A14: VERIF | H14: VERIF | O14: VERIF | V14: VERIF | AC14: VERIF
A15: =EQUIPES!A42 -> EQUIPE TEST1 | C15: =COUNTIF('TABLE DES MATCHS'!$A$3:$C$11,EQUIPES!A42) -> 4 | H15: =EQUIPES!A42 -> EQUIPE TEST1 | J15: =COUNTIF('TABLE DES MATCHS'!$H$3:$J$11,EQUIPES!A42) -> 2 | O15: =EQUIPES!A42 -> EQUIPE TEST1 | Q15: =COUNTIF('TABLE DES MATCHS'!$O$3:$Q$11,EQUIPES!A42) -> 1 | V15: =EQUIPES!A42 -> EQUIPE TEST1 | X15: =COUNTIF('TABLE DES MATCHS'!$V$3:$X$11,EQUIPES!A42) -> 1 | AC15: =EQUIPES!A42 -> EQUIPE TEST1 | AE15: =COUNTIF('TABLE DES MATCHS'!$AC$3:$AE$11,EQUIPES!A42) -> 1
A16: =EQUIPES!A43 -> EQUIPE TEST2 | C16: =COUNTIF('TABLE DES MATCHS'!$A$3:$C$11,EQUIPES!A43) -> 0 | H16: =EQUIPES!A43 -> EQUIPE TEST2 | J16: =COUNTIF('TABLE DES MATCHS'!$H$3:$J$11,EQUIPES!A43) -> 3 | O16: =EQUIPES!A43 -> EQUIPE TEST2 | Q16: =COUNTIF('TABLE DES MATCHS'!$O$3:$Q$11,EQUIPES!A43) -> 2 | V16: =EQUIPES!A43 -> EQUIPE TEST2 | X16: =COUNTIF('TABLE DES MATCHS'!$V$3:$X$11,EQUIPES!A43) -> 2 | AC16: =EQUIPES!A43 -> EQUIPE TEST2 | AE16: =COUNTIF('TABLE DES MATCHS'!$AC$3:$AE$11,EQUIPES!A43) -> 2
A17: =EQUIPES!A44 -> EQUIPE TEST3 | C17: =COUNTIF('TABLE DES MATCHS'!$A$3:$C$11,EQUIPES!A44) -> 2 | H17: =EQUIPES!A44 -> EQUIPE TEST3 | J17: =COUNTIF('TABLE DES MATCHS'!$H$3:$J$11,EQUIPES!A44) -> 2 | O17: =EQUIPES!A44 -> EQUIPE TEST3 | Q17: =COUNTIF('TABLE DES MATCHS'!$O$3:$Q$11,EQUIPES!A44) -> 3 | V17: =EQUIPES!A44 -> EQUIPE TEST3 | X17: =COUNTIF('TABLE DES MATCHS'!$V$3:$X$11,EQUIPES!A44) -> 0 | AC17: =EQUIPES!A44 -> EQUIPE TEST3 | AE17: =COUNTIF('TABLE DES MATCHS'!$AC$3:$AE$11,EQUIPES!A44) -> 2
A18: =EQUIPES!A45 -> EQUIPE TEST4 | C18: =COUNTIF('TABLE DES MATCHS'!$A$3:$C$11,EQUIPES!A45) -> 2 | H18: =EQUIPES!A45 -> EQUIPE TEST4 | J18: =COUNTIF('TABLE DES MATCHS'!$H$3:$J$11,EQUIPES!A45) -> 3 | O18: =EQUIPES!A45 -> EQUIPE TEST4 | Q18: =COUNTIF('TABLE DES MATCHS'!$O$3:$Q$11,EQUIPES!A45) -> 1 | V18: =EQUIPES!A45 -> EQUIPE TEST4 | X18: =COUNTIF('TABLE DES MATCHS'!$V$3:$X$11,EQUIPES!A45) -> 2 | AC18: =EQUIPES!A45 -> EQUIPE TEST4 | AE18: =COUNTIF('TABLE DES MATCHS'!$AC$3:$AE$11,EQUIPES!A45) -> 1
A19: =EQUIPES!A46 -> EQUIPE TEST5 | C19: =COUNTIF('TABLE DES MATCHS'!$A$3:$C$11,EQUIPES!A46) -> 3 | H19: =EQUIPES!A46 -> EQUIPE TEST5 | J19: =COUNTIF('TABLE DES MATCHS'!$H$3:$J$11,EQUIPES!A46) -> 2 | O19: =EQUIPES!A46 -> EQUIPE TEST5 | Q19: =COUNTIF('TABLE DES MATCHS'!$O$3:$Q$11,EQUIPES!A46) -> 1 | V19: =EQUIPES!A46 -> EQUIPE TEST5 | X19: =COUNTIF('TABLE DES MATCHS'!$V$3:$X$11,EQUIPES!A46) -> 2 | AC19: =EQUIPES!A46 -> EQUIPE TEST5 | AE19: =COUNTIF('TABLE DES MATCHS'!$AC$3:$AE$11,EQUIPES!A46) -> 1
A20: =EQUIPES!A47 -> EQUIPE TEST6 | C20: =COUNTIF('TABLE DES MATCHS'!$A$3:$C$11,EQUIPES!A47) -> 1 | H20: =EQUIPES!A47 -> EQUIPE TEST6 | J20: =COUNTIF('TABLE DES MATCHS'!$H$3:$J$11,EQUIPES!A47) -> 2 | O20: =EQUIPES!A47 -> EQUIPE TEST6 | Q20: =COUNTIF('TABLE DES MATCHS'!$O$3:$Q$11,EQUIPES!A47) -> 2 | V20: =EQUIPES!A47 -> EQUIPE TEST6 | X20: =COUNTIF('TABLE DES MATCHS'!$V$3:$X$11,EQUIPES!A47) -> 2 | AC20: =EQUIPES!A47 -> EQUIPE TEST6 | AE20: =COUNTIF('TABLE DES MATCHS'!$AC$3:$AE$11,EQUIPES!A47) -> 2
A21: =EQUIPES!A48 -> EQUIPE TEST7 | C21: =COUNTIF('TABLE DES MATCHS'!$A$3:$C$11,EQUIPES!A48) -> 2 | H21: =EQUIPES!A48 -> EQUIPE TEST7 | J21: =COUNTIF('TABLE DES MATCHS'!$H$3:$J$11,EQUIPES!A48) -> 0 | O21: =EQUIPES!A48 -> EQUIPE TEST7 | Q21: =COUNTIF('TABLE DES MATCHS'!$O$3:$Q$11,EQUIPES!A48) -> 3 | V21: =EQUIPES!A48 -> EQUIPE TEST7 | X21: =COUNTIF('TABLE DES MATCHS'!$V$3:$X$11,EQUIPES!A48) -> 2 | AC21: =EQUIPES!A48 -> EQUIPE TEST7 | AE21: =COUNTIF('TABLE DES MATCHS'!$AC$3:$AE$11,EQUIPES!A48) -> 2
A22: =EQUIPES!A49 -> EQUIPE TEST8 | C22: =COUNTIF('TABLE DES MATCHS'!$A$3:$C$11,EQUIPES!A49) -> 1 | H22: =EQUIPES!A49 -> EQUIPE TEST8 | J22: =COUNTIF('TABLE DES MATCHS'!$H$3:$J$11,EQUIPES!A49) -> 2 | O22: =EQUIPES!A49 -> EQUIPE TEST8 | Q22: =COUNTIF('TABLE DES MATCHS'!$O$3:$Q$11,EQUIPES!A49) -> 1 | V22: =EQUIPES!A49 -> EQUIPE TEST8 | X22: =COUNTIF('TABLE DES MATCHS'!$V$3:$X$11,EQUIPES!A49) -> 3 | AC22: =EQUIPES!A49 -> EQUIPE TEST8 | AE22: =COUNTIF('TABLE DES MATCHS'!$AC$3:$AE$11,EQUIPES!A49) -> 2
A23: =EQUIPES!A50 -> EQUIPE TEST9 | C23: =COUNTIF('TABLE DES MATCHS'!$A$3:$C$11,EQUIPES!A50) -> 1 | H23: =EQUIPES!A50 -> EQUIPE TEST9 | J23: =COUNTIF('TABLE DES MATCHS'!$H$3:$J$11,EQUIPES!A50) -> 2 | O23: =EQUIPES!A50 -> EQUIPE TEST9 | Q23: =COUNTIF('TABLE DES MATCHS'!$O$3:$Q$11,EQUIPES!A50) -> 2 | V23: =EQUIPES!A50 -> EQUIPE TEST9 | X23: =COUNTIF('TABLE DES MATCHS'!$V$3:$X$11,EQUIPES!A50) -> 1 | AC23: =EQUIPES!A50 -> EQUIPE TEST9 | AE23: =COUNTIF('TABLE DES MATCHS'!$AC$3:$AE$11,EQUIPES!A50) -> 3
A24: =EQUIPES!A51 -> EQUIPE TEST10 | C24: =COUNTIF('TABLE DES MATCHS'!$A$3:$C$11,EQUIPES!A51) -> 2 | H24: =EQUIPES!A51 -> EQUIPE TEST10 | J24: =COUNTIF('TABLE DES MATCHS'!$H$3:$J$11,EQUIPES!A51) -> 0 | O24: =EQUIPES!A51 -> EQUIPE TEST10 | Q24: =COUNTIF('TABLE DES MATCHS'!$O$3:$Q$11,EQUIPES!A51) -> 2 | V24: =EQUIPES!A51 -> EQUIPE TEST10 | X24: =COUNTIF('TABLE DES MATCHS'!$V$3:$X$11,EQUIPES!A51) -> 3 | AC24: =EQUIPES!A51 -> EQUIPE TEST10 | AE24: =COUNTIF('TABLE DES MATCHS'!$AC$3:$AE$11,EQUIPES!A51) -> 2
