Workbook
Name Anneerecap: 'FP Recap'!$F$2:$F$459
Name CapitalRecap: 'FP Recap'!$B$2:$B$459
Name DateOctroiEmprunet: 'FP Recap'!$A$2:$A$459
Name FraisFinancierRecap: 'FP Recap'!$E$2:$E$459
Name IntérêtsRecap: 'FP Recap'!$C$2:$C$459
Name LIntérêtOctroi: 'FP Recap'!$K$2:$K$459
Name LRbstTréso: 'FP Recap'!$J$2:$J$459
Name LTrésoOctroi: 'FP Recap'!$I$2:$I$459
Name Moisrecap: 'FP Recap'!$G$2:$G$200
Name MontantOctroi: 'FP Recap'!$N$11:$N$49
Name nbl_1: durée_1-(ROW()-ROW(année1_1))
Name Numéro_Paiement: ROW()-Ligne_EnTête
Name OctroiRecapEmprunt: 'FP Recap'!$H$2:$H$459
Name Paiement_Mensuel: -PMT(Taux_Intérêt/12,Nombre_De_Paiements,Montant_Du_Prêt)
Name Prêt_Non_Payé: IF('FP Recap'!Numéro_Paiement<=Nombre_De_Paiements,1,0)
Name Solde_Départ: -FV(Taux_Intérêt/12,'FP Recap'!Numéro_Paiement-1,-'FP Recap'!Paiement_Mensuel,Montant_Du_Prêt)
Name Solde_Final: -FV(Taux_Intérêt/12,'FP Recap'!Numéro_Paiement,-'FP Recap'!Paiement_Mensuel,Montant_Du_Prêt)
Name Valeurs_Entrées: IF(Montant_Du_Prêt*Taux_Intérêt*Durée_Prêt*Début_Prêt>0,1,0)

Sheet BUDGET 2023
A1: CHARGES | B1: Montant | C1: PRODUITS | D1: Montant
A2: Achats matières premières | B2: =+#REF! -> #REF! | C2: Ventes de marchandises | D2: =+#REF! -> #REF!
A3: Fournitures | B3: =#REF!+#REF!+#REF!+#REF!+#REF!+#REF!+#REF!+1000 -> #REF! | C3: Prestation de services | D3: =+#REF!+#REF!+#REF! -> #REF!
A4: Autres achats | C4: Autres recettes propres | D4: 0
A5: Total des comptes 60 - Achats | B5: =SUM(B2:B4) -> #REF! | C5: Total des comptes 70 - Vente de produit et prestations | D5: =SUM(D2:D4) -> #REF!
A6: Location | B6: =+#REF!+710+3000 -> #REF! | C6: Total des comptes 73 - Dotations et produits de tarification | D6: 0
A7: Entretien et réparation | B7: =#REF!+4000 -> #REF! | C7: Europe | D7: 0
A8: Assurance | B8: =#REF!+500 -> #REF! | C8: Etat | D8: 15000
A9: Documentation | B9: 0 | C9: Régions | D9: 10000
A10: Total des comptes 61 - Services extérieurs | B10: =SUM(B6:B9) -> #REF! | C10: Conseil départemental de la Haute-Garonne | D10: 15000
A11: Rémunérations intermédiaires et honoraires | B11: =#REF! -> #REF! | C11: Autres départements | D11: 0
A12: Publicité, publication | B12: =#REF!+3000 -> #REF! | C12: Communes, communautés de communes | D12: 0
A13: Déplacements, missions | B13: =#REF! -> #REF! | C13: ASP (emplois aidés) | D13: 0
A14: Services bancaires | B14: =#REF!+500 -> #REF! | C14: Organismes sociaux | D14: 0
A15: Autres services | B15: =#REF!+#REF!+1500 -> #REF! | C15: Autres subventions publiques | D15: 0
A16: Total des comptes 62 - Autres services extérieurs | B16: =SUM(B11:B15) -> #REF!
A17: Impôts et taxes sur rémunération | B17: =+#REF!+500 -> #REF! | C17: Total des comptes 74 - Subventions d'exploitation | D17: =SUM(D7:D16) -> 40000
A18: Autres impôts et taxes | B18: 0 | C18: Cotisation | D18: =60*30 -> 1800
A19: Total des comptes 63- Impôts et taxes | B19: =SUM(B17:B18) -> #REF! | C19: Dons | D19: 0
A20: Rémunération du personnel | B20: =+#REF!+500+5000 -> #REF! | C20: Mécénat | D20: 0
A21: Charges sociales | B21: =+#REF!+500+2500 -> #REF! | C21: Autres aides privées | D21: 0
A22: Autres charges de personnel | B22: =+#REF!+1500 -> #REF! | C22: Autres produits | D22: 0
A23: Total des comptes 64 - Charges de personnel | B23: =SUM(B20:B22) -> #REF! | D23: 0
A24: Total des comptes 65 - Autres charges de gestion courante | B24: =+#REF!+500 -> #REF! | C24: Total des comptes 75 - Autres produits de gestion courante | D24: =SUM(D18:D23) -> 1800
A25: Total des comptes 66 - Charges financières | B25: =+#REF!+500 -> #REF! | C25: Total des comptes 76 - Produits financiers | D25: 0
A26: Total des comptes 67 - Charges Exceptionnelles | C26: Total des comptes 77 - Produits exceptionnels | D26: 0
A27: Total des comptes 68 - Dotation aux amort. et prov. et engagements à réaliser sur ressources affectées | B27: =+#REF!+1000 -> #REF! | C27: Total des comptes 78 - Reprises sur amort. et prov. et report des ressources non utilisées des exercices antérieures | D27: 0
A28: Total des comptes 69 - Impôt sur les bénéfices (IS) | B28: 0 | C28: Total des comptes 79 - Transfert de charges | D28: 0
A29: TOTAL DES CHARGES | B29: =B5+B10+B16+B19+B23+B24+B25+B26+B27+B28 -> #REF! | C29: TOTAL DES PRODUITS | D29: =D5+D6+D17+D24+D25+D26+D27+D28 -> #REF!

Sheet I-Saisie
B1: Postes de charges
B3: =O3 -> Achats | C3: Achats Matières Premières | E3: =O4 -> Services Extérieurs | F3: Sous-Traitances | H3: =O5 -> Autres Services Extérieurs | I3: Honoraires | K3: =IF(C3<>"",C3,OFFSET(C3,COUNTIF(C3:C18,""),,)) -> Achats Matières Premières | O3: Achats
C4: Variation de stock | F4: Loyers | I4: Transport | K4: =IF(C4<>"",C4,OFFSET(C4,COUNTIF(C4:C19,""),,)) -> Variation de stock | O4: Services Extérieurs
C5: Achats Prestations de Services | F5: Autres Locations et crédit-bail | I5: Communication | K5: =IF(C5<>"",C5,OFFSET(C5,COUNTIF(C5:C20,""),,)) -> Achats Prestations de Services | O5: Autres Services Extérieurs
C6: Fournitures de bureau/Petit Matériel | F6: Entretien et réparations | I6: Missions, Déplacements, Réceptions | K6: =IF(C6<>"",C6,OFFSET(C6,COUNTIF(C6:C21,""),,)) -> Fournitures de bureau/Petit Matériel | O6: Impôts et Taxes
C7: Fournitures non stockables (eau, énergie...) | F7: Assurances | I7: Frais Postaux et de télécommunications | K7: =IF(C7<>"",C7,OFFSET(C7,COUNTIF(C7:C22,""),,)) -> Fournitures non stockables (eau, énergie...) | O7: Charges de personnel
C8: Autres Achats | F8: Etudes et recherches | I8: Frais bancaires | K8: =IF(C8<>"",C8,OFFSET(C8,COUNTIF(C8:C23,""),,)) -> Autres Achats | O8: Autes Postes de charges
F9: Documentation | I9: Cotisations Diverses | K9: =IF(C9<>"",C9,OFFSET(C9,COUNTIF(C9:C24,""),,)) -> Formation Professionnelle
K10: =IF(C10<>"",C10,OFFSET(C10,COUNTIF(C10:C25,""),,)) -> Taxe d'apprentissage
K11: =IF(C11<>"",C11,OFFSET(C11,COUNTIF(C11:C26,""),,)) -> CFE
K12: =IF(C12<>"",C12,OFFSET(C12,COUNTIF(C12:C27,""),,)) -> Autres Impôts et taxes
K13: =IF(C13<>"",C13,OFFSET(C13,COUNTIF(C13:C28,""),,)) -> 0
K14: =IF(C14<>"",C14,OFFSET(C14,COUNTIF(C14:C29,""),,)) -> 0
K15: =IF(C15<>"",C15,OFFSET(C15,COUNTIF(C15:C30,""),,)) -> 0
K16: =IF(C16<>"",C16,OFFSET(C16,COUNTIF(C16:C31,""),,)) -> 0 | P16: Voir IndexEquiv pour Décaler
K17: =IF(C17<>"",C17,OFFSET(C17,COUNTIF(C17:C32,""),,)) -> 0 | P17: Séparer les Rubriques et rajouter colonne
K18: =IF(C18<>"",C18,OFFSET(C18,COUNTIF(C18:C33,""),,)) -> 0 | P18: Faire la même chose pour les produits
B19: =O6 -> Impôts et Taxes | C19: Taxe sur les Salaires | E19: =O7 -> Charges de personnel | F19: Salaires Bruts | H19: =O8 -> Autes Postes de charges | I19: Autres charges de gestion courante | K19: =IF(C19<>"",C19,OFFSET(C19,COUNTIF(C19:C34,""),,)) -> Taxe sur les Salaires | P19: Rajouter lignes
C20: Formation Professionnelle | F20: Primes et Avantages | I20: Charges financières | K20: =IF(C20<>"",C20,OFFSET(C20,COUNTIF(C20:C35,""),,)) -> Formation Professionnelle | P20: Rajouter menu déroulant
C21: Taxe d'apprentissage | F21: Charges de Sécurité Sociale et Prévoyance | I21: Charges exceptionnelles | K21: =IF(C21<>"",C21,OFFSET(C21,COUNTIF(C21:C36,""),,)) -> Taxe d'apprentissage | P21: Reprendre somme.si.ens sur l'ensemble
C22: CFE | F22: Autres Charges de Personnel | I22: Dotations aux amortissements | K22: =IF(C22<>"",C22,OFFSET(C22,COUNTIF(C22:C37,""),,)) -> CFE
C23: Autres Impôts et taxes | I23: Impôts sur les sociétés | K23: =IF(C23<>"",C23,OFFSET(C23,COUNTIF(C23:C38,""),,)) -> Autres Impôts et taxes
K24: =IF(C24<>"",C24,OFFSET(C24,COUNTIF(C24:C39,""),,)) -> 0
K25: =IF(C25<>"",C25,OFFSET(C25,COUNTIF(C25:C40,""),,)) -> 0
K26: =IF(C26<>"",C26,OFFSET(C26,COUNTIF(C26:C41,""),,)) -> 0
K27: =IF(C27<>"",C27,OFFSET(C27,COUNTIF(C27:C42,""),,)) -> 0
K28: =IF(C28<>"",C28,OFFSET(C28,COUNTIF(C28:C43,""),,)) -> 0
B84: Postes de Produits
B86: Achats | C86: Voir IndexEquiv pour Décaler
B87: Achats Matières Premières
B88: Variation de stock
B89: Achats Prestations de Services
B90: Fournitures de bureau/Petit Matériel
B91: Fournitures non stockables (eau, énergie...)
B92: Autres Achats
B95: Services Extérieurs
B96: Sous-Traitances
B97: Loyers
B98: Autres Locations et crédit-bail
B99: Entretien et réparations
...

Sheet Prêt Récap
A1: Date | B1: Capital rbé | C1: Intérêts | D1: Assurance | E1: Total Frais Financier | F1: Année | G1: Mois | H1: Octroi | I1: Compte Octroi | J1: Compte Rbst | K1: Compte Frais Financier
A2: =MinP1 -> #NAME? | B2: =SUMIFS(LCapitalPrêt3,LMoisPrêt3,$A2)+SUMIFS(LCapitalPrêt1,LMoisPrêt1,'Prêt Récap'!$A2)+SUMIFS(LCapitalPrêt2,LMoisPrêt2,'Prêt Récap'!$A2) -> #NAME? | C2: =SUMIFS(LIntérêtsprêt3,LMoisPrêt3,$A2)+SUMIFS(LIntérêtsPrêt1,LMoisPrêt1,'Prêt Récap'!$A2)+SUMIFS(LIntérêtsPrêt2,LMoisPrêt2,'Prêt Récap'!$A2) -> #NAME? | D2: =SUMIFS(LAssurancePrêt3,LMoisPrêt3,$A2)+SUMIFS(LAssurancePrêt1,LMoisPrêt1,$A2)+SUMIFS(LAssurancePrêt2,LMoisPrêt2,$A2) -> #NAME? | E2: =C2+D2 -> #NAME? | F2: =YEAR(A2:A200) -> #NAME? | G2: =MONTH(A2) -> #NAME? | H2: =IF(AND(MONTH(DATEVALUE([0]!MoisPrêt1&"1"))=G2,[0]!AnneePrêt1=F2),[0]!MontantPrêt1,0)+IF(AND(MONTH(DATEVALUE([0]!MoisPrêt2&"1"))=G2,[0]!AnneePrêt2=F2),[0]!MontantPrêt2,0)+IF(AND(MONTH(DATEVALUE(MoisPrêt3&"1"))=G2,AnnéePrêt3=F2),MontantPrêt3,0) -> #NAME? | I2: Octroi Emprunt | J2: Capital emprunt remboursé | K2: Intérêts emprunt(s) | L2: Total intérêts et assurance | M2: =#REF!+#REF!+#REF! -> #REF! | N2: verif | O2: =SUM(C2:D450)-M2 -> #NAME?
A3: =DATE(YEAR(A2),MONTH(A2)+1,1) -> #NAME? | B3: =SUMIFS(LCapitalPrêt3,LMoisPrêt3,A3)+SUMIFS(LCapitalPrêt1,LMoisPrêt1,'Prêt Récap'!A3)+SUMIFS(LCapitalPrêt2,LMoisPrêt2,'Prêt Récap'!A3) -> #NAME? | C3: =SUMIFS(LIntérêtsprêt3,LMoisPrêt3,$A3)+SUMIFS(LIntérêtsPrêt1,LMoisPrêt1,'Prêt Récap'!$A3)+SUMIFS(LIntérêtsPrêt2,LMoisPrêt2,'Prêt Récap'!$A3) -> #NAME? | D3: =SUMIFS(LAssurancePrêt3,LMoisPrêt3,$A3)+SUMIFS(LAssurancePrêt1,LMoisPrêt1,$A3)+SUMIFS(LAssurancePrêt2,LMoisPrêt2,$A3) -> #NAME? | E3: =C3+D3 -> #NAME? | F3: =YEAR(A3:A201) -> #NAME? | G3: =MONTH(A3) -> #NAME? | H3: =IF(AND(MONTH(DATEVALUE([0]!MoisPrêt1&"1"))=G3,[0]!AnneePrêt1=F3),[0]!MontantPrêt1,0)+IF(AND(MONTH(DATEVALUE([0]!MoisPrêt2&"1"))=G3,[0]!AnneePrêt2=F3),[0]!MontantPrêt2,0)+IF(AND(MONTH(DATEVALUE(MoisPrêt3&"1"))=G3,AnnéePrêt3=F3),MontantPrêt3,0) -> #NAME? | I3: Octroi Emprunt | J3: Capital emprunt remboursé | K3: Intérêts emprunt(s) | L3: Total capital rbsé | M3: =MontantPrêt3+[0]!MontantPrêt2+[0]!MontantPrêt1 -> #NAME? | N3: verif | O3: =M3-SUM(B2:B450) -> #NAME?
A4: =DATE(YEAR(A3),MONTH(A3)+1,1) -> #NAME? | B4: =SUMIFS(LCapitalPrêt3,LMoisPrêt3,A4)+SUMIFS(LCapitalPrêt1,LMoisPrêt1,'Prêt Récap'!A4)+SUMIFS(LCapitalPrêt2,LMoisPrêt2,'Prêt Récap'!A4) -> #NAME? | C4: =SUMIFS(LIntérêtsprêt3,LMoisPrêt3,$A4)+SUMIFS(LIntérêtsPrêt1,LMoisPrêt1,'Prêt Récap'!$A4)+SUMIFS(LIntérêtsPrêt2,LMoisPrêt2,'Prêt Récap'!$A4) -> #NAME? | D4: =SUMIFS(LAssurancePrêt3,LMoisPrêt3,$A4)+SUMIFS(LAssurancePrêt1,LMoisPrêt1,$A4)+SUMIFS(LAssurancePrêt2,LMoisPrêt2,$A4) -> #NAME? | E4: =C4+D4 -> #NAME? | F4: =YEAR(A4:A202) -> #NAME? | G4: =MONTH(A4) -> #NAME? | H4: =IF(AND(MONTH(DATEVALUE([0]!MoisPrêt1&"1"))=G4,[0]!AnneePrêt1=F4),[0]!MontantPrêt1,0)+IF(AND(MONTH(DATEVALUE([0]!MoisPrêt2&"1"))=G4,[0]!AnneePrêt2=F4),[0]!MontantPrêt2,0)+IF(AND(MONTH(DATEVALUE(MoisPrêt3&"1"))=G4,AnnéePrêt3=F4),MontantPrêt3,0) -> #NAME? | I4: Octroi Emprunt | J4: Capital emprunt remboursé | K4: Intérêts emprunt(s) | L4: Total Octroi | M4: =[0]!MontantPrêt1+[0]!MontantPrêt2+MontantPrêt3 -> #NAME? | N4: verif | O4: =SUM(H2:H459)-M4 -> #NAME?
A5: =DATE(YEAR(A4),MONTH(A4)+1,1) -> #NAME? | B5: =SUMIFS(LCapitalPrêt3,LMoisPrêt3,A5)+SUMIFS(LCapitalPrêt1,LMoisPrêt1,'Prêt Récap'!A5)+SUMIFS(LCapitalPrêt2,LMoisPrêt2,'Prêt Récap'!A5) -> #NAME? | C5: =SUMIFS(LIntérêtsprêt3,LMoisPrêt3,$A5)+SUMIFS(LIntérêtsPrêt1,LMoisPrêt1,'Prêt Récap'!$A5)+SUMIFS(LIntérêtsPrêt2,LMoisPrêt2,'Prêt Récap'!$A5) -> #NAME? | D5: =SUMIFS(LAssurancePrêt3,LMoisPrêt3,$A5)+SUMIFS(LAssurancePrêt1,LMoisPrêt1,$A5)+SUMIFS(LAssurancePrêt2,LMoisPrêt2,$A5) -> #NAME? | E5: =C5+D5 -> #NAME? | F5: =YEAR(A5:A203) -> #NAME? | G5: =MONTH(A5) -> #NAME? | H5: =IF(AND(MONTH(DATEVALUE([0]!MoisPrêt1&"1"))=G5,[0]!AnneePrêt1=F5),[0]!MontantPrêt1,0)+IF(AND(MONTH(DATEVALUE([0]!MoisPrêt2&"1"))=G5,[0]!AnneePrêt2=F5),[0]!MontantPrêt2,0)+IF(AND(MONTH(DATEVALUE(MoisPrêt3&"1"))=G5,AnnéePrêt3=F5),MontantPrêt3,0) -> #NAME? | I5: Octroi Emprunt | J5: Capital emprunt remboursé | K5: Intérêts emprunt(s)
A6: =DATE(YEAR(A5),MONTH(A5)+1,1) -> #NAME? | B6: =SUMIFS(LCapitalPrêt3,LMoisPrêt3,A6)+SUMIFS(LCapitalPrêt1,LMoisPrêt1,'Prêt Récap'!A6)+SUMIFS(LCapitalPrêt2,LMoisPrêt2,'Prêt Récap'!A6) -> #NAME? | C6: =SUMIFS(LIntérêtsprêt3,LMoisPrêt3,$A6)+SUMIFS(LIntérêtsPrêt1,LMoisPrêt1,'Prêt Récap'!$A6)+SUMIFS(LIntérêtsPrêt2,LMoisPrêt2,'Prêt Récap'!$A6) -> #NAME? | D6: =SUMIFS(LAssurancePrêt3,LMoisPrêt3,$A6)+SUMIFS(LAssurancePrêt1,LMoisPrêt1,$A6)+SUMIFS(LAssurancePrêt2,LMoisPrêt2,$A6) -> #NAME? | E6: =C6+D6 -> #NAME? | F6: =YEAR(A6:A204) -> #NAME? | G6: =MONTH(A6) -> #NAME? | H6: =IF(AND(MONTH(DATEVALUE([0]!MoisPrêt1&"1"))=G6,[0]!AnneePrêt1=F6),[0]!MontantPrêt1,0)+IF(AND(MONTH(DATEVALUE([0]!MoisPrêt2&"1"))=G6,[0]!AnneePrêt2=F6),[0]!MontantPrêt2,0)+IF(AND(MONTH(DATEVALUE(MoisPrêt3&"1"))=G6,AnnéePrêt3=F6),MontantPrêt3,0) -> #NAME? | I6: Octroi Emprunt | J6: Capital emprunt remboursé | K6: Intérêts emprunt(s)
A7: =DATE(YEAR(A6),MONTH(A6)+1,1) -> #NAME? | B7: =SUMIFS(LCapitalPrêt3,LMoisPrêt3,A7)+SUMIFS(LCapitalPrêt1,LMoisPrêt1,'Prêt Récap'!A7)+SUMIFS(LCapitalPrêt2,LMoisPrêt2,'Prêt Récap'!A7) -> #NAME? | C7: =SUMIFS(LIntérêtsprêt3,LMoisPrêt3,$A7)+SUMIFS(LIntérêtsPrêt1,LMoisPrêt1,'Prêt Récap'!$A7)+SUMIFS(LIntérêtsPrêt2,LMoisPrêt2,'Prêt Récap'!$A7) -> #NAME? | D7: =SUMIFS(LAssurancePrêt3,LMoisPrêt3,$A7)+SUMIFS(LAssurancePrêt1,LMoisPrêt1,$A7)+SUMIFS(LAssurancePrêt2,LMoisPrêt2,$A7) -> #NAME? | E7: =C7+D7 -> #NAME? | F7: =YEAR(A7:A205) -> #NAME? | G7: =MONTH(A7) -> #NAME? | H7: =IF(AND(MONTH(DATEVALUE([0]!MoisPrêt1&"1"))=G7,[0]!AnneePrêt1=F7),[0]!MontantPrêt1,0)+IF(AND(MONTH(DATEVALUE([0]!MoisPrêt2&"1"))=G7,[0]!AnneePrêt2=F7),[0]!MontantPrêt2,0)+IF(AND(MONTH(DATEVALUE(MoisPrêt3&"1"))=G7,AnnéePrêt3=F7),MontantPrêt3,0) -> #NAME? | I7: Octroi Emprunt | J7: Capital emprunt remboursé | K7: Intérêts emprunt(s)
A8: =DATE(YEAR(A7),MONTH(A7)+1,1) -> #NAME? | B8: =SUMIFS(LCapitalPrêt3,LMoisPrêt3,A8)+SUMIFS(LCapitalPrêt1,LMoisPrêt1,'Prêt Récap'!A8)+SUMIFS(LCapitalPrêt2,LMoisPrêt2,'Prêt Récap'!A8) -> #NAME? | C8: =SUMIFS(LIntérêtsprêt3,LMoisPrêt3,$A8)+SUMIFS(LIntérêtsPrêt1,LMoisPrêt1,'Prêt Récap'!$A8)+SUMIFS(LIntérêtsPrêt2,LMoisPrêt2,'Prêt Récap'!$A8) -> #NAME? | D8: =SUMIFS(LAssurancePrêt3,LMoisPrêt3,$A8)+SUMIFS(LAssurancePrêt1,LMoisPrêt1,$A8)+SUMIFS(LAssurancePrêt2,LMoisPrêt2,$A8) -> #NAME? | E8: =C8+D8 -> #NAME? | F8: =YEAR(A8:A206) -> #NAME? | G8: =MONTH(A8) -> #NAME? | H8: =IF(AND(MONTH(DATEVALUE([0]!MoisPrêt1&"1"))=G8,[0]!AnneePrêt1=F8),[0]!MontantPrêt1,0)+IF(AND(MONTH(DATEVALUE([0]!MoisPrêt2&"1"))=G8,[0]!AnneePrêt2=F8),[0]!MontantPrêt2,0)+IF(AND(MONTH(DATEVALUE(MoisPrêt3&"1"))=G8,AnnéePrêt3=F8),MontantPrêt3,0) -> #NAME? | I8: Octroi Emprunt | J8: Capital emprunt remboursé | K8: Intérêts emprunt(s)
A9: =DATE(YEAR(A8),MONTH(A8)+1,1) -> #NAME? | B9: =SUMIFS(LCapitalPrêt3,LMoisPrêt3,A9)+SUMIFS(LCapitalPrêt1,LMoisPrêt1,'Prêt Récap'!A9)+SUMIFS(LCapitalPrêt2,LMoisPrêt2,'Prêt Récap'!A9) -> #NAME? | C9: =SUMIFS(LIntérêtsprêt3,LMoisPrêt3,$A9)+SUMIFS(LIntérêtsPrêt1,LMoisPrêt1,'Prêt Récap'!$A9)+SUMIFS(LIntérêtsPrêt2,LMoisPrêt2,'Prêt Récap'!$A9) -> #NAME? | D9: =SUMIFS(LAssurancePrêt3,LMoisPrêt3,$A9)+SUMIFS(LAssurancePrêt1,LMoisPrêt1,$A9)+SUMIFS(LAssurancePrêt2,LMoisPrêt2,$A9) -> #NAME? | E9: =C9+D9 -> #NAME? | F9: =YEAR(A9:A207) -> #NAME? | G9: =MONTH(A9) -> #NAME? | H9: =IF(AND(MONTH(DATEVALUE([0]!MoisPrêt1&"1"))=G9,[0]!AnneePrêt1=F9),[0]!MontantPrêt1,0)+IF(AND(MONTH(DATEVALUE([0]!MoisPrêt2&"1"))=G9,[0]!AnneePrêt2=F9),[0]!MontantPrêt2,0)+IF(AND(MONTH(DATEVALUE(MoisPrêt3&"1"))=G9,AnnéePrêt3=F9),MontantPrêt3,0) -> #NAME? | I9: Octroi Emprunt | J9: Capital emprunt remboursé | K9: Intérêts emprunt(s)
A10: =DATE(YEAR(A9),MONTH(A9)+1,1) -> #NAME? | B10: =SUMIFS(LCapitalPrêt3,LMoisPrêt3,A10)+SUMIFS(LCapitalPrêt1,LMoisPrêt1,'Prêt Récap'!A10)+SUMIFS(LCapitalPrêt2,LMoisPrêt2,'Prêt Récap'!A10) -> #NAME? | C10: =SUMIFS(LIntérêtsprêt3,LMoisPrêt3,$A10)+SUMIFS(LIntérêtsPrêt1,LMoisPrêt1,'Prêt Récap'!$A10)+SUMIFS(LIntérêtsPrêt2,LMoisPrêt2,'Prêt Récap'!$A10) -> #NAME? | D10: =SUMIFS(LAssurancePrêt3,LMoisPrêt3,$A10)+SUMIFS(LAssurancePrêt1,LMoisPrêt1,$A10)+SUMIFS(LAssurancePrêt2,LMoisPrêt2,$A10) -> #NAME? | E10: =C10+D10 -> #NAME? | F10: =YEAR(A10:A208) -> #NAME? | G10: =MONTH(A10) -> #NAME? | H10: =IF(AND(MONTH(DATEVALUE([0]!MoisPrêt1&"1"))=G10,[0]!AnneePrêt1=F10),[0]!MontantPrêt1,0)+IF(AND(MONTH(DATEVALUE([0]!MoisPrêt2&"1"))=G10,[0]!AnneePrêt2=F10),[0]!MontantPrêt2,0)+IF(AND(MONTH(DATEVALUE(MoisPrêt3&"1"))=G10,AnnéePrêt3=F10),MontantPrêt3,0) -> #NAME? | I10: Octroi Emprunt | J10: Capital emprunt remboursé | K10: Intérêts emprunt(s)
A11: =DATE(YEAR(A10),MONTH(A10)+1,1) -> #NAME? | B11: =SUMIFS(LCapitalPrêt3,LMoisPrêt3,A11)+SUMIFS(LCapitalPrêt1,LMoisPrêt1,'Prêt Récap'!A11)+SUMIFS(LCapitalPrêt2,LMoisPrêt2,'Prêt Récap'!A11) -> #NAME? | C11: =SUMIFS(LIntérêtsprêt3,LMoisPrêt3,$A11)+SUMIFS(LIntérêtsPrêt1,LMoisPrêt1,'Prêt Récap'!$A11)+SUMIFS(LIntérêtsPrêt2,LMoisPrêt2,'Prêt Récap'!$A11) -> #NAME? | D11: =SUMIFS(LAssurancePrêt3,LMoisPrêt3,$A11)+SUMIFS(LAssurancePrêt1,LMoisPrêt1,$A11)+SUMIFS(LAssurancePrêt2,LMoisPrêt2,$A11) -> #NAME? | E11: =C11+D11 -> #NAME? | F11: =YEAR(A11:A209) -> #NAME? | G11: =MONTH(A11) -> #NAME? | H11: =IF(AND(MONTH(DATEVALUE([0]!MoisPrêt1&"1"))=G11,[0]!AnneePrêt1=F11),[0]!MontantPrêt1,0)+IF(AND(MONTH(DATEVALUE([0]!MoisPrêt2&"1"))=G11,[0]!AnneePrêt2=F11),[0]!MontantPrêt2,0)+IF(AND(MONTH(DATEVALUE(MoisPrêt3&"1"))=G11,AnnéePrêt3=F11),MontantPrêt3,0) -> #NAME? | I11: Octroi Emprunt | J11: Capital emprunt remboursé | K11: Intérêts emprunt(s)
A12: =DATE(YEAR(A11),MONTH(A11)+1,1) -> #NAME? | B12: =SUMIFS(LCapitalPrêt3,LMoisPrêt3,A12)+SUMIFS(LCapitalPrêt1,LMoisPrêt1,'Prêt Récap'!A12)+SUMIFS(LCapitalPrêt2,LMoisPrêt2,'Prêt Récap'!A12) -> #NAME? | C12: =SUMIFS(LIntérêtsprêt3,LMoisPrêt3,$A12)+SUMIFS(LIntérêtsPrêt1,LMoisPrêt1,'Prêt Récap'!$A12)+SUMIFS(LIntérêtsPrêt2,LMoisPrêt2,'Prêt Récap'!$A12) -> #NAME? | D12: =SUMIFS(LAssurancePrêt3,LMoisPrêt3,$A12)+SUMIFS(LAssurancePrêt1,LMoisPrêt1,$A12)+SUMIFS(LAssurancePrêt2,LMoisPrêt2,$A12) -> #NAME? | E12: =C12+D12 -> #NAME? | F12: =YEAR(A12:A210) -> #NAME? | G12: =MONTH(A12) -> #NAME? | H12: =IF(AND(MONTH(DATEVALUE([0]!MoisPrêt1&"1"))=G12,[0]!AnneePrêt1=F12),[0]!MontantPrêt1,0)+IF(AND(MONTH(DATEVALUE([0]!MoisPrêt2&"1"))=G12,[0]!AnneePrêt2=F12),[0]!MontantPrêt2,0)+IF(AND(MONTH(DATEVALUE(MoisPrêt3&"1"))=G12,AnnéePrêt3=F12),MontantPrêt3,0) -> #NAME? | I12: Octroi Emprunt | J12: Capital emprunt remboursé | K12: Intérêts emprunt(s)
A13: =DATE(YEAR(A12),MONTH(A12)+1,1) -> #NAME? | B13: =SUMIFS(LCapitalPrêt3,LMoisPrêt3,A13)+SUMIFS(LCapitalPrêt1,LMoisPrêt1,'Prêt Récap'!A13)+SUMIFS(LCapitalPrêt2,LMoisPrêt2,'Prêt Récap'!A13) -> #NAME? | C13: =SUMIFS(LIntérêtsprêt3,LMoisPrêt3,$A13)+SUMIFS(LIntérêtsPrêt1,LMoisPrêt1,'Prêt Récap'!$A13)+SUMIFS(LIntérêtsPrêt2,LMoisPrêt2,'Prêt Récap'!$A13) -> #NAME? | D13: =SUMIFS(LAssurancePrêt3,LMoisPrêt3,$A13)+SUMIFS(LAssurancePrêt1,LMoisPrêt1,$A13)+SUMIFS(LAssurancePrêt2,LMoisPrêt2,$A13) -> #NAME? | E13: =C13+D13 -> #NAME? | F13: =YEAR(A13:A211) -> #NAME? | G13: =MONTH(A13) -> #NAME? | H13: =IF(AND(MONTH(DATEVALUE([0]!MoisPrêt1&"1"))=G13,[0]!AnneePrêt1=F13),[0]!MontantPrêt1,0)+IF(AND(MONTH(DATEVALUE([0]!MoisPrêt2&"1"))=G13,[0]!AnneePrêt2=F13),[0]!MontantPrêt2,0)+IF(AND(MONTH(DATEVALUE(MoisPrêt3&"1"))=G13,AnnéePrêt3=F13),MontantPrêt3,0) -> #NAME? | I13: Octroi Emprunt | J13: Capital emprunt remboursé | K13: Intérêts emprunt(s)
A14: =DATE(YEAR(A13),MONTH(A13)+1,1) -> #NAME? | B14: =SUMIFS(LCapitalPrêt3,LMoisPrêt3,A14)+SUMIFS(LCapitalPrêt1,LMoisPrêt1,'Prêt Récap'!A14)+SUMIFS(LCapitalPrêt2,LMoisPrêt2,'Prêt Récap'!A14) -> #NAME? | C14: =SUMIFS(LIntérêtsprêt3,LMoisPrêt3,$A14)+SUMIFS(LIntérêtsPrêt1,LMoisPrêt1,'Prêt Récap'!$A14)+SUMIFS(LIntérêtsPrêt2,LMoisPrêt2,'Prêt Récap'!$A14) -> #NAME? | D14: =SUMIFS(LAssurancePrêt3,LMoisPrêt3,$A14)+SUMIFS(LAssurancePrêt1,LMoisPrêt1,$A14)+SUMIFS(LAssurancePrêt2,LMoisPrêt2,$A14) -> #NAME? | E14: =C14+D14 -> #NAME? | F14: =YEAR(A14:A212) -> #NAME? | G14: =MONTH(A14) -> #NAME? | H14: =IF(AND(MONTH(DATEVALUE([0]!MoisPrêt1&"1"))=G14,[0]!AnneePrêt1=F14),[0]!MontantPrêt1,0)+IF(AND(MONTH(DATEVALUE([0]!MoisPrêt2&"1"))=G14,[0]!AnneePrêt2=F14),[0]!MontantPrêt2,0)+IF(AND(MONTH(DATEVALUE(MoisPrêt3&"1"))=G14,AnnéePrêt3=F14),MontantPrêt3,0) -> #NAME? | I14: Octroi Emprunt | J14: Capital emprunt remboursé | K14: Intérêts emprunt(s)
A15: =DATE(YEAR(A14),MONTH(A14)+1,1) -> #NAME? | B15: =SUMIFS(LCapitalPrêt3,LMoisPrêt3,A15)+SUMIFS(LCapitalPrêt1,LMoisPrêt1,'Prêt Récap'!A15)+SUMIFS(LCapitalPrêt2,LMoisPrêt2,'Prêt Récap'!A15) -> #NAME? | C15: =SUMIFS(LIntérêtsprêt3,LMoisPrêt3,$A15)+SUMIFS(LIntérêtsPrêt1,LMoisPrêt1,'Prêt Récap'!$A15)+SUMIFS(LIntérêtsPrêt2,LMoisPrêt2,'Prêt Récap'!$A15) -> #NAME? | D15: =SUMIFS(LAssurancePrêt3,LMoisPrêt3,$A15)+SUMIFS(LAssurancePrêt1,LMoisPrêt1,$A15)+SUMIFS(LAssurancePrêt2,LMoisPrêt2,$A15) -> #NAME? | E15: =C15+D15 -> #NAME? | F15: =YEAR(A15:A213) -> #NAME? | G15: =MONTH(A15) -> #NAME? | H15: =IF(AND(MONTH(DATEVALUE([0]!MoisPrêt1&"1"))=G15,[0]!AnneePrêt1=F15),[0]!MontantPrêt1,0)+IF(AND(MONTH(DATEVALUE([0]!MoisPrêt2&"1"))=G15,[0]!AnneePrêt2=F15),[0]!MontantPrêt2,0)+IF(AND(MONTH(DATEVALUE(MoisPrêt3&"1"))=G15,AnnéePrêt3=F15),MontantPrêt3,0) -> #NAME? | I15: Octroi Emprunt | J15: Capital emprunt remboursé | K15: Intérêts emprunt(s)
A16: =DATE(YEAR(A15),MONTH(A15)+1,1) -> #NAME? | B16: =SUMIFS(LCapitalPrêt3,LMoisPrêt3,A16)+SUMIFS(LCapitalPrêt1,LMoisPrêt1,'Prêt Récap'!A16)+SUMIFS(LCapitalPrêt2,LMoisPrêt2,'Prêt Récap'!A16) -> #NAME? | C16: =SUMIFS(LIntérêtsprêt3,LMoisPrêt3,$A16)+SUMIFS(LIntérêtsPrêt1,LMoisPrêt1,'Prêt Récap'!$A16)+SUMIFS(LIntérêtsPrêt2,LMoisPrêt2,'Prêt Récap'!$A16) -> #NAME? | D16: =SUMIFS(LAssurancePrêt3,LMoisPrêt3,$A16)+SUMIFS(LAssurancePrêt1,LMoisPrêt1,$A16)+SUMIFS(LAssurancePrêt2,LMoisPrêt2,$A16) -> #NAME? | E16: =C16+D16 -> #NAME? | F16: =YEAR(A16:A214) -> #NAME? | G16: =MONTH(A16) -> #NAME? | H16: =IF(AND(MONTH(DATEVALUE([0]!MoisPrêt1&"1"))=G16,[0]!AnneePrêt1=F16),[0]!MontantPrêt1,0)+IF(AND(MONTH(DATEVALUE([0]!MoisPrêt2&"1"))=G16,[0]!AnneePrêt2=F16),[0]!MontantPrêt2,0)+IF(AND(MONTH(DATEVALUE(MoisPrêt3&"1"))=G16,AnnéePrêt3=F16),MontantPrêt3,0) -> #NAME? | I16: Octroi Emprunt | J16: Capital emprunt remboursé | K16: Intérêts emprunt(s)
... A459: =DATE(YEAR(A458),MONTH(A458)+1,1) -> #NAME? | B459: =SUMIFS(LCapitalPrêt3,LMoisPrêt3,A459)+SUMIFS(LCapitalPrêt1,LMoisPrêt1,'Prêt Récap'!A459)+SUMIFS(LCapitalPrêt2,LMoisPrêt2,'Prêt Récap'!A459) -> #NAME? | C459: =SUMIFS(LIntérêtsprêt3,LMoisPrêt3,$A459)+SUMIFS(LIntérêtsPrêt1,LMoisPrêt1,'Prêt Récap'!$A459)+SUMIFS(LIntérêtsPrêt2,LMoisPrêt2,'Prêt Récap'!$A459) -> #NAME? | D459: =SUMIFS(LAssurancePrêt3,LMoisPrêt3,$A459)+SUMIFS(LAssurancePrêt1,LMoisPrêt1,$A459)+SUMIFS(LAssurancePrêt2,LMoisPrêt2,$A459) -> #NAME? | E459: =C459+D459 -> #NAME? | F459: =YEAR(A459:A657) -> #NAME? | G459: =MONTH(A459) -> #NAME? | H459: =IF(AND(MONTH(DATEVALUE([0]!MoisPrêt1&"1"))=G459,[0]!AnneePrêt1=F459),[0]!MontantPrêt1,0)+IF(AND(MONTH(DATEVALUE([0]!MoisPrêt2&"1"))=G459,[0]!AnneePrêt2=F459),[0]!MontantPrêt2,0)+IF(AND(MONTH(DATEVALUE(MoisPrêt3&"1"))=G459,AnnéePrêt3=F459),MontantPrêt3,0) -> #NAME? | I459: Octroi Emprunt | J459: Capital emprunt remboursé | K459: Intérêts emprunt(s)

Sheet FP Recap
A1: Date | B1: Capital rbé | C1: Intérêts | D1: Assurance | E1: Total Frais Financier | F1: Année | G1: Mois | H1: Octroi | I1: Compte Octroi | J1: Compte Rbst | K1: Compte Frais Financier
A2: =MinP1 -> #NAME? | B2: =SUMIFS([0]!LCapitalFP3,[0]!LMoisFP3,$A2)++SUMIFS([0]!LCapitalfp2,[0]!LMoisfp2,$A2)+SUMIFS([0]!LCapitalFP4,[0]!LMoisFP4,$A2)++SUMIFS([0]!LCapitalFP1,[0]!LMoisFP1,$A2) -> #NAME? | C2: =+SUMIFS([0]!LIntérêtsfp2,[0]!LMoisfp2,$A2)+SUMIFS([0]!LIntérêtsFP3,[0]!LMoisFP3,$A2)+SUMIFS([0]!LIntérêtsFP4,[0]!LMoisFP4,$A2)+SUMIFS([0]!LIntérêtsFP1,[0]!LMoisFP1,$A2) -> #NAME? | D2: =+SUMIFS([0]!LAssuranceFp2,[0]!LMoisfp2,$A2)+SUMIFS([0]!LAssuranceFP3,[0]!LMoisFP3,$A2)+SUMIFS([0]!LAssuranceFP4,[0]!LMoisFP4,$A2)+SUMIFS([0]!LAssuranceFP1,[0]!LMoisFP1,$A2) -> #NAME? | E2: =C2+D2 -> #NAME? | F2: =YEAR(A2:A200) -> #NAME? | G2: =MONTH(A2) -> #NAME? | H2: =IF(AND(MONTH(DATEVALUE([0]!Moisfp2&"1"))=G2,[0]!Anneefp2=F2),[0]!Montantfp2,0)+IF(AND(MONTH(DATEVALUE([0]!MoisFP3&"1"))=G2,[0]!AnnéeFP3=F2),[0]!MontantFP3,0)+IF(AND(MONTH(DATEVALUE([0]!MoisFP4&"1"))=G2,[0]!AnnéeFP4=F2),[0]!MontantFP4,0)+IF(AND(MONTH(DATEVALUE([0]!MoisFP1&"1"))=G2,[0]!AnneeFP1=F2),[0]!MontantFP1,0) -> #NAME? | I2: Apports et Parts Sociales | J2: Remboursement Apports | K2: Intérêts Fonds Propres | L2: Total intérêts et assurance | M2: =#REF!+#REF!+#REF!+#REF! -> #REF! | N2: verif | O2: =SUM(C2:D450)-M2 -> #NAME?
A3: =DATE(YEAR(A2),MONTH(A2)+1,1) -> #NAME? | B3: =SUMIFS([0]!LCapitalFP3,[0]!LMoisFP3,$A3)++SUMIFS([0]!LCapitalfp2,[0]!LMoisfp2,$A3)+SUMIFS([0]!LCapitalFP4,[0]!LMoisFP4,$A3)++SUMIFS([0]!LCapitalFP1,[0]!LMoisFP1,$A3) -> #NAME? | C3: =+SUMIFS([0]!LIntérêtsfp2,[0]!LMoisfp2,$A3)+SUMIFS([0]!LIntérêtsFP3,[0]!LMoisFP3,$A3)+SUMIFS([0]!LIntérêtsFP4,[0]!LMoisFP4,$A3)+SUMIFS([0]!LIntérêtsFP1,[0]!LMoisFP1,$A3) -> #NAME? | D3: =+SUMIFS([0]!LAssuranceFp2,[0]!LMoisfp2,$A3)+SUMIFS([0]!LAssuranceFP3,[0]!LMoisFP3,$A3)+SUMIFS([0]!LAssuranceFP4,[0]!LMoisFP4,$A3)+SUMIFS([0]!LAssuranceFP1,[0]!LMoisFP1,$A3) -> #NAME? | E3: =C3+D3 -> #NAME? | F3: =YEAR(A3:A201) -> #NAME? | G3: =MONTH(A3) -> #NAME? | H3: =IF(AND(MONTH(DATEVALUE([0]!Moisfp2&"1"))=G3,[0]!Anneefp2=F3),[0]!Montantfp2,0)+IF(AND(MONTH(DATEVALUE([0]!MoisFP3&"1"))=G3,[0]!AnnéeFP3=F3),[0]!MontantFP3,0)+IF(AND(MONTH(DATEVALUE([0]!MoisFP4&"1"))=G3,[0]!AnnéeFP4=F3),[0]!MontantFP4,0)+IF(AND(MONTH(DATEVALUE([0]!MoisFP1&"1"))=G3,[0]!AnneeFP1=F3),[0]!MontantFP1,0) -> #NAME? | I3: Apports et Parts Sociales | J3: Remboursement Apports | K3: Intérêts Fonds Propres | L3: Total capital | M3: =[0]!MontantFP1+[0]!Montantfp2+[0]!MontantFP3+[0]!MontantFP4 -> #NAME? | N3: verif | O3: =M3-SUM(B2:B450) -> #NAME?
A4: =DATE(YEAR(A3),MONTH(A3)+1,1) -> #NAME? | B4: =SUMIFS([0]!LCapitalFP3,[0]!LMoisFP3,$A4)++SUMIFS([0]!LCapitalfp2,[0]!LMoisfp2,$A4)+SUMIFS([0]!LCapitalFP4,[0]!LMoisFP4,$A4)++SUMIFS([0]!LCapitalFP1,[0]!LMoisFP1,$A4) -> #NAME? | C4: =+SUMIFS([0]!LIntérêtsfp2,[0]!LMoisfp2,$A4)+SUMIFS([0]!LIntérêtsFP3,[0]!LMoisFP3,$A4)+SUMIFS([0]!LIntérêtsFP4,[0]!LMoisFP4,$A4)+SUMIFS([0]!LIntérêtsFP1,[0]!LMoisFP1,$A4) -> #NAME? | D4: =+SUMIFS([0]!LAssuranceFp2,[0]!LMoisfp2,$A4)+SUMIFS([0]!LAssuranceFP3,[0]!LMoisFP3,$A4)+SUMIFS([0]!LAssuranceFP4,[0]!LMoisFP4,$A4)+SUMIFS([0]!LAssuranceFP1,[0]!LMoisFP1,$A4) -> #NAME? | E4: =C4+D4 -> #NAME? | F4: =YEAR(A4:A202) -> #NAME? | G4: =MONTH(A4) -> #NAME? | H4: =IF(AND(MONTH(DATEVALUE([0]!Moisfp2&"1"))=G4,[0]!Anneefp2=F4),[0]!Montantfp2,0)+IF(AND(MONTH(DATEVALUE([0]!MoisFP3&"1"))=G4,[0]!AnnéeFP3=F4),[0]!MontantFP3,0)+IF(AND(MONTH(DATEVALUE([0]!MoisFP4&"1"))=G4,[0]!AnnéeFP4=F4),[0]!MontantFP4,0)+IF(AND(MONTH(DATEVALUE([0]!MoisFP1&"1"))=G4,[0]!AnneeFP1=F4),[0]!MontantFP1,0) -> #NAME? | I4: Apports et Parts Sociales | J4: Remboursement Apports | K4: Intérêts Fonds Propres | L4: Total Octroi | M4: =[0]!MontantFP1+[0]!Montantfp2+[0]!MontantFP3+[0]!MontantFP4 -> #NAME? | N4: verif | O4: =SUM(H2:H459)-M4 -> #NAME?
A5: =DATE(YEAR(A4),MONTH(A4)+1,1) -> #NAME? | B5: =SUMIFS([0]!LCapitalFP3,[0]!LMoisFP3,$A5)++SUMIFS([0]!LCapitalfp2,[0]!LMoisfp2,$A5)+SUMIFS([0]!LCapitalFP4,[0]!LMoisFP4,$A5)++SUMIFS([0]!LCapitalFP1,[0]!LMoisFP1,$A5) -> #NAME? | C5: =+SUMIFS([0]!LIntérêtsfp2,[0]!LMoisfp2,$A5)+SUMIFS([0]!LIntérêtsFP3,[0]!LMoisFP3,$A5)+SUMIFS([0]!LIntérêtsFP4,[0]!LMoisFP4,$A5)+SUMIFS([0]!LIntérêtsFP1,[0]!LMoisFP1,$A5) -> #NAME? | D5: =+SUMIFS([0]!LAssuranceFp2,[0]!LMoisfp2,$A5)+SUMIFS([0]!LAssuranceFP3,[0]!LMoisFP3,$A5)+SUMIFS([0]!LAssuranceFP4,[0]!LMoisFP4,$A5)+SUMIFS([0]!LAssuranceFP1,[0]!LMoisFP1,$A5) -> #NAME? | E5: =C5+D5 -> #NAME? | F5: =YEAR(A5:A203) -> #NAME? | G5: =MONTH(A5) -> #NAME? | H5: =IF(AND(MONTH(DATEVALUE([0]!Moisfp2&"1"))=G5,[0]!Anneefp2=F5),[0]!Montantfp2,0)+IF(AND(MONTH(DATEVALUE([0]!MoisFP3&"1"))=G5,[0]!AnnéeFP3=F5),[0]!MontantFP3,0)+IF(AND(MONTH(DATEVALUE([0]!MoisFP4&"1"))=G5,[0]!AnnéeFP4=F5),[0]!MontantFP4,0)+IF(AND(MONTH(DATEVALUE([0]!MoisFP1&"1"))=G5,[0]!AnneeFP1=F5),[0]!MontantFP1,0) -> #NAME? | I5: Apports et Parts Sociales | J5: Remboursement Apports | K5: Intérêts Fonds Propres
A6: =DATE(YEAR(A5),MONTH(A5)+1,1) -> #NAME? | B6: =SUMIFS([0]!LCapitalFP3,[0]!LMoisFP3,$A6)++SUMIFS([0]!LCapitalfp2,[0]!LMoisfp2,$A6)+SUMIFS([0]!LCapitalFP4,[0]!LMoisFP4,$A6)++SUMIFS([0]!LCapitalFP1,[0]!LMoisFP1,$A6) -> #NAME? | C6: =+SUMIFS([0]!LIntérêtsfp2,[0]!LMoisfp2,$A6)+SUMIFS([0]!LIntérêtsFP3,[0]!LMoisFP3,$A6)+SUMIFS([0]!LIntérêtsFP4,[0]!LMoisFP4,$A6)+SUMIFS([0]!LIntérêtsFP1,[0]!LMoisFP1,$A6) -> #NAME? | D6: =+SUMIFS([0]!LAssuranceFp2,[0]!LMoisfp2,$A6)+SUMIFS([0]!LAssuranceFP3,[0]!LMoisFP3,$A6)+SUMIFS([0]!LAssuranceFP4,[0]!LMoisFP4,$A6)+SUMIFS([0]!LAssuranceFP1,[0]!LMoisFP1,$A6) -> #NAME? | E6: =C6+D6 -> #NAME? | F6: =YEAR(A6:A204) -> #NAME? | G6: =MONTH(A6) -> #NAME? | H6: =IF(AND(MONTH(DATEVALUE([0]!Moisfp2&"1"))=G6,[0]!Anneefp2=F6),[0]!Montantfp2,0)+IF(AND(MONTH(DATEVALUE([0]!MoisFP3&"1"))=G6,[0]!AnnéeFP3=F6),[0]!MontantFP3,0)+IF(AND(MONTH(DATEVALUE([0]!MoisFP4&"1"))=G6,[0]!AnnéeFP4=F6),[0]!MontantFP4,0)+IF(AND(MONTH(DATEVALUE([0]!MoisFP1&"1"))=G6,[0]!AnneeFP1=F6),[0]!MontantFP1,0) -> #NAME? | I6: Apports et Parts Sociales | J6: Remboursement Apports | K6: Intérêts Fonds Propres
A7: =DATE(YEAR(A6),MONTH(A6)+1,1) -> #NAME? | B7: =SUMIFS([0]!LCapitalFP3,[0]!LMoisFP3,$A7)++SUMIFS([0]!LCapitalfp2,[0]!LMoisfp2,$A7)+SUMIFS([0]!LCapitalFP4,[0]!LMoisFP4,$A7)++SUMIFS([0]!LCapitalFP1,[0]!LMoisFP1,$A7) -> #NAME? | C7: =+SUMIFS([0]!LIntérêtsfp2,[0]!LMoisfp2,$A7)+SUMIFS([0]!LIntérêtsFP3,[0]!LMoisFP3,$A7)+SUMIFS([0]!LIntérêtsFP4,[0]!LMoisFP4,$A7)+SUMIFS([0]!LIntérêtsFP1,[0]!LMoisFP1,$A7) -> #NAME? | D7: =+SUMIFS([0]!LAssuranceFp2,[0]!LMoisfp2,$A7)+SUMIFS([0]!LAssuranceFP3,[0]!LMoisFP3,$A7)+SUMIFS([0]!LAssuranceFP4,[0]!LMoisFP4,$A7)+SUMIFS([0]!LAssuranceFP1,[0]!LMoisFP1,$A7) -> #NAME? | E7: =C7+D7 -> #NAME? | F7: =YEAR(A7:A205) -> #NAME? | G7: =MONTH(A7) -> #NAME? | H7: =IF(AND(MONTH(DATEVALUE([0]!Moisfp2&"1"))=G7,[0]!Anneefp2=F7),[0]!Montantfp2,0)+IF(AND(MONTH(DATEVALUE([0]!MoisFP3&"1"))=G7,[0]!AnnéeFP3=F7),[0]!MontantFP3,0)+IF(AND(MONTH(DATEVALUE([0]!MoisFP4&"1"))=G7,[0]!AnnéeFP4=F7),[0]!MontantFP4,0)+IF(AND(MONTH(DATEVALUE([0]!MoisFP1&"1"))=G7,[0]!AnneeFP1=F7),[0]!MontantFP1,0) -> #NAME? | I7: Apports et Parts Sociales | J7: Remboursement Apports | K7: Intérêts Fonds Propres
A8: =DATE(YEAR(A7),MONTH(A7)+1,1) -> #NAME? | B8: =SUMIFS([0]!LCapitalFP3,[0]!LMoisFP3,$A8)++SUMIFS([0]!LCapitalfp2,[0]!LMoisfp2,$A8)+SUMIFS([0]!LCapitalFP4,[0]!LMoisFP4,$A8)++SUMIFS([0]!LCapitalFP1,[0]!LMoisFP1,$A8) -> #NAME? | C8: =+SUMIFS([0]!LIntérêtsfp2,[0]!LMoisfp2,$A8)+SUMIFS([0]!LIntérêtsFP3,[0]!LMoisFP3,$A8)+SUMIFS([0]!LIntérêtsFP4,[0]!LMoisFP4,$A8)+SUMIFS([0]!LIntérêtsFP1,[0]!LMoisFP1,$A8) -> #NAME? | D8: =+SUMIFS([0]!LAssuranceFp2,[0]!LMoisfp2,$A8)+SUMIFS([0]!LAssuranceFP3,[0]!LMoisFP3,$A8)+SUMIFS([0]!LAssuranceFP4,[0]!LMoisFP4,$A8)+SUMIFS([0]!LAssuranceFP1,[0]!LMoisFP1,$A8) -> #NAME? | E8: =C8+D8 -> #NAME? | F8: =YEAR(A8:A206) -> #NAME? | G8: =MONTH(A8) -> #NAME? | H8: =IF(AND(MONTH(DATEVALUE([0]!Moisfp2&"1"))=G8,[0]!Anneefp2=F8),[0]!Montantfp2,0)+IF(AND(MONTH(DATEVALUE([0]!MoisFP3&"1"))=G8,[0]!AnnéeFP3=F8),[0]!MontantFP3,0)+IF(AND(MONTH(DATEVALUE([0]!MoisFP4&"1"))=G8,[0]!AnnéeFP4=F8),[0]!MontantFP4,0)+IF(AND(MONTH(DATEVALUE([0]!MoisFP1&"1"))=G8,[0]!AnneeFP1=F8),[0]!MontantFP1,0) -> #NAME? | I8: Apports et Parts Sociales | J8: Remboursement Apports | K8: Intérêts Fonds Propres
A9: =DATE(YEAR(A8),MONTH(A8)+1,1) -> #NAME? | B9: =SUMIFS([0]!LCapitalFP3,[0]!LMoisFP3,$A9)++SUMIFS([0]!LCapitalfp2,[0]!LMoisfp2,$A9)+SUMIFS([0]!LCapitalFP4,[0]!LMoisFP4,$A9)++SUMIFS([0]!LCapitalFP1,[0]!LMoisFP1,$A9) -> #NAME? | C9: =+SUMIFS([0]!LIntérêtsfp2,[0]!LMoisfp2,$A9)+SUMIFS([0]!LIntérêtsFP3,[0]!LMoisFP3,$A9)+SUMIFS([0]!LIntérêtsFP4,[0]!LMoisFP4,$A9)+SUMIFS([0]!LIntérêtsFP1,[0]!LMoisFP1,$A9) -> #NAME? | D9: =+SUMIFS([0]!LAssuranceFp2,[0]!LMoisfp2,$A9)+SUMIFS([0]!LAssuranceFP3,[0]!LMoisFP3,$A9)+SUMIFS([0]!LAssuranceFP4,[0]!LMoisFP4,$A9)+SUMIFS([0]!LAssuranceFP1,[0]!LMoisFP1,$A9) -> #NAME? | E9: =C9+D9 -> #NAME? | F9: =YEAR(A9:A207) -> #NAME? | G9: =MONTH(A9) -> #NAME? | H9: =IF(AND(MONTH(DATEVALUE([0]!Moisfp2&"1"))=G9,[0]!Anneefp2=F9),[0]!Montantfp2,0)+IF(AND(MONTH(DATEVALUE([0]!MoisFP3&"1"))=G9,[0]!AnnéeFP3=F9),[0]!MontantFP3,0)+IF(AND(MONTH(DATEVALUE([0]!MoisFP4&"1"))=G9,[0]!AnnéeFP4=F9),[0]!MontantFP4,0)+IF(AND(MONTH(DATEVALUE([0]!MoisFP1&"1"))=G9,[0]!AnneeFP1=F9),[0]!MontantFP1,0) -> #NAME? | I9: Apports et Parts Sociales | J9: Remboursement Apports | K9: Intérêts Fonds Propres
A10: =DATE(YEAR(A9),MONTH(A9)+1,1) -> #NAME? | B10: =SUMIFS([0]!LCapitalFP3,[0]!LMoisFP3,$A10)++SUMIFS([0]!LCapitalfp2,[0]!LMoisfp2,$A10)+SUMIFS([0]!LCapitalFP4,[0]!LMoisFP4,$A10)++SUMIFS([0]!LCapitalFP1,[0]!LMoisFP1,$A10) -> #NAME? | C10: =+SUMIFS([0]!LIntérêtsfp2,[0]!LMoisfp2,$A10)+SUMIFS([0]!LIntérêtsFP3,[0]!LMoisFP3,$A10)+SUMIFS([0]!LIntérêtsFP4,[0]!LMoisFP4,$A10)+SUMIFS([0]!LIntérêtsFP1,[0]!LMoisFP1,$A10) -> #NAME? | D10: =+SUMIFS([0]!LAssuranceFp2,[0]!LMoisfp2,$A10)+SUMIFS([0]!LAssuranceFP3,[0]!LMoisFP3,$A10)+SUMIFS([0]!LAssuranceFP4,[0]!LMoisFP4,$A10)+SUMIFS([0]!LAssuranceFP1,[0]!LMoisFP1,$A10) -> #NAME? | E10: =C10+D10 -> #NAME? | F10: =YEAR(A10:A208) -> #NAME? | G10: =MONTH(A10) -> #NAME? | H10: =IF(AND(MONTH(DATEVALUE([0]!Moisfp2&"1"))=G10,[0]!Anneefp2=F10),[0]!Montantfp2,0)+IF(AND(MONTH(DATEVALUE([0]!MoisFP3&"1"))=G10,[0]!AnnéeFP3=F10),[0]!MontantFP3,0)+IF(AND(MONTH(DATEVALUE([0]!MoisFP4&"1"))=G10,[0]!AnnéeFP4=F10),[0]!MontantFP4,0)+IF(AND(MONTH(DATEVALUE([0]!MoisFP1&"1"))=G10,[0]!AnneeFP1=F10),[0]!MontantFP1,0) -> #NAME? | I10: Apports et Parts Sociales | J10: Remboursement Apports | K10: Intérêts Fonds Propres
A11: =DATE(YEAR(A10),MONTH(A10)+1,1) -> #NAME? | B11: =SUMIFS([0]!LCapitalFP3,[0]!LMoisFP3,$A11)++SUMIFS([0]!LCapitalfp2,[0]!LMoisfp2,$A11)+SUMIFS([0]!LCapitalFP4,[0]!LMoisFP4,$A11)++SUMIFS([0]!LCapitalFP1,[0]!LMoisFP1,$A11) -> #NAME? | C11: =+SUMIFS([0]!LIntérêtsfp2,[0]!LMoisfp2,$A11)+SUMIFS([0]!LIntérêtsFP3,[0]!LMoisFP3,$A11)+SUMIFS([0]!LIntérêtsFP4,[0]!LMoisFP4,$A11)+SUMIFS([0]!LIntérêtsFP1,[0]!LMoisFP1,$A11) -> #NAME? | D11: =+SUMIFS([0]!LAssuranceFp2,[0]!LMoisfp2,$A11)+SUMIFS([0]!LAssuranceFP3,[0]!LMoisFP3,$A11)+SUMIFS([0]!LAssuranceFP4,[0]!LMoisFP4,$A11)+SUMIFS([0]!LAssuranceFP1,[0]!LMoisFP1,$A11) -> #NAME? | E11: =C11+D11 -> #NAME? | F11: =YEAR(A11:A209) -> #NAME? | G11: =MONTH(A11) -> #NAME? | H11: =IF(AND(MONTH(DATEVALUE([0]!Moisfp2&"1"))=G11,[0]!Anneefp2=F11),[0]!Montantfp2,0)+IF(AND(MONTH(DATEVALUE([0]!MoisFP3&"1"))=G11,[0]!AnnéeFP3=F11),[0]!MontantFP3,0)+IF(AND(MONTH(DATEVALUE([0]!MoisFP4&"1"))=G11,[0]!AnnéeFP4=F11),[0]!MontantFP4,0)+IF(AND(MONTH(DATEVALUE([0]!MoisFP1&"1"))=G11,[0]!AnneeFP1=F11),[0]!MontantFP1,0) -> #NAME? | I11: Apports et Parts Sociales | J11: Remboursement Apports | K11: Intérêts Fonds Propres
A12: =DATE(YEAR(A11),MONTH(A11)+1,1) -> #NAME? | B12: =SUMIFS([0]!LCapitalFP3,[0]!LMoisFP3,$A12)++SUMIFS([0]!LCapitalfp2,[0]!LMoisfp2,$A12)+SUMIFS([0]!LCapitalFP4,[0]!LMoisFP4,$A12)++SUMIFS([0]!LCapitalFP1,[0]!LMoisFP1,$A12) -> #NAME? | C12: =+SUMIFS([0]!LIntérêtsfp2,[0]!LMoisfp2,$A12)+SUMIFS([0]!LIntérêtsFP3,[0]!LMoisFP3,$A12)+SUMIFS([0]!LIntérêtsFP4,[0]!LMoisFP4,$A12)+SUMIFS([0]!LIntérêtsFP1,[0]!LMoisFP1,$A12) -> #NAME? | D12: =+SUMIFS([0]!LAssuranceFp2,[0]!LMoisfp2,$A12)+SUMIFS([0]!LAssuranceFP3,[0]!LMoisFP3,$A12)+SUMIFS([0]!LAssuranceFP4,[0]!LMoisFP4,$A12)+SUMIFS([0]!LAssuranceFP1,[0]!LMoisFP1,$A12) -> #NAME? | E12: =C12+D12 -> #NAME? | F12: =YEAR(A12:A210) -> #NAME? | G12: =MONTH(A12) -> #NAME? | H12: =IF(AND(MONTH(DATEVALUE([0]!Moisfp2&"1"))=G12,[0]!Anneefp2=F12),[0]!Montantfp2,0)+IF(AND(MONTH(DATEVALUE([0]!MoisFP3&"1"))=G12,[0]!AnnéeFP3=F12),[0]!MontantFP3,0)+IF(AND(MONTH(DATEVALUE([0]!MoisFP4&"1"))=G12,[0]!AnnéeFP4=F12),[0]!MontantFP4,0)+IF(AND(MONTH(DATEVALUE([0]!MoisFP1&"1"))=G12,[0]!AnneeFP1=F12),[0]!MontantFP1,0) -> #NAME? | I12: Apports et Parts Sociales | J12: Remboursement Apports | K12: Intérêts Fonds Propres
A13: =DATE(YEAR(A12),MONTH(A12)+1,1) -> #NAME? | B13: =SUMIFS([0]!LCapitalFP3,[0]!LMoisFP3,$A13)++SUMIFS([0]!LCapitalfp2,[0]!LMoisfp2,$A13)+SUMIFS([0]!LCapitalFP4,[0]!LMoisFP4,$A13)++SUMIFS([0]!LCapitalFP1,[0]!LMoisFP1,$A13) -> #NAME? | C13: =+SUMIFS([0]!LIntérêtsfp2,[0]!LMoisfp2,$A13)+SUMIFS([0]!LIntérêtsFP3,[0]!LMoisFP3,$A13)+SUMIFS([0]!LIntérêtsFP4,[0]!LMoisFP4,$A13)+SUMIFS([0]!LIntérêtsFP1,[0]!LMoisFP1,$A13) -> #NAME? | D13: =+SUMIFS([0]!LAssuranceFp2,[0]!LMoisfp2,$A13)+SUMIFS([0]!LAssuranceFP3,[0]!LMoisFP3,$A13)+SUMIFS([0]!LAssuranceFP4,[0]!LMoisFP4,$A13)+SUMIFS([0]!LAssuranceFP1,[0]!LMoisFP1,$A13) -> #NAME? | E13: =C13+D13 -> #NAME? | F13: =YEAR(A13:A211) -> #NAME? | G13: =MONTH(A13) -> #NAME? | H13: =IF(AND(MONTH(DATEVALUE([0]!Moisfp2&"1"))=G13,[0]!Anneefp2=F13),[0]!Montantfp2,0)+IF(AND(MONTH(DATEVALUE([0]!MoisFP3&"1"))=G13,[0]!AnnéeFP3=F13),[0]!MontantFP3,0)+IF(AND(MONTH(DATEVALUE([0]!MoisFP4&"1"))=G13,[0]!AnnéeFP4=F13),[0]!MontantFP4,0)+IF(AND(MONTH(DATEVALUE([0]!MoisFP1&"1"))=G13,[0]!AnneeFP1=F13),[0]!MontantFP1,0) -> #NAME? | I13: Apports et Parts Sociales | J13: Remboursement Apports | K13: Intérêts Fonds Propres
A14: =DATE(YEAR(A13),MONTH(A13)+1,1) -> #NAME? | B14: =SUMIFS([0]!LCapitalFP3,[0]!LMoisFP3,$A14)++SUMIFS([0]!LCapitalfp2,[0]!LMoisfp2,$A14)+SUMIFS([0]!LCapitalFP4,[0]!LMoisFP4,$A14)++SUMIFS([0]!LCapitalFP1,[0]!LMoisFP1,$A14) -> #NAME? | C14: =+SUMIFS([0]!LIntérêtsfp2,[0]!LMoisfp2,$A14)+SUMIFS([0]!LIntérêtsFP3,[0]!LMoisFP3,$A14)+SUMIFS([0]!LIntérêtsFP4,[0]!LMoisFP4,$A14)+SUMIFS([0]!LIntérêtsFP1,[0]!LMoisFP1,$A14) -> #NAME? | D14: =+SUMIFS([0]!LAssuranceFp2,[0]!LMoisfp2,$A14)+SUMIFS([0]!LAssuranceFP3,[0]!LMoisFP3,$A14)+SUMIFS([0]!LAssuranceFP4,[0]!LMoisFP4,$A14)+SUMIFS([0]!LAssuranceFP1,[0]!LMoisFP1,$A14) -> #NAME? | E14: =C14+D14 -> #NAME? | F14: =YEAR(A14:A212) -> #NAME? | G14: =MONTH(A14) -> #NAME? | H14: =IF(AND(MONTH(DATEVALUE([0]!Moisfp2&"1"))=G14,[0]!Anneefp2=F14),[0]!Montantfp2,0)+IF(AND(MONTH(DATEVALUE([0]!MoisFP3&"1"))=G14,[0]!AnnéeFP3=F14),[0]!MontantFP3,0)+IF(AND(MONTH(DATEVALUE([0]!MoisFP4&"1"))=G14,[0]!AnnéeFP4=F14),[0]!MontantFP4,0)+IF(AND(MONTH(DATEVALUE([0]!MoisFP1&"1"))=G14,[0]!AnneeFP1=F14),[0]!MontantFP1,0) -> #NAME? | I14: Apports et Parts Sociales | J14: Remboursement Apports | K14: Intérêts Fonds Propres
A15: =DATE(YEAR(A14),MONTH(A14)+1,1) -> #NAME? | B15: =SUMIFS([0]!LCapitalFP3,[0]!LMoisFP3,$A15)++SUMIFS([0]!LCapitalfp2,[0]!LMoisfp2,$A15)+SUMIFS([0]!LCapitalFP4,[0]!LMoisFP4,$A15)++SUMIFS([0]!LCapitalFP1,[0]!LMoisFP1,$A15) -> #NAME? | C15: =+SUMIFS([0]!LIntérêtsfp2,[0]!LMoisfp2,$A15)+SUMIFS([0]!LIntérêtsFP3,[0]!LMoisFP3,$A15)+SUMIFS([0]!LIntérêtsFP4,[0]!LMoisFP4,$A15)+SUMIFS([0]!LIntérêtsFP1,[0]!LMoisFP1,$A15) -> #NAME? | D15: =+SUMIFS([0]!LAssuranceFp2,[0]!LMoisfp2,$A15)+SUMIFS([0]!LAssuranceFP3,[0]!LMoisFP3,$A15)+SUMIFS([0]!LAssuranceFP4,[0]!LMoisFP4,$A15)+SUMIFS([0]!LAssuranceFP1,[0]!LMoisFP1,$A15) -> #NAME? | E15: =C15+D15 -> #NAME? | F15: =YEAR(A15:A213) -> #NAME? | G15: =MONTH(A15) -> #NAME? | H15: =IF(AND(MONTH(DATEVALUE([0]!Moisfp2&"1"))=G15,[0]!Anneefp2=F15),[0]!Montantfp2,0)+IF(AND(MONTH(DATEVALUE([0]!MoisFP3&"1"))=G15,[0]!AnnéeFP3=F15),[0]!MontantFP3,0)+IF(AND(MONTH(DATEVALUE([0]!MoisFP4&"1"))=G15,[0]!AnnéeFP4=F15),[0]!MontantFP4,0)+IF(AND(MONTH(DATEVALUE([0]!MoisFP1&"1"))=G15,[0]!AnneeFP1=F15),[0]!MontantFP1,0) -> #NAME? | I15: Apports et Parts Sociales | J15: Remboursement Apports | K15: Intérêts Fonds Propres
A16: =DATE(YEAR(A15),MONTH(A15)+1,1) -> #NAME? | B16: =SUMIFS([0]!LCapitalFP3,[0]!LMoisFP3,$A16)++SUMIFS([0]!LCapitalfp2,[0]!LMoisfp2,$A16)+SUMIFS([0]!LCapitalFP4,[0]!LMoisFP4,$A16)++SUMIFS([0]!LCapitalFP1,[0]!LMoisFP1,$A16) -> #NAME? | C16: =+SUMIFS([0]!LIntérêtsfp2,[0]!LMoisfp2,$A16)+SUMIFS([0]!LIntérêtsFP3,[0]!LMoisFP3,$A16)+SUMIFS([0]!LIntérêtsFP4,[0]!LMoisFP4,$A16)+SUMIFS([0]!LIntérêtsFP1,[0]!LMoisFP1,$A16) -> #NAME? | D16: =+SUMIFS([0]!LAssuranceFp2,[0]!LMoisfp2,$A16)+SUMIFS([0]!LAssuranceFP3,[0]!LMoisFP3,$A16)+SUMIFS([0]!LAssuranceFP4,[0]!LMoisFP4,$A16)+SUMIFS([0]!LAssuranceFP1,[0]!LMoisFP1,$A16) -> #NAME? | E16: =C16+D16 -> #NAME? | F16: =YEAR(A16:A214) -> #NAME? | G16: =MONTH(A16) -> #NAME? | H16: =IF(AND(MONTH(DATEVALUE([0]!Moisfp2&"1"))=G16,[0]!Anneefp2=F16),[0]!Montantfp2,0)+IF(AND(MONTH(DATEVALUE([0]!MoisFP3&"1"))=G16,[0]!AnnéeFP3=F16),[0]!MontantFP3,0)+IF(AND(MONTH(DATEVALUE([0]!MoisFP4&"1"))=G16,[0]!AnnéeFP4=F16),[0]!MontantFP4,0)+IF(AND(MONTH(DATEVALUE([0]!MoisFP1&"1"))=G16,[0]!AnneeFP1=F16),[0]!MontantFP1,0) -> #NAME? | I16: Apports et Parts Sociales | J16: Remboursement Apports | K16: Intérêts Fonds Propres
... A459: =DATE(YEAR(A458),MONTH(A458)+1,1) -> #NAME? | B459: =SUMIFS([0]!LCapitalFP3,[0]!LMoisFP3,$A459)++SUMIFS([0]!LCapitalfp2,[0]!LMoisfp2,$A459)+SUMIFS([0]!LCapitalFP4,[0]!LMoisFP4,$A459)++SUMIFS([0]!LCapitalFP1,[0]!LMoisFP1,$A459) -> #NAME? | C459: =+SUMIFS([0]!LIntérêtsfp2,[0]!LMoisfp2,$A459)+SUMIFS([0]!LIntérêtsFP3,[0]!LMoisFP3,$A459)+SUMIFS([0]!LIntérêtsFP4,[0]!LMoisFP4,$A459)+SUMIFS([0]!LIntérêtsFP1,[0]!LMoisFP1,$A459) -> #NAME? | D459: =+SUMIFS([0]!LAssuranceFp2,[0]!LMoisfp2,$A459)+SUMIFS([0]!LAssuranceFP3,[0]!LMoisFP3,$A459)+SUMIFS([0]!LAssuranceFP4,[0]!LMoisFP4,$A459)+SUMIFS([0]!LAssuranceFP1,[0]!LMoisFP1,$A459) -> #NAME? | E459: =C459+D459 -> #NAME? | F459: =YEAR(A459:A657) -> #NAME? | G459: =MONTH(A459) -> #NAME? | H459: =IF(AND(MONTH(DATEVALUE([0]!Moisfp2&"1"))=G459,[0]!Anneefp2=F459),[0]!Montantfp2,0)+IF(AND(MONTH(DATEVALUE([0]!MoisFP3&"1"))=G459,[0]!AnnéeFP3=F459),[0]!MontantFP3,0)+IF(AND(MONTH(DATEVALUE([0]!MoisFP4&"1"))=G459,[0]!AnnéeFP4=F459),[0]!MontantFP4,0)+IF(AND(MONTH(DATEVALUE([0]!MoisFP1&"1"))=G459,[0]!AnneeFP1=F459),[0]!MontantFP1,0) -> #NAME? | I459: Apports et Parts Sociales | J459: Remboursement Apports | K459: Intérêts Fonds Propres
